{"text_format":"1","workbook":"xlsx","n_sheets":11,"sheets":["Welcome","Data Input","P1 Hidden Data Tables","Pupil Summary","Pupil Report","Cohort Summary","Strand Summary","Questions by Strand","Questions by Correct","P1 Questions by Sub Type","P2 Questions by Sub Type"],"not_rendered":{"charts":8,"images":1,"macros":1,"external_links":0,"defined_names":13,"comments":1,"pivot_tables":0},"unopened":[],"bounds":{"document_bytes":16777216,"sheet_cells":100000,"rows_first":2000,"rows_last":500,"rows_between":2000,"halvings":0,"cell_chars":16384,"cell_head_chars":4096},"cells_cut":0,"cells_raw":0,"read":"whole","date_system":"1900"}

{"sheet":"Welcome","index":0,"n_rows":23,"n_cols":11,"rows_kept":23,"cut":false,"hidden":false,"merged":[[1,3,1,12]]}
[]
[null,null,null,"KS2 Reading (2016 SAMPLE) Analysis"]
[]
[]
[]
[]
[]
[]
[]
[]
[]
[]
[]
[]
[]
[]
[]
[]
[]
[]
[]
[]
[null,null,null,null,null,null,null,null,null,null,"© 2015 Primary Tools.co.uk"]

{"sheet":"Data Input","index":1,"n_rows":32,"n_cols":52,"rows_kept":32,"cut":false,"hidden":false,"merged":[[0,1,4,1]]}
["Question","2016 Reading SAMPLE",1,2,"3i","3ii",4,5,6,"7i","7ii",8,"9i","9ii",10,11,12,13,"14i","14ii",15,"16a","16b",17,18,19,20,"21i","21ii",22,23,24,"25a","25b","25c","25d",26,27,28,"29i","29ii","29iii",30,31,32,"33i","33ii",34,"35a","35b","36i","36ii"]
["Group Correct",null,{"$f":"COUNTIF(C10:C420,1)","v":23},23,18,15,12,19,11,23,19,11,15,19,19,19,4,11,15,12,12,23,10,19,16,15,23,16,12,19,20,19,15,14,{"$f":"COUNTIF(AI10:AI420,1)","v":14},16,18,19,19,16,16,16,11,11,13,11,16,14,11,15,17,7]
["Group Incorrect",null,{"$f":"COUNTIF(C10:C420,0)","v":0},0,5,8,0,4,3,0,4,3,0,4,4,0,15,5,4,3,4,0,9,0,4,4,0,3,4,0,3,4,4,0,{"$f":"COUNTIF(AI10:AI420,0)","v":4},7,5,0,0,3,3,4,0,0,4,5,3,4,0,3,0,7]
["Group Unanswered",null,{"$f":"COUNTA($A$10:$A$420)-(SUM(C2:C3))","v":0},0,0,0,11,0,9,0,0,9,8,0,0,4,4,7,4,8,7,0,4,4,3,4,0,4,7,4,0,0,4,9,{"$f":"COUNTA($A$10:$A$420)-(SUM(AI2:AI3))","v":5},0,0,4,4,4,4,3,12,12,6,7,4,5,12,5,6,9]
["Incorrect or unanswered",null,{"$f":"SUM(C3,C4)","v":0},{"$f":"SUM(D3,D4)","v":0},5,8,11,4,12,0,4,12,8,4,4,4,19,12,8,11,11,0,13,4,7,8,0,7,11,4,3,4,8,9,9,7,5,4,4,7,{"$f":"SUM(AO3,AO4)","v":7},7,12,12,10,12,7,9,12,8,6,16]
["Enter 1: correct,  0: incorrect, blank: unanswered question\nA: Word meaning\nB: Retrieve key info\nC: Summarise main ideas\nD: Inference\nE: Predict\nF: Text meaning\nG: Choice of language\nH: Comparisons\nSection 1: Space Tourism\nSection 2: Giants\nSection 3: The Lost World","Shortened question:","Why is space tourism impossible?","How get from Spacecraft to hotel","What to do on space holiday?","What to do on space holiday?","Cost for first space tourist","How is space station large?","How Anousheh make history?","Details about Anousheh\"s trip","Details about Anousheh\"s trip","Words showing An. wrote for others","Explain how Anousheh felt","Explain how Anousheh felt","Match years to events","Fact or opinion","\"in a flash\" meaning enhancement","\"arrange\" meaning in context","Easy to be a Star Spotter?","Easy to be a Star Spotter?","True or false","How giant frightens snail","How giant frightens frog","Match words to part of snail","How words make reader feel","Snail behaviour when afarid","\"brittle\" meaning in context","\"emerald scrap\" meaning","\"emerald scrap\" meaning","What is \"tremendous monster\"?","Words showing frog frightened","Main message of poem","Story told from perspective of... ","The men entered the forest…","The stream was…","The ferns here were spaced…","Distance stream became bog","How characters in ‘lost world’?","How comparisons help reader?","How iguan. Inoffensive & brutes","How iguan. Inoffensive & brutes","How iguan. Inoffensive & brutes","\"unwieldy\" meaning in context","Word showing \"part of a team\"","How Prof. expert on dinosaurs?","Words  suggesting danger","Words  suggesting danger","True or false","Words showing mood change","How does mood change?","What might happen to explorers?","What might happen to explorers?"]
[null,"Text:",1,1,1,1,1,1,1,1,1,1,1,1,1,1,1,1,1,1,1,2,2,2,2,2,2,2,2,2,2,2,3,3,3,3,3,3,3,3,3,3,3,3,3,3,3,3,3,3,3,3]
["Name: ","AF:","D","B","B","B","B","B","D","B","B","D","D","D","B","D","G","A","D","D","B","B","B","B","D","B","A","A","A","D","A","C","B","A","B","B","B","D","D","D","D","D","A","A","D","G","G","C","F","H","E","E"]
[]
["a",null,1,1,1,1,null,0,1,1,0,1,null,1,1,1,null,1,1,1,0,1,1,1,1,1,1,1,1,1,1,0,1,1,0,1,1,1,1,1,1,0,1,1,0,1,1,1,1,1,1,1]
["b",null,1,1,1,0,1,1,1,1,1,1,1,0,1,null,0,1,0,null,null,1,0,1,1,0,1,1,0,1,1,1,null,1,1,1,1,1,1,null,1,1,null,1,1,1,null,0,null,1,1,0]
["c",null,1,1,1,1,null,1,1,1,1,1,1,1,1,1,0,1,1,1,1,1,1,1,null,1,1,1,null,1,1,1,1,1,1,0,1,1,1,1,0,null,1,1,null,1,0,1,1,1,null,1]
["d",null,1,1,0,1,1,1,null,1,1,null,1,1,1,1,0,0,1,1,1,1,0,1,1,1,1,1,1,1,1,1,1,null,null,1,0,1,1,1,1,1,null,null,1,0,1,null,null,null,1]
["e",null,1,1,1,1,1,1,0,1,1,0,1,1,1,1,0,null,1,0,null,1,1,1,1,1,1,0,1,1,0,1,1,1,1,1,1,1,1,0,1,1,null,null,null,null,1,1,null,0,null,0]
["f",null,1,1,1,0,null,1,null,1,1,null,null,1,0,1,1,null,null,null,1,1,null,null,0,null,1,null,null,null,1,1,0,null,1,0,1,null,null,1,null,1,1,null,1,null,1,1,1,1,1]
["g",null,1,1,1,1,null,0,1,1,0,1,null,1,1,1,null,1,1,1,0,1,1,1,1,1,1,1,1,1,1,0,1,1,0,1,1,1,1,1,1,0,1,1,0,1,1,1,1,1,1,1]
["h",null,1,1,1,0,1,1,1,1,1,1,1,0,1,null,0,1,0,null,null,1,0,1,1,0,1,1,0,1,1,1,null,1,1,1,1,1,1,null,1,1,null,1,1,1,null,0,null,1,1,0]
["i",null,1,1,1,1,null,1,1,1,1,1,1,1,1,1,0,1,1,1,1,1,1,1,null,1,1,1,null,1,1,1,1,1,1,0,1,1,1,1,0,null,1,1,null,1,0,1,1,1,null,1]
["j",null,1,1,0,1,1,1,null,1,1,null,1,1,1,1,0,0,1,1,1,1,0,1,1,1,1,1,1,1,1,1,1,null,null,1,0,1,1,1,1,1,null,null,1,0,1,null,null,null,1]
["k",null,1,1,0,1,1,1,null,1,1,null,1,1,1,1,0,0,1,1,1,1,0,1,1,1,1,1,1,1,1,1,1,null,null,1,0,1,1,1,1,1,null,null,1,0,1,null,null,null,1]
["l",null,1,1,1,1,1,1,0,1,1,0,1,1,1,1,0,null,1,0,null,1,1,1,1,1,1,0,1,1,0,1,1,1,1,1,1,1,1,0,1,1,null,null,null,null,1,1,null,0,null,0]
["m",null,1,1,1,0,null,1,null,1,1,null,null,1,0,1,1,null,null,null,1,1,null,null,0,null,1,null,null,null,1,1,0,null,1,0,1,null,null,1,null,1,1,null,1,null,1,1,1,1,1]
["n",null,1,1,1,1,null,0,1,1,0,1,null,1,1,1,null,1,1,1,0,1,1,1,1,1,1,1,1,1,1,0,1,1,0,1,1,1,1,1,1,0,1,1,0,1,1,1,1,1,1,1]
["o",null,1,1,1,0,1,1,1,1,1,1,1,0,1,null,0,1,0,null,null,1,0,1,1,0,1,1,0,1,1,1,null,1,1,1,1,1,1,null,1,1,null,1,1,1,null,0,null,1,1,0]
["p",null,1,1,1,0,null,1,null,1,1,null,null,1,0,1,1,null,null,null,1,1,null,null,0,null,1,null,null,null,1,1,0,null,1,0,1,null,null,1,null,1,1,null,1,null,1,1,1,1,1]
["q",null,1,1,1,1,null,0,1,1,0,1,null,1,1,1,null,1,1,1,0,1,1,1,1,1,1,1,1,1,1,0,1,1,0,1,1,1,1,1,1,0,1,1,0,1,1,1,1,1,1,1]
["r",null,1,1,1,0,1,1,1,1,1,1,1,0,1,null,0,1,0,null,null,1,0,1,1,0,1,1,0,1,1,1,null,1,1,1,1,1,1,null,1,1,null,1,1,1,null,0,null,1,1,0]
["s",null,1,1,1,1,null,1,1,1,1,1,1,1,1,1,0,1,1,1,1,1,1,1,null,1,1,1,null,1,1,1,1,1,1,0,1,1,1,1,0,null,1,1,null,1,0,1,1,1,null,1]
["t",null,1,1,0,1,1,1,null,1,1,null,1,1,1,1,0,0,1,1,1,1,0,1,1,1,1,1,1,1,1,1,1,null,null,1,0,1,1,1,1,1,null,null,1,0,1,null,null,null,1]
["u",null,1,1,0,1,1,1,null,1,1,null,1,1,1,1,0,0,1,1,1,1,0,1,1,1,1,1,1,1,1,1,1,null,null,1,0,1,1,1,1,1,null,null,1,0,1,null,null,null,1]
["v",null,1,1,1,1,1,1,0,1,1,0,1,1,1,1,0,null,1,0,null,1,1,1,1,1,1,0,1,1,0,1,1,1,1,1,1,1,1,0,1,1,null,null,null,null,1,1,null,0,null,0]
["w",null,1,1,1,0,null,1,null,1,1,null,null,1,0,1,1,null,null,null,1,1,null,null,0,null,1,null,null,null,1,1,0,null,1,0,1,null,null,1,null,1,1,null,1,null,1,1,1,1,1]

{"sheet":"P1 Hidden Data Tables","index":2,"n_rows":179,"n_cols":22,"rows_kept":179,"cut":false,"hidden":true,"merged":[]}
[null,"Sorted by Strand"]
[null,"Strand","Question Number","Sub Category","Short Q","Correct","Incorrect or Unanswered","Incorrect","Unanswered"]
[null,{"$f":"'Data Input'!$R$8","v":"A"},{"$f":"'Data Input'!$R$1","v":13},{"$f":"'Data Input'!$R$7","v":1},{"$f":"'Data Input'!$R$6","v":"\"arrange\" meaning in context"},{"$f":"'Data Input'!$R$2","v":11},{"$f":"'Data Input'!$R$5","v":12},{"$f":"'Data Input'!$R$3","v":5},{"$f":"'Data Input'!$R$4","v":7},null,null,null,"Codes"]
[null,{"$f":"'Data Input'!$AA$8","v":"A"},{"$f":"'Data Input'!$AA$1","v":20},{"$f":"'Data Input'!$AA$7","v":2},{"$f":"'Data Input'!$AA$6","v":"\"brittle\" meaning in context"},{"$f":"'Data Input'!$AA$2","v":23},{"$f":"'Data Input'!$AA$5","v":0},{"$f":"'Data Input'!$AA$3","v":0},{"$f":"'Data Input'!$AA$4","v":0}]
[null,{"$f":"'Data Input'!$AE$8","v":"A"},{"$f":"'Data Input'!$AE$1","v":23},{"$f":"'Data Input'!$AE$7","v":2},{"$f":"'Data Input'!$AE$6","v":"Words showing frog frightened"},{"$f":"'Data Input'!$AE$2","v":20},{"$f":"'Data Input'!$AE$5","v":3},{"$f":"'Data Input'!$AE$3","v":3},{"$f":"'Data Input'!$AE$4","v":0}]
[null,{"$f":"'Data Input'!$AQ$8","v":"A"},{"$f":"'Data Input'!$AQ$1","v":30},{"$f":"'Data Input'!$AQ$7","v":3},{"$f":"'Data Input'!$AQ$6","v":"\"unwieldy\" meaning in context"},{"$f":"'Data Input'!$AQ$2","v":11},{"$f":"'Data Input'!$AQ$5","v":12},{"$f":"'Data Input'!$AQ$3","v":0},{"$f":"'Data Input'!$AQ$4","v":12}]
[null,{"$f":"'Data Input'!$AR$8","v":"A"},{"$f":"'Data Input'!$AR$1","v":31},{"$f":"'Data Input'!$AR$7","v":3},{"$f":"'Data Input'!$AR$6","v":"Word showing \"part of a team\""},{"$f":"'Data Input'!$AR$2","v":11},{"$f":"'Data Input'!$AR$5","v":12},{"$f":"'Data Input'!$AR$3","v":0},{"$f":"'Data Input'!$AR$4","v":12}]
[null,{"$f":"'Data Input'!$AB$8","v":"A"},{"$f":"'Data Input'!$AB$1","v":"21i"},{"$f":"'Data Input'!$AB$7","v":2},{"$f":"'Data Input'!$AB$6","v":"\"emerald scrap\" meaning"},{"$f":"'Data Input'!$AB$2","v":16},{"$f":"'Data Input'!$AB$5","v":7},{"$f":"'Data Input'!$AB$3","v":3},{"$f":"'Data Input'!$AB$4","v":4}]
[null,{"$f":"'Data Input'!$AC$8","v":"A"},{"$f":"'Data Input'!$AC$1","v":"21ii"},{"$f":"'Data Input'!$AC$7","v":2},{"$f":"'Data Input'!$AC$6","v":"\"emerald scrap\" meaning"},{"$f":"'Data Input'!$AC$2","v":12},{"$f":"'Data Input'!$AC$5","v":11},{"$f":"'Data Input'!$AC$3","v":4},{"$f":"'Data Input'!$AC$4","v":7}]
[null,{"$f":"'Data Input'!$AH$8","v":"A"},{"$f":"'Data Input'!$AH$1","v":"25b"},{"$f":"'Data Input'!$AH$7","v":3},{"$f":"'Data Input'!$AH$6","v":"The men entered the forest…"},{"$f":"'Data Input'!$AH$2","v":14},{"$f":"'Data Input'!$AH$5","v":9},{"$f":"'Data Input'!$AH$3","v":0},{"$f":"'Data Input'!$AH$4","v":9}]
[]
[null,{"$f":"'Data Input'!$D$8","v":"B"},{"$f":"'Data Input'!$D$1","v":2},{"$f":"'Data Input'!$D$7","v":1},{"$f":"'Data Input'!$D$6","v":"How get from Spacecraft to hotel"},{"$f":"'Data Input'!$D$2","v":23},{"$f":"'Data Input'!$D$5","v":0},{"$f":"'Data Input'!$D$3","v":0},{"$f":"'Data Input'!$D$4","v":0}]
[null,{"$f":"'Data Input'!$G$8","v":"B"},{"$f":"'Data Input'!$G$1","v":4},{"$f":"'Data Input'!$G$7","v":1},{"$f":"'Data Input'!$G$6","v":"Cost for first space tourist"},{"$f":"'Data Input'!$G$2","v":12},{"$f":"'Data Input'!$G$5","v":11},{"$f":"'Data Input'!$G$3","v":0},{"$f":"'Data Input'!$G$4","v":11}]
[null,{"$f":"'Data Input'!$H$8","v":"B"},{"$f":"'Data Input'!$H$1","v":5},{"$f":"'Data Input'!$H$7","v":1},{"$f":"'Data Input'!$H$6","v":"How is space station large?"},{"$f":"'Data Input'!$H$2","v":19},{"$f":"'Data Input'!$H$5","v":4},{"$f":"'Data Input'!$H$3","v":4},{"$f":"'Data Input'!$H$4","v":0}]
[null,{"$f":"'Data Input'!$O$8","v":"B"},{"$f":"'Data Input'!$O$1","v":10},{"$f":"'Data Input'!$O$7","v":1},{"$f":"'Data Input'!$O$6","v":"Match years to events"},{"$f":"'Data Input'!$O$2","v":19},{"$f":"'Data Input'!$O$5","v":4},{"$f":"'Data Input'!$O$3","v":4},{"$f":"'Data Input'!$O$4","v":0}]
[null,{"$f":"'Data Input'!$U$8","v":"B"},{"$f":"'Data Input'!$U$1","v":15},{"$f":"'Data Input'!$U$7","v":1},{"$f":"'Data Input'!$U$6","v":"True or false"},{"$f":"'Data Input'!$U$2","v":12},{"$f":"'Data Input'!$U$5","v":11},{"$f":"'Data Input'!$U$3","v":4},{"$f":"'Data Input'!$U$4","v":7}]
[null,{"$f":"'Data Input'!$X$8","v":"B"},{"$f":"'Data Input'!$X$1","v":17},{"$f":"'Data Input'!$X$7","v":2},{"$f":"'Data Input'!$X$6","v":"Match words to part of snail"},{"$f":"'Data Input'!$X$2","v":19},{"$f":"'Data Input'!$X$5","v":4},{"$f":"'Data Input'!$X$3","v":0},{"$f":"'Data Input'!$X$4","v":4}]
[null,{"$f":"'Data Input'!$Z$8","v":"B"},{"$f":"'Data Input'!$Z$1","v":19},{"$f":"'Data Input'!$Z$7","v":2},{"$f":"'Data Input'!$Z$6","v":"Snail behaviour when afarid"},{"$f":"'Data Input'!$Z$2","v":15},{"$f":"'Data Input'!$Z$5","v":8},{"$f":"'Data Input'!$Z$3","v":4},{"$f":"'Data Input'!$Z$4","v":4}]
[null,{"$f":"'Data Input'!$AK$8","v":"B"},{"$f":"'Data Input'!$AK$1","v":26},{"$f":"'Data Input'!$AK$7","v":3},{"$f":"'Data Input'!$AK$6","v":"Distance stream became bog"},{"$f":"'Data Input'!$AK$2","v":18},{"$f":"'Data Input'!$AK$5","v":5},{"$f":"'Data Input'!$AK$3","v":5},{"$f":"'Data Input'!$AK$4","v":0}]
[null,{"$f":"'Data Input'!$V$8","v":"B"},{"$f":"'Data Input'!$V$1","v":"16a"},{"$f":"'Data Input'!$V$7","v":2},{"$f":"'Data Input'!$V$6","v":"How giant frightens snail"},{"$f":"'Data Input'!$V$2","v":23},{"$f":"'Data Input'!$V$5","v":0},{"$f":"'Data Input'!$V$3","v":0},{"$f":"'Data Input'!$V$4","v":0}]
[null,{"$f":"'Data Input'!$W$8","v":"B"},{"$f":"'Data Input'!$W$1","v":"16b"},{"$f":"'Data Input'!$W$7","v":2},{"$f":"'Data Input'!$W$6","v":"How giant frightens frog"},{"$f":"'Data Input'!$W$2","v":10},{"$f":"'Data Input'!$W$5","v":13},{"$f":"'Data Input'!$W$3","v":9},{"$f":"'Data Input'!$W$4","v":4}]
[null,{"$f":"'Data Input'!$AG$8","v":"B"},{"$f":"'Data Input'!$AG$1","v":"25a"},{"$f":"'Data Input'!$AG$7","v":3},{"$f":"'Data Input'!$AG$6","v":"Story told from perspective of... "},{"$f":"'Data Input'!$AG$2","v":15},{"$f":"'Data Input'!$AG$5","v":8},{"$f":"'Data Input'!$AG$3","v":4},{"$f":"'Data Input'!$AG$4","v":4}]
[null,{"$f":"'Data Input'!$AI$8","v":"B"},{"$f":"'Data Input'!$AI$1","v":"25c"},{"$f":"'Data Input'!$AI$7","v":3},{"$f":"'Data Input'!$AI$6","v":"The stream was…"},{"$f":"'Data Input'!$AI$2","v":14},{"$f":"'Data Input'!$AI$5","v":9},{"$f":"'Data Input'!$AI$3","v":4},{"$f":"'Data Input'!$AI$4","v":5}]
[null,{"$f":"'Data Input'!$AJ$8","v":"B"},{"$f":"'Data Input'!$AJ$1","v":"25d"},{"$f":"'Data Input'!$AJ$7","v":3},{"$f":"'Data Input'!$AJ$6","v":"The ferns here were spaced…"},{"$f":"'Data Input'!$AJ$2","v":16},{"$f":"'Data Input'!$AJ$5","v":7},{"$f":"'Data Input'!$AJ$3","v":7},{"$f":"'Data Input'!$AJ$4","v":0}]
[null,{"$f":"'Data Input'!$E$8","v":"B"},{"$f":"'Data Input'!$E$1","v":"3i"},{"$f":"'Data Input'!$E$7","v":1},{"$f":"'Data Input'!$E$6","v":"What to do on space holiday?"},{"$f":"'Data Input'!$E$2","v":18},{"$f":"'Data Input'!$E$5","v":5},{"$f":"'Data Input'!$E$3","v":5},{"$f":"'Data Input'!$E$4","v":0}]
[null,{"$f":"'Data Input'!$F$8","v":"B"},{"$f":"'Data Input'!$F$1","v":"3ii"},{"$f":"'Data Input'!$F$7","v":1},{"$f":"'Data Input'!$F$6","v":"What to do on space holiday?"},{"$f":"'Data Input'!$F$2","v":15},{"$f":"'Data Input'!$F$5","v":8},{"$f":"'Data Input'!$F$3","v":8},{"$f":"'Data Input'!$F$4","v":0}]
[null,{"$f":"'Data Input'!$J$8","v":"B"},{"$f":"'Data Input'!$J$1","v":"7i"},{"$f":"'Data Input'!$J$7","v":1},{"$f":"'Data Input'!$J$6","v":"Details about Anousheh\"s trip"},{"$f":"'Data Input'!$J$2","v":23},{"$f":"'Data Input'!$J$5","v":0},{"$f":"'Data Input'!$J$3","v":0},{"$f":"'Data Input'!$J$4","v":0}]
[null,{"$f":"'Data Input'!$K$8","v":"B"},{"$f":"'Data Input'!$K$1","v":"7ii"},{"$f":"'Data Input'!$K$7","v":1},{"$f":"'Data Input'!$K$6","v":"Details about Anousheh\"s trip"},{"$f":"'Data Input'!$K$2","v":19},{"$f":"'Data Input'!$K$5","v":4},{"$f":"'Data Input'!$K$3","v":4},{"$f":"'Data Input'!$K$4","v":0}]
[]
[null,{"$f":"'Data Input'!$AF$8","v":"C"},{"$f":"'Data Input'!$AF$1","v":24},{"$f":"'Data Input'!$AF$7","v":2},{"$f":"'Data Input'!$AF$6","v":"Main message of poem"},{"$f":"'Data Input'!$AF$2","v":19},{"$f":"'Data Input'!$AF$5","v":4},{"$f":"'Data Input'!$AF$3","v":4},{"$f":"'Data Input'!$AF$4","v":0}]
[null,{"$f":"'Data Input'!$AV$8","v":"C"},{"$f":"'Data Input'!$AV$1","v":34},{"$f":"'Data Input'!$AV$7","v":3},{"$f":"'Data Input'!$AV$6","v":"True or false"},{"$f":"'Data Input'!$AV$2","v":14},{"$f":"'Data Input'!$AV$5","v":9},{"$f":"'Data Input'!$AV$3","v":4},{"$f":"'Data Input'!$AV$4","v":5}]
[]
[null,{"$f":"'Data Input'!$C$8","v":"D"},{"$f":"'Data Input'!$C$1","v":1},{"$f":"'Data Input'!$C$7","v":1},{"$f":"'Data Input'!$C$6","v":"Why is space tourism impossible?"},{"$f":"'Data Input'!$C$2","v":23},{"$f":"'Data Input'!$C$5","v":0},{"$f":"'Data Input'!$C$3","v":0},{"$f":"'Data Input'!$C$4","v":0}]
[null,{"$f":"'Data Input'!$I$8","v":"D"},{"$f":"'Data Input'!$I$1","v":6},{"$f":"'Data Input'!$I$7","v":1},{"$f":"'Data Input'!$I$6","v":"How Anousheh make history?"},{"$f":"'Data Input'!$I$2","v":11},{"$f":"'Data Input'!$I$5","v":12},{"$f":"'Data Input'!$I$3","v":3},{"$f":"'Data Input'!$I$4","v":9}]
[null,{"$f":"'Data Input'!$L$8","v":"D"},{"$f":"'Data Input'!$L$1","v":8},{"$f":"'Data Input'!$L$7","v":1},{"$f":"'Data Input'!$L$6","v":"Words showing An. wrote for others"},{"$f":"'Data Input'!$L$2","v":11},{"$f":"'Data Input'!$L$5","v":12},{"$f":"'Data Input'!$L$3","v":3},{"$f":"'Data Input'!$L$4","v":9}]
[null,{"$f":"'Data Input'!$P$8","v":"D"},{"$f":"'Data Input'!$P$1","v":11},{"$f":"'Data Input'!$P$7","v":1},{"$f":"'Data Input'!$P$6","v":"Fact or opinion"},{"$f":"'Data Input'!$P$2","v":19},{"$f":"'Data Input'!$P$5","v":4},{"$f":"'Data Input'!$P$3","v":0},{"$f":"'Data Input'!$P$4","v":4}]
[null,{"$f":"'Data Input'!$Y$8","v":"D"},{"$f":"'Data Input'!$Y$1","v":18},{"$f":"'Data Input'!$Y$7","v":2},{"$f":"'Data Input'!$Y$6","v":"How words make reader feel"},{"$f":"'Data Input'!$Y$2","v":16},{"$f":"'Data Input'!$Y$5","v":7},{"$f":"'Data Input'!$Y$3","v":4},{"$f":"'Data Input'!$Y$4","v":3}]
[null,{"$f":"'Data Input'!$AD$8","v":"D"},{"$f":"'Data Input'!$AD$1","v":22},{"$f":"'Data Input'!$AD$7","v":2},{"$f":"'Data Input'!$AD$6","v":"What is \"tremendous monster\"?"},{"$f":"'Data Input'!$AD$2","v":19},{"$f":"'Data Input'!$AD$5","v":4},{"$f":"'Data Input'!$AD$3","v":0},{"$f":"'Data Input'!$AD$4","v":4}]
[null,{"$f":"'Data Input'!$AL$8","v":"D"},{"$f":"'Data Input'!$AL$1","v":27},{"$f":"'Data Input'!$AL$7","v":3},{"$f":"'Data Input'!$AL$6","v":"How characters in ‘lost world’?"},{"$f":"'Data Input'!$AL$2","v":19},{"$f":"'Data Input'!$AL$5","v":4},{"$f":"'Data Input'!$AL$3","v":0},{"$f":"'Data Input'!$AL$4","v":4}]
[null,{"$f":"'Data Input'!$AM$8","v":"D"},{"$f":"'Data Input'!$AM$1","v":28},{"$f":"'Data Input'!$AM$7","v":3},{"$f":"'Data Input'!$AM$6","v":"How comparisons help reader?"},{"$f":"'Data Input'!$AM$2","v":19},{"$f":"'Data Input'!$AM$5","v":4},{"$f":"'Data Input'!$AM$3","v":0},{"$f":"'Data Input'!$AM$4","v":4}]
[null,{"$f":"'Data Input'!$AS$8","v":"D"},{"$f":"'Data Input'!$AS$1","v":32},{"$f":"'Data Input'!$AS$7","v":3},{"$f":"'Data Input'!$AS$6","v":"How Prof. expert on dinosaurs?"},{"$f":"'Data Input'!$AS$2","v":13},{"$f":"'Data Input'!$AS$5","v":10},{"$f":"'Data Input'!$AS$3","v":4},{"$f":"'Data Input'!$AS$4","v":6}]
[null,{"$f":"'Data Input'!$S$8","v":"D"},{"$f":"'Data Input'!$S$1","v":"14i"},{"$f":"'Data Input'!$S$7","v":1},{"$f":"'Data Input'!$S$6","v":"Easy to be a Star Spotter?"},{"$f":"'Data Input'!$S$2","v":15},{"$f":"'Data Input'!$S$5","v":8},{"$f":"'Data Input'!$S$3","v":4},{"$f":"'Data Input'!$S$4","v":4}]
[null,{"$f":"'Data Input'!$T$8","v":"D"},{"$f":"'Data Input'!$T$1","v":"14ii"},{"$f":"'Data Input'!$T$7","v":1},{"$f":"'Data Input'!$T$6","v":"Easy to be a Star Spotter?"},{"$f":"'Data Input'!$T$2","v":12},{"$f":"'Data Input'!$T$5","v":11},{"$f":"'Data Input'!$T$3","v":3},{"$f":"'Data Input'!$T$4","v":8}]
[null,{"$f":"'Data Input'!$AN$8","v":"D"},{"$f":"'Data Input'!$AN$1","v":"29i"},{"$f":"'Data Input'!$AN$7","v":3},{"$f":"'Data Input'!$AN$6","v":"How iguan. Inoffensive & brutes"},{"$f":"'Data Input'!$AN$2","v":16},{"$f":"'Data Input'!$AN$5","v":7},{"$f":"'Data Input'!$AN$3","v":3},{"$f":"'Data Input'!$AN$4","v":4}]
[null,{"$f":"'Data Input'!$AO$8","v":"D"},{"$f":"'Data Input'!$AO$1","v":"29ii"},{"$f":"'Data Input'!$AO$7","v":3},{"$f":"'Data Input'!$AO$6","v":"How iguan. Inoffensive & brutes"},{"$f":"'Data Input'!$AO$2","v":16},{"$f":"'Data Input'!$AO$5","v":7},{"$f":"'Data Input'!$AO$3","v":3},{"$f":"'Data Input'!$AO$4","v":4}]
[null,{"$f":"'Data Input'!$AP$8","v":"D"},{"$f":"'Data Input'!$AP$1","v":"29iii"},{"$f":"'Data Input'!$AP$7","v":3},{"$f":"'Data Input'!$AP$6","v":"How iguan. Inoffensive & brutes"},{"$f":"'Data Input'!$AP$2","v":16},{"$f":"'Data Input'!$AP$5","v":7},{"$f":"'Data Input'!$AP$3","v":4},{"$f":"'Data Input'!$AP$4","v":3}]
[null,{"$f":"'Data Input'!$M$8","v":"D"},{"$f":"'Data Input'!$M$1","v":"9i"},{"$f":"'Data Input'!$M$7","v":1},{"$f":"'Data Input'!$M$6","v":"Explain how Anousheh felt"},{"$f":"'Data Input'!$M$2","v":15},{"$f":"'Data Input'!$M$5","v":8},{"$f":"'Data Input'!$M$3","v":0},{"$f":"'Data Input'!$M$4","v":8}]
[null,{"$f":"'Data Input'!$N$8","v":"D"},{"$f":"'Data Input'!$N$1","v":"9ii"},{"$f":"'Data Input'!$N$7","v":1},{"$f":"'Data Input'!$N$6","v":"Explain how Anousheh felt"},{"$f":"'Data Input'!$N$2","v":19},{"$f":"'Data Input'!$N$5","v":4},{"$f":"'Data Input'!$N$3","v":4},{"$f":"'Data Input'!$N$4","v":0}]
[]
[null,{"$f":"'Data Input'!$AY$8","v":"E"},{"$f":"'Data Input'!$AY$1","v":"36i"},{"$f":"'Data Input'!$AY$7","v":3},{"$f":"'Data Input'!$AY$6","v":"What might happen to explorers?"},{"$f":"'Data Input'!$AY$2","v":17},{"$f":"'Data Input'!$AY$5","v":6},{"$f":"'Data Input'!$AY$3","v":0},{"$f":"'Data Input'!$AY$4","v":6}]
[null,{"$f":"'Data Input'!$AZ$8","v":"E"},{"$f":"'Data Input'!$AZ$1","v":"36ii"},{"$f":"'Data Input'!$AZ$7","v":3},{"$f":"'Data Input'!$AZ$6","v":"What might happen to explorers?"},{"$f":"'Data Input'!$AZ$2","v":7},{"$f":"'Data Input'!$AZ$5","v":16},{"$f":"'Data Input'!$AZ$3","v":7},{"$f":"'Data Input'!$AZ$4","v":9}]
[]
[null,{"$f":"'Data Input'!$AW$8","v":"F"},{"$f":"'Data Input'!$AW$1","v":"35a"},{"$f":"'Data Input'!$AW$7","v":3},{"$f":"'Data Input'!$AW$6","v":"Words showing mood change"},{"$f":"'Data Input'!$AW$2","v":11},{"$f":"'Data Input'!$AW$5","v":12},{"$f":"'Data Input'!$AW$3","v":0},{"$f":"'Data Input'!$AW$4","v":12}]
[]
[null,{"$f":"'Data Input'!$Q$8","v":"G"},{"$f":"'Data Input'!$Q$1","v":12},{"$f":"'Data Input'!$Q$7","v":1},{"$f":"'Data Input'!$Q$6","v":"\"in a flash\" meaning enhancement"},{"$f":"'Data Input'!$Q$2","v":4},{"$f":"'Data Input'!$Q$5","v":19},{"$f":"'Data Input'!$Q$3","v":15},{"$f":"'Data Input'!$Q$4","v":4}]
[null,{"$f":"'Data Input'!$AT$8","v":"G"},{"$f":"'Data Input'!$AT$1","v":"33i"},{"$f":"'Data Input'!$AT$7","v":3},{"$f":"'Data Input'!$AT$6","v":"Words  suggesting danger"},{"$f":"'Data Input'!$AT$2","v":11},{"$f":"'Data Input'!$AT$5","v":12},{"$f":"'Data Input'!$AT$3","v":5},{"$f":"'Data Input'!$AT$4","v":7}]
[null,{"$f":"'Data Input'!$AU$8","v":"G"},{"$f":"'Data Input'!$AU$1","v":"33ii"},{"$f":"'Data Input'!$AU$7","v":3},{"$f":"'Data Input'!$AU$6","v":"Words  suggesting danger"},{"$f":"'Data Input'!$AU$2","v":16},{"$f":"'Data Input'!$AU$5","v":7},{"$f":"'Data Input'!$AU$3","v":3},{"$f":"'Data Input'!$AU$4","v":4}]
[]
[null,{"$f":"'Data Input'!$AX$8","v":"H"},{"$f":"'Data Input'!$AX$1","v":"35b"},{"$f":"'Data Input'!$AX$7","v":3},{"$f":"'Data Input'!$AX$6","v":"How does mood change?"},{"$f":"'Data Input'!$AX$2","v":15},{"$f":"'Data Input'!$AX$5","v":8},{"$f":"'Data Input'!$AX$3","v":3},{"$f":"'Data Input'!$AX$4","v":5}]
[]
[]
[]
[]
[]
[]
[]
[]
[]
[]
[]
[]
[]
[null,"Sorted by Question Type"]
[null,"Strand","Question Number","Sub Category","Short Q","Correct","Incorrect or Unanswered","Incorrect","Unanswered"]
[null,{"$f":"'Data Input'!$C$8","v":"D"},{"$f":"'Data Input'!$C$1","v":1},{"$f":"'Data Input'!$C$7","v":1},{"$f":"'Data Input'!$C$6","v":"Why is space tourism impossible?"},{"$f":"'Data Input'!$C$2","v":23},{"$f":"'Data Input'!$C$5","v":0},{"$f":"'Data Input'!$C$3","v":0},{"$f":"'Data Input'!$C$4","v":0}]
[null,{"$f":"'Data Input'!$D$8","v":"B"},{"$f":"'Data Input'!$D$1","v":2},{"$f":"'Data Input'!$D$7","v":1},{"$f":"'Data Input'!$D$6","v":"How get from Spacecraft to hotel"},{"$f":"'Data Input'!$D$2","v":23},{"$f":"'Data Input'!$D$5","v":0},{"$f":"'Data Input'!$D$3","v":0},{"$f":"'Data Input'!$D$4","v":0}]
[null,{"$f":"'Data Input'!$E$8","v":"B"},{"$f":"'Data Input'!$E$1","v":"3i"},{"$f":"'Data Input'!$E$7","v":1},{"$f":"'Data Input'!$E$6","v":"What to do on space holiday?"},{"$f":"'Data Input'!$E$2","v":18},{"$f":"'Data Input'!$E$5","v":5},{"$f":"'Data Input'!$E$3","v":5},{"$f":"'Data Input'!$E$4","v":0}]
[null,{"$f":"'Data Input'!$F$8","v":"B"},{"$f":"'Data Input'!$F$1","v":"3ii"},{"$f":"'Data Input'!$F$7","v":1},{"$f":"'Data Input'!$F$6","v":"What to do on space holiday?"},{"$f":"'Data Input'!$F$2","v":15},{"$f":"'Data Input'!$F$5","v":8},{"$f":"'Data Input'!$F$3","v":8},{"$f":"'Data Input'!$F$4","v":0}]
[null,{"$f":"'Data Input'!$G$8","v":"B"},{"$f":"'Data Input'!$G$1","v":4},{"$f":"'Data Input'!$G$7","v":1},{"$f":"'Data Input'!$G$6","v":"Cost for first space tourist"},{"$f":"'Data Input'!$G$2","v":12},{"$f":"'Data Input'!$G$5","v":11},{"$f":"'Data Input'!$G$3","v":0},{"$f":"'Data Input'!$G$4","v":11}]
[null,{"$f":"'Data Input'!$H$8","v":"B"},{"$f":"'Data Input'!$H$1","v":5},{"$f":"'Data Input'!$H$7","v":1},{"$f":"'Data Input'!$H$6","v":"How is space station large?"},{"$f":"'Data Input'!$H$2","v":19},{"$f":"'Data Input'!$H$5","v":4},{"$f":"'Data Input'!$H$3","v":4},{"$f":"'Data Input'!$H$4","v":0}]
[null,{"$f":"'Data Input'!$I$8","v":"D"},{"$f":"'Data Input'!$I$1","v":6},{"$f":"'Data Input'!$I$7","v":1},{"$f":"'Data Input'!$I$6","v":"How Anousheh make history?"},{"$f":"'Data Input'!$I$2","v":11},{"$f":"'Data Input'!$I$5","v":12},{"$f":"'Data Input'!$I$3","v":3},{"$f":"'Data Input'!$I$4","v":9}]
[null,{"$f":"'Data Input'!$J$8","v":"B"},{"$f":"'Data Input'!$J$1","v":"7i"},{"$f":"'Data Input'!$J$7","v":1},{"$f":"'Data Input'!$J$6","v":"Details about Anousheh\"s trip"},{"$f":"'Data Input'!$J$2","v":23},{"$f":"'Data Input'!$J$5","v":0},{"$f":"'Data Input'!$J$3","v":0},{"$f":"'Data Input'!$J$4","v":0}]
[null,{"$f":"'Data Input'!$K$8","v":"B"},{"$f":"'Data Input'!$K$1","v":"7ii"},{"$f":"'Data Input'!$K$7","v":1},{"$f":"'Data Input'!$K$6","v":"Details about Anousheh\"s trip"},{"$f":"'Data Input'!$K$2","v":19},{"$f":"'Data Input'!$K$5","v":4},{"$f":"'Data Input'!$K$3","v":4},{"$f":"'Data Input'!$K$4","v":0}]
[null,{"$f":"'Data Input'!$L$8","v":"D"},{"$f":"'Data Input'!$L$1","v":8},{"$f":"'Data Input'!$L$7","v":1},{"$f":"'Data Input'!$L$6","v":"Words showing An. wrote for others"},{"$f":"'Data Input'!$L$2","v":11},{"$f":"'Data Input'!$L$5","v":12},{"$f":"'Data Input'!$L$3","v":3},{"$f":"'Data Input'!$L$4","v":9}]
[null,{"$f":"'Data Input'!$M$8","v":"D"},{"$f":"'Data Input'!$M$1","v":"9i"},{"$f":"'Data Input'!$M$7","v":1},{"$f":"'Data Input'!$M$6","v":"Explain how Anousheh felt"},{"$f":"'Data Input'!$M$2","v":15},{"$f":"'Data Input'!$M$5","v":8},{"$f":"'Data Input'!$M$3","v":0},{"$f":"'Data Input'!$M$4","v":8}]
[null,{"$f":"'Data Input'!$N$8","v":"D"},{"$f":"'Data Input'!$N$1","v":"9ii"},{"$f":"'Data Input'!$N$7","v":1},{"$f":"'Data Input'!$N$6","v":"Explain how Anousheh felt"},{"$f":"'Data Input'!$N$2","v":19},{"$f":"'Data Input'!$N$5","v":4},{"$f":"'Data Input'!$N$3","v":4},{"$f":"'Data Input'!$N$4","v":0}]
[null,{"$f":"'Data Input'!$O$8","v":"B"},{"$f":"'Data Input'!$O$1","v":10},{"$f":"'Data Input'!$O$7","v":1},{"$f":"'Data Input'!$O$6","v":"Match years to events"},{"$f":"'Data Input'!$O$2","v":19},{"$f":"'Data Input'!$O$5","v":4},{"$f":"'Data Input'!$O$3","v":4},{"$f":"'Data Input'!$O$4","v":0}]
[null,{"$f":"'Data Input'!$P$8","v":"D"},{"$f":"'Data Input'!$P$1","v":11},{"$f":"'Data Input'!$P$7","v":1},{"$f":"'Data Input'!$P$6","v":"Fact or opinion"},{"$f":"'Data Input'!$P$2","v":19},{"$f":"'Data Input'!$P$5","v":4},{"$f":"'Data Input'!$P$3","v":0},{"$f":"'Data Input'!$P$4","v":4}]
[null,{"$f":"'Data Input'!$Q$8","v":"G"},{"$f":"'Data Input'!$Q$1","v":12},{"$f":"'Data Input'!$Q$7","v":1},{"$f":"'Data Input'!$Q$6","v":"\"in a flash\" meaning enhancement"},{"$f":"'Data Input'!$Q$2","v":4},{"$f":"'Data Input'!$Q$5","v":19},{"$f":"'Data Input'!$Q$3","v":15},{"$f":"'Data Input'!$Q$4","v":4}]
[null,{"$f":"'Data Input'!$R$8","v":"A"},{"$f":"'Data Input'!$R$1","v":13},{"$f":"'Data Input'!$R$7","v":1},{"$f":"'Data Input'!$R$6","v":"\"arrange\" meaning in context"},{"$f":"'Data Input'!$R$2","v":11},{"$f":"'Data Input'!$R$5","v":12},{"$f":"'Data Input'!$R$3","v":5},{"$f":"'Data Input'!$R$4","v":7}]
[null,{"$f":"'Data Input'!$S$8","v":"D"},{"$f":"'Data Input'!$S$1","v":"14i"},{"$f":"'Data Input'!$S$7","v":1},{"$f":"'Data Input'!$S$6","v":"Easy to be a Star Spotter?"},{"$f":"'Data Input'!$S$2","v":15},{"$f":"'Data Input'!$S$5","v":8},{"$f":"'Data Input'!$S$3","v":4},{"$f":"'Data Input'!$S$4","v":4}]
[null,{"$f":"'Data Input'!$T$8","v":"D"},{"$f":"'Data Input'!$T$1","v":"14ii"},{"$f":"'Data Input'!$T$7","v":1},{"$f":"'Data Input'!$T$6","v":"Easy to be a Star Spotter?"},{"$f":"'Data Input'!$T$2","v":12},{"$f":"'Data Input'!$T$5","v":11},{"$f":"'Data Input'!$T$3","v":3},{"$f":"'Data Input'!$T$4","v":8}]
[null,{"$f":"'Data Input'!$U$8","v":"B"},{"$f":"'Data Input'!$U$1","v":15},{"$f":"'Data Input'!$U$7","v":1},{"$f":"'Data Input'!$U$6","v":"True or false"},{"$f":"'Data Input'!$U$2","v":12},{"$f":"'Data Input'!$U$5","v":11},{"$f":"'Data Input'!$U$3","v":4},{"$f":"'Data Input'!$U$4","v":7}]
[null,{"$f":"'Data Input'!$V$8","v":"B"},{"$f":"'Data Input'!$V$1","v":"16a"},{"$f":"'Data Input'!$V$7","v":2},{"$f":"'Data Input'!$V$6","v":"How giant frightens snail"},{"$f":"'Data Input'!$V$2","v":23},{"$f":"'Data Input'!$V$5","v":0},{"$f":"'Data Input'!$V$3","v":0},{"$f":"'Data Input'!$V$4","v":0}]
[null,{"$f":"'Data Input'!$W$8","v":"B"},{"$f":"'Data Input'!$W$1","v":"16b"},{"$f":"'Data Input'!$W$7","v":2},{"$f":"'Data Input'!$W$6","v":"How giant frightens frog"},{"$f":"'Data Input'!$W$2","v":10},{"$f":"'Data Input'!$W$5","v":13},{"$f":"'Data Input'!$W$3","v":9},{"$f":"'Data Input'!$W$4","v":4}]
[null,{"$f":"'Data Input'!$X$8","v":"B"},{"$f":"'Data Input'!$X$1","v":17},{"$f":"'Data Input'!$X$7","v":2},{"$f":"'Data Input'!$X$6","v":"Match words to part of snail"},{"$f":"'Data Input'!$X$2","v":19},{"$f":"'Data Input'!$X$5","v":4},{"$f":"'Data Input'!$X$3","v":0},{"$f":"'Data Input'!$X$4","v":4}]
[null,{"$f":"'Data Input'!$Y$8","v":"D"},{"$f":"'Data Input'!$Y$1","v":18},{"$f":"'Data Input'!$Y$7","v":2},{"$f":"'Data Input'!$Y$6","v":"How words make reader feel"},{"$f":"'Data Input'!$Y$2","v":16},{"$f":"'Data Input'!$Y$5","v":7},{"$f":"'Data Input'!$Y$3","v":4},{"$f":"'Data Input'!$Y$4","v":3}]
[null,{"$f":"'Data Input'!$Z$8","v":"B"},{"$f":"'Data Input'!$Z$1","v":19},{"$f":"'Data Input'!$Z$7","v":2},{"$f":"'Data Input'!$Z$6","v":"Snail behaviour when afarid"},{"$f":"'Data Input'!$Z$2","v":15},{"$f":"'Data Input'!$Z$5","v":8},{"$f":"'Data Input'!$Z$3","v":4},{"$f":"'Data Input'!$Z$4","v":4}]
[null,{"$f":"'Data Input'!$AA$8","v":"A"},{"$f":"'Data Input'!$AA$1","v":20},{"$f":"'Data Input'!$AA$7","v":2},{"$f":"'Data Input'!$AA$6","v":"\"brittle\" meaning in context"},{"$f":"'Data Input'!$AA$2","v":23},{"$f":"'Data Input'!$AA$5","v":0},{"$f":"'Data Input'!$AA$3","v":0},{"$f":"'Data Input'!$AA$4","v":0}]
[null,{"$f":"'Data Input'!$AB$8","v":"A"},{"$f":"'Data Input'!$AB$1","v":"21i"},{"$f":"'Data Input'!$AB$7","v":2},{"$f":"'Data Input'!$AB$6","v":"\"emerald scrap\" meaning"},{"$f":"'Data Input'!$AB$2","v":16},{"$f":"'Data Input'!$AB$5","v":7},{"$f":"'Data Input'!$AB$3","v":3},{"$f":"'Data Input'!$AB$4","v":4}]
[null,{"$f":"'Data Input'!$AC$8","v":"A"},{"$f":"'Data Input'!$AC$1","v":"21ii"},{"$f":"'Data Input'!$AC$7","v":2},{"$f":"'Data Input'!$AC$6","v":"\"emerald scrap\" meaning"},{"$f":"'Data Input'!$AC$2","v":12},{"$f":"'Data Input'!$AC$5","v":11},{"$f":"'Data Input'!$AC$3","v":4},{"$f":"'Data Input'!$AC$4","v":7}]
[null,{"$f":"'Data Input'!$AD$8","v":"D"},{"$f":"'Data Input'!$AD$1","v":22},{"$f":"'Data Input'!$AD$7","v":2},{"$f":"'Data Input'!$AD$6","v":"What is \"tremendous monster\"?"},{"$f":"'Data Input'!$AD$2","v":19},{"$f":"'Data Input'!$AD$5","v":4},{"$f":"'Data Input'!$AD$3","v":0},{"$f":"'Data Input'!$AD$4","v":4}]
[null,{"$f":"'Data Input'!$AE$8","v":"A"},{"$f":"'Data Input'!$AE$1","v":23},{"$f":"'Data Input'!$AE$7","v":2},{"$f":"'Data Input'!$AE$6","v":"Words showing frog frightened"},{"$f":"'Data Input'!$AE$2","v":20},{"$f":"'Data Input'!$AE$5","v":3},{"$f":"'Data Input'!$AE$3","v":3},{"$f":"'Data Input'!$AE$4","v":0}]
[null,{"$f":"'Data Input'!$AF$8","v":"C"},{"$f":"'Data Input'!$AF$1","v":24},{"$f":"'Data Input'!$AF$7","v":2},{"$f":"'Data Input'!$AF$6","v":"Main message of poem"},{"$f":"'Data Input'!$AF$2","v":19},{"$f":"'Data Input'!$AF$5","v":4},{"$f":"'Data Input'!$AF$3","v":4},{"$f":"'Data Input'!$AF$4","v":0}]
[null,{"$f":"'Data Input'!$AG$8","v":"B"},{"$f":"'Data Input'!$AG$1","v":"25a"},{"$f":"'Data Input'!$AG$7","v":3},{"$f":"'Data Input'!$AG$6","v":"Story told from perspective of... "},{"$f":"'Data Input'!$AG$2","v":15},{"$f":"'Data Input'!$AG$5","v":8},{"$f":"'Data Input'!$AG$3","v":4},{"$f":"'Data Input'!$AG$4","v":4}]
[null,{"$f":"'Data Input'!$AH$8","v":"A"},{"$f":"'Data Input'!$AH$1","v":"25b"},{"$f":"'Data Input'!$AH$7","v":3},{"$f":"'Data Input'!$AH$6","v":"The men entered the forest…"},{"$f":"'Data Input'!$AH$2","v":14},{"$f":"'Data Input'!$AH$5","v":9},{"$f":"'Data Input'!$AH$3","v":0},{"$f":"'Data Input'!$AH$4","v":9}]
[null,{"$f":"'Data Input'!$AI$8","v":"B"},{"$f":"'Data Input'!$AI$1","v":"25c"},{"$f":"'Data Input'!$AI$7","v":3},{"$f":"'Data Input'!$AI$6","v":"The stream was…"},{"$f":"'Data Input'!$AI$2","v":14},{"$f":"'Data Input'!$AI$5","v":9},{"$f":"'Data Input'!$AI$3","v":4},{"$f":"'Data Input'!$AI$4","v":5}]
[null,{"$f":"'Data Input'!$AJ$8","v":"B"},{"$f":"'Data Input'!$AJ$1","v":"25d"},{"$f":"'Data Input'!$AJ$7","v":3},{"$f":"'Data Input'!$AJ$6","v":"The ferns here were spaced…"},{"$f":"'Data Input'!$AJ$2","v":16},{"$f":"'Data Input'!$AJ$5","v":7},{"$f":"'Data Input'!$AJ$3","v":7},{"$f":"'Data Input'!$AJ$4","v":0}]
[null,{"$f":"'Data Input'!$AK$8","v":"B"},{"$f":"'Data Input'!$AK$1","v":26},{"$f":"'Data Input'!$AK$7","v":3},{"$f":"'Data Input'!$AK$6","v":"Distance stream became bog"},{"$f":"'Data Input'!$AK$2","v":18},{"$f":"'Data Input'!$AK$5","v":5},{"$f":"'Data Input'!$AK$3","v":5},{"$f":"'Data Input'!$AK$4","v":0}]
[null,{"$f":"'Data Input'!$AL$8","v":"D"},{"$f":"'Data Input'!$AL$1","v":27},{"$f":"'Data Input'!$AL$7","v":3},{"$f":"'Data Input'!$AL$6","v":"How characters in ‘lost world’?"},{"$f":"'Data Input'!$AL$2","v":19},{"$f":"'Data Input'!$AL$5","v":4},{"$f":"'Data Input'!$AL$3","v":0},{"$f":"'Data Input'!$AL$4","v":4}]
[null,{"$f":"'Data Input'!$AM$8","v":"D"},{"$f":"'Data Input'!$AM$1","v":28},{"$f":"'Data Input'!$AM$7","v":3},{"$f":"'Data Input'!$AM$6","v":"How comparisons help reader?"},{"$f":"'Data Input'!$AM$2","v":19},{"$f":"'Data Input'!$AM$5","v":4},{"$f":"'Data Input'!$AM$3","v":0},{"$f":"'Data Input'!$AM$4","v":4}]
[null,{"$f":"'Data Input'!$AN$8","v":"D"},{"$f":"'Data Input'!$AN$1","v":"29i"},{"$f":"'Data Input'!$AN$7","v":3},{"$f":"'Data Input'!$AN$6","v":"How iguan. Inoffensive & brutes"},{"$f":"'Data Input'!$AN$2","v":16},{"$f":"'Data Input'!$AN$5","v":7},{"$f":"'Data Input'!$AN$3","v":3},{"$f":"'Data Input'!$AN$4","v":4}]
[null,{"$f":"'Data Input'!$AO$8","v":"D"},{"$f":"'Data Input'!$AO$1","v":"29ii"},{"$f":"'Data Input'!$AO$7","v":3},{"$f":"'Data Input'!$AO$6","v":"How iguan. Inoffensive & brutes"},{"$f":"'Data Input'!$AO$2","v":16},{"$f":"'Data Input'!$AO$5","v":7},{"$f":"'Data Input'!$AO$3","v":3},{"$f":"'Data Input'!$AO$4","v":4}]
[null,{"$f":"'Data Input'!$AP$8","v":"D"},{"$f":"'Data Input'!$AP$1","v":"29iii"},{"$f":"'Data Input'!$AP$7","v":3},{"$f":"'Data Input'!$AP$6","v":"How iguan. Inoffensive & brutes"},{"$f":"'Data Input'!$AP$2","v":16},{"$f":"'Data Input'!$AP$5","v":7},{"$f":"'Data Input'!$AP$3","v":4},{"$f":"'Data Input'!$AP$4","v":3}]
[null,{"$f":"'Data Input'!$AQ$8","v":"A"},{"$f":"'Data Input'!$AQ$1","v":30},{"$f":"'Data Input'!$AQ$7","v":3},{"$f":"'Data Input'!$AQ$6","v":"\"unwieldy\" meaning in context"},{"$f":"'Data Input'!$AQ$2","v":11},{"$f":"'Data Input'!$AQ$5","v":12},{"$f":"'Data Input'!$AQ$3","v":0},{"$f":"'Data Input'!$AQ$4","v":12}]
[null,{"$f":"'Data Input'!$AR$8","v":"A"},{"$f":"'Data Input'!$AR$1","v":31},{"$f":"'Data Input'!$AR$7","v":3},{"$f":"'Data Input'!$AR$6","v":"Word showing \"part of a team\""},{"$f":"'Data Input'!$AR$2","v":11},{"$f":"'Data Input'!$AR$5","v":12},{"$f":"'Data Input'!$AR$3","v":0},{"$f":"'Data Input'!$AR$4","v":12}]
[null,{"$f":"'Data Input'!$AS$8","v":"D"},{"$f":"'Data Input'!$AS$1","v":32},{"$f":"'Data Input'!$AS$7","v":3},{"$f":"'Data Input'!$AS$6","v":"How Prof. expert on dinosaurs?"},{"$f":"'Data Input'!$AS$2","v":13},{"$f":"'Data Input'!$AS$5","v":10},{"$f":"'Data Input'!$AS$3","v":4},{"$f":"'Data Input'!$AS$4","v":6}]
[null,{"$f":"'Data Input'!$AT$8","v":"G"},{"$f":"'Data Input'!$AT$1","v":"33i"},{"$f":"'Data Input'!$AT$7","v":3},{"$f":"'Data Input'!$AT$6","v":"Words  suggesting danger"},{"$f":"'Data Input'!$AT$2","v":11},{"$f":"'Data Input'!$AT$5","v":12},{"$f":"'Data Input'!$AT$3","v":5},{"$f":"'Data Input'!$AT$4","v":7}]
[null,{"$f":"'Data Input'!$AU$8","v":"G"},{"$f":"'Data Input'!$AU$1","v":"33ii"},{"$f":"'Data Input'!$AU$7","v":3},{"$f":"'Data Input'!$AU$6","v":"Words  suggesting danger"},{"$f":"'Data Input'!$AU$2","v":16},{"$f":"'Data Input'!$AU$5","v":7},{"$f":"'Data Input'!$AU$3","v":3},{"$f":"'Data Input'!$AU$4","v":4}]
[null,{"$f":"'Data Input'!$AV$8","v":"C"},{"$f":"'Data Input'!$AV$1","v":34},{"$f":"'Data Input'!$AV$7","v":3},{"$f":"'Data Input'!$AV$6","v":"True or false"},{"$f":"'Data Input'!$AV$2","v":14},{"$f":"'Data Input'!$AV$5","v":9},{"$f":"'Data Input'!$AV$3","v":4},{"$f":"'Data Input'!$AV$4","v":5}]
[null,{"$f":"'Data Input'!$AW$8","v":"F"},{"$f":"'Data Input'!$AW$1","v":"35a"},{"$f":"'Data Input'!$AW$7","v":3},{"$f":"'Data Input'!$AW$6","v":"Words showing mood change"},{"$f":"'Data Input'!$AW$2","v":11},{"$f":"'Data Input'!$AW$5","v":12},{"$f":"'Data Input'!$AW$3","v":0},{"$f":"'Data Input'!$AW$4","v":12}]
[null,{"$f":"'Data Input'!$AX$8","v":"H"},{"$f":"'Data Input'!$AX$1","v":"35b"},{"$f":"'Data Input'!$AX$7","v":3},{"$f":"'Data Input'!$AX$6","v":"How does mood change?"},{"$f":"'Data Input'!$AX$2","v":15},{"$f":"'Data Input'!$AX$5","v":8},{"$f":"'Data Input'!$AX$3","v":3},{"$f":"'Data Input'!$AX$4","v":5}]
[null,{"$f":"'Data Input'!$AY$8","v":"E"},{"$f":"'Data Input'!$AY$1","v":"36i"},{"$f":"'Data Input'!$AY$7","v":3},{"$f":"'Data Input'!$AY$6","v":"What might happen to explorers?"},{"$f":"'Data Input'!$AY$2","v":17},{"$f":"'Data Input'!$AY$5","v":6},{"$f":"'Data Input'!$AY$3","v":0},{"$f":"'Data Input'!$AY$4","v":6}]
[null,{"$f":"'Data Input'!$AZ$8","v":"E"},{"$f":"'Data Input'!$AZ$1","v":"36ii"},{"$f":"'Data Input'!$AZ$7","v":3},{"$f":"'Data Input'!$AZ$6","v":"What might happen to explorers?"},{"$f":"'Data Input'!$AZ$2","v":7},{"$f":"'Data Input'!$AZ$5","v":16},{"$f":"'Data Input'!$AZ$3","v":7},{"$f":"'Data Input'!$AZ$4","v":9}]
[]
[]
[]
[null,null,null,"Sorted by Correct",null,null,null,null,null,null,null,null,null,null,"Sorted by Correct"]
[null,null,null,"Strand","Question Number","Sub Category","Short Q","Correct","Incorrect or Unanswered","Incorrect","Unanswered",null,null,null,"Strand","Question Number","Sub Category","Short Q","Correct","Incorrect or unanswered","Incorrect","Unanswered"]
[null,{"$f":"RANK(C130,$C$130:$C$199)","v":1},{"$f":" H130 - ROW()*0.000000001","v":22.99999987},{"$f":"'Data Input'!$C$8","v":"D"},{"$f":"'Data Input'!$C$1","v":1},{"$f":"'Data Input'!$C$7","v":1},{"$f":"'Data Input'!$C$6","v":"Why is space tourism impossible?"},{"$f":"'Data Input'!$C$2","v":23},{"$f":"'Data Input'!$C$5","v":0},{"$f":"'Data Input'!$C$3","v":0},{"$f":"'Data Input'!$C$4","v":0},null,{"$f":"VLOOKUP(ROW()-ROW(M$129),$B$130:$J$199,1,FALSE)","v":1},{"$f":"VLOOKUP(ROW()-ROW(M$129),$B$130:$J$199,2,FALSE)","v":22.99999987},{"$f":"VLOOKUP(ROW()-ROW(M$129),$B$130:$J$199,3,FALSE)","v":"D"},{"$f":"VLOOKUP(ROW()-ROW(M$129),$B$130:$J$199,4,FALSE)","v":1},{"$f":"VLOOKUP(ROW()-ROW(M$129),$B$130:$J$199,5,FALSE)","v":1},{"$f":"VLOOKUP(ROW()-ROW(M$129),$B$130:$J$199,6,FALSE)","v":"Why is space tourism impossible?"},{"$f":"VLOOKUP(ROW()-ROW(M$129),$B$130:$J$199,7,FALSE)","v":23},{"$f":"VLOOKUP(ROW()-ROW(M$129),$B$130:$J$199,8,FALSE)","v":0},{"$f":"VLOOKUP(ROW()-ROW(M$129),$B$130:$K$199,9,FALSE)","v":0},{"$f":"VLOOKUP(ROW()-ROW(M$129),$B$130:$K$199,10,FALSE)","v":0}]
[null,2,{"$f":" H131 - ROW()*0.000000001","v":22.999999869},{"$f":"'Data Input'!$D$8","v":"B"},{"$f":"'Data Input'!$D$1","v":2},{"$f":"'Data Input'!$D$7","v":1},{"$f":"'Data Input'!$D$6","v":"How get from Spacecraft to hotel"},{"$f":"'Data Input'!$D$2","v":23},{"$f":"'Data Input'!$D$5","v":0},{"$f":"'Data Input'!$D$3","v":0},{"$f":"'Data Input'!$D$4","v":0},null,2,22.999999869,{"$f":"VLOOKUP(ROW()-ROW(M$129),$B$130:$J$199,3,FALSE)","v":"B"},{"$f":"VLOOKUP(ROW()-ROW(M$129),$B$130:$J$199,4,FALSE)","v":2},{"$f":"VLOOKUP(ROW()-ROW(M$129),$B$130:$J$199,5,FALSE)","v":1},{"$f":"VLOOKUP(ROW()-ROW(M$129),$B$130:$J$199,6,FALSE)","v":"How get from Spacecraft to hotel"},{"$f":"VLOOKUP(ROW()-ROW(M$129),$B$130:$J$199,7,FALSE)","v":23},{"$f":"VLOOKUP(ROW()-ROW(M$129),$B$130:$J$199,8,FALSE)","v":0},{"$f":"VLOOKUP(ROW()-ROW(M$129),$B$130:$K$199,9,FALSE)","v":0},{"$f":"VLOOKUP(ROW()-ROW(M$129),$B$130:$K$199,10,FALSE)","v":0}]
[null,17,17.999999868,{"$f":"'Data Input'!$E$8","v":"B"},{"$f":"'Data Input'!$E$1","v":"3i"},{"$f":"'Data Input'!$E$7","v":1},{"$f":"'Data Input'!$E$6","v":"What to do on space holiday?"},{"$f":"'Data Input'!$E$2","v":18},{"$f":"'Data Input'!$E$5","v":5},{"$f":"'Data Input'!$E$3","v":5},{"$f":"'Data Input'!$E$4","v":0},null,3,22.999999862999999,"B","7i",1,"Details about Anousheh\"s trip",23,0,0,0]
[null,27,14.999999867,{"$f":"'Data Input'!$F$8","v":"B"},{"$f":"'Data Input'!$F$1","v":"3ii"},{"$f":"'Data Input'!$F$7","v":1},{"$f":"'Data Input'!$F$6","v":"What to do on space holiday?"},{"$f":"'Data Input'!$F$2","v":15},{"$f":"'Data Input'!$F$5","v":8},{"$f":"'Data Input'!$F$3","v":8},{"$f":"'Data Input'!$F$4","v":0},null,4,22.999999850999998,"B","16a",2,"How giant frightens snail",23,0,0,0]
[null,37,11.999999866,{"$f":"'Data Input'!$G$8","v":"B"},{"$f":"'Data Input'!$G$1","v":4},{"$f":"'Data Input'!$G$7","v":1},{"$f":"'Data Input'!$G$6","v":"Cost for first space tourist"},{"$f":"'Data Input'!$G$2","v":12},{"$f":"'Data Input'!$G$5","v":11},{"$f":"'Data Input'!$G$3","v":0},{"$f":"'Data Input'!$G$4","v":11},null,5,22.999999846000001,"A",20,2,"\"brittle\" meaning in context",23,0,0,0]
[null,7,18.999999864999999,{"$f":"'Data Input'!$H$8","v":"B"},{"$f":"'Data Input'!$H$1","v":5},{"$f":"'Data Input'!$H$7","v":1},{"$f":"'Data Input'!$H$6","v":"How is space station large?"},{"$f":"'Data Input'!$H$2","v":19},{"$f":"'Data Input'!$H$5","v":4},{"$f":"'Data Input'!$H$3","v":4},{"$f":"'Data Input'!$H$4","v":0},null,6,19.999999842000001,"A",23,2,"Words showing frog frightened",20,3,3,0]
[null,41,10.999999863999999,{"$f":"'Data Input'!$I$8","v":"D"},{"$f":"'Data Input'!$I$1","v":6},{"$f":"'Data Input'!$I$7","v":1},{"$f":"'Data Input'!$I$6","v":"How Anousheh make history?"},{"$f":"'Data Input'!$I$2","v":11},{"$f":"'Data Input'!$I$5","v":12},{"$f":"'Data Input'!$I$3","v":3},{"$f":"'Data Input'!$I$4","v":9},null,7,18.999999864999999,"B",5,1,"How is space station large?",19,4,4,0]
[null,3,22.999999862999999,{"$f":"'Data Input'!$J$8","v":"B"},{"$f":"'Data Input'!$J$1","v":"7i"},{"$f":"'Data Input'!$J$7","v":1},{"$f":"'Data Input'!$J$6","v":"Details about Anousheh\"s trip"},{"$f":"'Data Input'!$J$2","v":23},{"$f":"'Data Input'!$J$5","v":0},{"$f":"'Data Input'!$J$3","v":0},{"$f":"'Data Input'!$J$4","v":0},null,8,18.999999861999999,"B","7ii",1,"Details about Anousheh\"s trip",19,4,4,0]
[null,8,18.999999861999999,{"$f":"'Data Input'!$K$8","v":"B"},{"$f":"'Data Input'!$K$1","v":"7ii"},{"$f":"'Data Input'!$K$7","v":1},{"$f":"'Data Input'!$K$6","v":"Details about Anousheh\"s trip"},{"$f":"'Data Input'!$K$2","v":19},{"$f":"'Data Input'!$K$5","v":4},{"$f":"'Data Input'!$K$3","v":4},{"$f":"'Data Input'!$K$4","v":0},null,9,18.999999858999999,{"$f":"VLOOKUP(ROW()-ROW(M$129),$B$130:$J$199,3,FALSE)","v":"D"},{"$f":"VLOOKUP(ROW()-ROW(M$129),$B$130:$J$199,4,FALSE)","v":"9ii"},{"$f":"VLOOKUP(ROW()-ROW(M$129),$B$130:$J$199,5,FALSE)","v":1},{"$f":"VLOOKUP(ROW()-ROW(M$129),$B$130:$J$199,6,FALSE)","v":"Explain how Anousheh felt"},{"$f":"VLOOKUP(ROW()-ROW(M$129),$B$130:$J$199,7,FALSE)","v":19},{"$f":"VLOOKUP(ROW()-ROW(M$129),$B$130:$J$199,8,FALSE)","v":4},{"$f":"VLOOKUP(ROW()-ROW(M$129),$B$130:$K$199,9,FALSE)","v":4},{"$f":"VLOOKUP(ROW()-ROW(M$129),$B$130:$K$199,10,FALSE)","v":0}]
[null,42,10.999999860999999,{"$f":"'Data Input'!$L$8","v":"D"},{"$f":"'Data Input'!$L$1","v":8},{"$f":"'Data Input'!$L$7","v":1},{"$f":"'Data Input'!$L$6","v":"Words showing An. wrote for others"},{"$f":"'Data Input'!$L$2","v":11},{"$f":"'Data Input'!$L$5","v":12},{"$f":"'Data Input'!$L$3","v":3},{"$f":"'Data Input'!$L$4","v":9},null,10,18.999999857999999,"B",10,1,"Match years to events",19,4,4,0]
[null,28,14.999999860000001,{"$f":"'Data Input'!$M$8","v":"D"},{"$f":"'Data Input'!$M$1","v":"9i"},{"$f":"'Data Input'!$M$7","v":1},{"$f":"'Data Input'!$M$6","v":"Explain how Anousheh felt"},{"$f":"'Data Input'!$M$2","v":15},{"$f":"'Data Input'!$M$5","v":8},{"$f":"'Data Input'!$M$3","v":0},{"$f":"'Data Input'!$M$4","v":8},null,11,18.999999856999999,"D",11,1,"Fact or opinion",19,4,0,4]
[null,9,18.999999858999999,{"$f":"'Data Input'!$N$8","v":"D"},{"$f":"'Data Input'!$N$1","v":"9ii"},{"$f":"'Data Input'!$N$7","v":1},{"$f":"'Data Input'!$N$6","v":"Explain how Anousheh felt"},{"$f":"'Data Input'!$N$2","v":19},{"$f":"'Data Input'!$N$5","v":4},{"$f":"'Data Input'!$N$3","v":4},{"$f":"'Data Input'!$N$4","v":0},null,12,18.999999849000002,"B",17,2,"Match words to part of snail",19,4,0,4]
[null,10,18.999999857999999,{"$f":"'Data Input'!$O$8","v":"B"},{"$f":"'Data Input'!$O$1","v":10},{"$f":"'Data Input'!$O$7","v":1},{"$f":"'Data Input'!$O$6","v":"Match years to events"},{"$f":"'Data Input'!$O$2","v":19},{"$f":"'Data Input'!$O$5","v":4},{"$f":"'Data Input'!$O$3","v":4},{"$f":"'Data Input'!$O$4","v":0},null,13,18.999999843000001,"D",22,2,"What is \"tremendous monster\"?",19,4,0,4]
[null,11,18.999999856999999,{"$f":"'Data Input'!$P$8","v":"D"},{"$f":"'Data Input'!$P$1","v":11},{"$f":"'Data Input'!$P$7","v":1},{"$f":"'Data Input'!$P$6","v":"Fact or opinion"},{"$f":"'Data Input'!$P$2","v":19},{"$f":"'Data Input'!$P$5","v":4},{"$f":"'Data Input'!$P$3","v":0},{"$f":"'Data Input'!$P$4","v":4},null,14,18.999999841000001,"C",24,2,"Main message of poem",19,4,4,0]
[null,50,3.9999998560000001,{"$f":"'Data Input'!$Q$8","v":"G"},{"$f":"'Data Input'!$Q$1","v":12},{"$f":"'Data Input'!$Q$7","v":1},{"$f":"'Data Input'!$Q$6","v":"\"in a flash\" meaning enhancement"},{"$f":"'Data Input'!$Q$2","v":4},{"$f":"'Data Input'!$Q$5","v":19},{"$f":"'Data Input'!$Q$3","v":15},{"$f":"'Data Input'!$Q$4","v":4},null,15,18.999999835000001,"D",27,3,"How characters in ‘lost world’?",19,4,0,4]
[null,43,10.999999855,{"$f":"'Data Input'!$R$8","v":"A"},{"$f":"'Data Input'!$R$1","v":13},{"$f":"'Data Input'!$R$7","v":1},{"$f":"'Data Input'!$R$6","v":"\"arrange\" meaning in context"},{"$f":"'Data Input'!$R$2","v":11},{"$f":"'Data Input'!$R$5","v":12},{"$f":"'Data Input'!$R$3","v":5},{"$f":"'Data Input'!$R$4","v":7},null,16,18.999999834,"D",28,3,"How comparisons help reader?",19,4,0,4]
[null,29,14.999999854,{"$f":"'Data Input'!$S$8","v":"D"},{"$f":"'Data Input'!$S$1","v":"14i"},{"$f":"'Data Input'!$S$7","v":1},{"$f":"'Data Input'!$S$6","v":"Easy to be a Star Spotter?"},{"$f":"'Data Input'!$S$2","v":15},{"$f":"'Data Input'!$S$5","v":8},{"$f":"'Data Input'!$S$3","v":4},{"$f":"'Data Input'!$S$4","v":4},null,17,17.999999868,"B","3i",1,"What to do on space holiday?",18,5,5,0]
[null,38,11.999999853,{"$f":"'Data Input'!$T$8","v":"D"},{"$f":"'Data Input'!$T$1","v":"14ii"},{"$f":"'Data Input'!$T$7","v":1},{"$f":"'Data Input'!$T$6","v":"Easy to be a Star Spotter?"},{"$f":"'Data Input'!$T$2","v":12},{"$f":"'Data Input'!$T$5","v":11},{"$f":"'Data Input'!$T$3","v":3},{"$f":"'Data Input'!$T$4","v":8},null,18,17.999999836000001,"B",26,3,"Distance stream became bog",18,5,5,0]
[null,39,11.999999852,{"$f":"'Data Input'!$U$8","v":"B"},{"$f":"'Data Input'!$U$1","v":15},{"$f":"'Data Input'!$U$7","v":1},{"$f":"'Data Input'!$U$6","v":"True or false"},{"$f":"'Data Input'!$U$2","v":12},{"$f":"'Data Input'!$U$5","v":11},{"$f":"'Data Input'!$U$3","v":4},{"$f":"'Data Input'!$U$4","v":7},null,19,16.999999821999999,"E","36i",3,"What might happen to explorers?",17,6,0,6]
[null,4,22.999999850999998,{"$f":"'Data Input'!$V$8","v":"B"},{"$f":"'Data Input'!$V$1","v":"16a"},{"$f":"'Data Input'!$V$7","v":2},{"$f":"'Data Input'!$V$6","v":"How giant frightens snail"},{"$f":"'Data Input'!$V$2","v":23},{"$f":"'Data Input'!$V$5","v":0},{"$f":"'Data Input'!$V$3","v":0},{"$f":"'Data Input'!$V$4","v":0},null,20,15.999999848,"D",18,2,"How words make reader feel",16,7,4,3]
[null,48,9.99999985,{"$f":"'Data Input'!$W$8","v":"B"},{"$f":"'Data Input'!$W$1","v":"16b"},{"$f":"'Data Input'!$W$7","v":2},{"$f":"'Data Input'!$W$6","v":"How giant frightens frog"},{"$f":"'Data Input'!$W$2","v":10},{"$f":"'Data Input'!$W$5","v":13},{"$f":"'Data Input'!$W$3","v":9},{"$f":"'Data Input'!$W$4","v":4},null,21,15.999999845,"A","21i",2,"\"emerald scrap\" meaning",16,7,3,4]
[null,12,18.999999849000002,{"$f":"'Data Input'!$X$8","v":"B"},{"$f":"'Data Input'!$X$1","v":17},{"$f":"'Data Input'!$X$7","v":2},{"$f":"'Data Input'!$X$6","v":"Match words to part of snail"},{"$f":"'Data Input'!$X$2","v":19},{"$f":"'Data Input'!$X$5","v":4},{"$f":"'Data Input'!$X$3","v":0},{"$f":"'Data Input'!$X$4","v":4},null,22,15.999999837000001,"B","25d",3,"The ferns here were spaced…",16,7,7,0]
[null,20,15.999999848,{"$f":"'Data Input'!$Y$8","v":"D"},{"$f":"'Data Input'!$Y$1","v":18},{"$f":"'Data Input'!$Y$7","v":2},{"$f":"'Data Input'!$Y$6","v":"How words make reader feel"},{"$f":"'Data Input'!$Y$2","v":16},{"$f":"'Data Input'!$Y$5","v":7},{"$f":"'Data Input'!$Y$3","v":4},{"$f":"'Data Input'!$Y$4","v":3},null,23,15.999999833,"D","29i",3,"How iguan. Inoffensive & brutes",16,7,3,4]
[null,30,14.999999847,{"$f":"'Data Input'!$Z$8","v":"B"},{"$f":"'Data Input'!$Z$1","v":19},{"$f":"'Data Input'!$Z$7","v":2},{"$f":"'Data Input'!$Z$6","v":"Snail behaviour when afarid"},{"$f":"'Data Input'!$Z$2","v":15},{"$f":"'Data Input'!$Z$5","v":8},{"$f":"'Data Input'!$Z$3","v":4},{"$f":"'Data Input'!$Z$4","v":4},null,24,15.999999832,"D","29ii",3,"How iguan. Inoffensive & brutes",16,7,3,4]
[null,5,22.999999846000001,{"$f":"'Data Input'!$AA$8","v":"A"},{"$f":"'Data Input'!$AA$1","v":20},{"$f":"'Data Input'!$AA$7","v":2},{"$f":"'Data Input'!$AA$6","v":"\"brittle\" meaning in context"},{"$f":"'Data Input'!$AA$2","v":23},{"$f":"'Data Input'!$AA$5","v":0},{"$f":"'Data Input'!$AA$3","v":0},{"$f":"'Data Input'!$AA$4","v":0},null,25,15.999999831,"D","29iii",3,"How iguan. Inoffensive & brutes",16,7,4,3]
[null,21,15.999999845,{"$f":"'Data Input'!$AB$8","v":"A"},{"$f":"'Data Input'!$AB$1","v":"21i"},{"$f":"'Data Input'!$AB$7","v":2},{"$f":"'Data Input'!$AB$6","v":"\"emerald scrap\" meaning"},{"$f":"'Data Input'!$AB$2","v":16},{"$f":"'Data Input'!$AB$5","v":7},{"$f":"'Data Input'!$AB$3","v":3},{"$f":"'Data Input'!$AB$4","v":4},null,26,15.999999826,"G","33ii",3,"Words  suggesting danger",16,7,3,4]
[null,40,11.999999844,{"$f":"'Data Input'!$AC$8","v":"A"},{"$f":"'Data Input'!$AC$1","v":"21ii"},{"$f":"'Data Input'!$AC$7","v":2},{"$f":"'Data Input'!$AC$6","v":"\"emerald scrap\" meaning"},{"$f":"'Data Input'!$AC$2","v":12},{"$f":"'Data Input'!$AC$5","v":11},{"$f":"'Data Input'!$AC$3","v":4},{"$f":"'Data Input'!$AC$4","v":7},null,27,14.999999867,"B","3ii",1,"What to do on space holiday?",15,8,8,0]
[null,13,18.999999843000001,{"$f":"'Data Input'!$AD$8","v":"D"},{"$f":"'Data Input'!$AD$1","v":22},{"$f":"'Data Input'!$AD$7","v":2},{"$f":"'Data Input'!$AD$6","v":"What is \"tremendous monster\"?"},{"$f":"'Data Input'!$AD$2","v":19},{"$f":"'Data Input'!$AD$5","v":4},{"$f":"'Data Input'!$AD$3","v":0},{"$f":"'Data Input'!$AD$4","v":4},null,28,14.999999860000001,"D","9i",1,"Explain how Anousheh felt",15,8,0,8]
[null,6,19.999999842000001,{"$f":"'Data Input'!$AE$8","v":"A"},{"$f":"'Data Input'!$AE$1","v":23},{"$f":"'Data Input'!$AE$7","v":2},{"$f":"'Data Input'!$AE$6","v":"Words showing frog frightened"},{"$f":"'Data Input'!$AE$2","v":20},{"$f":"'Data Input'!$AE$5","v":3},{"$f":"'Data Input'!$AE$3","v":3},{"$f":"'Data Input'!$AE$4","v":0},null,29,14.999999854,"D","14i",1,"Easy to be a Star Spotter?",15,8,4,4]
[null,14,18.999999841000001,{"$f":"'Data Input'!$AF$8","v":"C"},{"$f":"'Data Input'!$AF$1","v":24},{"$f":"'Data Input'!$AF$7","v":2},{"$f":"'Data Input'!$AF$6","v":"Main message of poem"},{"$f":"'Data Input'!$AF$2","v":19},{"$f":"'Data Input'!$AF$5","v":4},{"$f":"'Data Input'!$AF$3","v":4},{"$f":"'Data Input'!$AF$4","v":0},null,30,14.999999847,"B",19,2,"Snail behaviour when afarid",15,8,4,4]
[null,31,14.999999839999999,{"$f":"'Data Input'!$AG$8","v":"B"},{"$f":"'Data Input'!$AG$1","v":"25a"},{"$f":"'Data Input'!$AG$7","v":3},{"$f":"'Data Input'!$AG$6","v":"Story told from perspective of... "},{"$f":"'Data Input'!$AG$2","v":15},{"$f":"'Data Input'!$AG$5","v":8},{"$f":"'Data Input'!$AG$3","v":4},{"$f":"'Data Input'!$AG$4","v":4},null,31,14.999999839999999,"B","25a",3,"Story told from perspective of... ",15,8,4,4]
[null,33,13.999999838999999,{"$f":"'Data Input'!$AH$8","v":"A"},{"$f":"'Data Input'!$AH$1","v":"25b"},{"$f":"'Data Input'!$AH$7","v":3},{"$f":"'Data Input'!$AH$6","v":"The men entered the forest…"},{"$f":"'Data Input'!$AH$2","v":14},{"$f":"'Data Input'!$AH$5","v":9},{"$f":"'Data Input'!$AH$3","v":0},{"$f":"'Data Input'!$AH$4","v":9},null,32,14.999999823,"H","35b",3,"How does mood change?",15,8,3,5]
[null,34,13.999999838000001,{"$f":"'Data Input'!$AI$8","v":"B"},{"$f":"'Data Input'!$AI$1","v":"25c"},{"$f":"'Data Input'!$AI$7","v":3},{"$f":"'Data Input'!$AI$6","v":"The stream was…"},{"$f":"'Data Input'!$AI$2","v":14},{"$f":"'Data Input'!$AI$5","v":9},{"$f":"'Data Input'!$AI$3","v":4},{"$f":"'Data Input'!$AI$4","v":5},null,33,13.999999838999999,"A","25b",3,"The men entered the forest…",14,9,0,9]
[null,22,15.999999837000001,{"$f":"'Data Input'!$AJ$8","v":"B"},{"$f":"'Data Input'!$AJ$1","v":"25d"},{"$f":"'Data Input'!$AJ$7","v":3},{"$f":"'Data Input'!$AJ$6","v":"The ferns here were spaced…"},{"$f":"'Data Input'!$AJ$2","v":16},{"$f":"'Data Input'!$AJ$5","v":7},{"$f":"'Data Input'!$AJ$3","v":7},{"$f":"'Data Input'!$AJ$4","v":0},null,34,13.999999838000001,"B","25c",3,"The stream was…",14,9,4,5]
[null,18,17.999999836000001,{"$f":"'Data Input'!$AK$8","v":"B"},{"$f":"'Data Input'!$AK$1","v":26},{"$f":"'Data Input'!$AK$7","v":3},{"$f":"'Data Input'!$AK$6","v":"Distance stream became bog"},{"$f":"'Data Input'!$AK$2","v":18},{"$f":"'Data Input'!$AK$5","v":5},{"$f":"'Data Input'!$AK$3","v":5},{"$f":"'Data Input'!$AK$4","v":0},null,35,13.999999825,"C",34,3,"True or false",14,9,4,5]
[null,15,18.999999835000001,{"$f":"'Data Input'!$AL$8","v":"D"},{"$f":"'Data Input'!$AL$1","v":27},{"$f":"'Data Input'!$AL$7","v":3},{"$f":"'Data Input'!$AL$6","v":"How characters in ‘lost world’?"},{"$f":"'Data Input'!$AL$2","v":19},{"$f":"'Data Input'!$AL$5","v":4},{"$f":"'Data Input'!$AL$3","v":0},{"$f":"'Data Input'!$AL$4","v":4},null,36,12.999999828,"D",32,3,"How Prof. expert on dinosaurs?",13,10,4,6]
[null,16,18.999999834,{"$f":"'Data Input'!$AM$8","v":"D"},{"$f":"'Data Input'!$AM$1","v":28},{"$f":"'Data Input'!$AM$7","v":3},{"$f":"'Data Input'!$AM$6","v":"How comparisons help reader?"},{"$f":"'Data Input'!$AM$2","v":19},{"$f":"'Data Input'!$AM$5","v":4},{"$f":"'Data Input'!$AM$3","v":0},{"$f":"'Data Input'!$AM$4","v":4},null,37,11.999999866,"B",4,1,"Cost for first space tourist",12,11,0,11]
[null,23,15.999999833,{"$f":"'Data Input'!$AN$8","v":"D"},{"$f":"'Data Input'!$AN$1","v":"29i"},{"$f":"'Data Input'!$AN$7","v":3},{"$f":"'Data Input'!$AN$6","v":"How iguan. Inoffensive & brutes"},{"$f":"'Data Input'!$AN$2","v":16},{"$f":"'Data Input'!$AN$5","v":7},{"$f":"'Data Input'!$AN$3","v":3},{"$f":"'Data Input'!$AN$4","v":4},null,38,11.999999853,"D","14ii",1,"Easy to be a Star Spotter?",12,11,3,8]
[null,24,15.999999832,{"$f":"'Data Input'!$AO$8","v":"D"},{"$f":"'Data Input'!$AO$1","v":"29ii"},{"$f":"'Data Input'!$AO$7","v":3},{"$f":"'Data Input'!$AO$6","v":"How iguan. Inoffensive & brutes"},{"$f":"'Data Input'!$AO$2","v":16},{"$f":"'Data Input'!$AO$5","v":7},{"$f":"'Data Input'!$AO$3","v":3},{"$f":"'Data Input'!$AO$4","v":4},null,39,11.999999852,"B",15,1,"True or false",12,11,4,7]
[null,25,15.999999831,{"$f":"'Data Input'!$AP$8","v":"D"},{"$f":"'Data Input'!$AP$1","v":"29iii"},{"$f":"'Data Input'!$AP$7","v":3},{"$f":"'Data Input'!$AP$6","v":"How iguan. Inoffensive & brutes"},{"$f":"'Data Input'!$AP$2","v":16},{"$f":"'Data Input'!$AP$5","v":7},{"$f":"'Data Input'!$AP$3","v":4},{"$f":"'Data Input'!$AP$4","v":3},null,40,11.999999844,"A","21ii",2,"\"emerald scrap\" meaning",12,11,4,7]
[null,{"$f":"RANK(C170,$C$130:$C$199)","v":44},{"$f":" H170 - ROW()*0.000000001","v":10.99999983},{"$f":"'Data Input'!$AQ$8","v":"A"},{"$f":"'Data Input'!$AQ$1","v":30},{"$f":"'Data Input'!$AQ$7","v":3},{"$f":"'Data Input'!$AQ$6","v":"\"unwieldy\" meaning in context"},{"$f":"'Data Input'!$AQ$2","v":11},{"$f":"'Data Input'!$AQ$5","v":12},{"$f":"'Data Input'!$AQ$3","v":0},{"$f":"'Data Input'!$AQ$4","v":12},null,41,{"$f":"VLOOKUP(ROW()-ROW(M$129),$B$130:$J$199,2,FALSE)","v":10.999999863999999},{"$f":"VLOOKUP(ROW()-ROW(M$129),$B$130:$J$199,3,FALSE)","v":"D"},{"$f":"VLOOKUP(ROW()-ROW(M$129),$B$130:$J$199,4,FALSE)","v":6},{"$f":"VLOOKUP(ROW()-ROW(M$129),$B$130:$J$199,5,FALSE)","v":1},{"$f":"VLOOKUP(ROW()-ROW(M$129),$B$130:$J$199,6,FALSE)","v":"How Anousheh make history?"},{"$f":"VLOOKUP(ROW()-ROW(M$129),$B$130:$J$199,7,FALSE)","v":11},{"$f":"VLOOKUP(ROW()-ROW(M$129),$B$130:$J$199,8,FALSE)","v":12},{"$f":"VLOOKUP(ROW()-ROW(M$129),$B$130:$K$199,9,FALSE)","v":3},9]
[null,45,10.999999829,{"$f":"'Data Input'!$AR$8","v":"A"},{"$f":"'Data Input'!$AR$1","v":31},{"$f":"'Data Input'!$AR$7","v":3},{"$f":"'Data Input'!$AR$6","v":"Word showing \"part of a team\""},{"$f":"'Data Input'!$AR$2","v":11},{"$f":"'Data Input'!$AR$5","v":12},{"$f":"'Data Input'!$AR$3","v":0},{"$f":"'Data Input'!$AR$4","v":12},null,42,10.999999860999999,"D",8,1,"Words showing An. wrote for others",11,12,3,9]
[null,36,12.999999828,{"$f":"'Data Input'!$AS$8","v":"D"},{"$f":"'Data Input'!$AS$1","v":32},{"$f":"'Data Input'!$AS$7","v":3},{"$f":"'Data Input'!$AS$6","v":"How Prof. expert on dinosaurs?"},{"$f":"'Data Input'!$AS$2","v":13},{"$f":"'Data Input'!$AS$5","v":10},{"$f":"'Data Input'!$AS$3","v":4},{"$f":"'Data Input'!$AS$4","v":6},null,43,10.999999855,"A",13,1,"\"arrange\" meaning in context",11,12,5,7]
[null,46,10.999999827,{"$f":"'Data Input'!$AT$8","v":"G"},{"$f":"'Data Input'!$AT$1","v":"33i"},{"$f":"'Data Input'!$AT$7","v":3},{"$f":"'Data Input'!$AT$6","v":"Words  suggesting danger"},{"$f":"'Data Input'!$AT$2","v":11},{"$f":"'Data Input'!$AT$5","v":12},{"$f":"'Data Input'!$AT$3","v":5},{"$f":"'Data Input'!$AT$4","v":7},null,44,10.99999983,"A",30,3,"\"unwieldy\" meaning in context",11,12,0,12]
[null,26,15.999999826,{"$f":"'Data Input'!$AU$8","v":"G"},{"$f":"'Data Input'!$AU$1","v":"33ii"},{"$f":"'Data Input'!$AU$7","v":3},{"$f":"'Data Input'!$AU$6","v":"Words  suggesting danger"},{"$f":"'Data Input'!$AU$2","v":16},{"$f":"'Data Input'!$AU$5","v":7},{"$f":"'Data Input'!$AU$3","v":3},{"$f":"'Data Input'!$AU$4","v":4},null,45,10.999999829,"A",31,3,"Word showing \"part of a team\"",11,12,0,12]
[null,35,13.999999825,{"$f":"'Data Input'!$AV$8","v":"C"},{"$f":"'Data Input'!$AV$1","v":34},{"$f":"'Data Input'!$AV$7","v":3},{"$f":"'Data Input'!$AV$6","v":"True or false"},{"$f":"'Data Input'!$AV$2","v":14},{"$f":"'Data Input'!$AV$5","v":9},{"$f":"'Data Input'!$AV$3","v":4},{"$f":"'Data Input'!$AV$4","v":5},null,46,10.999999827,"G","33i",3,"Words  suggesting danger",11,12,5,7]
[null,47,10.999999824,{"$f":"'Data Input'!$AW$8","v":"F"},{"$f":"'Data Input'!$AW$1","v":"35a"},{"$f":"'Data Input'!$AW$7","v":3},{"$f":"'Data Input'!$AW$6","v":"Words showing mood change"},{"$f":"'Data Input'!$AW$2","v":11},{"$f":"'Data Input'!$AW$5","v":12},{"$f":"'Data Input'!$AW$3","v":0},{"$f":"'Data Input'!$AW$4","v":12},null,47,10.999999824,"F","35a",3,"Words showing mood change",11,12,0,12]
[null,32,14.999999823,{"$f":"'Data Input'!$AX$8","v":"H"},{"$f":"'Data Input'!$AX$1","v":"35b"},{"$f":"'Data Input'!$AX$7","v":3},{"$f":"'Data Input'!$AX$6","v":"How does mood change?"},{"$f":"'Data Input'!$AX$2","v":15},{"$f":"'Data Input'!$AX$5","v":8},{"$f":"'Data Input'!$AX$3","v":3},{"$f":"'Data Input'!$AX$4","v":5},null,48,9.99999985,"B","16b",2,"How giant frightens frog",10,13,9,4]
[null,19,16.999999821999999,{"$f":"'Data Input'!$AY$8","v":"E"},{"$f":"'Data Input'!$AY$1","v":"36i"},{"$f":"'Data Input'!$AY$7","v":3},{"$f":"'Data Input'!$AY$6","v":"What might happen to explorers?"},{"$f":"'Data Input'!$AY$2","v":17},{"$f":"'Data Input'!$AY$5","v":6},{"$f":"'Data Input'!$AY$3","v":0},{"$f":"'Data Input'!$AY$4","v":6},null,49,6.9999998210000003,"E","36ii",3,"What might happen to explorers?",7,16,7,9]
[null,49,6.9999998210000003,{"$f":"'Data Input'!$AZ$8","v":"E"},{"$f":"'Data Input'!$AZ$1","v":"36ii"},{"$f":"'Data Input'!$AZ$7","v":3},{"$f":"'Data Input'!$AZ$6","v":"What might happen to explorers?"},{"$f":"'Data Input'!$AZ$2","v":7},{"$f":"'Data Input'!$AZ$5","v":16},{"$f":"'Data Input'!$AZ$3","v":7},{"$f":"'Data Input'!$AZ$4","v":9},null,50,3.9999998560000001,"G",12,1,"\"in a flash\" meaning enhancement",4,19,15,4]

{"sheet":"Pupil Summary","index":3,"n_rows":416,"n_cols":22,"rows_kept":416,"cut":false,"hidden":false,"merged":[[1,18,1,19],[1,20,1,21],[2,6,2,7],[2,8,2,9],[2,10,2,11],[2,12,2,13],[2,14,2,15],[2,16,2,17],[2,18,2,19],[2,20,2,21],[2,1,2,5],[1,16,1,17],[1,6,1,7],[1,8,1,9],[1,10,1,11],[1,14,1,15],[1,12,1,13]]}
[null,null,"Green: <15, Amber: <45, Red: >45",null,"Green %>",0.79,"Amber %>",0.49,"Red %<",{"$f":"H1","v":0.49},null,null,"Individual Summary in each AF"]
[{"$f":"\"Total Pupils: \" & COUNTA('Data Input'!A10:A420)","v":"Total Pupils: 23"},null,null,null,null,null,"A",null,"B",null,"C",null,"D",null,"E",null,"F",null,"G",null,"H"]
[null,"Overall",null,null,null,null,"A: Word Meaning",null,"B: Retrieve Key Info",null,"C: Summarise Main Ideas",null,"D: Inference",null,"E: Predict",null,"F: Text Meaning",null,"G: Choice of Language",null,"H: Predict"]
["Name:","Unanswered","Incorrect","Incorrecr or Unanswered",{"$f":"\"Total Score \"&COUNTA('Data Input'!C8:AZ8)","v":"Total Score 50"},"Percent",{"$f":"\"Score /\" & COUNTIF('Data Input'!$C$8:$AZ$8,$G$2)","v":"Score /8"},"Percent",{"$f":"\"Score /\" & COUNTIF('Data Input'!$C$8:$AZ$8,$I$2)","v":"Score /17"},"Percent",{"$f":"\"Score /\" & COUNTIF('Data Input'!$C$8:$AZ$8,$K$2)","v":"Score /2"},"Percent",{"$f":"\"Score /\" & COUNTIF('Data Input'!$C$8:$AZ$8,$M$2)","v":"Score /16"},"Percent ",{"$f":"\"Score /\" & COUNTIF('Data Input'!$C$8:$AZ$8,$O$2)","v":"Score /2"},"Percent ",{"$f":"\"Score /\" & COUNTIF('Data Input'!$C$8:$AZ$8,$Q$2)","v":"Score /1"},"Percent",{"$f":"\"Score /\" & COUNTIF('Data Input'!$C$8:$AZ$8,$S$2)","v":"Score /3"},"Percent",{"$f":"\"Score /\" & COUNTIF('Data Input'!$C$8:$AZ$8,$U$2)","v":"Score /1"},"Percent"]
[]
[{"$f":"IF('Data Input'!A10=0,\"\",'Data Input'!A10)","v":"a"},{"$f":"IF(ISBLANK('Data Input'!A10),\"\",COUNTIF('Data Input'!C10:AZ10,\"\"))","v":3},{"$f":"IF(ISBLANK('Data Input'!A10),\"\",COUNTIF('Data Input'!C10:AZ10,\"0\"))","v":7},{"$f":"IF(ISBLANK('Data Input'!A10),\"\",SUM(B6,C6))","v":10},{"$f":"IF(ISBLANK('Data Input'!A10),\"\",SUM('Data Input'!C10:AZ10))","v":40},{"$f":"IF(E6=\"\",\"\",E6/(COUNTA('Data Input'!$C$8:$AZ$8)))","v":0.8},{"$f":"IF(ISBLANK('Data Input'!A10),\"\",SUM('Data Input'!R10,'Data Input'!AA10,'Data Input'!AB10,'Data Input'!AC10,'Data Input'!AE10,'Data Input'!AH10,'Data Input'!AQ10,'Data Input'!AR10))","v":8},{"$f":"IF(G6=\"\",\"\",G6/COUNTIF('Data Input'!$C$8:$AZ$8,$G$2))","v":1},{"$f":"IF(ISBLANK('Data Input'!A10),\"\",SUM('Data Input'!D10,'Data Input'!E10,'Data Input'!F10,'Data Input'!G10,'Data Input'!H10,'Data Input'!J10,'Data Input'!K10,'Data Input'!O10,'Data Input'!U10,'Data Input'!V10,'Data Input'!W10,'Data Input'!X10,'Data Input'!Z10,'Data Input'!AG10,'Data Input'!AI10,'Data Input'!AJ10,'Data Input'!AK10))","v":12},{"$f":"IF(I6=\"\",\"\",I6/COUNTIF('Data Input'!$C$8:$AZ$8,$I$2))","v":0.70588235294117652},{"$f":"IF(ISBLANK('Data Input'!A10),\"\",SUM('Data Input'!AF10,'Data Input'!AV10))","v":1},{"$f":"IF(K6=\"\",\"\",K6/COUNTIF('Data Input'!$C$8:$AZ$8,$K$2))","v":0.5},{"$f":"IF(ISBLANK('Data Input'!A10),\"\",SUM('Data Input'!C10,'Data Input'!I10,'Data Input'!L10,'Data Input'!M10,'Data Input'!N10,'Data Input'!P10,'Data Input'!S10,'Data Input'!T10,'Data Input'!Y10,'Data Input'!AD10,'Data Input'!AL10,'Data Input'!AM10,'Data Input'!AN10,'Data Input'!AO10,'Data Input'!AP10,'Data Input'!AS10))","v":13},{"$f":"IF(M6=\"\",\"\",M6/COUNTIF('Data Input'!$C$8:$AZ$8,$M$2))","v":0.8125},{"$f":"IF(ISBLANK('Data Input'!A10),\"\",SUM('Data Input'!AY10,'Data Input'!AZ10))","v":2},{"$f":"IF(O6=\"\",\"\",O6/COUNTIF('Data Input'!$C$8:$AZ$8,$O$2))","v":1},{"$f":"IF(ISBLANK('Data Input'!A10),\"\",SUM('Data Input'!AW10))","v":1},{"$f":"IF(Q6=\"\",\"\",Q6/COUNTIF('Data Input'!$C$8:$AZ$8,$Q$2))","v":1},{"$f":"IF(ISBLANK('Data Input'!$A10),\"\",SUM('Data Input'!Q10,'Data Input'!AT10,'Data Input'!AU10))","v":2},{"$f":"IF(S6=\"\",\"\",S6/COUNTIF('Data Input'!$C$8:$AZ$8,$S$2))","v":0.66666666666666663},{"$f":"IF(ISBLANK('Data Input'!$A10),\"\",SUM('Data Input'!AX10))","v":1},{"$f":"IF(U6=\"\",\"\",U6/COUNTIF('Data Input'!$C$8:$AZ$8,$U$2))","v":1}]
[{"$f":"IF('Data Input'!A11=0,\"\",'Data Input'!A11)","v":"b"},{"$f":"IF(ISBLANK('Data Input'!A11),\"\",COUNTIF('Data Input'!C11:AZ11,\"\"))","v":8},{"$f":"IF(ISBLANK('Data Input'!A11),\"\",COUNTIF('Data Input'!C11:AZ11,\"0\"))","v":9},{"$f":"IF(ISBLANK('Data Input'!A11),\"\",SUM(B7,C7))","v":17},{"$f":"IF(ISBLANK('Data Input'!A11),\"\",SUM('Data Input'!C11:AZ11))","v":33},{"$f":"IF(E7=\"\",\"\",E7/(COUNTA('Data Input'!$C$8:$AZ$8)))","v":0.66},{"$f":"IF(ISBLANK('Data Input'!A11),\"\",SUM('Data Input'!R11,'Data Input'!AA11,'Data Input'!AB11,'Data Input'!AC11,'Data Input'!AE11,'Data Input'!AH11,'Data Input'!AQ11,'Data Input'!AR11))","v":6},{"$f":"IF(G7=\"\",\"\",G7/COUNTIF('Data Input'!$C$8:$AZ$8,$G$2))","v":0.75},{"$f":"IF(ISBLANK('Data Input'!A11),\"\",SUM('Data Input'!D11,'Data Input'!E11,'Data Input'!F11,'Data Input'!G11,'Data Input'!H11,'Data Input'!J11,'Data Input'!K11,'Data Input'!O11,'Data Input'!U11,'Data Input'!V11,'Data Input'!W11,'Data Input'!X11,'Data Input'!Z11,'Data Input'!AG11,'Data Input'!AI11,'Data Input'!AJ11,'Data Input'!AK11))","v":12},{"$f":"IF(I7=\"\",\"\",I7/COUNTIF('Data Input'!$C$8:$AZ$8,$I$2))","v":0.70588235294117652},{"$f":"IF(ISBLANK('Data Input'!A11),\"\",SUM('Data Input'!AF11,'Data Input'!AV11))","v":1},{"$f":"IF(K7=\"\",\"\",K7/COUNTIF('Data Input'!$C$8:$AZ$8,$K$2))","v":0.5},{"$f":"IF(ISBLANK('Data Input'!A11),\"\",SUM('Data Input'!C11,'Data Input'!I11,'Data Input'!L11,'Data Input'!M11,'Data Input'!N11,'Data Input'!P11,'Data Input'!S11,'Data Input'!T11,'Data Input'!Y11,'Data Input'!AD11,'Data Input'!AL11,'Data Input'!AM11,'Data Input'!AN11,'Data Input'!AO11,'Data Input'!AP11,'Data Input'!AS11))","v":11},{"$f":"IF(M7=\"\",\"\",M7/COUNTIF('Data Input'!$C$8:$AZ$8,$M$2))","v":0.6875},{"$f":"IF(ISBLANK('Data Input'!A11),\"\",SUM('Data Input'!AY11,'Data Input'!AZ11))","v":1},{"$f":"IF(O7=\"\",\"\",O7/COUNTIF('Data Input'!$C$8:$AZ$8,$O$2))","v":0.5},{"$f":"IF(ISBLANK('Data Input'!A11),\"\",SUM('Data Input'!AW11))","v":0},{"$f":"IF(Q7=\"\",\"\",Q7/COUNTIF('Data Input'!$C$8:$AZ$8,$Q$2))","v":0},{"$f":"IF(ISBLANK('Data Input'!$A11),\"\",SUM('Data Input'!Q11,'Data Input'!AT11,'Data Input'!AU11))","v":1},{"$f":"IF(S7=\"\",\"\",S7/COUNTIF('Data Input'!$C$8:$AZ$8,$S$2))","v":0.33333333333333331},{"$f":"IF(ISBLANK('Data Input'!$A11),\"\",SUM('Data Input'!AX11))","v":1},{"$f":"IF(U7=\"\",\"\",U7/COUNTIF('Data Input'!$C$8:$AZ$8,$U$2))","v":1}]
[{"$f":"IF('Data Input'!A12=0,\"\",'Data Input'!A12)","v":"c"},{"$f":"IF(ISBLANK('Data Input'!A12),\"\",COUNTIF('Data Input'!C12:AZ12,\"\"))","v":6},{"$f":"IF(ISBLANK('Data Input'!A12),\"\",COUNTIF('Data Input'!C12:AZ12,\"0\"))","v":4},{"$f":"IF(ISBLANK('Data Input'!A12),\"\",SUM(B8,C8))","v":10},{"$f":"IF(ISBLANK('Data Input'!A12),\"\",SUM('Data Input'!C12:AZ12))","v":40},{"$f":"IF(E8=\"\",\"\",E8/(COUNTA('Data Input'!$C$8:$AZ$8)))","v":0.8},{"$f":"IF(ISBLANK('Data Input'!A12),\"\",SUM('Data Input'!R12,'Data Input'!AA12,'Data Input'!AB12,'Data Input'!AC12,'Data Input'!AE12,'Data Input'!AH12,'Data Input'!AQ12,'Data Input'!AR12))","v":7},{"$f":"IF(G8=\"\",\"\",G8/COUNTIF('Data Input'!$C$8:$AZ$8,$G$2))","v":0.875},{"$f":"IF(ISBLANK('Data Input'!A12),\"\",SUM('Data Input'!D12,'Data Input'!E12,'Data Input'!F12,'Data Input'!G12,'Data Input'!H12,'Data Input'!J12,'Data Input'!K12,'Data Input'!O12,'Data Input'!U12,'Data Input'!V12,'Data Input'!W12,'Data Input'!X12,'Data Input'!Z12,'Data Input'!AG12,'Data Input'!AI12,'Data Input'!AJ12,'Data Input'!AK12))","v":15},{"$f":"IF(I8=\"\",\"\",I8/COUNTIF('Data Input'!$C$8:$AZ$8,$I$2))","v":0.88235294117647056},{"$f":"IF(ISBLANK('Data Input'!A12),\"\",SUM('Data Input'!AF12,'Data Input'!AV12))","v":2},{"$f":"IF(K8=\"\",\"\",K8/COUNTIF('Data Input'!$C$8:$AZ$8,$K$2))","v":1},{"$f":"IF(ISBLANK('Data Input'!A12),\"\",SUM('Data Input'!C12,'Data Input'!I12,'Data Input'!L12,'Data Input'!M12,'Data Input'!N12,'Data Input'!P12,'Data Input'!S12,'Data Input'!T12,'Data Input'!Y12,'Data Input'!AD12,'Data Input'!AL12,'Data Input'!AM12,'Data Input'!AN12,'Data Input'!AO12,'Data Input'!AP12,'Data Input'!AS12))","v":12},{"$f":"IF(M8=\"\",\"\",M8/COUNTIF('Data Input'!$C$8:$AZ$8,$M$2))","v":0.75},{"$f":"IF(ISBLANK('Data Input'!A12),\"\",SUM('Data Input'!AY12,'Data Input'!AZ12))","v":1},{"$f":"IF(O8=\"\",\"\",O8/COUNTIF('Data Input'!$C$8:$AZ$8,$O$2))","v":0.5},{"$f":"IF(ISBLANK('Data Input'!A12),\"\",SUM('Data Input'!AW12))","v":1},{"$f":"IF(Q8=\"\",\"\",Q8/COUNTIF('Data Input'!$C$8:$AZ$8,$Q$2))","v":1},{"$f":"IF(ISBLANK('Data Input'!$A12),\"\",SUM('Data Input'!Q12,'Data Input'!AT12,'Data Input'!AU12))","v":1},{"$f":"IF(S8=\"\",\"\",S8/COUNTIF('Data Input'!$C$8:$AZ$8,$S$2))","v":0.33333333333333331},{"$f":"IF(ISBLANK('Data Input'!$A12),\"\",SUM('Data Input'!AX12))","v":1},{"$f":"IF(U8=\"\",\"\",U8/COUNTIF('Data Input'!$C$8:$AZ$8,$U$2))","v":1}]
[{"$f":"IF('Data Input'!A13=0,\"\",'Data Input'!A13)","v":"d"},{"$f":"IF(ISBLANK('Data Input'!A13),\"\",COUNTIF('Data Input'!C13:AZ13,\"\"))","v":10},{"$f":"IF(ISBLANK('Data Input'!A13),\"\",COUNTIF('Data Input'!C13:AZ13,\"0\"))","v":6},{"$f":"IF(ISBLANK('Data Input'!A13),\"\",SUM(B9,C9))","v":16},{"$f":"IF(ISBLANK('Data Input'!A13),\"\",SUM('Data Input'!C13:AZ13))","v":34},{"$f":"IF(E9=\"\",\"\",E9/(COUNTA('Data Input'!$C$8:$AZ$8)))","v":0.68},{"$f":"IF(ISBLANK('Data Input'!A13),\"\",SUM('Data Input'!R13,'Data Input'!AA13,'Data Input'!AB13,'Data Input'!AC13,'Data Input'!AE13,'Data Input'!AH13,'Data Input'!AQ13,'Data Input'!AR13))","v":4},{"$f":"IF(G9=\"\",\"\",G9/COUNTIF('Data Input'!$C$8:$AZ$8,$G$2))","v":0.5},{"$f":"IF(ISBLANK('Data Input'!A13),\"\",SUM('Data Input'!D13,'Data Input'!E13,'Data Input'!F13,'Data Input'!G13,'Data Input'!H13,'Data Input'!J13,'Data Input'!K13,'Data Input'!O13,'Data Input'!U13,'Data Input'!V13,'Data Input'!W13,'Data Input'!X13,'Data Input'!Z13,'Data Input'!AG13,'Data Input'!AI13,'Data Input'!AJ13,'Data Input'!AK13))","v":13},{"$f":"IF(I9=\"\",\"\",I9/COUNTIF('Data Input'!$C$8:$AZ$8,$I$2))","v":0.76470588235294112},{"$f":"IF(ISBLANK('Data Input'!A13),\"\",SUM('Data Input'!AF13,'Data Input'!AV13))","v":1},{"$f":"IF(K9=\"\",\"\",K9/COUNTIF('Data Input'!$C$8:$AZ$8,$K$2))","v":0.5},{"$f":"IF(ISBLANK('Data Input'!A13),\"\",SUM('Data Input'!C13,'Data Input'!I13,'Data Input'!L13,'Data Input'!M13,'Data Input'!N13,'Data Input'!P13,'Data Input'!S13,'Data Input'!T13,'Data Input'!Y13,'Data Input'!AD13,'Data Input'!AL13,'Data Input'!AM13,'Data Input'!AN13,'Data Input'!AO13,'Data Input'!AP13,'Data Input'!AS13))","v":14},{"$f":"IF(M9=\"\",\"\",M9/COUNTIF('Data Input'!$C$8:$AZ$8,$M$2))","v":0.875},{"$f":"IF(ISBLANK('Data Input'!A13),\"\",SUM('Data Input'!AY13,'Data Input'!AZ13))","v":1},{"$f":"IF(O9=\"\",\"\",O9/COUNTIF('Data Input'!$C$8:$AZ$8,$O$2))","v":0.5},{"$f":"IF(ISBLANK('Data Input'!A13),\"\",SUM('Data Input'!AW13))","v":0},{"$f":"IF(Q9=\"\",\"\",Q9/COUNTIF('Data Input'!$C$8:$AZ$8,$Q$2))","v":0},{"$f":"IF(ISBLANK('Data Input'!$A13),\"\",SUM('Data Input'!Q13,'Data Input'!AT13,'Data Input'!AU13))","v":1},{"$f":"IF(S9=\"\",\"\",S9/COUNTIF('Data Input'!$C$8:$AZ$8,$S$2))","v":0.33333333333333331},{"$f":"IF(ISBLANK('Data Input'!$A13),\"\",SUM('Data Input'!AX13))","v":0},{"$f":"IF(U9=\"\",\"\",U9/COUNTIF('Data Input'!$C$8:$AZ$8,$U$2))","v":0}]
[{"$f":"IF('Data Input'!A14=0,\"\",'Data Input'!A14)","v":"e"},{"$f":"IF(ISBLANK('Data Input'!A14),\"\",COUNTIF('Data Input'!C14:AZ14,\"\"))","v":8},{"$f":"IF(ISBLANK('Data Input'!A14),\"\",COUNTIF('Data Input'!C14:AZ14,\"0\"))","v":9},{"$f":"IF(ISBLANK('Data Input'!A14),\"\",SUM(B10,C10))","v":17},{"$f":"IF(ISBLANK('Data Input'!A14),\"\",SUM('Data Input'!C14:AZ14))","v":33},{"$f":"IF(E10=\"\",\"\",E10/(COUNTA('Data Input'!$C$8:$AZ$8)))","v":0.66},{"$f":"IF(ISBLANK('Data Input'!A14),\"\",SUM('Data Input'!R14,'Data Input'!AA14,'Data Input'!AB14,'Data Input'!AC14,'Data Input'!AE14,'Data Input'!AH14,'Data Input'!AQ14,'Data Input'!AR14))","v":3},{"$f":"IF(G10=\"\",\"\",G10/COUNTIF('Data Input'!$C$8:$AZ$8,$G$2))","v":0.375},{"$f":"IF(ISBLANK('Data Input'!A14),\"\",SUM('Data Input'!D14,'Data Input'!E14,'Data Input'!F14,'Data Input'!G14,'Data Input'!H14,'Data Input'!J14,'Data Input'!K14,'Data Input'!O14,'Data Input'!U14,'Data Input'!V14,'Data Input'!W14,'Data Input'!X14,'Data Input'!Z14,'Data Input'!AG14,'Data Input'!AI14,'Data Input'!AJ14,'Data Input'!AK14))","v":16},{"$f":"IF(I10=\"\",\"\",I10/COUNTIF('Data Input'!$C$8:$AZ$8,$I$2))","v":0.94117647058823528},{"$f":"IF(ISBLANK('Data Input'!A14),\"\",SUM('Data Input'!AF14,'Data Input'!AV14))","v":2},{"$f":"IF(K10=\"\",\"\",K10/COUNTIF('Data Input'!$C$8:$AZ$8,$K$2))","v":1},{"$f":"IF(ISBLANK('Data Input'!A14),\"\",SUM('Data Input'!C14,'Data Input'!I14,'Data Input'!L14,'Data Input'!M14,'Data Input'!N14,'Data Input'!P14,'Data Input'!S14,'Data Input'!T14,'Data Input'!Y14,'Data Input'!AD14,'Data Input'!AL14,'Data Input'!AM14,'Data Input'!AN14,'Data Input'!AO14,'Data Input'!AP14,'Data Input'!AS14))","v":11},{"$f":"IF(M10=\"\",\"\",M10/COUNTIF('Data Input'!$C$8:$AZ$8,$M$2))","v":0.6875},{"$f":"IF(ISBLANK('Data Input'!A14),\"\",SUM('Data Input'!AY14,'Data Input'!AZ14))","v":0},{"$f":"IF(O10=\"\",\"\",O10/COUNTIF('Data Input'!$C$8:$AZ$8,$O$2))","v":0},{"$f":"IF(ISBLANK('Data Input'!A14),\"\",SUM('Data Input'!AW14))","v":0},{"$f":"IF(Q10=\"\",\"\",Q10/COUNTIF('Data Input'!$C$8:$AZ$8,$Q$2))","v":0},{"$f":"IF(ISBLANK('Data Input'!$A14),\"\",SUM('Data Input'!Q14,'Data Input'!AT14,'Data Input'!AU14))","v":1},{"$f":"IF(S10=\"\",\"\",S10/COUNTIF('Data Input'!$C$8:$AZ$8,$S$2))","v":0.33333333333333331},{"$f":"IF(ISBLANK('Data Input'!$A14),\"\",SUM('Data Input'!AX14))","v":0},{"$f":"IF(U10=\"\",\"\",U10/COUNTIF('Data Input'!$C$8:$AZ$8,$U$2))","v":0}]
[{"$f":"IF('Data Input'!A15=0,\"\",'Data Input'!A15)","v":"f"},{"$f":"IF(ISBLANK('Data Input'!A15),\"\",COUNTIF('Data Input'!C15:AZ15,\"\"))","v":20},{"$f":"IF(ISBLANK('Data Input'!A15),\"\",COUNTIF('Data Input'!C15:AZ15,\"0\"))","v":5},{"$f":"IF(ISBLANK('Data Input'!A15),\"\",SUM(B11,C11))","v":25},{"$f":"IF(ISBLANK('Data Input'!A15),\"\",SUM('Data Input'!C15:AZ15))","v":25},{"$f":"IF(E11=\"\",\"\",E11/(COUNTA('Data Input'!$C$8:$AZ$8)))","v":0.5},{"$f":"IF(ISBLANK('Data Input'!A15),\"\",SUM('Data Input'!R15,'Data Input'!AA15,'Data Input'!AB15,'Data Input'!AC15,'Data Input'!AE15,'Data Input'!AH15,'Data Input'!AQ15,'Data Input'!AR15))","v":3},{"$f":"IF(G11=\"\",\"\",G11/COUNTIF('Data Input'!$C$8:$AZ$8,$G$2))","v":0.375},{"$f":"IF(ISBLANK('Data Input'!A15),\"\",SUM('Data Input'!D15,'Data Input'!E15,'Data Input'!F15,'Data Input'!G15,'Data Input'!H15,'Data Input'!J15,'Data Input'!K15,'Data Input'!O15,'Data Input'!U15,'Data Input'!V15,'Data Input'!W15,'Data Input'!X15,'Data Input'!Z15,'Data Input'!AG15,'Data Input'!AI15,'Data Input'!AJ15,'Data Input'!AK15))","v":9},{"$f":"IF(I11=\"\",\"\",I11/COUNTIF('Data Input'!$C$8:$AZ$8,$I$2))","v":0.52941176470588236},{"$f":"IF(ISBLANK('Data Input'!A15),\"\",SUM('Data Input'!AF15,'Data Input'!AV15))","v":2},{"$f":"IF(K11=\"\",\"\",K11/COUNTIF('Data Input'!$C$8:$AZ$8,$K$2))","v":1},{"$f":"IF(ISBLANK('Data Input'!A15),\"\",SUM('Data Input'!C15,'Data Input'!I15,'Data Input'!L15,'Data Input'!M15,'Data Input'!N15,'Data Input'!P15,'Data Input'!S15,'Data Input'!T15,'Data Input'!Y15,'Data Input'!AD15,'Data Input'!AL15,'Data Input'!AM15,'Data Input'!AN15,'Data Input'!AO15,'Data Input'!AP15,'Data Input'!AS15))","v":6},{"$f":"IF(M11=\"\",\"\",M11/COUNTIF('Data Input'!$C$8:$AZ$8,$M$2))","v":0.375},{"$f":"IF(ISBLANK('Data Input'!A15),\"\",SUM('Data Input'!AY15,'Data Input'!AZ15))","v":1},{"$f":"IF(O11=\"\",\"\",O11/COUNTIF('Data Input'!$C$8:$AZ$8,$O$2))","v":0.5},{"$f":"IF(ISBLANK('Data Input'!A15),\"\",SUM('Data Input'!AW15))","v":1},{"$f":"IF(Q11=\"\",\"\",Q11/COUNTIF('Data Input'!$C$8:$AZ$8,$Q$2))","v":1},{"$f":"IF(ISBLANK('Data Input'!$A15),\"\",SUM('Data Input'!Q15,'Data Input'!AT15,'Data Input'!AU15))","v":2},{"$f":"IF(S11=\"\",\"\",S11/COUNTIF('Data Input'!$C$8:$AZ$8,$S$2))","v":0.66666666666666663},{"$f":"IF(ISBLANK('Data Input'!$A15),\"\",SUM('Data Input'!AX15))","v":1},{"$f":"IF(U11=\"\",\"\",U11/COUNTIF('Data Input'!$C$8:$AZ$8,$U$2))","v":1}]
[{"$f":"IF('Data Input'!A16=0,\"\",'Data Input'!A16)","v":"g"},{"$f":"IF(ISBLANK('Data Input'!A16),\"\",COUNTIF('Data Input'!C16:AZ16,\"\"))","v":3},{"$f":"IF(ISBLANK('Data Input'!A16),\"\",COUNTIF('Data Input'!C16:AZ16,\"0\"))","v":7},{"$f":"IF(ISBLANK('Data Input'!A16),\"\",SUM(B12,C12))","v":10},{"$f":"IF(ISBLANK('Data Input'!A16),\"\",SUM('Data Input'!C16:AZ16))","v":40},{"$f":"IF(E12=\"\",\"\",E12/(COUNTA('Data Input'!$C$8:$AZ$8)))","v":0.8},{"$f":"IF(ISBLANK('Data Input'!A16),\"\",SUM('Data Input'!R16,'Data Input'!AA16,'Data Input'!AB16,'Data Input'!AC16,'Data Input'!AE16,'Data Input'!AH16,'Data Input'!AQ16,'Data Input'!AR16))","v":8},{"$f":"IF(G12=\"\",\"\",G12/COUNTIF('Data Input'!$C$8:$AZ$8,$G$2))","v":1},{"$f":"IF(ISBLANK('Data Input'!A16),\"\",SUM('Data Input'!D16,'Data Input'!E16,'Data Input'!F16,'Data Input'!G16,'Data Input'!H16,'Data Input'!J16,'Data Input'!K16,'Data Input'!O16,'Data Input'!U16,'Data Input'!V16,'Data Input'!W16,'Data Input'!X16,'Data Input'!Z16,'Data Input'!AG16,'Data Input'!AI16,'Data Input'!AJ16,'Data Input'!AK16))","v":12},{"$f":"IF(I12=\"\",\"\",I12/COUNTIF('Data Input'!$C$8:$AZ$8,$I$2))","v":0.70588235294117652},{"$f":"IF(ISBLANK('Data Input'!A16),\"\",SUM('Data Input'!AF16,'Data Input'!AV16))","v":1},{"$f":"IF(K12=\"\",\"\",K12/COUNTIF('Data Input'!$C$8:$AZ$8,$K$2))","v":0.5},{"$f":"IF(ISBLANK('Data Input'!A16),\"\",SUM('Data Input'!C16,'Data Input'!I16,'Data Input'!L16,'Data Input'!M16,'Data Input'!N16,'Data Input'!P16,'Data Input'!S16,'Data Input'!T16,'Data Input'!Y16,'Data Input'!AD16,'Data Input'!AL16,'Data Input'!AM16,'Data Input'!AN16,'Data Input'!AO16,'Data Input'!AP16,'Data Input'!AS16))","v":13},{"$f":"IF(M12=\"\",\"\",M12/COUNTIF('Data Input'!$C$8:$AZ$8,$M$2))","v":0.8125},{"$f":"IF(ISBLANK('Data Input'!A16),\"\",SUM('Data Input'!AY16,'Data Input'!AZ16))","v":2},{"$f":"IF(O12=\"\",\"\",O12/COUNTIF('Data Input'!$C$8:$AZ$8,$O$2))","v":1},{"$f":"IF(ISBLANK('Data Input'!A16),\"\",SUM('Data Input'!AW16))","v":1},{"$f":"IF(Q12=\"\",\"\",Q12/COUNTIF('Data Input'!$C$8:$AZ$8,$Q$2))","v":1},{"$f":"IF(ISBLANK('Data Input'!$A16),\"\",SUM('Data Input'!Q16,'Data Input'!AT16,'Data Input'!AU16))","v":2},{"$f":"IF(S12=\"\",\"\",S12/COUNTIF('Data Input'!$C$8:$AZ$8,$S$2))","v":0.66666666666666663},{"$f":"IF(ISBLANK('Data Input'!$A16),\"\",SUM('Data Input'!AX16))","v":1},{"$f":"IF(U12=\"\",\"\",U12/COUNTIF('Data Input'!$C$8:$AZ$8,$U$2))","v":1}]
[{"$f":"IF('Data Input'!A17=0,\"\",'Data Input'!A17)","v":"h"},{"$f":"IF(ISBLANK('Data Input'!A17),\"\",COUNTIF('Data Input'!C17:AZ17,\"\"))","v":8},{"$f":"IF(ISBLANK('Data Input'!A17),\"\",COUNTIF('Data Input'!C17:AZ17,\"0\"))","v":9},{"$f":"IF(ISBLANK('Data Input'!A17),\"\",SUM(B13,C13))","v":17},{"$f":"IF(ISBLANK('Data Input'!A17),\"\",SUM('Data Input'!C17:AZ17))","v":33},{"$f":"IF(E13=\"\",\"\",E13/(COUNTA('Data Input'!$C$8:$AZ$8)))","v":0.66},{"$f":"IF(ISBLANK('Data Input'!A17),\"\",SUM('Data Input'!R17,'Data Input'!AA17,'Data Input'!AB17,'Data Input'!AC17,'Data Input'!AE17,'Data Input'!AH17,'Data Input'!AQ17,'Data Input'!AR17))","v":6},{"$f":"IF(G13=\"\",\"\",G13/COUNTIF('Data Input'!$C$8:$AZ$8,$G$2))","v":0.75},{"$f":"IF(ISBLANK('Data Input'!A17),\"\",SUM('Data Input'!D17,'Data Input'!E17,'Data Input'!F17,'Data Input'!G17,'Data Input'!H17,'Data Input'!J17,'Data Input'!K17,'Data Input'!O17,'Data Input'!U17,'Data Input'!V17,'Data Input'!W17,'Data Input'!X17,'Data Input'!Z17,'Data Input'!AG17,'Data Input'!AI17,'Data Input'!AJ17,'Data Input'!AK17))","v":12},{"$f":"IF(I13=\"\",\"\",I13/COUNTIF('Data Input'!$C$8:$AZ$8,$I$2))","v":0.70588235294117652},{"$f":"IF(ISBLANK('Data Input'!A17),\"\",SUM('Data Input'!AF17,'Data Input'!AV17))","v":1},{"$f":"IF(K13=\"\",\"\",K13/COUNTIF('Data Input'!$C$8:$AZ$8,$K$2))","v":0.5},{"$f":"IF(ISBLANK('Data Input'!A17),\"\",SUM('Data Input'!C17,'Data Input'!I17,'Data Input'!L17,'Data Input'!M17,'Data Input'!N17,'Data Input'!P17,'Data Input'!S17,'Data Input'!T17,'Data Input'!Y17,'Data Input'!AD17,'Data Input'!AL17,'Data Input'!AM17,'Data Input'!AN17,'Data Input'!AO17,'Data Input'!AP17,'Data Input'!AS17))","v":11},{"$f":"IF(M13=\"\",\"\",M13/COUNTIF('Data Input'!$C$8:$AZ$8,$M$2))","v":0.6875},{"$f":"IF(ISBLANK('Data Input'!A17),\"\",SUM('Data Input'!AY17,'Data Input'!AZ17))","v":1},{"$f":"IF(O13=\"\",\"\",O13/COUNTIF('Data Input'!$C$8:$AZ$8,$O$2))","v":0.5},{"$f":"IF(ISBLANK('Data Input'!A17),\"\",SUM('Data Input'!AW17))","v":0},{"$f":"IF(Q13=\"\",\"\",Q13/COUNTIF('Data Input'!$C$8:$AZ$8,$Q$2))","v":0},{"$f":"IF(ISBLANK('Data Input'!$A17),\"\",SUM('Data Input'!Q17,'Data Input'!AT17,'Data Input'!AU17))","v":1},{"$f":"IF(S13=\"\",\"\",S13/COUNTIF('Data Input'!$C$8:$AZ$8,$S$2))","v":0.33333333333333331},{"$f":"IF(ISBLANK('Data Input'!$A17),\"\",SUM('Data Input'!AX17))","v":1},{"$f":"IF(U13=\"\",\"\",U13/COUNTIF('Data Input'!$C$8:$AZ$8,$U$2))","v":1}]
[{"$f":"IF('Data Input'!A18=0,\"\",'Data Input'!A18)","v":"i"},{"$f":"IF(ISBLANK('Data Input'!A18),\"\",COUNTIF('Data Input'!C18:AZ18,\"\"))","v":6},{"$f":"IF(ISBLANK('Data Input'!A18),\"\",COUNTIF('Data Input'!C18:AZ18,\"0\"))","v":4},{"$f":"IF(ISBLANK('Data Input'!A18),\"\",SUM(B14,C14))","v":10},{"$f":"IF(ISBLANK('Data Input'!A18),\"\",SUM('Data Input'!C18:AZ18))","v":40},{"$f":"IF(E14=\"\",\"\",E14/(COUNTA('Data Input'!$C$8:$AZ$8)))","v":0.8},{"$f":"IF(ISBLANK('Data Input'!A18),\"\",SUM('Data Input'!R18,'Data Input'!AA18,'Data Input'!AB18,'Data Input'!AC18,'Data Input'!AE18,'Data Input'!AH18,'Data Input'!AQ18,'Data Input'!AR18))","v":7},{"$f":"IF(G14=\"\",\"\",G14/COUNTIF('Data Input'!$C$8:$AZ$8,$G$2))","v":0.875},{"$f":"IF(ISBLANK('Data Input'!A18),\"\",SUM('Data Input'!D18,'Data Input'!E18,'Data Input'!F18,'Data Input'!G18,'Data Input'!H18,'Data Input'!J18,'Data Input'!K18,'Data Input'!O18,'Data Input'!U18,'Data Input'!V18,'Data Input'!W18,'Data Input'!X18,'Data Input'!Z18,'Data Input'!AG18,'Data Input'!AI18,'Data Input'!AJ18,'Data Input'!AK18))","v":15},{"$f":"IF(I14=\"\",\"\",I14/COUNTIF('Data Input'!$C$8:$AZ$8,$I$2))","v":0.88235294117647056},{"$f":"IF(ISBLANK('Data Input'!A18),\"\",SUM('Data Input'!AF18,'Data Input'!AV18))","v":2},{"$f":"IF(K14=\"\",\"\",K14/COUNTIF('Data Input'!$C$8:$AZ$8,$K$2))","v":1},{"$f":"IF(ISBLANK('Data Input'!A18),\"\",SUM('Data Input'!C18,'Data Input'!I18,'Data Input'!L18,'Data Input'!M18,'Data Input'!N18,'Data Input'!P18,'Data Input'!S18,'Data Input'!T18,'Data Input'!Y18,'Data Input'!AD18,'Data Input'!AL18,'Data Input'!AM18,'Data Input'!AN18,'Data Input'!AO18,'Data Input'!AP18,'Data Input'!AS18))","v":12},{"$f":"IF(M14=\"\",\"\",M14/COUNTIF('Data Input'!$C$8:$AZ$8,$M$2))","v":0.75},{"$f":"IF(ISBLANK('Data Input'!A18),\"\",SUM('Data Input'!AY18,'Data Input'!AZ18))","v":1},{"$f":"IF(O14=\"\",\"\",O14/COUNTIF('Data Input'!$C$8:$AZ$8,$O$2))","v":0.5},{"$f":"IF(ISBLANK('Data Input'!A18),\"\",SUM('Data Input'!AW18))","v":1},{"$f":"IF(Q14=\"\",\"\",Q14/COUNTIF('Data Input'!$C$8:$AZ$8,$Q$2))","v":1},{"$f":"IF(ISBLANK('Data Input'!$A18),\"\",SUM('Data Input'!Q18,'Data Input'!AT18,'Data Input'!AU18))","v":1},{"$f":"IF(S14=\"\",\"\",S14/COUNTIF('Data Input'!$C$8:$AZ$8,$S$2))","v":0.33333333333333331},{"$f":"IF(ISBLANK('Data Input'!$A18),\"\",SUM('Data Input'!AX18))","v":1},{"$f":"IF(U14=\"\",\"\",U14/COUNTIF('Data Input'!$C$8:$AZ$8,$U$2))","v":1}]
[{"$f":"IF('Data Input'!A19=0,\"\",'Data Input'!A19)","v":"j"},{"$f":"IF(ISBLANK('Data Input'!A19),\"\",COUNTIF('Data Input'!C19:AZ19,\"\"))","v":10},{"$f":"IF(ISBLANK('Data Input'!A19),\"\",COUNTIF('Data Input'!C19:AZ19,\"0\"))","v":6},{"$f":"IF(ISBLANK('Data Input'!A19),\"\",SUM(B15,C15))","v":16},{"$f":"IF(ISBLANK('Data Input'!A19),\"\",SUM('Data Input'!C19:AZ19))","v":34},{"$f":"IF(E15=\"\",\"\",E15/(COUNTA('Data Input'!$C$8:$AZ$8)))","v":0.68},{"$f":"IF(ISBLANK('Data Input'!A19),\"\",SUM('Data Input'!R19,'Data Input'!AA19,'Data Input'!AB19,'Data Input'!AC19,'Data Input'!AE19,'Data Input'!AH19,'Data Input'!AQ19,'Data Input'!AR19))","v":4},{"$f":"IF(G15=\"\",\"\",G15/COUNTIF('Data Input'!$C$8:$AZ$8,$G$2))","v":0.5},{"$f":"IF(ISBLANK('Data Input'!A19),\"\",SUM('Data Input'!D19,'Data Input'!E19,'Data Input'!F19,'Data Input'!G19,'Data Input'!H19,'Data Input'!J19,'Data Input'!K19,'Data Input'!O19,'Data Input'!U19,'Data Input'!V19,'Data Input'!W19,'Data Input'!X19,'Data Input'!Z19,'Data Input'!AG19,'Data Input'!AI19,'Data Input'!AJ19,'Data Input'!AK19))","v":13},{"$f":"IF(I15=\"\",\"\",I15/COUNTIF('Data Input'!$C$8:$AZ$8,$I$2))","v":0.76470588235294112},{"$f":"IF(ISBLANK('Data Input'!A19),\"\",SUM('Data Input'!AF19,'Data Input'!AV19))","v":1},{"$f":"IF(K15=\"\",\"\",K15/COUNTIF('Data Input'!$C$8:$AZ$8,$K$2))","v":0.5},{"$f":"IF(ISBLANK('Data Input'!A19),\"\",SUM('Data Input'!C19,'Data Input'!I19,'Data Input'!L19,'Data Input'!M19,'Data Input'!N19,'Data Input'!P19,'Data Input'!S19,'Data Input'!T19,'Data Input'!Y19,'Data Input'!AD19,'Data Input'!AL19,'Data Input'!AM19,'Data Input'!AN19,'Data Input'!AO19,'Data Input'!AP19,'Data Input'!AS19))","v":14},{"$f":"IF(M15=\"\",\"\",M15/COUNTIF('Data Input'!$C$8:$AZ$8,$M$2))","v":0.875},{"$f":"IF(ISBLANK('Data Input'!A19),\"\",SUM('Data Input'!AY19,'Data Input'!AZ19))","v":1},{"$f":"IF(O15=\"\",\"\",O15/COUNTIF('Data Input'!$C$8:$AZ$8,$O$2))","v":0.5},{"$f":"IF(ISBLANK('Data Input'!A19),\"\",SUM('Data Input'!AW19))","v":0},{"$f":"IF(Q15=\"\",\"\",Q15/COUNTIF('Data Input'!$C$8:$AZ$8,$Q$2))","v":0},{"$f":"IF(ISBLANK('Data Input'!$A19),\"\",SUM('Data Input'!Q19,'Data Input'!AT19,'Data Input'!AU19))","v":1},{"$f":"IF(S15=\"\",\"\",S15/COUNTIF('Data Input'!$C$8:$AZ$8,$S$2))","v":0.33333333333333331},{"$f":"IF(ISBLANK('Data Input'!$A19),\"\",SUM('Data Input'!AX19))","v":0},{"$f":"IF(U15=\"\",\"\",U15/COUNTIF('Data Input'!$C$8:$AZ$8,$U$2))","v":0}]
[{"$f":"IF('Data Input'!A20=0,\"\",'Data Input'!A20)","v":"k"},{"$f":"IF(ISBLANK('Data Input'!A20),\"\",COUNTIF('Data Input'!C20:AZ20,\"\"))","v":10},{"$f":"IF(ISBLANK('Data Input'!A20),\"\",COUNTIF('Data Input'!C20:AZ20,\"0\"))","v":6},{"$f":"IF(ISBLANK('Data Input'!A20),\"\",SUM(B16,C16))","v":16},{"$f":"IF(ISBLANK('Data Input'!A20),\"\",SUM('Data Input'!C20:AZ20))","v":34},{"$f":"IF(E16=\"\",\"\",E16/(COUNTA('Data Input'!$C$8:$AZ$8)))","v":0.68},{"$f":"IF(ISBLANK('Data Input'!A20),\"\",SUM('Data Input'!R20,'Data Input'!AA20,'Data Input'!AB20,'Data Input'!AC20,'Data Input'!AE20,'Data Input'!AH20,'Data Input'!AQ20,'Data Input'!AR20))","v":4},{"$f":"IF(G16=\"\",\"\",G16/COUNTIF('Data Input'!$C$8:$AZ$8,$G$2))","v":0.5},{"$f":"IF(ISBLANK('Data Input'!A20),\"\",SUM('Data Input'!D20,'Data Input'!E20,'Data Input'!F20,'Data Input'!G20,'Data Input'!H20,'Data Input'!J20,'Data Input'!K20,'Data Input'!O20,'Data Input'!U20,'Data Input'!V20,'Data Input'!W20,'Data Input'!X20,'Data Input'!Z20,'Data Input'!AG20,'Data Input'!AI20,'Data Input'!AJ20,'Data Input'!AK20))","v":13},{"$f":"IF(I16=\"\",\"\",I16/COUNTIF('Data Input'!$C$8:$AZ$8,$I$2))","v":0.76470588235294112},{"$f":"IF(ISBLANK('Data Input'!A20),\"\",SUM('Data Input'!AF20,'Data Input'!AV20))","v":1},{"$f":"IF(K16=\"\",\"\",K16/COUNTIF('Data Input'!$C$8:$AZ$8,$K$2))","v":0.5},{"$f":"IF(ISBLANK('Data Input'!A20),\"\",SUM('Data Input'!C20,'Data Input'!I20,'Data Input'!L20,'Data Input'!M20,'Data Input'!N20,'Data Input'!P20,'Data Input'!S20,'Data Input'!T20,'Data Input'!Y20,'Data Input'!AD20,'Data Input'!AL20,'Data Input'!AM20,'Data Input'!AN20,'Data Input'!AO20,'Data Input'!AP20,'Data Input'!AS20))","v":14},{"$f":"IF(M16=\"\",\"\",M16/COUNTIF('Data Input'!$C$8:$AZ$8,$M$2))","v":0.875},{"$f":"IF(ISBLANK('Data Input'!A20),\"\",SUM('Data Input'!AY20,'Data Input'!AZ20))","v":1},{"$f":"IF(O16=\"\",\"\",O16/COUNTIF('Data Input'!$C$8:$AZ$8,$O$2))","v":0.5},{"$f":"IF(ISBLANK('Data Input'!A20),\"\",SUM('Data Input'!AW20))","v":0},{"$f":"IF(Q16=\"\",\"\",Q16/COUNTIF('Data Input'!$C$8:$AZ$8,$Q$2))","v":0},{"$f":"IF(ISBLANK('Data Input'!$A20),\"\",SUM('Data Input'!Q20,'Data Input'!AT20,'Data Input'!AU20))","v":1},{"$f":"IF(S16=\"\",\"\",S16/COUNTIF('Data Input'!$C$8:$AZ$8,$S$2))","v":0.33333333333333331},{"$f":"IF(ISBLANK('Data Input'!$A20),\"\",SUM('Data Input'!AX20))","v":0},{"$f":"IF(U16=\"\",\"\",U16/COUNTIF('Data Input'!$C$8:$AZ$8,$U$2))","v":0}]
[{"$f":"IF('Data Input'!A21=0,\"\",'Data Input'!A21)","v":"l"},{"$f":"IF(ISBLANK('Data Input'!A21),\"\",COUNTIF('Data Input'!C21:AZ21,\"\"))","v":8},{"$f":"IF(ISBLANK('Data Input'!A21),\"\",COUNTIF('Data Input'!C21:AZ21,\"0\"))","v":9},{"$f":"IF(ISBLANK('Data Input'!A21),\"\",SUM(B17,C17))","v":17},{"$f":"IF(ISBLANK('Data Input'!A21),\"\",SUM('Data Input'!C21:AZ21))","v":33},{"$f":"IF(E17=\"\",\"\",E17/(COUNTA('Data Input'!$C$8:$AZ$8)))","v":0.66},{"$f":"IF(ISBLANK('Data Input'!A21),\"\",SUM('Data Input'!R21,'Data Input'!AA21,'Data Input'!AB21,'Data Input'!AC21,'Data Input'!AE21,'Data Input'!AH21,'Data Input'!AQ21,'Data Input'!AR21))","v":3},{"$f":"IF(G17=\"\",\"\",G17/COUNTIF('Data Input'!$C$8:$AZ$8,$G$2))","v":0.375},{"$f":"IF(ISBLANK('Data Input'!A21),\"\",SUM('Data Input'!D21,'Data Input'!E21,'Data Input'!F21,'Data Input'!G21,'Data Input'!H21,'Data Input'!J21,'Data Input'!K21,'Data Input'!O21,'Data Input'!U21,'Data Input'!V21,'Data Input'!W21,'Data Input'!X21,'Data Input'!Z21,'Data Input'!AG21,'Data Input'!AI21,'Data Input'!AJ21,'Data Input'!AK21))","v":16},{"$f":"IF(I17=\"\",\"\",I17/COUNTIF('Data Input'!$C$8:$AZ$8,$I$2))","v":0.94117647058823528},{"$f":"IF(ISBLANK('Data Input'!A21),\"\",SUM('Data Input'!AF21,'Data Input'!AV21))","v":2},{"$f":"IF(K17=\"\",\"\",K17/COUNTIF('Data Input'!$C$8:$AZ$8,$K$2))","v":1},{"$f":"IF(ISBLANK('Data Input'!A21),\"\",SUM('Data Input'!C21,'Data Input'!I21,'Data Input'!L21,'Data Input'!M21,'Data Input'!N21,'Data Input'!P21,'Data Input'!S21,'Data Input'!T21,'Data Input'!Y21,'Data Input'!AD21,'Data Input'!AL21,'Data Input'!AM21,'Data Input'!AN21,'Data Input'!AO21,'Data Input'!AP21,'Data Input'!AS21))","v":11},{"$f":"IF(M17=\"\",\"\",M17/COUNTIF('Data Input'!$C$8:$AZ$8,$M$2))","v":0.6875},{"$f":"IF(ISBLANK('Data Input'!A21),\"\",SUM('Data Input'!AY21,'Data Input'!AZ21))","v":0},{"$f":"IF(O17=\"\",\"\",O17/COUNTIF('Data Input'!$C$8:$AZ$8,$O$2))","v":0},{"$f":"IF(ISBLANK('Data Input'!A21),\"\",SUM('Data Input'!AW21))","v":0},{"$f":"IF(Q17=\"\",\"\",Q17/COUNTIF('Data Input'!$C$8:$AZ$8,$Q$2))","v":0},{"$f":"IF(ISBLANK('Data Input'!$A21),\"\",SUM('Data Input'!Q21,'Data Input'!AT21,'Data Input'!AU21))","v":1},{"$f":"IF(S17=\"\",\"\",S17/COUNTIF('Data Input'!$C$8:$AZ$8,$S$2))","v":0.33333333333333331},{"$f":"IF(ISBLANK('Data Input'!$A21),\"\",SUM('Data Input'!AX21))","v":0},{"$f":"IF(U17=\"\",\"\",U17/COUNTIF('Data Input'!$C$8:$AZ$8,$U$2))","v":0}]
[{"$f":"IF('Data Input'!A22=0,\"\",'Data Input'!A22)","v":"m"},{"$f":"IF(ISBLANK('Data Input'!A22),\"\",COUNTIF('Data Input'!C22:AZ22,\"\"))","v":20},{"$f":"IF(ISBLANK('Data Input'!A22),\"\",COUNTIF('Data Input'!C22:AZ22,\"0\"))","v":5},{"$f":"IF(ISBLANK('Data Input'!A22),\"\",SUM(B18,C18))","v":25},{"$f":"IF(ISBLANK('Data Input'!A22),\"\",SUM('Data Input'!C22:AZ22))","v":25},{"$f":"IF(E18=\"\",\"\",E18/(COUNTA('Data Input'!$C$8:$AZ$8)))","v":0.5},{"$f":"IF(ISBLANK('Data Input'!A22),\"\",SUM('Data Input'!R22,'Data Input'!AA22,'Data Input'!AB22,'Data Input'!AC22,'Data Input'!AE22,'Data Input'!AH22,'Data Input'!AQ22,'Data Input'!AR22))","v":3},{"$f":"IF(G18=\"\",\"\",G18/COUNTIF('Data Input'!$C$8:$AZ$8,$G$2))","v":0.375},{"$f":"IF(ISBLANK('Data Input'!A22),\"\",SUM('Data Input'!D22,'Data Input'!E22,'Data Input'!F22,'Data Input'!G22,'Data Input'!H22,'Data Input'!J22,'Data Input'!K22,'Data Input'!O22,'Data Input'!U22,'Data Input'!V22,'Data Input'!W22,'Data Input'!X22,'Data Input'!Z22,'Data Input'!AG22,'Data Input'!AI22,'Data Input'!AJ22,'Data Input'!AK22))","v":9},{"$f":"IF(I18=\"\",\"\",I18/COUNTIF('Data Input'!$C$8:$AZ$8,$I$2))","v":0.52941176470588236},{"$f":"IF(ISBLANK('Data Input'!A22),\"\",SUM('Data Input'!AF22,'Data Input'!AV22))","v":2},{"$f":"IF(K18=\"\",\"\",K18/COUNTIF('Data Input'!$C$8:$AZ$8,$K$2))","v":1},{"$f":"IF(ISBLANK('Data Input'!A22),\"\",SUM('Data Input'!C22,'Data Input'!I22,'Data Input'!L22,'Data Input'!M22,'Data Input'!N22,'Data Input'!P22,'Data Input'!S22,'Data Input'!T22,'Data Input'!Y22,'Data Input'!AD22,'Data Input'!AL22,'Data Input'!AM22,'Data Input'!AN22,'Data Input'!AO22,'Data Input'!AP22,'Data Input'!AS22))","v":6},{"$f":"IF(M18=\"\",\"\",M18/COUNTIF('Data Input'!$C$8:$AZ$8,$M$2))","v":0.375},{"$f":"IF(ISBLANK('Data Input'!A22),\"\",SUM('Data Input'!AY22,'Data Input'!AZ22))","v":1},{"$f":"IF(O18=\"\",\"\",O18/COUNTIF('Data Input'!$C$8:$AZ$8,$O$2))","v":0.5},{"$f":"IF(ISBLANK('Data Input'!A22),\"\",SUM('Data Input'!AW22))","v":1},{"$f":"IF(Q18=\"\",\"\",Q18/COUNTIF('Data Input'!$C$8:$AZ$8,$Q$2))","v":1},{"$f":"IF(ISBLANK('Data Input'!$A22),\"\",SUM('Data Input'!Q22,'Data Input'!AT22,'Data Input'!AU22))","v":2},{"$f":"IF(S18=\"\",\"\",S18/COUNTIF('Data Input'!$C$8:$AZ$8,$S$2))","v":0.66666666666666663},{"$f":"IF(ISBLANK('Data Input'!$A22),\"\",SUM('Data Input'!AX22))","v":1},{"$f":"IF(U18=\"\",\"\",U18/COUNTIF('Data Input'!$C$8:$AZ$8,$U$2))","v":1}]
[{"$f":"IF('Data Input'!A23=0,\"\",'Data Input'!A23)","v":"n"},{"$f":"IF(ISBLANK('Data Input'!A23),\"\",COUNTIF('Data Input'!C23:AZ23,\"\"))","v":3},{"$f":"IF(ISBLANK('Data Input'!A23),\"\",COUNTIF('Data Input'!C23:AZ23,\"0\"))","v":7},{"$f":"IF(ISBLANK('Data Input'!A23),\"\",SUM(B19,C19))","v":10},{"$f":"IF(ISBLANK('Data Input'!A23),\"\",SUM('Data Input'!C23:AZ23))","v":40},{"$f":"IF(E19=\"\",\"\",E19/(COUNTA('Data Input'!$C$8:$AZ$8)))","v":0.8},{"$f":"IF(ISBLANK('Data Input'!A23),\"\",SUM('Data Input'!R23,'Data Input'!AA23,'Data Input'!AB23,'Data Input'!AC23,'Data Input'!AE23,'Data Input'!AH23,'Data Input'!AQ23,'Data Input'!AR23))","v":8},{"$f":"IF(G19=\"\",\"\",G19/COUNTIF('Data Input'!$C$8:$AZ$8,$G$2))","v":1},{"$f":"IF(ISBLANK('Data Input'!A23),\"\",SUM('Data Input'!D23,'Data Input'!E23,'Data Input'!F23,'Data Input'!G23,'Data Input'!H23,'Data Input'!J23,'Data Input'!K23,'Data Input'!O23,'Data Input'!U23,'Data Input'!V23,'Data Input'!W23,'Data Input'!X23,'Data Input'!Z23,'Data Input'!AG23,'Data Input'!AI23,'Data Input'!AJ23,'Data Input'!AK23))","v":12},{"$f":"IF(I19=\"\",\"\",I19/COUNTIF('Data Input'!$C$8:$AZ$8,$I$2))","v":0.70588235294117652},{"$f":"IF(ISBLANK('Data Input'!A23),\"\",SUM('Data Input'!AF23,'Data Input'!AV23))","v":1},{"$f":"IF(K19=\"\",\"\",K19/COUNTIF('Data Input'!$C$8:$AZ$8,$K$2))","v":0.5},{"$f":"IF(ISBLANK('Data Input'!A23),\"\",SUM('Data Input'!C23,'Data Input'!I23,'Data Input'!L23,'Data Input'!M23,'Data Input'!N23,'Data Input'!P23,'Data Input'!S23,'Data Input'!T23,'Data Input'!Y23,'Data Input'!AD23,'Data Input'!AL23,'Data Input'!AM23,'Data Input'!AN23,'Data Input'!AO23,'Data Input'!AP23,'Data Input'!AS23))","v":13},{"$f":"IF(M19=\"\",\"\",M19/COUNTIF('Data Input'!$C$8:$AZ$8,$M$2))","v":0.8125},{"$f":"IF(ISBLANK('Data Input'!A23),\"\",SUM('Data Input'!AY23,'Data Input'!AZ23))","v":2},{"$f":"IF(O19=\"\",\"\",O19/COUNTIF('Data Input'!$C$8:$AZ$8,$O$2))","v":1},{"$f":"IF(ISBLANK('Data Input'!A23),\"\",SUM('Data Input'!AW23))","v":1},{"$f":"IF(Q19=\"\",\"\",Q19/COUNTIF('Data Input'!$C$8:$AZ$8,$Q$2))","v":1},{"$f":"IF(ISBLANK('Data Input'!$A23),\"\",SUM('Data Input'!Q23,'Data Input'!AT23,'Data Input'!AU23))","v":2},{"$f":"IF(S19=\"\",\"\",S19/COUNTIF('Data Input'!$C$8:$AZ$8,$S$2))","v":0.66666666666666663},{"$f":"IF(ISBLANK('Data Input'!$A23),\"\",SUM('Data Input'!AX23))","v":1},{"$f":"IF(U19=\"\",\"\",U19/COUNTIF('Data Input'!$C$8:$AZ$8,$U$2))","v":1}]
[{"$f":"IF('Data Input'!A24=0,\"\",'Data Input'!A24)","v":"o"},{"$f":"IF(ISBLANK('Data Input'!A24),\"\",COUNTIF('Data Input'!C24:AZ24,\"\"))","v":8},{"$f":"IF(ISBLANK('Data Input'!A24),\"\",COUNTIF('Data Input'!C24:AZ24,\"0\"))","v":9},{"$f":"IF(ISBLANK('Data Input'!A24),\"\",SUM(B20,C20))","v":17},{"$f":"IF(ISBLANK('Data Input'!A24),\"\",SUM('Data Input'!C24:AZ24))","v":33},{"$f":"IF(E20=\"\",\"\",E20/(COUNTA('Data Input'!$C$8:$AZ$8)))","v":0.66},{"$f":"IF(ISBLANK('Data Input'!A24),\"\",SUM('Data Input'!R24,'Data Input'!AA24,'Data Input'!AB24,'Data Input'!AC24,'Data Input'!AE24,'Data Input'!AH24,'Data Input'!AQ24,'Data Input'!AR24))","v":6},{"$f":"IF(G20=\"\",\"\",G20/COUNTIF('Data Input'!$C$8:$AZ$8,$G$2))","v":0.75},{"$f":"IF(ISBLANK('Data Input'!A24),\"\",SUM('Data Input'!D24,'Data Input'!E24,'Data Input'!F24,'Data Input'!G24,'Data Input'!H24,'Data Input'!J24,'Data Input'!K24,'Data Input'!O24,'Data Input'!U24,'Data Input'!V24,'Data Input'!W24,'Data Input'!X24,'Data Input'!Z24,'Data Input'!AG24,'Data Input'!AI24,'Data Input'!AJ24,'Data Input'!AK24))","v":12},{"$f":"IF(I20=\"\",\"\",I20/COUNTIF('Data Input'!$C$8:$AZ$8,$I$2))","v":0.70588235294117652},{"$f":"IF(ISBLANK('Data Input'!A24),\"\",SUM('Data Input'!AF24,'Data Input'!AV24))","v":1},{"$f":"IF(K20=\"\",\"\",K20/COUNTIF('Data Input'!$C$8:$AZ$8,$K$2))","v":0.5},{"$f":"IF(ISBLANK('Data Input'!A24),\"\",SUM('Data Input'!C24,'Data Input'!I24,'Data Input'!L24,'Data Input'!M24,'Data Input'!N24,'Data Input'!P24,'Data Input'!S24,'Data Input'!T24,'Data Input'!Y24,'Data Input'!AD24,'Data Input'!AL24,'Data Input'!AM24,'Data Input'!AN24,'Data Input'!AO24,'Data Input'!AP24,'Data Input'!AS24))","v":11},{"$f":"IF(M20=\"\",\"\",M20/COUNTIF('Data Input'!$C$8:$AZ$8,$M$2))","v":0.6875},{"$f":"IF(ISBLANK('Data Input'!A24),\"\",SUM('Data Input'!AY24,'Data Input'!AZ24))","v":1},{"$f":"IF(O20=\"\",\"\",O20/COUNTIF('Data Input'!$C$8:$AZ$8,$O$2))","v":0.5},{"$f":"IF(ISBLANK('Data Input'!A24),\"\",SUM('Data Input'!AW24))","v":0},{"$f":"IF(Q20=\"\",\"\",Q20/COUNTIF('Data Input'!$C$8:$AZ$8,$Q$2))","v":0},{"$f":"IF(ISBLANK('Data Input'!$A24),\"\",SUM('Data Input'!Q24,'Data Input'!AT24,'Data Input'!AU24))","v":1},{"$f":"IF(S20=\"\",\"\",S20/COUNTIF('Data Input'!$C$8:$AZ$8,$S$2))","v":0.33333333333333331},{"$f":"IF(ISBLANK('Data Input'!$A24),\"\",SUM('Data Input'!AX24))","v":1},{"$f":"IF(U20=\"\",\"\",U20/COUNTIF('Data Input'!$C$8:$AZ$8,$U$2))","v":1}]
[{"$f":"IF('Data Input'!A25=0,\"\",'Data Input'!A25)","v":"p"},{"$f":"IF(ISBLANK('Data Input'!A25),\"\",COUNTIF('Data Input'!C25:AZ25,\"\"))","v":20},{"$f":"IF(ISBLANK('Data Input'!A25),\"\",COUNTIF('Data Input'!C25:AZ25,\"0\"))","v":5},{"$f":"IF(ISBLANK('Data Input'!A25),\"\",SUM(B21,C21))","v":25},{"$f":"IF(ISBLANK('Data Input'!A25),\"\",SUM('Data Input'!C25:AZ25))","v":25},{"$f":"IF(E21=\"\",\"\",E21/(COUNTA('Data Input'!$C$8:$AZ$8)))","v":0.5},{"$f":"IF(ISBLANK('Data Input'!A25),\"\",SUM('Data Input'!R25,'Data Input'!AA25,'Data Input'!AB25,'Data Input'!AC25,'Data Input'!AE25,'Data Input'!AH25,'Data Input'!AQ25,'Data Input'!AR25))","v":3},{"$f":"IF(G21=\"\",\"\",G21/COUNTIF('Data Input'!$C$8:$AZ$8,$G$2))","v":0.375},{"$f":"IF(ISBLANK('Data Input'!A25),\"\",SUM('Data Input'!D25,'Data Input'!E25,'Data Input'!F25,'Data Input'!G25,'Data Input'!H25,'Data Input'!J25,'Data Input'!K25,'Data Input'!O25,'Data Input'!U25,'Data Input'!V25,'Data Input'!W25,'Data Input'!X25,'Data Input'!Z25,'Data Input'!AG25,'Data Input'!AI25,'Data Input'!AJ25,'Data Input'!AK25))","v":9},{"$f":"IF(I21=\"\",\"\",I21/COUNTIF('Data Input'!$C$8:$AZ$8,$I$2))","v":0.52941176470588236},{"$f":"IF(ISBLANK('Data Input'!A25),\"\",SUM('Data Input'!AF25,'Data Input'!AV25))","v":2},{"$f":"IF(K21=\"\",\"\",K21/COUNTIF('Data Input'!$C$8:$AZ$8,$K$2))","v":1},{"$f":"IF(ISBLANK('Data Input'!A25),\"\",SUM('Data Input'!C25,'Data Input'!I25,'Data Input'!L25,'Data Input'!M25,'Data Input'!N25,'Data Input'!P25,'Data Input'!S25,'Data Input'!T25,'Data Input'!Y25,'Data Input'!AD25,'Data Input'!AL25,'Data Input'!AM25,'Data Input'!AN25,'Data Input'!AO25,'Data Input'!AP25,'Data Input'!AS25))","v":6},{"$f":"IF(M21=\"\",\"\",M21/COUNTIF('Data Input'!$C$8:$AZ$8,$M$2))","v":0.375},{"$f":"IF(ISBLANK('Data Input'!A25),\"\",SUM('Data Input'!AY25,'Data Input'!AZ25))","v":1},{"$f":"IF(O21=\"\",\"\",O21/COUNTIF('Data Input'!$C$8:$AZ$8,$O$2))","v":0.5},{"$f":"IF(ISBLANK('Data Input'!A25),\"\",SUM('Data Input'!AW25))","v":1},{"$f":"IF(Q21=\"\",\"\",Q21/COUNTIF('Data Input'!$C$8:$AZ$8,$Q$2))","v":1},{"$f":"IF(ISBLANK('Data Input'!$A25),\"\",SUM('Data Input'!Q25,'Data Input'!AT25,'Data Input'!AU25))","v":2},{"$f":"IF(S21=\"\",\"\",S21/COUNTIF('Data Input'!$C$8:$AZ$8,$S$2))","v":0.66666666666666663},{"$f":"IF(ISBLANK('Data Input'!$A25),\"\",SUM('Data Input'!AX25))","v":1},{"$f":"IF(U21=\"\",\"\",U21/COUNTIF('Data Input'!$C$8:$AZ$8,$U$2))","v":1}]
[{"$f":"IF('Data Input'!A26=0,\"\",'Data Input'!A26)","v":"q"},{"$f":"IF(ISBLANK('Data Input'!A26),\"\",COUNTIF('Data Input'!C26:AZ26,\"\"))","v":3},{"$f":"IF(ISBLANK('Data Input'!A26),\"\",COUNTIF('Data Input'!C26:AZ26,\"0\"))","v":7},{"$f":"IF(ISBLANK('Data Input'!A26),\"\",SUM(B22,C22))","v":10},{"$f":"IF(ISBLANK('Data Input'!A26),\"\",SUM('Data Input'!C26:AZ26))","v":40},{"$f":"IF(E22=\"\",\"\",E22/(COUNTA('Data Input'!$C$8:$AZ$8)))","v":0.8},{"$f":"IF(ISBLANK('Data Input'!A26),\"\",SUM('Data Input'!R26,'Data Input'!AA26,'Data Input'!AB26,'Data Input'!AC26,'Data Input'!AE26,'Data Input'!AH26,'Data Input'!AQ26,'Data Input'!AR26))","v":8},{"$f":"IF(G22=\"\",\"\",G22/COUNTIF('Data Input'!$C$8:$AZ$8,$G$2))","v":1},{"$f":"IF(ISBLANK('Data Input'!A26),\"\",SUM('Data Input'!D26,'Data Input'!E26,'Data Input'!F26,'Data Input'!G26,'Data Input'!H26,'Data Input'!J26,'Data Input'!K26,'Data Input'!O26,'Data Input'!U26,'Data Input'!V26,'Data Input'!W26,'Data Input'!X26,'Data Input'!Z26,'Data Input'!AG26,'Data Input'!AI26,'Data Input'!AJ26,'Data Input'!AK26))","v":12},{"$f":"IF(I22=\"\",\"\",I22/COUNTIF('Data Input'!$C$8:$AZ$8,$I$2))","v":0.70588235294117652},{"$f":"IF(ISBLANK('Data Input'!A26),\"\",SUM('Data Input'!AF26,'Data Input'!AV26))","v":1},{"$f":"IF(K22=\"\",\"\",K22/COUNTIF('Data Input'!$C$8:$AZ$8,$K$2))","v":0.5},{"$f":"IF(ISBLANK('Data Input'!A26),\"\",SUM('Data Input'!C26,'Data Input'!I26,'Data Input'!L26,'Data Input'!M26,'Data Input'!N26,'Data Input'!P26,'Data Input'!S26,'Data Input'!T26,'Data Input'!Y26,'Data Input'!AD26,'Data Input'!AL26,'Data Input'!AM26,'Data Input'!AN26,'Data Input'!AO26,'Data Input'!AP26,'Data Input'!AS26))","v":13},{"$f":"IF(M22=\"\",\"\",M22/COUNTIF('Data Input'!$C$8:$AZ$8,$M$2))","v":0.8125},{"$f":"IF(ISBLANK('Data Input'!A26),\"\",SUM('Data Input'!AY26,'Data Input'!AZ26))","v":2},{"$f":"IF(O22=\"\",\"\",O22/COUNTIF('Data Input'!$C$8:$AZ$8,$O$2))","v":1},{"$f":"IF(ISBLANK('Data Input'!A26),\"\",SUM('Data Input'!AW26))","v":1},{"$f":"IF(Q22=\"\",\"\",Q22/COUNTIF('Data Input'!$C$8:$AZ$8,$Q$2))","v":1},{"$f":"IF(ISBLANK('Data Input'!$A26),\"\",SUM('Data Input'!Q26,'Data Input'!AT26,'Data Input'!AU26))","v":2},{"$f":"IF(S22=\"\",\"\",S22/COUNTIF('Data Input'!$C$8:$AZ$8,$S$2))","v":0.66666666666666663},{"$f":"IF(ISBLANK('Data Input'!$A26),\"\",SUM('Data Input'!AX26))","v":1},{"$f":"IF(U22=\"\",\"\",U22/COUNTIF('Data Input'!$C$8:$AZ$8,$U$2))","v":1}]
[{"$f":"IF('Data Input'!A27=0,\"\",'Data Input'!A27)","v":"r"},{"$f":"IF(ISBLANK('Data Input'!A27),\"\",COUNTIF('Data Input'!C27:AZ27,\"\"))","v":8},{"$f":"IF(ISBLANK('Data Input'!A27),\"\",COUNTIF('Data Input'!C27:AZ27,\"0\"))","v":9},{"$f":"IF(ISBLANK('Data Input'!A27),\"\",SUM(B23,C23))","v":17},{"$f":"IF(ISBLANK('Data Input'!A27),\"\",SUM('Data Input'!C27:AZ27))","v":33},{"$f":"IF(E23=\"\",\"\",E23/(COUNTA('Data Input'!$C$8:$AZ$8)))","v":0.66},{"$f":"IF(ISBLANK('Data Input'!A27),\"\",SUM('Data Input'!R27,'Data Input'!AA27,'Data Input'!AB27,'Data Input'!AC27,'Data Input'!AE27,'Data Input'!AH27,'Data Input'!AQ27,'Data Input'!AR27))","v":6},{"$f":"IF(G23=\"\",\"\",G23/COUNTIF('Data Input'!$C$8:$AZ$8,$G$2))","v":0.75},{"$f":"IF(ISBLANK('Data Input'!A27),\"\",SUM('Data Input'!D27,'Data Input'!E27,'Data Input'!F27,'Data Input'!G27,'Data Input'!H27,'Data Input'!J27,'Data Input'!K27,'Data Input'!O27,'Data Input'!U27,'Data Input'!V27,'Data Input'!W27,'Data Input'!X27,'Data Input'!Z27,'Data Input'!AG27,'Data Input'!AI27,'Data Input'!AJ27,'Data Input'!AK27))","v":12},{"$f":"IF(I23=\"\",\"\",I23/COUNTIF('Data Input'!$C$8:$AZ$8,$I$2))","v":0.70588235294117652},{"$f":"IF(ISBLANK('Data Input'!A27),\"\",SUM('Data Input'!AF27,'Data Input'!AV27))","v":1},{"$f":"IF(K23=\"\",\"\",K23/COUNTIF('Data Input'!$C$8:$AZ$8,$K$2))","v":0.5},{"$f":"IF(ISBLANK('Data Input'!A27),\"\",SUM('Data Input'!C27,'Data Input'!I27,'Data Input'!L27,'Data Input'!M27,'Data Input'!N27,'Data Input'!P27,'Data Input'!S27,'Data Input'!T27,'Data Input'!Y27,'Data Input'!AD27,'Data Input'!AL27,'Data Input'!AM27,'Data Input'!AN27,'Data Input'!AO27,'Data Input'!AP27,'Data Input'!AS27))","v":11},{"$f":"IF(M23=\"\",\"\",M23/COUNTIF('Data Input'!$C$8:$AZ$8,$M$2))","v":0.6875},{"$f":"IF(ISBLANK('Data Input'!A27),\"\",SUM('Data Input'!AY27,'Data Input'!AZ27))","v":1},{"$f":"IF(O23=\"\",\"\",O23/COUNTIF('Data Input'!$C$8:$AZ$8,$O$2))","v":0.5},{"$f":"IF(ISBLANK('Data Input'!A27),\"\",SUM('Data Input'!AW27))","v":0},{"$f":"IF(Q23=\"\",\"\",Q23/COUNTIF('Data Input'!$C$8:$AZ$8,$Q$2))","v":0},{"$f":"IF(ISBLANK('Data Input'!$A27),\"\",SUM('Data Input'!Q27,'Data Input'!AT27,'Data Input'!AU27))","v":1},{"$f":"IF(S23=\"\",\"\",S23/COUNTIF('Data Input'!$C$8:$AZ$8,$S$2))","v":0.33333333333333331},{"$f":"IF(ISBLANK('Data Input'!$A27),\"\",SUM('Data Input'!AX27))","v":1},{"$f":"IF(U23=\"\",\"\",U23/COUNTIF('Data Input'!$C$8:$AZ$8,$U$2))","v":1}]
[{"$f":"IF('Data Input'!A28=0,\"\",'Data Input'!A28)","v":"s"},{"$f":"IF(ISBLANK('Data Input'!A28),\"\",COUNTIF('Data Input'!C28:AZ28,\"\"))","v":6},{"$f":"IF(ISBLANK('Data Input'!A28),\"\",COUNTIF('Data Input'!C28:AZ28,\"0\"))","v":4},{"$f":"IF(ISBLANK('Data Input'!A28),\"\",SUM(B24,C24))","v":10},{"$f":"IF(ISBLANK('Data Input'!A28),\"\",SUM('Data Input'!C28:AZ28))","v":40},{"$f":"IF(E24=\"\",\"\",E24/(COUNTA('Data Input'!$C$8:$AZ$8)))","v":0.8},{"$f":"IF(ISBLANK('Data Input'!A28),\"\",SUM('Data Input'!R28,'Data Input'!AA28,'Data Input'!AB28,'Data Input'!AC28,'Data Input'!AE28,'Data Input'!AH28,'Data Input'!AQ28,'Data Input'!AR28))","v":7},{"$f":"IF(G24=\"\",\"\",G24/COUNTIF('Data Input'!$C$8:$AZ$8,$G$2))","v":0.875},{"$f":"IF(ISBLANK('Data Input'!A28),\"\",SUM('Data Input'!D28,'Data Input'!E28,'Data Input'!F28,'Data Input'!G28,'Data Input'!H28,'Data Input'!J28,'Data Input'!K28,'Data Input'!O28,'Data Input'!U28,'Data Input'!V28,'Data Input'!W28,'Data Input'!X28,'Data Input'!Z28,'Data Input'!AG28,'Data Input'!AI28,'Data Input'!AJ28,'Data Input'!AK28))","v":15},{"$f":"IF(I24=\"\",\"\",I24/COUNTIF('Data Input'!$C$8:$AZ$8,$I$2))","v":0.88235294117647056},{"$f":"IF(ISBLANK('Data Input'!A28),\"\",SUM('Data Input'!AF28,'Data Input'!AV28))","v":2},{"$f":"IF(K24=\"\",\"\",K24/COUNTIF('Data Input'!$C$8:$AZ$8,$K$2))","v":1},{"$f":"IF(ISBLANK('Data Input'!A28),\"\",SUM('Data Input'!C28,'Data Input'!I28,'Data Input'!L28,'Data Input'!M28,'Data Input'!N28,'Data Input'!P28,'Data Input'!S28,'Data Input'!T28,'Data Input'!Y28,'Data Input'!AD28,'Data Input'!AL28,'Data Input'!AM28,'Data Input'!AN28,'Data Input'!AO28,'Data Input'!AP28,'Data Input'!AS28))","v":12},{"$f":"IF(M24=\"\",\"\",M24/COUNTIF('Data Input'!$C$8:$AZ$8,$M$2))","v":0.75},{"$f":"IF(ISBLANK('Data Input'!A28),\"\",SUM('Data Input'!AY28,'Data Input'!AZ28))","v":1},{"$f":"IF(O24=\"\",\"\",O24/COUNTIF('Data Input'!$C$8:$AZ$8,$O$2))","v":0.5},{"$f":"IF(ISBLANK('Data Input'!A28),\"\",SUM('Data Input'!AW28))","v":1},{"$f":"IF(Q24=\"\",\"\",Q24/COUNTIF('Data Input'!$C$8:$AZ$8,$Q$2))","v":1},{"$f":"IF(ISBLANK('Data Input'!$A28),\"\",SUM('Data Input'!Q28,'Data Input'!AT28,'Data Input'!AU28))","v":1},{"$f":"IF(S24=\"\",\"\",S24/COUNTIF('Data Input'!$C$8:$AZ$8,$S$2))","v":0.33333333333333331},{"$f":"IF(ISBLANK('Data Input'!$A28),\"\",SUM('Data Input'!AX28))","v":1},{"$f":"IF(U24=\"\",\"\",U24/COUNTIF('Data Input'!$C$8:$AZ$8,$U$2))","v":1}]
[{"$f":"IF('Data Input'!A29=0,\"\",'Data Input'!A29)","v":"t"},{"$f":"IF(ISBLANK('Data Input'!A29),\"\",COUNTIF('Data Input'!C29:AZ29,\"\"))","v":10},{"$f":"IF(ISBLANK('Data Input'!A29),\"\",COUNTIF('Data Input'!C29:AZ29,\"0\"))","v":6},{"$f":"IF(ISBLANK('Data Input'!A29),\"\",SUM(B25,C25))","v":16},{"$f":"IF(ISBLANK('Data Input'!A29),\"\",SUM('Data Input'!C29:AZ29))","v":34},{"$f":"IF(E25=\"\",\"\",E25/(COUNTA('Data Input'!$C$8:$AZ$8)))","v":0.68},{"$f":"IF(ISBLANK('Data Input'!A29),\"\",SUM('Data Input'!R29,'Data Input'!AA29,'Data Input'!AB29,'Data Input'!AC29,'Data Input'!AE29,'Data Input'!AH29,'Data Input'!AQ29,'Data Input'!AR29))","v":4},{"$f":"IF(G25=\"\",\"\",G25/COUNTIF('Data Input'!$C$8:$AZ$8,$G$2))","v":0.5},{"$f":"IF(ISBLANK('Data Input'!A29),\"\",SUM('Data Input'!D29,'Data Input'!E29,'Data Input'!F29,'Data Input'!G29,'Data Input'!H29,'Data Input'!J29,'Data Input'!K29,'Data Input'!O29,'Data Input'!U29,'Data Input'!V29,'Data Input'!W29,'Data Input'!X29,'Data Input'!Z29,'Data Input'!AG29,'Data Input'!AI29,'Data Input'!AJ29,'Data Input'!AK29))","v":13},{"$f":"IF(I25=\"\",\"\",I25/COUNTIF('Data Input'!$C$8:$AZ$8,$I$2))","v":0.76470588235294112},{"$f":"IF(ISBLANK('Data Input'!A29),\"\",SUM('Data Input'!AF29,'Data Input'!AV29))","v":1},{"$f":"IF(K25=\"\",\"\",K25/COUNTIF('Data Input'!$C$8:$AZ$8,$K$2))","v":0.5},{"$f":"IF(ISBLANK('Data Input'!A29),\"\",SUM('Data Input'!C29,'Data Input'!I29,'Data Input'!L29,'Data Input'!M29,'Data Input'!N29,'Data Input'!P29,'Data Input'!S29,'Data Input'!T29,'Data Input'!Y29,'Data Input'!AD29,'Data Input'!AL29,'Data Input'!AM29,'Data Input'!AN29,'Data Input'!AO29,'Data Input'!AP29,'Data Input'!AS29))","v":14},{"$f":"IF(M25=\"\",\"\",M25/COUNTIF('Data Input'!$C$8:$AZ$8,$M$2))","v":0.875},{"$f":"IF(ISBLANK('Data Input'!A29),\"\",SUM('Data Input'!AY29,'Data Input'!AZ29))","v":1},{"$f":"IF(O25=\"\",\"\",O25/COUNTIF('Data Input'!$C$8:$AZ$8,$O$2))","v":0.5},{"$f":"IF(ISBLANK('Data Input'!A29),\"\",SUM('Data Input'!AW29))","v":0},{"$f":"IF(Q25=\"\",\"\",Q25/COUNTIF('Data Input'!$C$8:$AZ$8,$Q$2))","v":0},{"$f":"IF(ISBLANK('Data Input'!$A29),\"\",SUM('Data Input'!Q29,'Data Input'!AT29,'Data Input'!AU29))","v":1},{"$f":"IF(S25=\"\",\"\",S25/COUNTIF('Data Input'!$C$8:$AZ$8,$S$2))","v":0.33333333333333331},{"$f":"IF(ISBLANK('Data Input'!$A29),\"\",SUM('Data Input'!AX29))","v":0},{"$f":"IF(U25=\"\",\"\",U25/COUNTIF('Data Input'!$C$8:$AZ$8,$U$2))","v":0}]
[{"$f":"IF('Data Input'!A30=0,\"\",'Data Input'!A30)","v":"u"},{"$f":"IF(ISBLANK('Data Input'!A30),\"\",COUNTIF('Data Input'!C30:AZ30,\"\"))","v":10},{"$f":"IF(ISBLANK('Data Input'!A30),\"\",COUNTIF('Data Input'!C30:AZ30,\"0\"))","v":6},{"$f":"IF(ISBLANK('Data Input'!A30),\"\",SUM(B26,C26))","v":16},{"$f":"IF(ISBLANK('Data Input'!A30),\"\",SUM('Data Input'!C30:AZ30))","v":34},{"$f":"IF(E26=\"\",\"\",E26/(COUNTA('Data Input'!$C$8:$AZ$8)))","v":0.68},{"$f":"IF(ISBLANK('Data Input'!A30),\"\",SUM('Data Input'!R30,'Data Input'!AA30,'Data Input'!AB30,'Data Input'!AC30,'Data Input'!AE30,'Data Input'!AH30,'Data Input'!AQ30,'Data Input'!AR30))","v":4},{"$f":"IF(G26=\"\",\"\",G26/COUNTIF('Data Input'!$C$8:$AZ$8,$G$2))","v":0.5},{"$f":"IF(ISBLANK('Data Input'!A30),\"\",SUM('Data Input'!D30,'Data Input'!E30,'Data Input'!F30,'Data Input'!G30,'Data Input'!H30,'Data Input'!J30,'Data Input'!K30,'Data Input'!O30,'Data Input'!U30,'Data Input'!V30,'Data Input'!W30,'Data Input'!X30,'Data Input'!Z30,'Data Input'!AG30,'Data Input'!AI30,'Data Input'!AJ30,'Data Input'!AK30))","v":13},{"$f":"IF(I26=\"\",\"\",I26/COUNTIF('Data Input'!$C$8:$AZ$8,$I$2))","v":0.76470588235294112},{"$f":"IF(ISBLANK('Data Input'!A30),\"\",SUM('Data Input'!AF30,'Data Input'!AV30))","v":1},{"$f":"IF(K26=\"\",\"\",K26/COUNTIF('Data Input'!$C$8:$AZ$8,$K$2))","v":0.5},{"$f":"IF(ISBLANK('Data Input'!A30),\"\",SUM('Data Input'!C30,'Data Input'!I30,'Data Input'!L30,'Data Input'!M30,'Data Input'!N30,'Data Input'!P30,'Data Input'!S30,'Data Input'!T30,'Data Input'!Y30,'Data Input'!AD30,'Data Input'!AL30,'Data Input'!AM30,'Data Input'!AN30,'Data Input'!AO30,'Data Input'!AP30,'Data Input'!AS30))","v":14},{"$f":"IF(M26=\"\",\"\",M26/COUNTIF('Data Input'!$C$8:$AZ$8,$M$2))","v":0.875},{"$f":"IF(ISBLANK('Data Input'!A30),\"\",SUM('Data Input'!AY30,'Data Input'!AZ30))","v":1},{"$f":"IF(O26=\"\",\"\",O26/COUNTIF('Data Input'!$C$8:$AZ$8,$O$2))","v":0.5},{"$f":"IF(ISBLANK('Data Input'!A30),\"\",SUM('Data Input'!AW30))","v":0},{"$f":"IF(Q26=\"\",\"\",Q26/COUNTIF('Data Input'!$C$8:$AZ$8,$Q$2))","v":0},{"$f":"IF(ISBLANK('Data Input'!$A30),\"\",SUM('Data Input'!Q30,'Data Input'!AT30,'Data Input'!AU30))","v":1},{"$f":"IF(S26=\"\",\"\",S26/COUNTIF('Data Input'!$C$8:$AZ$8,$S$2))","v":0.33333333333333331},{"$f":"IF(ISBLANK('Data Input'!$A30),\"\",SUM('Data Input'!AX30))","v":0},{"$f":"IF(U26=\"\",\"\",U26/COUNTIF('Data Input'!$C$8:$AZ$8,$U$2))","v":0}]
[{"$f":"IF('Data Input'!A31=0,\"\",'Data Input'!A31)","v":"v"},{"$f":"IF(ISBLANK('Data Input'!A31),\"\",COUNTIF('Data Input'!C31:AZ31,\"\"))","v":8},{"$f":"IF(ISBLANK('Data Input'!A31),\"\",COUNTIF('Data Input'!C31:AZ31,\"0\"))","v":9},{"$f":"IF(ISBLANK('Data Input'!A31),\"\",SUM(B27,C27))","v":17},{"$f":"IF(ISBLANK('Data Input'!A31),\"\",SUM('Data Input'!C31:AZ31))","v":33},{"$f":"IF(E27=\"\",\"\",E27/(COUNTA('Data Input'!$C$8:$AZ$8)))","v":0.66},{"$f":"IF(ISBLANK('Data Input'!A31),\"\",SUM('Data Input'!R31,'Data Input'!AA31,'Data Input'!AB31,'Data Input'!AC31,'Data Input'!AE31,'Data Input'!AH31,'Data Input'!AQ31,'Data Input'!AR31))","v":3},{"$f":"IF(G27=\"\",\"\",G27/COUNTIF('Data Input'!$C$8:$AZ$8,$G$2))","v":0.375},{"$f":"IF(ISBLANK('Data Input'!A31),\"\",SUM('Data Input'!D31,'Data Input'!E31,'Data Input'!F31,'Data Input'!G31,'Data Input'!H31,'Data Input'!J31,'Data Input'!K31,'Data Input'!O31,'Data Input'!U31,'Data Input'!V31,'Data Input'!W31,'Data Input'!X31,'Data Input'!Z31,'Data Input'!AG31,'Data Input'!AI31,'Data Input'!AJ31,'Data Input'!AK31))","v":16},{"$f":"IF(I27=\"\",\"\",I27/COUNTIF('Data Input'!$C$8:$AZ$8,$I$2))","v":0.94117647058823528},{"$f":"IF(ISBLANK('Data Input'!A31),\"\",SUM('Data Input'!AF31,'Data Input'!AV31))","v":2},{"$f":"IF(K27=\"\",\"\",K27/COUNTIF('Data Input'!$C$8:$AZ$8,$K$2))","v":1},{"$f":"IF(ISBLANK('Data Input'!A31),\"\",SUM('Data Input'!C31,'Data Input'!I31,'Data Input'!L31,'Data Input'!M31,'Data Input'!N31,'Data Input'!P31,'Data Input'!S31,'Data Input'!T31,'Data Input'!Y31,'Data Input'!AD31,'Data Input'!AL31,'Data Input'!AM31,'Data Input'!AN31,'Data Input'!AO31,'Data Input'!AP31,'Data Input'!AS31))","v":11},{"$f":"IF(M27=\"\",\"\",M27/COUNTIF('Data Input'!$C$8:$AZ$8,$M$2))","v":0.6875},{"$f":"IF(ISBLANK('Data Input'!A31),\"\",SUM('Data Input'!AY31,'Data Input'!AZ31))","v":0},{"$f":"IF(O27=\"\",\"\",O27/COUNTIF('Data Input'!$C$8:$AZ$8,$O$2))","v":0},{"$f":"IF(ISBLANK('Data Input'!A31),\"\",SUM('Data Input'!AW31))","v":0},{"$f":"IF(Q27=\"\",\"\",Q27/COUNTIF('Data Input'!$C$8:$AZ$8,$Q$2))","v":0},{"$f":"IF(ISBLANK('Data Input'!$A31),\"\",SUM('Data Input'!Q31,'Data Input'!AT31,'Data Input'!AU31))","v":1},{"$f":"IF(S27=\"\",\"\",S27/COUNTIF('Data Input'!$C$8:$AZ$8,$S$2))","v":0.33333333333333331},{"$f":"IF(ISBLANK('Data Input'!$A31),\"\",SUM('Data Input'!AX31))","v":0},{"$f":"IF(U27=\"\",\"\",U27/COUNTIF('Data Input'!$C$8:$AZ$8,$U$2))","v":0}]
[{"$f":"IF('Data Input'!A32=0,\"\",'Data Input'!A32)","v":"w"},{"$f":"IF(ISBLANK('Data Input'!A32),\"\",COUNTIF('Data Input'!C32:AZ32,\"\"))","v":20},{"$f":"IF(ISBLANK('Data Input'!A32),\"\",COUNTIF('Data Input'!C32:AZ32,\"0\"))","v":5},{"$f":"IF(ISBLANK('Data Input'!A32),\"\",SUM(B28,C28))","v":25},{"$f":"IF(ISBLANK('Data Input'!A32),\"\",SUM('Data Input'!C32:AZ32))","v":25},{"$f":"IF(E28=\"\",\"\",E28/(COUNTA('Data Input'!$C$8:$AZ$8)))","v":0.5},{"$f":"IF(ISBLANK('Data Input'!A32),\"\",SUM('Data Input'!R32,'Data Input'!AA32,'Data Input'!AB32,'Data Input'!AC32,'Data Input'!AE32,'Data Input'!AH32,'Data Input'!AQ32,'Data Input'!AR32))","v":3},{"$f":"IF(G28=\"\",\"\",G28/COUNTIF('Data Input'!$C$8:$AZ$8,$G$2))","v":0.375},{"$f":"IF(ISBLANK('Data Input'!A32),\"\",SUM('Data Input'!D32,'Data Input'!E32,'Data Input'!F32,'Data Input'!G32,'Data Input'!H32,'Data Input'!J32,'Data Input'!K32,'Data Input'!O32,'Data Input'!U32,'Data Input'!V32,'Data Input'!W32,'Data Input'!X32,'Data Input'!Z32,'Data Input'!AG32,'Data Input'!AI32,'Data Input'!AJ32,'Data Input'!AK32))","v":9},{"$f":"IF(I28=\"\",\"\",I28/COUNTIF('Data Input'!$C$8:$AZ$8,$I$2))","v":0.52941176470588236},{"$f":"IF(ISBLANK('Data Input'!A32),\"\",SUM('Data Input'!AF32,'Data Input'!AV32))","v":2},{"$f":"IF(K28=\"\",\"\",K28/COUNTIF('Data Input'!$C$8:$AZ$8,$K$2))","v":1},{"$f":"IF(ISBLANK('Data Input'!A32),\"\",SUM('Data Input'!C32,'Data Input'!I32,'Data Input'!L32,'Data Input'!M32,'Data Input'!N32,'Data Input'!P32,'Data Input'!S32,'Data Input'!T32,'Data Input'!Y32,'Data Input'!AD32,'Data Input'!AL32,'Data Input'!AM32,'Data Input'!AN32,'Data Input'!AO32,'Data Input'!AP32,'Data Input'!AS32))","v":6},{"$f":"IF(M28=\"\",\"\",M28/COUNTIF('Data Input'!$C$8:$AZ$8,$M$2))","v":0.375},{"$f":"IF(ISBLANK('Data Input'!A32),\"\",SUM('Data Input'!AY32,'Data Input'!AZ32))","v":1},{"$f":"IF(O28=\"\",\"\",O28/COUNTIF('Data Input'!$C$8:$AZ$8,$O$2))","v":0.5},{"$f":"IF(ISBLANK('Data Input'!A32),\"\",SUM('Data Input'!AW32))","v":1},{"$f":"IF(Q28=\"\",\"\",Q28/COUNTIF('Data Input'!$C$8:$AZ$8,$Q$2))","v":1},{"$f":"IF(ISBLANK('Data Input'!$A32),\"\",SUM('Data Input'!Q32,'Data Input'!AT32,'Data Input'!AU32))","v":2},{"$f":"IF(S28=\"\",\"\",S28/COUNTIF('Data Input'!$C$8:$AZ$8,$S$2))","v":0.66666666666666663},{"$f":"IF(ISBLANK('Data Input'!$A32),\"\",SUM('Data Input'!AX32))","v":1},{"$f":"IF(U28=\"\",\"\",U28/COUNTIF('Data Input'!$C$8:$AZ$8,$U$2))","v":1}]
[{"$f":"IF('Data Input'!A33=0,\"\",'Data Input'!A33)","v":""},{"$f":"IF(ISBLANK('Data Input'!A33),\"\",COUNTIF('Data Input'!C33:AZ33,\"\"))","v":""},{"$f":"IF(ISBLANK('Data Input'!A33),\"\",COUNTIF('Data Input'!C33:AZ33,\"0\"))","v":""},{"$f":"IF(ISBLANK('Data Input'!A33),\"\",SUM(B29,C29))","v":""},{"$f":"IF(ISBLANK('Data Input'!A33),\"\",SUM('Data Input'!C33:AZ33))","v":""},{"$f":"IF(E29=\"\",\"\",E29/(COUNTA('Data Input'!$C$8:$AZ$8)))","v":""},{"$f":"IF(ISBLANK('Data Input'!A33),\"\",SUM('Data Input'!R33,'Data Input'!AA33,'Data Input'!AB33,'Data Input'!AC33,'Data Input'!AE33,'Data Input'!AH33,'Data Input'!AQ33,'Data Input'!AR33))","v":""},{"$f":"IF(G29=\"\",\"\",G29/COUNTIF('Data Input'!$C$8:$AZ$8,$G$2))","v":""},{"$f":"IF(ISBLANK('Data Input'!A33),\"\",SUM('Data Input'!D33,'Data Input'!E33,'Data Input'!F33,'Data Input'!G33,'Data Input'!H33,'Data Input'!J33,'Data Input'!K33,'Data Input'!O33,'Data Input'!U33,'Data Input'!V33,'Data Input'!W33,'Data Input'!X33,'Data Input'!Z33,'Data Input'!AG33,'Data Input'!AI33,'Data Input'!AJ33,'Data Input'!AK33))","v":""},{"$f":"IF(I29=\"\",\"\",I29/COUNTIF('Data Input'!$C$8:$AZ$8,$I$2))","v":""},{"$f":"IF(ISBLANK('Data Input'!A33),\"\",SUM('Data Input'!AF33,'Data Input'!AV33))","v":""},{"$f":"IF(K29=\"\",\"\",K29/COUNTIF('Data Input'!$C$8:$AZ$8,$K$2))","v":""},{"$f":"IF(ISBLANK('Data Input'!A33),\"\",SUM('Data Input'!C33,'Data Input'!I33,'Data Input'!L33,'Data Input'!M33,'Data Input'!N33,'Data Input'!P33,'Data Input'!S33,'Data Input'!T33,'Data Input'!Y33,'Data Input'!AD33,'Data Input'!AL33,'Data Input'!AM33,'Data Input'!AN33,'Data Input'!AO33,'Data Input'!AP33,'Data Input'!AS33))","v":""},{"$f":"IF(M29=\"\",\"\",M29/COUNTIF('Data Input'!$C$8:$AZ$8,$M$2))","v":""},{"$f":"IF(ISBLANK('Data Input'!A33),\"\",SUM('Data Input'!AY33,'Data Input'!AZ33))","v":""},{"$f":"IF(O29=\"\",\"\",O29/COUNTIF('Data Input'!$C$8:$AZ$8,$O$2))","v":""},{"$f":"IF(ISBLANK('Data Input'!A33),\"\",SUM('Data Input'!AW33))","v":""},{"$f":"IF(Q29=\"\",\"\",Q29/COUNTIF('Data Input'!$C$8:$AZ$8,$Q$2))","v":""},{"$f":"IF(ISBLANK('Data Input'!$A33),\"\",SUM('Data Input'!Q33,'Data Input'!AT33,'Data Input'!AU33))","v":""},{"$f":"IF(S29=\"\",\"\",S29/COUNTIF('Data Input'!$C$8:$AZ$8,$S$2))","v":""},{"$f":"IF(ISBLANK('Data Input'!$A33),\"\",SUM('Data Input'!AX33))","v":""},{"$f":"IF(U29=\"\",\"\",U29/COUNTIF('Data Input'!$C$8:$AZ$8,$U$2))","v":""}]
[{"$f":"IF('Data Input'!A34=0,\"\",'Data Input'!A34)","v":""},{"$f":"IF(ISBLANK('Data Input'!A34),\"\",COUNTIF('Data Input'!C34:AZ34,\"\"))","v":""},{"$f":"IF(ISBLANK('Data Input'!A34),\"\",COUNTIF('Data Input'!C34:AZ34,\"0\"))","v":""},{"$f":"IF(ISBLANK('Data Input'!A34),\"\",SUM(B30,C30))","v":""},{"$f":"IF(ISBLANK('Data Input'!A34),\"\",SUM('Data Input'!C34:AZ34))","v":""},{"$f":"IF(E30=\"\",\"\",E30/(COUNTA('Data Input'!$C$8:$AZ$8)))","v":""},{"$f":"IF(ISBLANK('Data Input'!A34),\"\",SUM('Data Input'!R34,'Data Input'!AA34,'Data Input'!AB34,'Data Input'!AC34,'Data Input'!AE34,'Data Input'!AH34,'Data Input'!AQ34,'Data Input'!AR34))","v":""},{"$f":"IF(G30=\"\",\"\",G30/COUNTIF('Data Input'!$C$8:$AZ$8,$G$2))","v":""},{"$f":"IF(ISBLANK('Data Input'!A34),\"\",SUM('Data Input'!D34,'Data Input'!E34,'Data Input'!F34,'Data Input'!G34,'Data Input'!H34,'Data Input'!J34,'Data Input'!K34,'Data Input'!O34,'Data Input'!U34,'Data Input'!V34,'Data Input'!W34,'Data Input'!X34,'Data Input'!Z34,'Data Input'!AG34,'Data Input'!AI34,'Data Input'!AJ34,'Data Input'!AK34))","v":""},{"$f":"IF(I30=\"\",\"\",I30/COUNTIF('Data Input'!$C$8:$AZ$8,$I$2))","v":""},{"$f":"IF(ISBLANK('Data Input'!A34),\"\",SUM('Data Input'!AF34,'Data Input'!AV34))","v":""},{"$f":"IF(K30=\"\",\"\",K30/COUNTIF('Data Input'!$C$8:$AZ$8,$K$2))","v":""},{"$f":"IF(ISBLANK('Data Input'!A34),\"\",SUM('Data Input'!C34,'Data Input'!I34,'Data Input'!L34,'Data Input'!M34,'Data Input'!N34,'Data Input'!P34,'Data Input'!S34,'Data Input'!T34,'Data Input'!Y34,'Data Input'!AD34,'Data Input'!AL34,'Data Input'!AM34,'Data Input'!AN34,'Data Input'!AO34,'Data Input'!AP34,'Data Input'!AS34))","v":""},{"$f":"IF(M30=\"\",\"\",M30/COUNTIF('Data Input'!$C$8:$AZ$8,$M$2))","v":""},{"$f":"IF(ISBLANK('Data Input'!A34),\"\",SUM('Data Input'!AY34,'Data Input'!AZ34))","v":""},{"$f":"IF(O30=\"\",\"\",O30/COUNTIF('Data Input'!$C$8:$AZ$8,$O$2))","v":""},{"$f":"IF(ISBLANK('Data Input'!A34),\"\",SUM('Data Input'!AW34))","v":""},{"$f":"IF(Q30=\"\",\"\",Q30/COUNTIF('Data Input'!$C$8:$AZ$8,$Q$2))","v":""},{"$f":"IF(ISBLANK('Data Input'!$A34),\"\",SUM('Data Input'!Q34,'Data Input'!AT34,'Data Input'!AU34))","v":""},{"$f":"IF(S30=\"\",\"\",S30/COUNTIF('Data Input'!$C$8:$AZ$8,$S$2))","v":""},{"$f":"IF(ISBLANK('Data Input'!$A34),\"\",SUM('Data Input'!AX34))","v":""},{"$f":"IF(U30=\"\",\"\",U30/COUNTIF('Data Input'!$C$8:$AZ$8,$U$2))","v":""}]
[{"$f":"IF('Data Input'!A35=0,\"\",'Data Input'!A35)","v":""},{"$f":"IF(ISBLANK('Data Input'!A35),\"\",COUNTIF('Data Input'!C35:AZ35,\"\"))","v":""},{"$f":"IF(ISBLANK('Data Input'!A35),\"\",COUNTIF('Data Input'!C35:AZ35,\"0\"))","v":""},{"$f":"IF(ISBLANK('Data Input'!A35),\"\",SUM(B31,C31))","v":""},{"$f":"IF(ISBLANK('Data Input'!A35),\"\",SUM('Data Input'!C35:AZ35))","v":""},{"$f":"IF(E31=\"\",\"\",E31/(COUNTA('Data Input'!$C$8:$AZ$8)))","v":""},{"$f":"IF(ISBLANK('Data Input'!A35),\"\",SUM('Data Input'!R35,'Data Input'!AA35,'Data Input'!AB35,'Data Input'!AC35,'Data Input'!AE35,'Data Input'!AH35,'Data Input'!AQ35,'Data Input'!AR35))","v":""},{"$f":"IF(G31=\"\",\"\",G31/COUNTIF('Data Input'!$C$8:$AZ$8,$G$2))","v":""},{"$f":"IF(ISBLANK('Data Input'!A35),\"\",SUM('Data Input'!D35,'Data Input'!E35,'Data Input'!F35,'Data Input'!G35,'Data Input'!H35,'Data Input'!J35,'Data Input'!K35,'Data Input'!O35,'Data Input'!U35,'Data Input'!V35,'Data Input'!W35,'Data Input'!X35,'Data Input'!Z35,'Data Input'!AG35,'Data Input'!AI35,'Data Input'!AJ35,'Data Input'!AK35))","v":""},{"$f":"IF(I31=\"\",\"\",I31/COUNTIF('Data Input'!$C$8:$AZ$8,$I$2))","v":""},{"$f":"IF(ISBLANK('Data Input'!A35),\"\",SUM('Data Input'!AF35,'Data Input'!AV35))","v":""},{"$f":"IF(K31=\"\",\"\",K31/COUNTIF('Data Input'!$C$8:$AZ$8,$K$2))","v":""},{"$f":"IF(ISBLANK('Data Input'!A35),\"\",SUM('Data Input'!C35,'Data Input'!I35,'Data Input'!L35,'Data Input'!M35,'Data Input'!N35,'Data Input'!P35,'Data Input'!S35,'Data Input'!T35,'Data Input'!Y35,'Data Input'!AD35,'Data Input'!AL35,'Data Input'!AM35,'Data Input'!AN35,'Data Input'!AO35,'Data Input'!AP35,'Data Input'!AS35))","v":""},{"$f":"IF(M31=\"\",\"\",M31/COUNTIF('Data Input'!$C$8:$AZ$8,$M$2))","v":""},{"$f":"IF(ISBLANK('Data Input'!A35),\"\",SUM('Data Input'!AY35,'Data Input'!AZ35))","v":""},{"$f":"IF(O31=\"\",\"\",O31/COUNTIF('Data Input'!$C$8:$AZ$8,$O$2))","v":""},{"$f":"IF(ISBLANK('Data Input'!A35),\"\",SUM('Data Input'!AW35))","v":""},{"$f":"IF(Q31=\"\",\"\",Q31/COUNTIF('Data Input'!$C$8:$AZ$8,$Q$2))","v":""},{"$f":"IF(ISBLANK('Data Input'!$A35),\"\",SUM('Data Input'!Q35,'Data Input'!AT35,'Data Input'!AU35))","v":""},{"$f":"IF(S31=\"\",\"\",S31/COUNTIF('Data Input'!$C$8:$AZ$8,$S$2))","v":""},{"$f":"IF(ISBLANK('Data Input'!$A35),\"\",SUM('Data Input'!AX35))","v":""},{"$f":"IF(U31=\"\",\"\",U31/COUNTIF('Data Input'!$C$8:$AZ$8,$U$2))","v":""}]
[{"$f":"IF('Data Input'!A36=0,\"\",'Data Input'!A36)","v":""},{"$f":"IF(ISBLANK('Data Input'!A36),\"\",COUNTIF('Data Input'!C36:AZ36,\"\"))","v":""},{"$f":"IF(ISBLANK('Data Input'!A36),\"\",COUNTIF('Data Input'!C36:AZ36,\"0\"))","v":""},{"$f":"IF(ISBLANK('Data Input'!A36),\"\",SUM(B32,C32))","v":""},{"$f":"IF(ISBLANK('Data Input'!A36),\"\",SUM('Data Input'!C36:AZ36))","v":""},{"$f":"IF(E32=\"\",\"\",E32/(COUNTA('Data Input'!$C$8:$AZ$8)))","v":""},{"$f":"IF(ISBLANK('Data Input'!A36),\"\",SUM('Data Input'!R36,'Data Input'!AA36,'Data Input'!AB36,'Data Input'!AC36,'Data Input'!AE36,'Data Input'!AH36,'Data Input'!AQ36,'Data Input'!AR36))","v":""},{"$f":"IF(G32=\"\",\"\",G32/COUNTIF('Data Input'!$C$8:$AZ$8,$G$2))","v":""},{"$f":"IF(ISBLANK('Data Input'!A36),\"\",SUM('Data Input'!D36,'Data Input'!E36,'Data Input'!F36,'Data Input'!G36,'Data Input'!H36,'Data Input'!J36,'Data Input'!K36,'Data Input'!O36,'Data Input'!U36,'Data Input'!V36,'Data Input'!W36,'Data Input'!X36,'Data Input'!Z36,'Data Input'!AG36,'Data Input'!AI36,'Data Input'!AJ36,'Data Input'!AK36))","v":""},{"$f":"IF(I32=\"\",\"\",I32/COUNTIF('Data Input'!$C$8:$AZ$8,$I$2))","v":""},{"$f":"IF(ISBLANK('Data Input'!A36),\"\",SUM('Data Input'!AF36,'Data Input'!AV36))","v":""},{"$f":"IF(K32=\"\",\"\",K32/COUNTIF('Data Input'!$C$8:$AZ$8,$K$2))","v":""},{"$f":"IF(ISBLANK('Data Input'!A36),\"\",SUM('Data Input'!C36,'Data Input'!I36,'Data Input'!L36,'Data Input'!M36,'Data Input'!N36,'Data Input'!P36,'Data Input'!S36,'Data Input'!T36,'Data Input'!Y36,'Data Input'!AD36,'Data Input'!AL36,'Data Input'!AM36,'Data Input'!AN36,'Data Input'!AO36,'Data Input'!AP36,'Data Input'!AS36))","v":""},{"$f":"IF(M32=\"\",\"\",M32/COUNTIF('Data Input'!$C$8:$AZ$8,$M$2))","v":""},{"$f":"IF(ISBLANK('Data Input'!A36),\"\",SUM('Data Input'!AY36,'Data Input'!AZ36))","v":""},{"$f":"IF(O32=\"\",\"\",O32/COUNTIF('Data Input'!$C$8:$AZ$8,$O$2))","v":""},{"$f":"IF(ISBLANK('Data Input'!A36),\"\",SUM('Data Input'!AW36))","v":""},{"$f":"IF(Q32=\"\",\"\",Q32/COUNTIF('Data Input'!$C$8:$AZ$8,$Q$2))","v":""},{"$f":"IF(ISBLANK('Data Input'!$A36),\"\",SUM('Data Input'!Q36,'Data Input'!AT36,'Data Input'!AU36))","v":""},{"$f":"IF(S32=\"\",\"\",S32/COUNTIF('Data Input'!$C$8:$AZ$8,$S$2))","v":""},{"$f":"IF(ISBLANK('Data Input'!$A36),\"\",SUM('Data Input'!AX36))","v":""},{"$f":"IF(U32=\"\",\"\",U32/COUNTIF('Data Input'!$C$8:$AZ$8,$U$2))","v":""}]
[{"$f":"IF('Data Input'!A37=0,\"\",'Data Input'!A37)","v":""},{"$f":"IF(ISBLANK('Data Input'!A37),\"\",COUNTIF('Data Input'!C37:AZ37,\"\"))","v":""},{"$f":"IF(ISBLANK('Data Input'!A37),\"\",COUNTIF('Data Input'!C37:AZ37,\"0\"))","v":""},{"$f":"IF(ISBLANK('Data Input'!A37),\"\",SUM(B33,C33))","v":""},{"$f":"IF(ISBLANK('Data Input'!A37),\"\",SUM('Data Input'!C37:AZ37))","v":""},{"$f":"IF(E33=\"\",\"\",E33/(COUNTA('Data Input'!$C$8:$AZ$8)))","v":""},{"$f":"IF(ISBLANK('Data Input'!A37),\"\",SUM('Data Input'!R37,'Data Input'!AA37,'Data Input'!AB37,'Data Input'!AC37,'Data Input'!AE37,'Data Input'!AH37,'Data Input'!AQ37,'Data Input'!AR37))","v":""},{"$f":"IF(G33=\"\",\"\",G33/COUNTIF('Data Input'!$C$8:$AZ$8,$G$2))","v":""},{"$f":"IF(ISBLANK('Data Input'!A37),\"\",SUM('Data Input'!D37,'Data Input'!E37,'Data Input'!F37,'Data Input'!G37,'Data Input'!H37,'Data Input'!J37,'Data Input'!K37,'Data Input'!O37,'Data Input'!U37,'Data Input'!V37,'Data Input'!W37,'Data Input'!X37,'Data Input'!Z37,'Data Input'!AG37,'Data Input'!AI37,'Data Input'!AJ37,'Data Input'!AK37))","v":""},{"$f":"IF(I33=\"\",\"\",I33/COUNTIF('Data Input'!$C$8:$AZ$8,$I$2))","v":""},{"$f":"IF(ISBLANK('Data Input'!A37),\"\",SUM('Data Input'!AF37,'Data Input'!AV37))","v":""},{"$f":"IF(K33=\"\",\"\",K33/COUNTIF('Data Input'!$C$8:$AZ$8,$K$2))","v":""},{"$f":"IF(ISBLANK('Data Input'!A37),\"\",SUM('Data Input'!C37,'Data Input'!I37,'Data Input'!L37,'Data Input'!M37,'Data Input'!N37,'Data Input'!P37,'Data Input'!S37,'Data Input'!T37,'Data Input'!Y37,'Data Input'!AD37,'Data Input'!AL37,'Data Input'!AM37,'Data Input'!AN37,'Data Input'!AO37,'Data Input'!AP37,'Data Input'!AS37))","v":""},{"$f":"IF(M33=\"\",\"\",M33/COUNTIF('Data Input'!$C$8:$AZ$8,$M$2))","v":""},{"$f":"IF(ISBLANK('Data Input'!A37),\"\",SUM('Data Input'!AY37,'Data Input'!AZ37))","v":""},{"$f":"IF(O33=\"\",\"\",O33/COUNTIF('Data Input'!$C$8:$AZ$8,$O$2))","v":""},{"$f":"IF(ISBLANK('Data Input'!A37),\"\",SUM('Data Input'!AW37))","v":""},{"$f":"IF(Q33=\"\",\"\",Q33/COUNTIF('Data Input'!$C$8:$AZ$8,$Q$2))","v":""},{"$f":"IF(ISBLANK('Data Input'!$A37),\"\",SUM('Data Input'!Q37,'Data Input'!AT37,'Data Input'!AU37))","v":""},{"$f":"IF(S33=\"\",\"\",S33/COUNTIF('Data Input'!$C$8:$AZ$8,$S$2))","v":""},{"$f":"IF(ISBLANK('Data Input'!$A37),\"\",SUM('Data Input'!AX37))","v":""},{"$f":"IF(U33=\"\",\"\",U33/COUNTIF('Data Input'!$C$8:$AZ$8,$U$2))","v":""}]
[{"$f":"IF('Data Input'!A38=0,\"\",'Data Input'!A38)","v":""},{"$f":"IF(ISBLANK('Data Input'!A38),\"\",COUNTIF('Data Input'!C38:AZ38,\"\"))","v":""},{"$f":"IF(ISBLANK('Data Input'!A38),\"\",COUNTIF('Data Input'!C38:AZ38,\"0\"))","v":""},{"$f":"IF(ISBLANK('Data Input'!A38),\"\",SUM(B34,C34))","v":""},{"$f":"IF(ISBLANK('Data Input'!A38),\"\",SUM('Data Input'!C38:AZ38))","v":""},{"$f":"IF(E34=\"\",\"\",E34/(COUNTA('Data Input'!$C$8:$AZ$8)))","v":""},{"$f":"IF(ISBLANK('Data Input'!A38),\"\",SUM('Data Input'!R38,'Data Input'!AA38,'Data Input'!AB38,'Data Input'!AC38,'Data Input'!AE38,'Data Input'!AH38,'Data Input'!AQ38,'Data Input'!AR38))","v":""},{"$f":"IF(G34=\"\",\"\",G34/COUNTIF('Data Input'!$C$8:$AZ$8,$G$2))","v":""},{"$f":"IF(ISBLANK('Data Input'!A38),\"\",SUM('Data Input'!D38,'Data Input'!E38,'Data Input'!F38,'Data Input'!G38,'Data Input'!H38,'Data Input'!J38,'Data Input'!K38,'Data Input'!O38,'Data Input'!U38,'Data Input'!V38,'Data Input'!W38,'Data Input'!X38,'Data Input'!Z38,'Data Input'!AG38,'Data Input'!AI38,'Data Input'!AJ38,'Data Input'!AK38))","v":""},{"$f":"IF(I34=\"\",\"\",I34/COUNTIF('Data Input'!$C$8:$AZ$8,$I$2))","v":""},{"$f":"IF(ISBLANK('Data Input'!A38),\"\",SUM('Data Input'!AF38,'Data Input'!AV38))","v":""},{"$f":"IF(K34=\"\",\"\",K34/COUNTIF('Data Input'!$C$8:$AZ$8,$K$2))","v":""},{"$f":"IF(ISBLANK('Data Input'!A38),\"\",SUM('Data Input'!C38,'Data Input'!I38,'Data Input'!L38,'Data Input'!M38,'Data Input'!N38,'Data Input'!P38,'Data Input'!S38,'Data Input'!T38,'Data Input'!Y38,'Data Input'!AD38,'Data Input'!AL38,'Data Input'!AM38,'Data Input'!AN38,'Data Input'!AO38,'Data Input'!AP38,'Data Input'!AS38))","v":""},{"$f":"IF(M34=\"\",\"\",M34/COUNTIF('Data Input'!$C$8:$AZ$8,$M$2))","v":""},{"$f":"IF(ISBLANK('Data Input'!A38),\"\",SUM('Data Input'!AY38,'Data Input'!AZ38))","v":""},{"$f":"IF(O34=\"\",\"\",O34/COUNTIF('Data Input'!$C$8:$AZ$8,$O$2))","v":""},{"$f":"IF(ISBLANK('Data Input'!A38),\"\",SUM('Data Input'!AW38))","v":""},{"$f":"IF(Q34=\"\",\"\",Q34/COUNTIF('Data Input'!$C$8:$AZ$8,$Q$2))","v":""},{"$f":"IF(ISBLANK('Data Input'!$A38),\"\",SUM('Data Input'!Q38,'Data Input'!AT38,'Data Input'!AU38))","v":""},{"$f":"IF(S34=\"\",\"\",S34/COUNTIF('Data Input'!$C$8:$AZ$8,$S$2))","v":""},{"$f":"IF(ISBLANK('Data Input'!$A38),\"\",SUM('Data Input'!AX38))","v":""},{"$f":"IF(U34=\"\",\"\",U34/COUNTIF('Data Input'!$C$8:$AZ$8,$U$2))","v":""}]
[{"$f":"IF('Data Input'!A39=0,\"\",'Data Input'!A39)","v":""},{"$f":"IF(ISBLANK('Data Input'!A39),\"\",COUNTIF('Data Input'!C39:AZ39,\"\"))","v":""},{"$f":"IF(ISBLANK('Data Input'!A39),\"\",COUNTIF('Data Input'!C39:AZ39,\"0\"))","v":""},{"$f":"IF(ISBLANK('Data Input'!A39),\"\",SUM(B35,C35))","v":""},{"$f":"IF(ISBLANK('Data Input'!A39),\"\",SUM('Data Input'!C39:AZ39))","v":""},{"$f":"IF(E35=\"\",\"\",E35/(COUNTA('Data Input'!$C$8:$AZ$8)))","v":""},{"$f":"IF(ISBLANK('Data Input'!A39),\"\",SUM('Data Input'!R39,'Data Input'!AA39,'Data Input'!AB39,'Data Input'!AC39,'Data Input'!AE39,'Data Input'!AH39,'Data Input'!AQ39,'Data Input'!AR39))","v":""},{"$f":"IF(G35=\"\",\"\",G35/COUNTIF('Data Input'!$C$8:$AZ$8,$G$2))","v":""},{"$f":"IF(ISBLANK('Data Input'!A39),\"\",SUM('Data Input'!D39,'Data Input'!E39,'Data Input'!F39,'Data Input'!G39,'Data Input'!H39,'Data Input'!J39,'Data Input'!K39,'Data Input'!O39,'Data Input'!U39,'Data Input'!V39,'Data Input'!W39,'Data Input'!X39,'Data Input'!Z39,'Data Input'!AG39,'Data Input'!AI39,'Data Input'!AJ39,'Data Input'!AK39))","v":""},{"$f":"IF(I35=\"\",\"\",I35/COUNTIF('Data Input'!$C$8:$AZ$8,$I$2))","v":""},{"$f":"IF(ISBLANK('Data Input'!A39),\"\",SUM('Data Input'!AF39,'Data Input'!AV39))","v":""},{"$f":"IF(K35=\"\",\"\",K35/COUNTIF('Data Input'!$C$8:$AZ$8,$K$2))","v":""},{"$f":"IF(ISBLANK('Data Input'!A39),\"\",SUM('Data Input'!C39,'Data Input'!I39,'Data Input'!L39,'Data Input'!M39,'Data Input'!N39,'Data Input'!P39,'Data Input'!S39,'Data Input'!T39,'Data Input'!Y39,'Data Input'!AD39,'Data Input'!AL39,'Data Input'!AM39,'Data Input'!AN39,'Data Input'!AO39,'Data Input'!AP39,'Data Input'!AS39))","v":""},{"$f":"IF(M35=\"\",\"\",M35/COUNTIF('Data Input'!$C$8:$AZ$8,$M$2))","v":""},{"$f":"IF(ISBLANK('Data Input'!A39),\"\",SUM('Data Input'!AY39,'Data Input'!AZ39))","v":""},{"$f":"IF(O35=\"\",\"\",O35/COUNTIF('Data Input'!$C$8:$AZ$8,$O$2))","v":""},{"$f":"IF(ISBLANK('Data Input'!A39),\"\",SUM('Data Input'!AW39))","v":""},{"$f":"IF(Q35=\"\",\"\",Q35/COUNTIF('Data Input'!$C$8:$AZ$8,$Q$2))","v":""},{"$f":"IF(ISBLANK('Data Input'!$A39),\"\",SUM('Data Input'!Q39,'Data Input'!AT39,'Data Input'!AU39))","v":""},{"$f":"IF(S35=\"\",\"\",S35/COUNTIF('Data Input'!$C$8:$AZ$8,$S$2))","v":""},{"$f":"IF(ISBLANK('Data Input'!$A39),\"\",SUM('Data Input'!AX39))","v":""},{"$f":"IF(U35=\"\",\"\",U35/COUNTIF('Data Input'!$C$8:$AZ$8,$U$2))","v":""}]
[{"$f":"IF('Data Input'!A40=0,\"\",'Data Input'!A40)","v":""},{"$f":"IF(ISBLANK('Data Input'!A40),\"\",COUNTIF('Data Input'!C40:AZ40,\"\"))","v":""},{"$f":"IF(ISBLANK('Data Input'!A40),\"\",COUNTIF('Data Input'!C40:AZ40,\"0\"))","v":""},{"$f":"IF(ISBLANK('Data Input'!A40),\"\",SUM(B36,C36))","v":""},{"$f":"IF(ISBLANK('Data Input'!A40),\"\",SUM('Data Input'!C40:AZ40))","v":""},{"$f":"IF(E36=\"\",\"\",E36/(COUNTA('Data Input'!$C$8:$AZ$8)))","v":""},{"$f":"IF(ISBLANK('Data Input'!A40),\"\",SUM('Data Input'!R40,'Data Input'!AA40,'Data Input'!AB40,'Data Input'!AC40,'Data Input'!AE40,'Data Input'!AH40,'Data Input'!AQ40,'Data Input'!AR40))","v":""},{"$f":"IF(G36=\"\",\"\",G36/COUNTIF('Data Input'!$C$8:$AZ$8,$G$2))","v":""},{"$f":"IF(ISBLANK('Data Input'!A40),\"\",SUM('Data Input'!D40,'Data Input'!E40,'Data Input'!F40,'Data Input'!G40,'Data Input'!H40,'Data Input'!J40,'Data Input'!K40,'Data Input'!O40,'Data Input'!U40,'Data Input'!V40,'Data Input'!W40,'Data Input'!X40,'Data Input'!Z40,'Data Input'!AG40,'Data Input'!AI40,'Data Input'!AJ40,'Data Input'!AK40))","v":""},{"$f":"IF(I36=\"\",\"\",I36/COUNTIF('Data Input'!$C$8:$AZ$8,$I$2))","v":""},{"$f":"IF(ISBLANK('Data Input'!A40),\"\",SUM('Data Input'!AF40,'Data Input'!AV40))","v":""},{"$f":"IF(K36=\"\",\"\",K36/COUNTIF('Data Input'!$C$8:$AZ$8,$K$2))","v":""},{"$f":"IF(ISBLANK('Data Input'!A40),\"\",SUM('Data Input'!C40,'Data Input'!I40,'Data Input'!L40,'Data Input'!M40,'Data Input'!N40,'Data Input'!P40,'Data Input'!S40,'Data Input'!T40,'Data Input'!Y40,'Data Input'!AD40,'Data Input'!AL40,'Data Input'!AM40,'Data Input'!AN40,'Data Input'!AO40,'Data Input'!AP40,'Data Input'!AS40))","v":""},{"$f":"IF(M36=\"\",\"\",M36/COUNTIF('Data Input'!$C$8:$AZ$8,$M$2))","v":""},{"$f":"IF(ISBLANK('Data Input'!A40),\"\",SUM('Data Input'!AY40,'Data Input'!AZ40))","v":""},{"$f":"IF(O36=\"\",\"\",O36/COUNTIF('Data Input'!$C$8:$AZ$8,$O$2))","v":""},{"$f":"IF(ISBLANK('Data Input'!A40),\"\",SUM('Data Input'!AW40))","v":""},{"$f":"IF(Q36=\"\",\"\",Q36/COUNTIF('Data Input'!$C$8:$AZ$8,$Q$2))","v":""},{"$f":"IF(ISBLANK('Data Input'!$A40),\"\",SUM('Data Input'!Q40,'Data Input'!AT40,'Data Input'!AU40))","v":""},{"$f":"IF(S36=\"\",\"\",S36/COUNTIF('Data Input'!$C$8:$AZ$8,$S$2))","v":""},{"$f":"IF(ISBLANK('Data Input'!$A40),\"\",SUM('Data Input'!AX40))","v":""},{"$f":"IF(U36=\"\",\"\",U36/COUNTIF('Data Input'!$C$8:$AZ$8,$U$2))","v":""}]
[{"$f":"IF('Data Input'!A41=0,\"\",'Data Input'!A41)","v":""},{"$f":"IF(ISBLANK('Data Input'!A41),\"\",COUNTIF('Data Input'!C41:AZ41,\"\"))","v":""},{"$f":"IF(ISBLANK('Data Input'!A41),\"\",COUNTIF('Data Input'!C41:AZ41,\"0\"))","v":""},{"$f":"IF(ISBLANK('Data Input'!A41),\"\",SUM(B37,C37))","v":""},{"$f":"IF(ISBLANK('Data Input'!A41),\"\",SUM('Data Input'!C41:AZ41))","v":""},{"$f":"IF(E37=\"\",\"\",E37/(COUNTA('Data Input'!$C$8:$AZ$8)))","v":""},{"$f":"IF(ISBLANK('Data Input'!A41),\"\",SUM('Data Input'!R41,'Data Input'!AA41,'Data Input'!AB41,'Data Input'!AC41,'Data Input'!AE41,'Data Input'!AH41,'Data Input'!AQ41,'Data Input'!AR41))","v":""},{"$f":"IF(G37=\"\",\"\",G37/COUNTIF('Data Input'!$C$8:$AZ$8,$G$2))","v":""},{"$f":"IF(ISBLANK('Data Input'!A41),\"\",SUM('Data Input'!D41,'Data Input'!E41,'Data Input'!F41,'Data Input'!G41,'Data Input'!H41,'Data Input'!J41,'Data Input'!K41,'Data Input'!O41,'Data Input'!U41,'Data Input'!V41,'Data Input'!W41,'Data Input'!X41,'Data Input'!Z41,'Data Input'!AG41,'Data Input'!AI41,'Data Input'!AJ41,'Data Input'!AK41))","v":""},{"$f":"IF(I37=\"\",\"\",I37/COUNTIF('Data Input'!$C$8:$AZ$8,$I$2))","v":""},{"$f":"IF(ISBLANK('Data Input'!A41),\"\",SUM('Data Input'!AF41,'Data Input'!AV41))","v":""},{"$f":"IF(K37=\"\",\"\",K37/COUNTIF('Data Input'!$C$8:$AZ$8,$K$2))","v":""},{"$f":"IF(ISBLANK('Data Input'!A41),\"\",SUM('Data Input'!C41,'Data Input'!I41,'Data Input'!L41,'Data Input'!M41,'Data Input'!N41,'Data Input'!P41,'Data Input'!S41,'Data Input'!T41,'Data Input'!Y41,'Data Input'!AD41,'Data Input'!AL41,'Data Input'!AM41,'Data Input'!AN41,'Data Input'!AO41,'Data Input'!AP41,'Data Input'!AS41))","v":""},{"$f":"IF(M37=\"\",\"\",M37/COUNTIF('Data Input'!$C$8:$AZ$8,$M$2))","v":""},{"$f":"IF(ISBLANK('Data Input'!A41),\"\",SUM('Data Input'!AY41,'Data Input'!AZ41))","v":""},{"$f":"IF(O37=\"\",\"\",O37/COUNTIF('Data Input'!$C$8:$AZ$8,$O$2))","v":""},{"$f":"IF(ISBLANK('Data Input'!A41),\"\",SUM('Data Input'!AW41))","v":""},{"$f":"IF(Q37=\"\",\"\",Q37/COUNTIF('Data Input'!$C$8:$AZ$8,$Q$2))","v":""},{"$f":"IF(ISBLANK('Data Input'!$A41),\"\",SUM('Data Input'!Q41,'Data Input'!AT41,'Data Input'!AU41))","v":""},{"$f":"IF(S37=\"\",\"\",S37/COUNTIF('Data Input'!$C$8:$AZ$8,$S$2))","v":""},{"$f":"IF(ISBLANK('Data Input'!$A41),\"\",SUM('Data Input'!AX41))","v":""},{"$f":"IF(U37=\"\",\"\",U37/COUNTIF('Data Input'!$C$8:$AZ$8,$U$2))","v":""}]
[{"$f":"IF('Data Input'!A42=0,\"\",'Data Input'!A42)","v":""},{"$f":"IF(ISBLANK('Data Input'!A42),\"\",COUNTIF('Data Input'!C42:AZ42,\"\"))","v":""},{"$f":"IF(ISBLANK('Data Input'!A42),\"\",COUNTIF('Data Input'!C42:AZ42,\"0\"))","v":""},{"$f":"IF(ISBLANK('Data Input'!A42),\"\",SUM(B38,C38))","v":""},{"$f":"IF(ISBLANK('Data Input'!A42),\"\",SUM('Data Input'!C42:AZ42))","v":""},{"$f":"IF(E38=\"\",\"\",E38/(COUNTA('Data Input'!$C$8:$AZ$8)))","v":""},{"$f":"IF(ISBLANK('Data Input'!A42),\"\",SUM('Data Input'!R42,'Data Input'!AA42,'Data Input'!AB42,'Data Input'!AC42,'Data Input'!AE42,'Data Input'!AH42,'Data Input'!AQ42,'Data Input'!AR42))","v":""},{"$f":"IF(G38=\"\",\"\",G38/COUNTIF('Data Input'!$C$8:$AZ$8,$G$2))","v":""},{"$f":"IF(ISBLANK('Data Input'!A42),\"\",SUM('Data Input'!D42,'Data Input'!E42,'Data Input'!F42,'Data Input'!G42,'Data Input'!H42,'Data Input'!J42,'Data Input'!K42,'Data Input'!O42,'Data Input'!U42,'Data Input'!V42,'Data Input'!W42,'Data Input'!X42,'Data Input'!Z42,'Data Input'!AG42,'Data Input'!AI42,'Data Input'!AJ42,'Data Input'!AK42))","v":""},{"$f":"IF(I38=\"\",\"\",I38/COUNTIF('Data Input'!$C$8:$AZ$8,$I$2))","v":""},{"$f":"IF(ISBLANK('Data Input'!A42),\"\",SUM('Data Input'!AF42,'Data Input'!AV42))","v":""},{"$f":"IF(K38=\"\",\"\",K38/COUNTIF('Data Input'!$C$8:$AZ$8,$K$2))","v":""},{"$f":"IF(ISBLANK('Data Input'!A42),\"\",SUM('Data Input'!C42,'Data Input'!I42,'Data Input'!L42,'Data Input'!M42,'Data Input'!N42,'Data Input'!P42,'Data Input'!S42,'Data Input'!T42,'Data Input'!Y42,'Data Input'!AD42,'Data Input'!AL42,'Data Input'!AM42,'Data Input'!AN42,'Data Input'!AO42,'Data Input'!AP42,'Data Input'!AS42))","v":""},{"$f":"IF(M38=\"\",\"\",M38/COUNTIF('Data Input'!$C$8:$AZ$8,$M$2))","v":""},{"$f":"IF(ISBLANK('Data Input'!A42),\"\",SUM('Data Input'!AY42,'Data Input'!AZ42))","v":""},{"$f":"IF(O38=\"\",\"\",O38/COUNTIF('Data Input'!$C$8:$AZ$8,$O$2))","v":""},{"$f":"IF(ISBLANK('Data Input'!A42),\"\",SUM('Data Input'!AW42))","v":""},{"$f":"IF(Q38=\"\",\"\",Q38/COUNTIF('Data Input'!$C$8:$AZ$8,$Q$2))","v":""},{"$f":"IF(ISBLANK('Data Input'!$A42),\"\",SUM('Data Input'!Q42,'Data Input'!AT42,'Data Input'!AU42))","v":""},{"$f":"IF(S38=\"\",\"\",S38/COUNTIF('Data Input'!$C$8:$AZ$8,$S$2))","v":""},{"$f":"IF(ISBLANK('Data Input'!$A42),\"\",SUM('Data Input'!AX42))","v":""},{"$f":"IF(U38=\"\",\"\",U38/COUNTIF('Data Input'!$C$8:$AZ$8,$U$2))","v":""}]
[{"$f":"IF('Data Input'!A43=0,\"\",'Data Input'!A43)","v":""},{"$f":"IF(ISBLANK('Data Input'!A43),\"\",COUNTIF('Data Input'!C43:AZ43,\"\"))","v":""},{"$f":"IF(ISBLANK('Data Input'!A43),\"\",COUNTIF('Data Input'!C43:AZ43,\"0\"))","v":""},{"$f":"IF(ISBLANK('Data Input'!A43),\"\",SUM(B39,C39))","v":""},{"$f":"IF(ISBLANK('Data Input'!A43),\"\",SUM('Data Input'!C43:AZ43))","v":""},{"$f":"IF(E39=\"\",\"\",E39/(COUNTA('Data Input'!$C$8:$AZ$8)))","v":""},{"$f":"IF(ISBLANK('Data Input'!A43),\"\",SUM('Data Input'!R43,'Data Input'!AA43,'Data Input'!AB43,'Data Input'!AC43,'Data Input'!AE43,'Data Input'!AH43,'Data Input'!AQ43,'Data Input'!AR43))","v":""},{"$f":"IF(G39=\"\",\"\",G39/COUNTIF('Data Input'!$C$8:$AZ$8,$G$2))","v":""},{"$f":"IF(ISBLANK('Data Input'!A43),\"\",SUM('Data Input'!D43,'Data Input'!E43,'Data Input'!F43,'Data Input'!G43,'Data Input'!H43,'Data Input'!J43,'Data Input'!K43,'Data Input'!O43,'Data Input'!U43,'Data Input'!V43,'Data Input'!W43,'Data Input'!X43,'Data Input'!Z43,'Data Input'!AG43,'Data Input'!AI43,'Data Input'!AJ43,'Data Input'!AK43))","v":""},{"$f":"IF(I39=\"\",\"\",I39/COUNTIF('Data Input'!$C$8:$AZ$8,$I$2))","v":""},{"$f":"IF(ISBLANK('Data Input'!A43),\"\",SUM('Data Input'!AF43,'Data Input'!AV43))","v":""},{"$f":"IF(K39=\"\",\"\",K39/COUNTIF('Data Input'!$C$8:$AZ$8,$K$2))","v":""},{"$f":"IF(ISBLANK('Data Input'!A43),\"\",SUM('Data Input'!C43,'Data Input'!I43,'Data Input'!L43,'Data Input'!M43,'Data Input'!N43,'Data Input'!P43,'Data Input'!S43,'Data Input'!T43,'Data Input'!Y43,'Data Input'!AD43,'Data Input'!AL43,'Data Input'!AM43,'Data Input'!AN43,'Data Input'!AO43,'Data Input'!AP43,'Data Input'!AS43))","v":""},{"$f":"IF(M39=\"\",\"\",M39/COUNTIF('Data Input'!$C$8:$AZ$8,$M$2))","v":""},{"$f":"IF(ISBLANK('Data Input'!A43),\"\",SUM('Data Input'!AY43,'Data Input'!AZ43))","v":""},{"$f":"IF(O39=\"\",\"\",O39/COUNTIF('Data Input'!$C$8:$AZ$8,$O$2))","v":""},{"$f":"IF(ISBLANK('Data Input'!A43),\"\",SUM('Data Input'!AW43))","v":""},{"$f":"IF(Q39=\"\",\"\",Q39/COUNTIF('Data Input'!$C$8:$AZ$8,$Q$2))","v":""},{"$f":"IF(ISBLANK('Data Input'!$A43),\"\",SUM('Data Input'!Q43,'Data Input'!AT43,'Data Input'!AU43))","v":""},{"$f":"IF(S39=\"\",\"\",S39/COUNTIF('Data Input'!$C$8:$AZ$8,$S$2))","v":""},{"$f":"IF(ISBLANK('Data Input'!$A43),\"\",SUM('Data Input'!AX43))","v":""},{"$f":"IF(U39=\"\",\"\",U39/COUNTIF('Data Input'!$C$8:$AZ$8,$U$2))","v":""}]
[{"$f":"IF('Data Input'!A44=0,\"\",'Data Input'!A44)","v":""},{"$f":"IF(ISBLANK('Data Input'!A44),\"\",COUNTIF('Data Input'!C44:AZ44,\"\"))","v":""},{"$f":"IF(ISBLANK('Data Input'!A44),\"\",COUNTIF('Data Input'!C44:AZ44,\"0\"))","v":""},{"$f":"IF(ISBLANK('Data Input'!A44),\"\",SUM(B40,C40))","v":""},{"$f":"IF(ISBLANK('Data Input'!A44),\"\",SUM('Data Input'!C44:AZ44))","v":""},{"$f":"IF(E40=\"\",\"\",E40/(COUNTA('Data Input'!$C$8:$AZ$8)))","v":""},{"$f":"IF(ISBLANK('Data Input'!A44),\"\",SUM('Data Input'!R44,'Data Input'!AA44,'Data Input'!AB44,'Data Input'!AC44,'Data Input'!AE44,'Data Input'!AH44,'Data Input'!AQ44,'Data Input'!AR44))","v":""},{"$f":"IF(G40=\"\",\"\",G40/COUNTIF('Data Input'!$C$8:$AZ$8,$G$2))","v":""},{"$f":"IF(ISBLANK('Data Input'!A44),\"\",SUM('Data Input'!D44,'Data Input'!E44,'Data Input'!F44,'Data Input'!G44,'Data Input'!H44,'Data Input'!J44,'Data Input'!K44,'Data Input'!O44,'Data Input'!U44,'Data Input'!V44,'Data Input'!W44,'Data Input'!X44,'Data Input'!Z44,'Data Input'!AG44,'Data Input'!AI44,'Data Input'!AJ44,'Data Input'!AK44))","v":""},{"$f":"IF(I40=\"\",\"\",I40/COUNTIF('Data Input'!$C$8:$AZ$8,$I$2))","v":""},{"$f":"IF(ISBLANK('Data Input'!A44),\"\",SUM('Data Input'!AF44,'Data Input'!AV44))","v":""},{"$f":"IF(K40=\"\",\"\",K40/COUNTIF('Data Input'!$C$8:$AZ$8,$K$2))","v":""},{"$f":"IF(ISBLANK('Data Input'!A44),\"\",SUM('Data Input'!C44,'Data Input'!I44,'Data Input'!L44,'Data Input'!M44,'Data Input'!N44,'Data Input'!P44,'Data Input'!S44,'Data Input'!T44,'Data Input'!Y44,'Data Input'!AD44,'Data Input'!AL44,'Data Input'!AM44,'Data Input'!AN44,'Data Input'!AO44,'Data Input'!AP44,'Data Input'!AS44))","v":""},{"$f":"IF(M40=\"\",\"\",M40/COUNTIF('Data Input'!$C$8:$AZ$8,$M$2))","v":""},{"$f":"IF(ISBLANK('Data Input'!A44),\"\",SUM('Data Input'!AY44,'Data Input'!AZ44))","v":""},{"$f":"IF(O40=\"\",\"\",O40/COUNTIF('Data Input'!$C$8:$AZ$8,$O$2))","v":""},{"$f":"IF(ISBLANK('Data Input'!A44),\"\",SUM('Data Input'!AW44))","v":""},{"$f":"IF(Q40=\"\",\"\",Q40/COUNTIF('Data Input'!$C$8:$AZ$8,$Q$2))","v":""},{"$f":"IF(ISBLANK('Data Input'!$A44),\"\",SUM('Data Input'!Q44,'Data Input'!AT44,'Data Input'!AU44))","v":""},{"$f":"IF(S40=\"\",\"\",S40/COUNTIF('Data Input'!$C$8:$AZ$8,$S$2))","v":""},{"$f":"IF(ISBLANK('Data Input'!$A44),\"\",SUM('Data Input'!AX44))","v":""},{"$f":"IF(U40=\"\",\"\",U40/COUNTIF('Data Input'!$C$8:$AZ$8,$U$2))","v":""}]
[{"$f":"IF('Data Input'!A45=0,\"\",'Data Input'!A45)","v":""},{"$f":"IF(ISBLANK('Data Input'!A45),\"\",COUNTIF('Data Input'!C45:AZ45,\"\"))","v":""},{"$f":"IF(ISBLANK('Data Input'!A45),\"\",COUNTIF('Data Input'!C45:AZ45,\"0\"))","v":""},{"$f":"IF(ISBLANK('Data Input'!A45),\"\",SUM(B41,C41))","v":""},{"$f":"IF(ISBLANK('Data Input'!A45),\"\",SUM('Data Input'!C45:AZ45))","v":""},{"$f":"IF(E41=\"\",\"\",E41/(COUNTA('Data Input'!$C$8:$AZ$8)))","v":""},{"$f":"IF(ISBLANK('Data Input'!A45),\"\",SUM('Data Input'!R45,'Data Input'!AA45,'Data Input'!AB45,'Data Input'!AC45,'Data Input'!AE45,'Data Input'!AH45,'Data Input'!AQ45,'Data Input'!AR45))","v":""},{"$f":"IF(G41=\"\",\"\",G41/COUNTIF('Data Input'!$C$8:$AZ$8,$G$2))","v":""},{"$f":"IF(ISBLANK('Data Input'!A45),\"\",SUM('Data Input'!D45,'Data Input'!E45,'Data Input'!F45,'Data Input'!G45,'Data Input'!H45,'Data Input'!J45,'Data Input'!K45,'Data Input'!O45,'Data Input'!U45,'Data Input'!V45,'Data Input'!W45,'Data Input'!X45,'Data Input'!Z45,'Data Input'!AG45,'Data Input'!AI45,'Data Input'!AJ45,'Data Input'!AK45))","v":""},{"$f":"IF(I41=\"\",\"\",I41/COUNTIF('Data Input'!$C$8:$AZ$8,$I$2))","v":""},{"$f":"IF(ISBLANK('Data Input'!A45),\"\",SUM('Data Input'!AF45,'Data Input'!AV45))","v":""},{"$f":"IF(K41=\"\",\"\",K41/COUNTIF('Data Input'!$C$8:$AZ$8,$K$2))","v":""},{"$f":"IF(ISBLANK('Data Input'!A45),\"\",SUM('Data Input'!C45,'Data Input'!I45,'Data Input'!L45,'Data Input'!M45,'Data Input'!N45,'Data Input'!P45,'Data Input'!S45,'Data Input'!T45,'Data Input'!Y45,'Data Input'!AD45,'Data Input'!AL45,'Data Input'!AM45,'Data Input'!AN45,'Data Input'!AO45,'Data Input'!AP45,'Data Input'!AS45))","v":""},{"$f":"IF(M41=\"\",\"\",M41/COUNTIF('Data Input'!$C$8:$AZ$8,$M$2))","v":""},{"$f":"IF(ISBLANK('Data Input'!A45),\"\",SUM('Data Input'!AY45,'Data Input'!AZ45))","v":""},{"$f":"IF(O41=\"\",\"\",O41/COUNTIF('Data Input'!$C$8:$AZ$8,$O$2))","v":""},{"$f":"IF(ISBLANK('Data Input'!A45),\"\",SUM('Data Input'!AW45))","v":""},{"$f":"IF(Q41=\"\",\"\",Q41/COUNTIF('Data Input'!$C$8:$AZ$8,$Q$2))","v":""},{"$f":"IF(ISBLANK('Data Input'!$A45),\"\",SUM('Data Input'!Q45,'Data Input'!AT45,'Data Input'!AU45))","v":""},{"$f":"IF(S41=\"\",\"\",S41/COUNTIF('Data Input'!$C$8:$AZ$8,$S$2))","v":""},{"$f":"IF(ISBLANK('Data Input'!$A45),\"\",SUM('Data Input'!AX45))","v":""},{"$f":"IF(U41=\"\",\"\",U41/COUNTIF('Data Input'!$C$8:$AZ$8,$U$2))","v":""}]
[{"$f":"IF('Data Input'!A46=0,\"\",'Data Input'!A46)","v":""},{"$f":"IF(ISBLANK('Data Input'!A46),\"\",COUNTIF('Data Input'!C46:AZ46,\"\"))","v":""},{"$f":"IF(ISBLANK('Data Input'!A46),\"\",COUNTIF('Data Input'!C46:AZ46,\"0\"))","v":""},{"$f":"IF(ISBLANK('Data Input'!A46),\"\",SUM(B42,C42))","v":""},{"$f":"IF(ISBLANK('Data Input'!A46),\"\",SUM('Data Input'!C46:AZ46))","v":""},{"$f":"IF(E42=\"\",\"\",E42/(COUNTA('Data Input'!$C$8:$AZ$8)))","v":""},{"$f":"IF(ISBLANK('Data Input'!A46),\"\",SUM('Data Input'!R46,'Data Input'!AA46,'Data Input'!AB46,'Data Input'!AC46,'Data Input'!AE46,'Data Input'!AH46,'Data Input'!AQ46,'Data Input'!AR46))","v":""},{"$f":"IF(G42=\"\",\"\",G42/COUNTIF('Data Input'!$C$8:$AZ$8,$G$2))","v":""},{"$f":"IF(ISBLANK('Data Input'!A46),\"\",SUM('Data Input'!D46,'Data Input'!E46,'Data Input'!F46,'Data Input'!G46,'Data Input'!H46,'Data Input'!J46,'Data Input'!K46,'Data Input'!O46,'Data Input'!U46,'Data Input'!V46,'Data Input'!W46,'Data Input'!X46,'Data Input'!Z46,'Data Input'!AG46,'Data Input'!AI46,'Data Input'!AJ46,'Data Input'!AK46))","v":""},{"$f":"IF(I42=\"\",\"\",I42/COUNTIF('Data Input'!$C$8:$AZ$8,$I$2))","v":""},{"$f":"IF(ISBLANK('Data Input'!A46),\"\",SUM('Data Input'!AF46,'Data Input'!AV46))","v":""},{"$f":"IF(K42=\"\",\"\",K42/COUNTIF('Data Input'!$C$8:$AZ$8,$K$2))","v":""},{"$f":"IF(ISBLANK('Data Input'!A46),\"\",SUM('Data Input'!C46,'Data Input'!I46,'Data Input'!L46,'Data Input'!M46,'Data Input'!N46,'Data Input'!P46,'Data Input'!S46,'Data Input'!T46,'Data Input'!Y46,'Data Input'!AD46,'Data Input'!AL46,'Data Input'!AM46,'Data Input'!AN46,'Data Input'!AO46,'Data Input'!AP46,'Data Input'!AS46))","v":""},{"$f":"IF(M42=\"\",\"\",M42/COUNTIF('Data Input'!$C$8:$AZ$8,$M$2))","v":""},{"$f":"IF(ISBLANK('Data Input'!A46),\"\",SUM('Data Input'!AY46,'Data Input'!AZ46))","v":""},{"$f":"IF(O42=\"\",\"\",O42/COUNTIF('Data Input'!$C$8:$AZ$8,$O$2))","v":""},{"$f":"IF(ISBLANK('Data Input'!A46),\"\",SUM('Data Input'!AW46))","v":""},{"$f":"IF(Q42=\"\",\"\",Q42/COUNTIF('Data Input'!$C$8:$AZ$8,$Q$2))","v":""},{"$f":"IF(ISBLANK('Data Input'!$A46),\"\",SUM('Data Input'!Q46,'Data Input'!AT46,'Data Input'!AU46))","v":""},{"$f":"IF(S42=\"\",\"\",S42/COUNTIF('Data Input'!$C$8:$AZ$8,$S$2))","v":""},{"$f":"IF(ISBLANK('Data Input'!$A46),\"\",SUM('Data Input'!AX46))","v":""},{"$f":"IF(U42=\"\",\"\",U42/COUNTIF('Data Input'!$C$8:$AZ$8,$U$2))","v":""}]
[{"$f":"IF('Data Input'!A47=0,\"\",'Data Input'!A47)","v":""},{"$f":"IF(ISBLANK('Data Input'!A47),\"\",COUNTIF('Data Input'!C47:AZ47,\"\"))","v":""},{"$f":"IF(ISBLANK('Data Input'!A47),\"\",COUNTIF('Data Input'!C47:AZ47,\"0\"))","v":""},{"$f":"IF(ISBLANK('Data Input'!A47),\"\",SUM(B43,C43))","v":""},{"$f":"IF(ISBLANK('Data Input'!A47),\"\",SUM('Data Input'!C47:AZ47))","v":""},{"$f":"IF(E43=\"\",\"\",E43/(COUNTA('Data Input'!$C$8:$AZ$8)))","v":""},{"$f":"IF(ISBLANK('Data Input'!A47),\"\",SUM('Data Input'!R47,'Data Input'!AA47,'Data Input'!AB47,'Data Input'!AC47,'Data Input'!AE47,'Data Input'!AH47,'Data Input'!AQ47,'Data Input'!AR47))","v":""},{"$f":"IF(G43=\"\",\"\",G43/COUNTIF('Data Input'!$C$8:$AZ$8,$G$2))","v":""},{"$f":"IF(ISBLANK('Data Input'!A47),\"\",SUM('Data Input'!D47,'Data Input'!E47,'Data Input'!F47,'Data Input'!G47,'Data Input'!H47,'Data Input'!J47,'Data Input'!K47,'Data Input'!O47,'Data Input'!U47,'Data Input'!V47,'Data Input'!W47,'Data Input'!X47,'Data Input'!Z47,'Data Input'!AG47,'Data Input'!AI47,'Data Input'!AJ47,'Data Input'!AK47))","v":""},{"$f":"IF(I43=\"\",\"\",I43/COUNTIF('Data Input'!$C$8:$AZ$8,$I$2))","v":""},{"$f":"IF(ISBLANK('Data Input'!A47),\"\",SUM('Data Input'!AF47,'Data Input'!AV47))","v":""},{"$f":"IF(K43=\"\",\"\",K43/COUNTIF('Data Input'!$C$8:$AZ$8,$K$2))","v":""},{"$f":"IF(ISBLANK('Data Input'!A47),\"\",SUM('Data Input'!C47,'Data Input'!I47,'Data Input'!L47,'Data Input'!M47,'Data Input'!N47,'Data Input'!P47,'Data Input'!S47,'Data Input'!T47,'Data Input'!Y47,'Data Input'!AD47,'Data Input'!AL47,'Data Input'!AM47,'Data Input'!AN47,'Data Input'!AO47,'Data Input'!AP47,'Data Input'!AS47))","v":""},{"$f":"IF(M43=\"\",\"\",M43/COUNTIF('Data Input'!$C$8:$AZ$8,$M$2))","v":""},{"$f":"IF(ISBLANK('Data Input'!A47),\"\",SUM('Data Input'!AY47,'Data Input'!AZ47))","v":""},{"$f":"IF(O43=\"\",\"\",O43/COUNTIF('Data Input'!$C$8:$AZ$8,$O$2))","v":""},{"$f":"IF(ISBLANK('Data Input'!A47),\"\",SUM('Data Input'!AW47))","v":""},{"$f":"IF(Q43=\"\",\"\",Q43/COUNTIF('Data Input'!$C$8:$AZ$8,$Q$2))","v":""},{"$f":"IF(ISBLANK('Data Input'!$A47),\"\",SUM('Data Input'!Q47,'Data Input'!AT47,'Data Input'!AU47))","v":""},{"$f":"IF(S43=\"\",\"\",S43/COUNTIF('Data Input'!$C$8:$AZ$8,$S$2))","v":""},{"$f":"IF(ISBLANK('Data Input'!$A47),\"\",SUM('Data Input'!AX47))","v":""},{"$f":"IF(U43=\"\",\"\",U43/COUNTIF('Data Input'!$C$8:$AZ$8,$U$2))","v":""}]
[{"$f":"IF('Data Input'!A48=0,\"\",'Data Input'!A48)","v":""},{"$f":"IF(ISBLANK('Data Input'!A48),\"\",COUNTIF('Data Input'!C48:AZ48,\"\"))","v":""},{"$f":"IF(ISBLANK('Data Input'!A48),\"\",COUNTIF('Data Input'!C48:AZ48,\"0\"))","v":""},{"$f":"IF(ISBLANK('Data Input'!A48),\"\",SUM(B44,C44))","v":""},{"$f":"IF(ISBLANK('Data Input'!A48),\"\",SUM('Data Input'!C48:AZ48))","v":""},{"$f":"IF(E44=\"\",\"\",E44/(COUNTA('Data Input'!$C$8:$AZ$8)))","v":""},{"$f":"IF(ISBLANK('Data Input'!A48),\"\",SUM('Data Input'!R48,'Data Input'!AA48,'Data Input'!AB48,'Data Input'!AC48,'Data Input'!AE48,'Data Input'!AH48,'Data Input'!AQ48,'Data Input'!AR48))","v":""},{"$f":"IF(G44=\"\",\"\",G44/COUNTIF('Data Input'!$C$8:$AZ$8,$G$2))","v":""},{"$f":"IF(ISBLANK('Data Input'!A48),\"\",SUM('Data Input'!D48,'Data Input'!E48,'Data Input'!F48,'Data Input'!G48,'Data Input'!H48,'Data Input'!J48,'Data Input'!K48,'Data Input'!O48,'Data Input'!U48,'Data Input'!V48,'Data Input'!W48,'Data Input'!X48,'Data Input'!Z48,'Data Input'!AG48,'Data Input'!AI48,'Data Input'!AJ48,'Data Input'!AK48))","v":""},{"$f":"IF(I44=\"\",\"\",I44/COUNTIF('Data Input'!$C$8:$AZ$8,$I$2))","v":""},{"$f":"IF(ISBLANK('Data Input'!A48),\"\",SUM('Data Input'!AF48,'Data Input'!AV48))","v":""},{"$f":"IF(K44=\"\",\"\",K44/COUNTIF('Data Input'!$C$8:$AZ$8,$K$2))","v":""},{"$f":"IF(ISBLANK('Data Input'!A48),\"\",SUM('Data Input'!C48,'Data Input'!I48,'Data Input'!L48,'Data Input'!M48,'Data Input'!N48,'Data Input'!P48,'Data Input'!S48,'Data Input'!T48,'Data Input'!Y48,'Data Input'!AD48,'Data Input'!AL48,'Data Input'!AM48,'Data Input'!AN48,'Data Input'!AO48,'Data Input'!AP48,'Data Input'!AS48))","v":""},{"$f":"IF(M44=\"\",\"\",M44/COUNTIF('Data Input'!$C$8:$AZ$8,$M$2))","v":""},{"$f":"IF(ISBLANK('Data Input'!A48),\"\",SUM('Data Input'!AY48,'Data Input'!AZ48))","v":""},{"$f":"IF(O44=\"\",\"\",O44/COUNTIF('Data Input'!$C$8:$AZ$8,$O$2))","v":""},{"$f":"IF(ISBLANK('Data Input'!A48),\"\",SUM('Data Input'!AW48))","v":""},{"$f":"IF(Q44=\"\",\"\",Q44/COUNTIF('Data Input'!$C$8:$AZ$8,$Q$2))","v":""},{"$f":"IF(ISBLANK('Data Input'!$A48),\"\",SUM('Data Input'!Q48,'Data Input'!AT48,'Data Input'!AU48))","v":""},{"$f":"IF(S44=\"\",\"\",S44/COUNTIF('Data Input'!$C$8:$AZ$8,$S$2))","v":""},{"$f":"IF(ISBLANK('Data Input'!$A48),\"\",SUM('Data Input'!AX48))","v":""},{"$f":"IF(U44=\"\",\"\",U44/COUNTIF('Data Input'!$C$8:$AZ$8,$U$2))","v":""}]
[{"$f":"IF('Data Input'!A49=0,\"\",'Data Input'!A49)","v":""},{"$f":"IF(ISBLANK('Data Input'!A49),\"\",COUNTIF('Data Input'!C49:AZ49,\"\"))","v":""},{"$f":"IF(ISBLANK('Data Input'!A49),\"\",COUNTIF('Data Input'!C49:AZ49,\"0\"))","v":""},{"$f":"IF(ISBLANK('Data Input'!A49),\"\",SUM(B45,C45))","v":""},{"$f":"IF(ISBLANK('Data Input'!A49),\"\",SUM('Data Input'!C49:AZ49))","v":""},{"$f":"IF(E45=\"\",\"\",E45/(COUNTA('Data Input'!$C$8:$AZ$8)))","v":""},{"$f":"IF(ISBLANK('Data Input'!A49),\"\",SUM('Data Input'!R49,'Data Input'!AA49,'Data Input'!AB49,'Data Input'!AC49,'Data Input'!AE49,'Data Input'!AH49,'Data Input'!AQ49,'Data Input'!AR49))","v":""},{"$f":"IF(G45=\"\",\"\",G45/COUNTIF('Data Input'!$C$8:$AZ$8,$G$2))","v":""},{"$f":"IF(ISBLANK('Data Input'!A49),\"\",SUM('Data Input'!D49,'Data Input'!E49,'Data Input'!F49,'Data Input'!G49,'Data Input'!H49,'Data Input'!J49,'Data Input'!K49,'Data Input'!O49,'Data Input'!U49,'Data Input'!V49,'Data Input'!W49,'Data Input'!X49,'Data Input'!Z49,'Data Input'!AG49,'Data Input'!AI49,'Data Input'!AJ49,'Data Input'!AK49))","v":""},{"$f":"IF(I45=\"\",\"\",I45/COUNTIF('Data Input'!$C$8:$AZ$8,$I$2))","v":""},{"$f":"IF(ISBLANK('Data Input'!A49),\"\",SUM('Data Input'!AF49,'Data Input'!AV49))","v":""},{"$f":"IF(K45=\"\",\"\",K45/COUNTIF('Data Input'!$C$8:$AZ$8,$K$2))","v":""},{"$f":"IF(ISBLANK('Data Input'!A49),\"\",SUM('Data Input'!C49,'Data Input'!I49,'Data Input'!L49,'Data Input'!M49,'Data Input'!N49,'Data Input'!P49,'Data Input'!S49,'Data Input'!T49,'Data Input'!Y49,'Data Input'!AD49,'Data Input'!AL49,'Data Input'!AM49,'Data Input'!AN49,'Data Input'!AO49,'Data Input'!AP49,'Data Input'!AS49))","v":""},{"$f":"IF(M45=\"\",\"\",M45/COUNTIF('Data Input'!$C$8:$AZ$8,$M$2))","v":""},{"$f":"IF(ISBLANK('Data Input'!A49),\"\",SUM('Data Input'!AY49,'Data Input'!AZ49))","v":""},{"$f":"IF(O45=\"\",\"\",O45/COUNTIF('Data Input'!$C$8:$AZ$8,$O$2))","v":""},{"$f":"IF(ISBLANK('Data Input'!A49),\"\",SUM('Data Input'!AW49))","v":""},{"$f":"IF(Q45=\"\",\"\",Q45/COUNTIF('Data Input'!$C$8:$AZ$8,$Q$2))","v":""},{"$f":"IF(ISBLANK('Data Input'!$A49),\"\",SUM('Data Input'!Q49,'Data Input'!AT49,'Data Input'!AU49))","v":""},{"$f":"IF(S45=\"\",\"\",S45/COUNTIF('Data Input'!$C$8:$AZ$8,$S$2))","v":""},{"$f":"IF(ISBLANK('Data Input'!$A49),\"\",SUM('Data Input'!AX49))","v":""},{"$f":"IF(U45=\"\",\"\",U45/COUNTIF('Data Input'!$C$8:$AZ$8,$U$2))","v":""}]
[{"$f":"IF('Data Input'!A50=0,\"\",'Data Input'!A50)","v":""},{"$f":"IF(ISBLANK('Data Input'!A50),\"\",COUNTIF('Data Input'!C50:AZ50,\"\"))","v":""},{"$f":"IF(ISBLANK('Data Input'!A50),\"\",COUNTIF('Data Input'!C50:AZ50,\"0\"))","v":""},{"$f":"IF(ISBLANK('Data Input'!A50),\"\",SUM(B46,C46))","v":""},{"$f":"IF(ISBLANK('Data Input'!A50),\"\",SUM('Data Input'!C50:AZ50))","v":""},{"$f":"IF(E46=\"\",\"\",E46/(COUNTA('Data Input'!$C$8:$AZ$8)))","v":""},{"$f":"IF(ISBLANK('Data Input'!A50),\"\",SUM('Data Input'!R50,'Data Input'!AA50,'Data Input'!AB50,'Data Input'!AC50,'Data Input'!AE50,'Data Input'!AH50,'Data Input'!AQ50,'Data Input'!AR50))","v":""},{"$f":"IF(G46=\"\",\"\",G46/COUNTIF('Data Input'!$C$8:$AZ$8,$G$2))","v":""},{"$f":"IF(ISBLANK('Data Input'!A50),\"\",SUM('Data Input'!D50,'Data Input'!E50,'Data Input'!F50,'Data Input'!G50,'Data Input'!H50,'Data Input'!J50,'Data Input'!K50,'Data Input'!O50,'Data Input'!U50,'Data Input'!V50,'Data Input'!W50,'Data Input'!X50,'Data Input'!Z50,'Data Input'!AG50,'Data Input'!AI50,'Data Input'!AJ50,'Data Input'!AK50))","v":""},{"$f":"IF(I46=\"\",\"\",I46/COUNTIF('Data Input'!$C$8:$AZ$8,$I$2))","v":""},{"$f":"IF(ISBLANK('Data Input'!A50),\"\",SUM('Data Input'!AF50,'Data Input'!AV50))","v":""},{"$f":"IF(K46=\"\",\"\",K46/COUNTIF('Data Input'!$C$8:$AZ$8,$K$2))","v":""},{"$f":"IF(ISBLANK('Data Input'!A50),\"\",SUM('Data Input'!C50,'Data Input'!I50,'Data Input'!L50,'Data Input'!M50,'Data Input'!N50,'Data Input'!P50,'Data Input'!S50,'Data Input'!T50,'Data Input'!Y50,'Data Input'!AD50,'Data Input'!AL50,'Data Input'!AM50,'Data Input'!AN50,'Data Input'!AO50,'Data Input'!AP50,'Data Input'!AS50))","v":""},{"$f":"IF(M46=\"\",\"\",M46/COUNTIF('Data Input'!$C$8:$AZ$8,$M$2))","v":""},{"$f":"IF(ISBLANK('Data Input'!A50),\"\",SUM('Data Input'!AY50,'Data Input'!AZ50))","v":""},{"$f":"IF(O46=\"\",\"\",O46/COUNTIF('Data Input'!$C$8:$AZ$8,$O$2))","v":""},{"$f":"IF(ISBLANK('Data Input'!A50),\"\",SUM('Data Input'!AW50))","v":""},{"$f":"IF(Q46=\"\",\"\",Q46/COUNTIF('Data Input'!$C$8:$AZ$8,$Q$2))","v":""},{"$f":"IF(ISBLANK('Data Input'!$A50),\"\",SUM('Data Input'!Q50,'Data Input'!AT50,'Data Input'!AU50))","v":""},{"$f":"IF(S46=\"\",\"\",S46/COUNTIF('Data Input'!$C$8:$AZ$8,$S$2))","v":""},{"$f":"IF(ISBLANK('Data Input'!$A50),\"\",SUM('Data Input'!AX50))","v":""},{"$f":"IF(U46=\"\",\"\",U46/COUNTIF('Data Input'!$C$8:$AZ$8,$U$2))","v":""}]
[{"$f":"IF('Data Input'!A51=0,\"\",'Data Input'!A51)","v":""},{"$f":"IF(ISBLANK('Data Input'!A51),\"\",COUNTIF('Data Input'!C51:AZ51,\"\"))","v":""},{"$f":"IF(ISBLANK('Data Input'!A51),\"\",COUNTIF('Data Input'!C51:AZ51,\"0\"))","v":""},{"$f":"IF(ISBLANK('Data Input'!A51),\"\",SUM(B47,C47))","v":""},{"$f":"IF(ISBLANK('Data Input'!A51),\"\",SUM('Data Input'!C51:AZ51))","v":""},{"$f":"IF(E47=\"\",\"\",E47/(COUNTA('Data Input'!$C$8:$AZ$8)))","v":""},{"$f":"IF(ISBLANK('Data Input'!A51),\"\",SUM('Data Input'!R51,'Data Input'!AA51,'Data Input'!AB51,'Data Input'!AC51,'Data Input'!AE51,'Data Input'!AH51,'Data Input'!AQ51,'Data Input'!AR51))","v":""},{"$f":"IF(G47=\"\",\"\",G47/COUNTIF('Data Input'!$C$8:$AZ$8,$G$2))","v":""},{"$f":"IF(ISBLANK('Data Input'!A51),\"\",SUM('Data Input'!D51,'Data Input'!E51,'Data Input'!F51,'Data Input'!G51,'Data Input'!H51,'Data Input'!J51,'Data Input'!K51,'Data Input'!O51,'Data Input'!U51,'Data Input'!V51,'Data Input'!W51,'Data Input'!X51,'Data Input'!Z51,'Data Input'!AG51,'Data Input'!AI51,'Data Input'!AJ51,'Data Input'!AK51))","v":""},{"$f":"IF(I47=\"\",\"\",I47/COUNTIF('Data Input'!$C$8:$AZ$8,$I$2))","v":""},{"$f":"IF(ISBLANK('Data Input'!A51),\"\",SUM('Data Input'!AF51,'Data Input'!AV51))","v":""},{"$f":"IF(K47=\"\",\"\",K47/COUNTIF('Data Input'!$C$8:$AZ$8,$K$2))","v":""},{"$f":"IF(ISBLANK('Data Input'!A51),\"\",SUM('Data Input'!C51,'Data Input'!I51,'Data Input'!L51,'Data Input'!M51,'Data Input'!N51,'Data Input'!P51,'Data Input'!S51,'Data Input'!T51,'Data Input'!Y51,'Data Input'!AD51,'Data Input'!AL51,'Data Input'!AM51,'Data Input'!AN51,'Data Input'!AO51,'Data Input'!AP51,'Data Input'!AS51))","v":""},{"$f":"IF(M47=\"\",\"\",M47/COUNTIF('Data Input'!$C$8:$AZ$8,$M$2))","v":""},{"$f":"IF(ISBLANK('Data Input'!A51),\"\",SUM('Data Input'!AY51,'Data Input'!AZ51))","v":""},{"$f":"IF(O47=\"\",\"\",O47/COUNTIF('Data Input'!$C$8:$AZ$8,$O$2))","v":""},{"$f":"IF(ISBLANK('Data Input'!A51),\"\",SUM('Data Input'!AW51))","v":""},{"$f":"IF(Q47=\"\",\"\",Q47/COUNTIF('Data Input'!$C$8:$AZ$8,$Q$2))","v":""},{"$f":"IF(ISBLANK('Data Input'!$A51),\"\",SUM('Data Input'!Q51,'Data Input'!AT51,'Data Input'!AU51))","v":""},{"$f":"IF(S47=\"\",\"\",S47/COUNTIF('Data Input'!$C$8:$AZ$8,$S$2))","v":""},{"$f":"IF(ISBLANK('Data Input'!$A51),\"\",SUM('Data Input'!AX51))","v":""},{"$f":"IF(U47=\"\",\"\",U47/COUNTIF('Data Input'!$C$8:$AZ$8,$U$2))","v":""}]
[{"$f":"IF('Data Input'!A52=0,\"\",'Data Input'!A52)","v":""},{"$f":"IF(ISBLANK('Data Input'!A52),\"\",COUNTIF('Data Input'!C52:AZ52,\"\"))","v":""},{"$f":"IF(ISBLANK('Data Input'!A52),\"\",COUNTIF('Data Input'!C52:AZ52,\"0\"))","v":""},{"$f":"IF(ISBLANK('Data Input'!A52),\"\",SUM(B48,C48))","v":""},{"$f":"IF(ISBLANK('Data Input'!A52),\"\",SUM('Data Input'!C52:AZ52))","v":""},{"$f":"IF(E48=\"\",\"\",E48/(COUNTA('Data Input'!$C$8:$AZ$8)))","v":""},{"$f":"IF(ISBLANK('Data Input'!A52),\"\",SUM('Data Input'!R52,'Data Input'!AA52,'Data Input'!AB52,'Data Input'!AC52,'Data Input'!AE52,'Data Input'!AH52,'Data Input'!AQ52,'Data Input'!AR52))","v":""},{"$f":"IF(G48=\"\",\"\",G48/COUNTIF('Data Input'!$C$8:$AZ$8,$G$2))","v":""},{"$f":"IF(ISBLANK('Data Input'!A52),\"\",SUM('Data Input'!D52,'Data Input'!E52,'Data Input'!F52,'Data Input'!G52,'Data Input'!H52,'Data Input'!J52,'Data Input'!K52,'Data Input'!O52,'Data Input'!U52,'Data Input'!V52,'Data Input'!W52,'Data Input'!X52,'Data Input'!Z52,'Data Input'!AG52,'Data Input'!AI52,'Data Input'!AJ52,'Data Input'!AK52))","v":""},{"$f":"IF(I48=\"\",\"\",I48/COUNTIF('Data Input'!$C$8:$AZ$8,$I$2))","v":""},{"$f":"IF(ISBLANK('Data Input'!A52),\"\",SUM('Data Input'!AF52,'Data Input'!AV52))","v":""},{"$f":"IF(K48=\"\",\"\",K48/COUNTIF('Data Input'!$C$8:$AZ$8,$K$2))","v":""},{"$f":"IF(ISBLANK('Data Input'!A52),\"\",SUM('Data Input'!C52,'Data Input'!I52,'Data Input'!L52,'Data Input'!M52,'Data Input'!N52,'Data Input'!P52,'Data Input'!S52,'Data Input'!T52,'Data Input'!Y52,'Data Input'!AD52,'Data Input'!AL52,'Data Input'!AM52,'Data Input'!AN52,'Data Input'!AO52,'Data Input'!AP52,'Data Input'!AS52))","v":""},{"$f":"IF(M48=\"\",\"\",M48/COUNTIF('Data Input'!$C$8:$AZ$8,$M$2))","v":""},{"$f":"IF(ISBLANK('Data Input'!A52),\"\",SUM('Data Input'!AY52,'Data Input'!AZ52))","v":""},{"$f":"IF(O48=\"\",\"\",O48/COUNTIF('Data Input'!$C$8:$AZ$8,$O$2))","v":""},{"$f":"IF(ISBLANK('Data Input'!A52),\"\",SUM('Data Input'!AW52))","v":""},{"$f":"IF(Q48=\"\",\"\",Q48/COUNTIF('Data Input'!$C$8:$AZ$8,$Q$2))","v":""},{"$f":"IF(ISBLANK('Data Input'!$A52),\"\",SUM('Data Input'!Q52,'Data Input'!AT52,'Data Input'!AU52))","v":""},{"$f":"IF(S48=\"\",\"\",S48/COUNTIF('Data Input'!$C$8:$AZ$8,$S$2))","v":""},{"$f":"IF(ISBLANK('Data Input'!$A52),\"\",SUM('Data Input'!AX52))","v":""},{"$f":"IF(U48=\"\",\"\",U48/COUNTIF('Data Input'!$C$8:$AZ$8,$U$2))","v":""}]
[{"$f":"IF('Data Input'!A53=0,\"\",'Data Input'!A53)","v":""},{"$f":"IF(ISBLANK('Data Input'!A53),\"\",COUNTIF('Data Input'!C53:AZ53,\"\"))","v":""},{"$f":"IF(ISBLANK('Data Input'!A53),\"\",COUNTIF('Data Input'!C53:AZ53,\"0\"))","v":""},{"$f":"IF(ISBLANK('Data Input'!A53),\"\",SUM(B49,C49))","v":""},{"$f":"IF(ISBLANK('Data Input'!A53),\"\",SUM('Data Input'!C53:AZ53))","v":""},{"$f":"IF(E49=\"\",\"\",E49/(COUNTA('Data Input'!$C$8:$AZ$8)))","v":""},{"$f":"IF(ISBLANK('Data Input'!A53),\"\",SUM('Data Input'!R53,'Data Input'!AA53,'Data Input'!AB53,'Data Input'!AC53,'Data Input'!AE53,'Data Input'!AH53,'Data Input'!AQ53,'Data Input'!AR53))","v":""},{"$f":"IF(G49=\"\",\"\",G49/COUNTIF('Data Input'!$C$8:$AZ$8,$G$2))","v":""},{"$f":"IF(ISBLANK('Data Input'!A53),\"\",SUM('Data Input'!D53,'Data Input'!E53,'Data Input'!F53,'Data Input'!G53,'Data Input'!H53,'Data Input'!J53,'Data Input'!K53,'Data Input'!O53,'Data Input'!U53,'Data Input'!V53,'Data Input'!W53,'Data Input'!X53,'Data Input'!Z53,'Data Input'!AG53,'Data Input'!AI53,'Data Input'!AJ53,'Data Input'!AK53))","v":""},{"$f":"IF(I49=\"\",\"\",I49/COUNTIF('Data Input'!$C$8:$AZ$8,$I$2))","v":""},{"$f":"IF(ISBLANK('Data Input'!A53),\"\",SUM('Data Input'!AF53,'Data Input'!AV53))","v":""},{"$f":"IF(K49=\"\",\"\",K49/COUNTIF('Data Input'!$C$8:$AZ$8,$K$2))","v":""},{"$f":"IF(ISBLANK('Data Input'!A53),\"\",SUM('Data Input'!C53,'Data Input'!I53,'Data Input'!L53,'Data Input'!M53,'Data Input'!N53,'Data Input'!P53,'Data Input'!S53,'Data Input'!T53,'Data Input'!Y53,'Data Input'!AD53,'Data Input'!AL53,'Data Input'!AM53,'Data Input'!AN53,'Data Input'!AO53,'Data Input'!AP53,'Data Input'!AS53))","v":""},{"$f":"IF(M49=\"\",\"\",M49/COUNTIF('Data Input'!$C$8:$AZ$8,$M$2))","v":""},{"$f":"IF(ISBLANK('Data Input'!A53),\"\",SUM('Data Input'!AY53,'Data Input'!AZ53))","v":""},{"$f":"IF(O49=\"\",\"\",O49/COUNTIF('Data Input'!$C$8:$AZ$8,$O$2))","v":""},{"$f":"IF(ISBLANK('Data Input'!A53),\"\",SUM('Data Input'!AW53))","v":""},{"$f":"IF(Q49=\"\",\"\",Q49/COUNTIF('Data Input'!$C$8:$AZ$8,$Q$2))","v":""},{"$f":"IF(ISBLANK('Data Input'!$A53),\"\",SUM('Data Input'!Q53,'Data Input'!AT53,'Data Input'!AU53))","v":""},{"$f":"IF(S49=\"\",\"\",S49/COUNTIF('Data Input'!$C$8:$AZ$8,$S$2))","v":""},{"$f":"IF(ISBLANK('Data Input'!$A53),\"\",SUM('Data Input'!AX53))","v":""},{"$f":"IF(U49=\"\",\"\",U49/COUNTIF('Data Input'!$C$8:$AZ$8,$U$2))","v":""}]
[{"$f":"IF('Data Input'!A54=0,\"\",'Data Input'!A54)","v":""},{"$f":"IF(ISBLANK('Data Input'!A54),\"\",COUNTIF('Data Input'!C54:AZ54,\"\"))","v":""},{"$f":"IF(ISBLANK('Data Input'!A54),\"\",COUNTIF('Data Input'!C54:AZ54,\"0\"))","v":""},{"$f":"IF(ISBLANK('Data Input'!A54),\"\",SUM(B50,C50))","v":""},{"$f":"IF(ISBLANK('Data Input'!A54),\"\",SUM('Data Input'!C54:AZ54))","v":""},{"$f":"IF(E50=\"\",\"\",E50/(COUNTA('Data Input'!$C$8:$AZ$8)))","v":""},{"$f":"IF(ISBLANK('Data Input'!A54),\"\",SUM('Data Input'!R54,'Data Input'!AA54,'Data Input'!AB54,'Data Input'!AC54,'Data Input'!AE54,'Data Input'!AH54,'Data Input'!AQ54,'Data Input'!AR54))","v":""},{"$f":"IF(G50=\"\",\"\",G50/COUNTIF('Data Input'!$C$8:$AZ$8,$G$2))","v":""},{"$f":"IF(ISBLANK('Data Input'!A54),\"\",SUM('Data Input'!D54,'Data Input'!E54,'Data Input'!F54,'Data Input'!G54,'Data Input'!H54,'Data Input'!J54,'Data Input'!K54,'Data Input'!O54,'Data Input'!U54,'Data Input'!V54,'Data Input'!W54,'Data Input'!X54,'Data Input'!Z54,'Data Input'!AG54,'Data Input'!AI54,'Data Input'!AJ54,'Data Input'!AK54))","v":""},{"$f":"IF(I50=\"\",\"\",I50/COUNTIF('Data Input'!$C$8:$AZ$8,$I$2))","v":""},{"$f":"IF(ISBLANK('Data Input'!A54),\"\",SUM('Data Input'!AF54,'Data Input'!AV54))","v":""},{"$f":"IF(K50=\"\",\"\",K50/COUNTIF('Data Input'!$C$8:$AZ$8,$K$2))","v":""},{"$f":"IF(ISBLANK('Data Input'!A54),\"\",SUM('Data Input'!C54,'Data Input'!I54,'Data Input'!L54,'Data Input'!M54,'Data Input'!N54,'Data Input'!P54,'Data Input'!S54,'Data Input'!T54,'Data Input'!Y54,'Data Input'!AD54,'Data Input'!AL54,'Data Input'!AM54,'Data Input'!AN54,'Data Input'!AO54,'Data Input'!AP54,'Data Input'!AS54))","v":""},{"$f":"IF(M50=\"\",\"\",M50/COUNTIF('Data Input'!$C$8:$AZ$8,$M$2))","v":""},{"$f":"IF(ISBLANK('Data Input'!A54),\"\",SUM('Data Input'!AY54,'Data Input'!AZ54))","v":""},{"$f":"IF(O50=\"\",\"\",O50/COUNTIF('Data Input'!$C$8:$AZ$8,$O$2))","v":""},{"$f":"IF(ISBLANK('Data Input'!A54),\"\",SUM('Data Input'!AW54))","v":""},{"$f":"IF(Q50=\"\",\"\",Q50/COUNTIF('Data Input'!$C$8:$AZ$8,$Q$2))","v":""},{"$f":"IF(ISBLANK('Data Input'!$A54),\"\",SUM('Data Input'!Q54,'Data Input'!AT54,'Data Input'!AU54))","v":""},{"$f":"IF(S50=\"\",\"\",S50/COUNTIF('Data Input'!$C$8:$AZ$8,$S$2))","v":""},{"$f":"IF(ISBLANK('Data Input'!$A54),\"\",SUM('Data Input'!AX54))","v":""},{"$f":"IF(U50=\"\",\"\",U50/COUNTIF('Data Input'!$C$8:$AZ$8,$U$2))","v":""}]
[{"$f":"IF('Data Input'!A55=0,\"\",'Data Input'!A55)","v":""},{"$f":"IF(ISBLANK('Data Input'!A55),\"\",COUNTIF('Data Input'!C55:AZ55,\"\"))","v":""},{"$f":"IF(ISBLANK('Data Input'!A55),\"\",COUNTIF('Data Input'!C55:AZ55,\"0\"))","v":""},{"$f":"IF(ISBLANK('Data Input'!A55),\"\",SUM(B51,C51))","v":""},{"$f":"IF(ISBLANK('Data Input'!A55),\"\",SUM('Data Input'!C55:AZ55))","v":""},{"$f":"IF(E51=\"\",\"\",E51/(COUNTA('Data Input'!$C$8:$AZ$8)))","v":""},{"$f":"IF(ISBLANK('Data Input'!A55),\"\",SUM('Data Input'!R55,'Data Input'!AA55,'Data Input'!AB55,'Data Input'!AC55,'Data Input'!AE55,'Data Input'!AH55,'Data Input'!AQ55,'Data Input'!AR55))","v":""},{"$f":"IF(G51=\"\",\"\",G51/COUNTIF('Data Input'!$C$8:$AZ$8,$G$2))","v":""},{"$f":"IF(ISBLANK('Data Input'!A55),\"\",SUM('Data Input'!D55,'Data Input'!E55,'Data Input'!F55,'Data Input'!G55,'Data Input'!H55,'Data Input'!J55,'Data Input'!K55,'Data Input'!O55,'Data Input'!U55,'Data Input'!V55,'Data Input'!W55,'Data Input'!X55,'Data Input'!Z55,'Data Input'!AG55,'Data Input'!AI55,'Data Input'!AJ55,'Data Input'!AK55))","v":""},{"$f":"IF(I51=\"\",\"\",I51/COUNTIF('Data Input'!$C$8:$AZ$8,$I$2))","v":""},{"$f":"IF(ISBLANK('Data Input'!A55),\"\",SUM('Data Input'!AF55,'Data Input'!AV55))","v":""},{"$f":"IF(K51=\"\",\"\",K51/COUNTIF('Data Input'!$C$8:$AZ$8,$K$2))","v":""},{"$f":"IF(ISBLANK('Data Input'!A55),\"\",SUM('Data Input'!C55,'Data Input'!I55,'Data Input'!L55,'Data Input'!M55,'Data Input'!N55,'Data Input'!P55,'Data Input'!S55,'Data Input'!T55,'Data Input'!Y55,'Data Input'!AD55,'Data Input'!AL55,'Data Input'!AM55,'Data Input'!AN55,'Data Input'!AO55,'Data Input'!AP55,'Data Input'!AS55))","v":""},{"$f":"IF(M51=\"\",\"\",M51/COUNTIF('Data Input'!$C$8:$AZ$8,$M$2))","v":""},{"$f":"IF(ISBLANK('Data Input'!A55),\"\",SUM('Data Input'!AY55,'Data Input'!AZ55))","v":""},{"$f":"IF(O51=\"\",\"\",O51/COUNTIF('Data Input'!$C$8:$AZ$8,$O$2))","v":""},{"$f":"IF(ISBLANK('Data Input'!A55),\"\",SUM('Data Input'!AW55))","v":""},{"$f":"IF(Q51=\"\",\"\",Q51/COUNTIF('Data Input'!$C$8:$AZ$8,$Q$2))","v":""},{"$f":"IF(ISBLANK('Data Input'!$A55),\"\",SUM('Data Input'!Q55,'Data Input'!AT55,'Data Input'!AU55))","v":""},{"$f":"IF(S51=\"\",\"\",S51/COUNTIF('Data Input'!$C$8:$AZ$8,$S$2))","v":""},{"$f":"IF(ISBLANK('Data Input'!$A55),\"\",SUM('Data Input'!AX55))","v":""},{"$f":"IF(U51=\"\",\"\",U51/COUNTIF('Data Input'!$C$8:$AZ$8,$U$2))","v":""}]
[{"$f":"IF('Data Input'!A56=0,\"\",'Data Input'!A56)","v":""},{"$f":"IF(ISBLANK('Data Input'!A56),\"\",COUNTIF('Data Input'!C56:AZ56,\"\"))","v":""},{"$f":"IF(ISBLANK('Data Input'!A56),\"\",COUNTIF('Data Input'!C56:AZ56,\"0\"))","v":""},{"$f":"IF(ISBLANK('Data Input'!A56),\"\",SUM(B52,C52))","v":""},{"$f":"IF(ISBLANK('Data Input'!A56),\"\",SUM('Data Input'!C56:AZ56))","v":""},{"$f":"IF(E52=\"\",\"\",E52/(COUNTA('Data Input'!$C$8:$AZ$8)))","v":""},{"$f":"IF(ISBLANK('Data Input'!A56),\"\",SUM('Data Input'!R56,'Data Input'!AA56,'Data Input'!AB56,'Data Input'!AC56,'Data Input'!AE56,'Data Input'!AH56,'Data Input'!AQ56,'Data Input'!AR56))","v":""},{"$f":"IF(G52=\"\",\"\",G52/COUNTIF('Data Input'!$C$8:$AZ$8,$G$2))","v":""},{"$f":"IF(ISBLANK('Data Input'!A56),\"\",SUM('Data Input'!D56,'Data Input'!E56,'Data Input'!F56,'Data Input'!G56,'Data Input'!H56,'Data Input'!J56,'Data Input'!K56,'Data Input'!O56,'Data Input'!U56,'Data Input'!V56,'Data Input'!W56,'Data Input'!X56,'Data Input'!Z56,'Data Input'!AG56,'Data Input'!AI56,'Data Input'!AJ56,'Data Input'!AK56))","v":""},{"$f":"IF(I52=\"\",\"\",I52/COUNTIF('Data Input'!$C$8:$AZ$8,$I$2))","v":""},{"$f":"IF(ISBLANK('Data Input'!A56),\"\",SUM('Data Input'!AF56,'Data Input'!AV56))","v":""},{"$f":"IF(K52=\"\",\"\",K52/COUNTIF('Data Input'!$C$8:$AZ$8,$K$2))","v":""},{"$f":"IF(ISBLANK('Data Input'!A56),\"\",SUM('Data Input'!C56,'Data Input'!I56,'Data Input'!L56,'Data Input'!M56,'Data Input'!N56,'Data Input'!P56,'Data Input'!S56,'Data Input'!T56,'Data Input'!Y56,'Data Input'!AD56,'Data Input'!AL56,'Data Input'!AM56,'Data Input'!AN56,'Data Input'!AO56,'Data Input'!AP56,'Data Input'!AS56))","v":""},{"$f":"IF(M52=\"\",\"\",M52/COUNTIF('Data Input'!$C$8:$AZ$8,$M$2))","v":""},{"$f":"IF(ISBLANK('Data Input'!A56),\"\",SUM('Data Input'!AY56,'Data Input'!AZ56))","v":""},{"$f":"IF(O52=\"\",\"\",O52/COUNTIF('Data Input'!$C$8:$AZ$8,$O$2))","v":""},{"$f":"IF(ISBLANK('Data Input'!A56),\"\",SUM('Data Input'!AW56))","v":""},{"$f":"IF(Q52=\"\",\"\",Q52/COUNTIF('Data Input'!$C$8:$AZ$8,$Q$2))","v":""},{"$f":"IF(ISBLANK('Data Input'!$A56),\"\",SUM('Data Input'!Q56,'Data Input'!AT56,'Data Input'!AU56))","v":""},{"$f":"IF(S52=\"\",\"\",S52/COUNTIF('Data Input'!$C$8:$AZ$8,$S$2))","v":""},{"$f":"IF(ISBLANK('Data Input'!$A56),\"\",SUM('Data Input'!AX56))","v":""},{"$f":"IF(U52=\"\",\"\",U52/COUNTIF('Data Input'!$C$8:$AZ$8,$U$2))","v":""}]
[{"$f":"IF('Data Input'!A57=0,\"\",'Data Input'!A57)","v":""},{"$f":"IF(ISBLANK('Data Input'!A57),\"\",COUNTIF('Data Input'!C57:AZ57,\"\"))","v":""},{"$f":"IF(ISBLANK('Data Input'!A57),\"\",COUNTIF('Data Input'!C57:AZ57,\"0\"))","v":""},{"$f":"IF(ISBLANK('Data Input'!A57),\"\",SUM(B53,C53))","v":""},{"$f":"IF(ISBLANK('Data Input'!A57),\"\",SUM('Data Input'!C57:AZ57))","v":""},{"$f":"IF(E53=\"\",\"\",E53/(COUNTA('Data Input'!$C$8:$AZ$8)))","v":""},{"$f":"IF(ISBLANK('Data Input'!A57),\"\",SUM('Data Input'!R57,'Data Input'!AA57,'Data Input'!AB57,'Data Input'!AC57,'Data Input'!AE57,'Data Input'!AH57,'Data Input'!AQ57,'Data Input'!AR57))","v":""},{"$f":"IF(G53=\"\",\"\",G53/COUNTIF('Data Input'!$C$8:$AZ$8,$G$2))","v":""},{"$f":"IF(ISBLANK('Data Input'!A57),\"\",SUM('Data Input'!D57,'Data Input'!E57,'Data Input'!F57,'Data Input'!G57,'Data Input'!H57,'Data Input'!J57,'Data Input'!K57,'Data Input'!O57,'Data Input'!U57,'Data Input'!V57,'Data Input'!W57,'Data Input'!X57,'Data Input'!Z57,'Data Input'!AG57,'Data Input'!AI57,'Data Input'!AJ57,'Data Input'!AK57))","v":""},{"$f":"IF(I53=\"\",\"\",I53/COUNTIF('Data Input'!$C$8:$AZ$8,$I$2))","v":""},{"$f":"IF(ISBLANK('Data Input'!A57),\"\",SUM('Data Input'!AF57,'Data Input'!AV57))","v":""},{"$f":"IF(K53=\"\",\"\",K53/COUNTIF('Data Input'!$C$8:$AZ$8,$K$2))","v":""},{"$f":"IF(ISBLANK('Data Input'!A57),\"\",SUM('Data Input'!C57,'Data Input'!I57,'Data Input'!L57,'Data Input'!M57,'Data Input'!N57,'Data Input'!P57,'Data Input'!S57,'Data Input'!T57,'Data Input'!Y57,'Data Input'!AD57,'Data Input'!AL57,'Data Input'!AM57,'Data Input'!AN57,'Data Input'!AO57,'Data Input'!AP57,'Data Input'!AS57))","v":""},{"$f":"IF(M53=\"\",\"\",M53/COUNTIF('Data Input'!$C$8:$AZ$8,$M$2))","v":""},{"$f":"IF(ISBLANK('Data Input'!A57),\"\",SUM('Data Input'!AY57,'Data Input'!AZ57))","v":""},{"$f":"IF(O53=\"\",\"\",O53/COUNTIF('Data Input'!$C$8:$AZ$8,$O$2))","v":""},{"$f":"IF(ISBLANK('Data Input'!A57),\"\",SUM('Data Input'!AW57))","v":""},{"$f":"IF(Q53=\"\",\"\",Q53/COUNTIF('Data Input'!$C$8:$AZ$8,$Q$2))","v":""},{"$f":"IF(ISBLANK('Data Input'!$A57),\"\",SUM('Data Input'!Q57,'Data Input'!AT57,'Data Input'!AU57))","v":""},{"$f":"IF(S53=\"\",\"\",S53/COUNTIF('Data Input'!$C$8:$AZ$8,$S$2))","v":""},{"$f":"IF(ISBLANK('Data Input'!$A57),\"\",SUM('Data Input'!AX57))","v":""},{"$f":"IF(U53=\"\",\"\",U53/COUNTIF('Data Input'!$C$8:$AZ$8,$U$2))","v":""}]
[{"$f":"IF('Data Input'!A58=0,\"\",'Data Input'!A58)","v":""},{"$f":"IF(ISBLANK('Data Input'!A58),\"\",COUNTIF('Data Input'!C58:AZ58,\"\"))","v":""},{"$f":"IF(ISBLANK('Data Input'!A58),\"\",COUNTIF('Data Input'!C58:AZ58,\"0\"))","v":""},{"$f":"IF(ISBLANK('Data Input'!A58),\"\",SUM(B54,C54))","v":""},{"$f":"IF(ISBLANK('Data Input'!A58),\"\",SUM('Data Input'!C58:AZ58))","v":""},{"$f":"IF(E54=\"\",\"\",E54/(COUNTA('Data Input'!$C$8:$AZ$8)))","v":""},{"$f":"IF(ISBLANK('Data Input'!A58),\"\",SUM('Data Input'!R58,'Data Input'!AA58,'Data Input'!AB58,'Data Input'!AC58,'Data Input'!AE58,'Data Input'!AH58,'Data Input'!AQ58,'Data Input'!AR58))","v":""},{"$f":"IF(G54=\"\",\"\",G54/COUNTIF('Data Input'!$C$8:$AZ$8,$G$2))","v":""},{"$f":"IF(ISBLANK('Data Input'!A58),\"\",SUM('Data Input'!D58,'Data Input'!E58,'Data Input'!F58,'Data Input'!G58,'Data Input'!H58,'Data Input'!J58,'Data Input'!K58,'Data Input'!O58,'Data Input'!U58,'Data Input'!V58,'Data Input'!W58,'Data Input'!X58,'Data Input'!Z58,'Data Input'!AG58,'Data Input'!AI58,'Data Input'!AJ58,'Data Input'!AK58))","v":""},{"$f":"IF(I54=\"\",\"\",I54/COUNTIF('Data Input'!$C$8:$AZ$8,$I$2))","v":""},{"$f":"IF(ISBLANK('Data Input'!A58),\"\",SUM('Data Input'!AF58,'Data Input'!AV58))","v":""},{"$f":"IF(K54=\"\",\"\",K54/COUNTIF('Data Input'!$C$8:$AZ$8,$K$2))","v":""},{"$f":"IF(ISBLANK('Data Input'!A58),\"\",SUM('Data Input'!C58,'Data Input'!I58,'Data Input'!L58,'Data Input'!M58,'Data Input'!N58,'Data Input'!P58,'Data Input'!S58,'Data Input'!T58,'Data Input'!Y58,'Data Input'!AD58,'Data Input'!AL58,'Data Input'!AM58,'Data Input'!AN58,'Data Input'!AO58,'Data Input'!AP58,'Data Input'!AS58))","v":""},{"$f":"IF(M54=\"\",\"\",M54/COUNTIF('Data Input'!$C$8:$AZ$8,$M$2))","v":""},{"$f":"IF(ISBLANK('Data Input'!A58),\"\",SUM('Data Input'!AY58,'Data Input'!AZ58))","v":""},{"$f":"IF(O54=\"\",\"\",O54/COUNTIF('Data Input'!$C$8:$AZ$8,$O$2))","v":""},{"$f":"IF(ISBLANK('Data Input'!A58),\"\",SUM('Data Input'!AW58))","v":""},{"$f":"IF(Q54=\"\",\"\",Q54/COUNTIF('Data Input'!$C$8:$AZ$8,$Q$2))","v":""},{"$f":"IF(ISBLANK('Data Input'!$A58),\"\",SUM('Data Input'!Q58,'Data Input'!AT58,'Data Input'!AU58))","v":""},{"$f":"IF(S54=\"\",\"\",S54/COUNTIF('Data Input'!$C$8:$AZ$8,$S$2))","v":""},{"$f":"IF(ISBLANK('Data Input'!$A58),\"\",SUM('Data Input'!AX58))","v":""},{"$f":"IF(U54=\"\",\"\",U54/COUNTIF('Data Input'!$C$8:$AZ$8,$U$2))","v":""}]
[{"$f":"IF('Data Input'!A59=0,\"\",'Data Input'!A59)","v":""},{"$f":"IF(ISBLANK('Data Input'!A59),\"\",COUNTIF('Data Input'!C59:AZ59,\"\"))","v":""},{"$f":"IF(ISBLANK('Data Input'!A59),\"\",COUNTIF('Data Input'!C59:AZ59,\"0\"))","v":""},{"$f":"IF(ISBLANK('Data Input'!A59),\"\",SUM(B55,C55))","v":""},{"$f":"IF(ISBLANK('Data Input'!A59),\"\",SUM('Data Input'!C59:AZ59))","v":""},{"$f":"IF(E55=\"\",\"\",E55/(COUNTA('Data Input'!$C$8:$AZ$8)))","v":""},{"$f":"IF(ISBLANK('Data Input'!A59),\"\",SUM('Data Input'!R59,'Data Input'!AA59,'Data Input'!AB59,'Data Input'!AC59,'Data Input'!AE59,'Data Input'!AH59,'Data Input'!AQ59,'Data Input'!AR59))","v":""},{"$f":"IF(G55=\"\",\"\",G55/COUNTIF('Data Input'!$C$8:$AZ$8,$G$2))","v":""},{"$f":"IF(ISBLANK('Data Input'!A59),\"\",SUM('Data Input'!D59,'Data Input'!E59,'Data Input'!F59,'Data Input'!G59,'Data Input'!H59,'Data Input'!J59,'Data Input'!K59,'Data Input'!O59,'Data Input'!U59,'Data Input'!V59,'Data Input'!W59,'Data Input'!X59,'Data Input'!Z59,'Data Input'!AG59,'Data Input'!AI59,'Data Input'!AJ59,'Data Input'!AK59))","v":""},{"$f":"IF(I55=\"\",\"\",I55/COUNTIF('Data Input'!$C$8:$AZ$8,$I$2))","v":""},{"$f":"IF(ISBLANK('Data Input'!A59),\"\",SUM('Data Input'!AF59,'Data Input'!AV59))","v":""},{"$f":"IF(K55=\"\",\"\",K55/COUNTIF('Data Input'!$C$8:$AZ$8,$K$2))","v":""},{"$f":"IF(ISBLANK('Data Input'!A59),\"\",SUM('Data Input'!C59,'Data Input'!I59,'Data Input'!L59,'Data Input'!M59,'Data Input'!N59,'Data Input'!P59,'Data Input'!S59,'Data Input'!T59,'Data Input'!Y59,'Data Input'!AD59,'Data Input'!AL59,'Data Input'!AM59,'Data Input'!AN59,'Data Input'!AO59,'Data Input'!AP59,'Data Input'!AS59))","v":""},{"$f":"IF(M55=\"\",\"\",M55/COUNTIF('Data Input'!$C$8:$AZ$8,$M$2))","v":""},{"$f":"IF(ISBLANK('Data Input'!A59),\"\",SUM('Data Input'!AY59,'Data Input'!AZ59))","v":""},{"$f":"IF(O55=\"\",\"\",O55/COUNTIF('Data Input'!$C$8:$AZ$8,$O$2))","v":""},{"$f":"IF(ISBLANK('Data Input'!A59),\"\",SUM('Data Input'!AW59))","v":""},{"$f":"IF(Q55=\"\",\"\",Q55/COUNTIF('Data Input'!$C$8:$AZ$8,$Q$2))","v":""},{"$f":"IF(ISBLANK('Data Input'!$A59),\"\",SUM('Data Input'!Q59,'Data Input'!AT59,'Data Input'!AU59))","v":""},{"$f":"IF(S55=\"\",\"\",S55/COUNTIF('Data Input'!$C$8:$AZ$8,$S$2))","v":""},{"$f":"IF(ISBLANK('Data Input'!$A59),\"\",SUM('Data Input'!AX59))","v":""},{"$f":"IF(U55=\"\",\"\",U55/COUNTIF('Data Input'!$C$8:$AZ$8,$U$2))","v":""}]
[{"$f":"IF('Data Input'!A60=0,\"\",'Data Input'!A60)","v":""},{"$f":"IF(ISBLANK('Data Input'!A60),\"\",COUNTIF('Data Input'!C60:AZ60,\"\"))","v":""},{"$f":"IF(ISBLANK('Data Input'!A60),\"\",COUNTIF('Data Input'!C60:AZ60,\"0\"))","v":""},{"$f":"IF(ISBLANK('Data Input'!A60),\"\",SUM(B56,C56))","v":""},{"$f":"IF(ISBLANK('Data Input'!A60),\"\",SUM('Data Input'!C60:AZ60))","v":""},{"$f":"IF(E56=\"\",\"\",E56/(COUNTA('Data Input'!$C$8:$AZ$8)))","v":""},{"$f":"IF(ISBLANK('Data Input'!A60),\"\",SUM('Data Input'!R60,'Data Input'!AA60,'Data Input'!AB60,'Data Input'!AC60,'Data Input'!AE60,'Data Input'!AH60,'Data Input'!AQ60,'Data Input'!AR60))","v":""},{"$f":"IF(G56=\"\",\"\",G56/COUNTIF('Data Input'!$C$8:$AZ$8,$G$2))","v":""},{"$f":"IF(ISBLANK('Data Input'!A60),\"\",SUM('Data Input'!D60,'Data Input'!E60,'Data Input'!F60,'Data Input'!G60,'Data Input'!H60,'Data Input'!J60,'Data Input'!K60,'Data Input'!O60,'Data Input'!U60,'Data Input'!V60,'Data Input'!W60,'Data Input'!X60,'Data Input'!Z60,'Data Input'!AG60,'Data Input'!AI60,'Data Input'!AJ60,'Data Input'!AK60))","v":""},{"$f":"IF(I56=\"\",\"\",I56/COUNTIF('Data Input'!$C$8:$AZ$8,$I$2))","v":""},{"$f":"IF(ISBLANK('Data Input'!A60),\"\",SUM('Data Input'!AF60,'Data Input'!AV60))","v":""},{"$f":"IF(K56=\"\",\"\",K56/COUNTIF('Data Input'!$C$8:$AZ$8,$K$2))","v":""},{"$f":"IF(ISBLANK('Data Input'!A60),\"\",SUM('Data Input'!C60,'Data Input'!I60,'Data Input'!L60,'Data Input'!M60,'Data Input'!N60,'Data Input'!P60,'Data Input'!S60,'Data Input'!T60,'Data Input'!Y60,'Data Input'!AD60,'Data Input'!AL60,'Data Input'!AM60,'Data Input'!AN60,'Data Input'!AO60,'Data Input'!AP60,'Data Input'!AS60))","v":""},{"$f":"IF(M56=\"\",\"\",M56/COUNTIF('Data Input'!$C$8:$AZ$8,$M$2))","v":""},{"$f":"IF(ISBLANK('Data Input'!A60),\"\",SUM('Data Input'!AY60,'Data Input'!AZ60))","v":""},{"$f":"IF(O56=\"\",\"\",O56/COUNTIF('Data Input'!$C$8:$AZ$8,$O$2))","v":""},{"$f":"IF(ISBLANK('Data Input'!A60),\"\",SUM('Data Input'!AW60))","v":""},{"$f":"IF(Q56=\"\",\"\",Q56/COUNTIF('Data Input'!$C$8:$AZ$8,$Q$2))","v":""},{"$f":"IF(ISBLANK('Data Input'!$A60),\"\",SUM('Data Input'!Q60,'Data Input'!AT60,'Data Input'!AU60))","v":""},{"$f":"IF(S56=\"\",\"\",S56/COUNTIF('Data Input'!$C$8:$AZ$8,$S$2))","v":""},{"$f":"IF(ISBLANK('Data Input'!$A60),\"\",SUM('Data Input'!AX60))","v":""},{"$f":"IF(U56=\"\",\"\",U56/COUNTIF('Data Input'!$C$8:$AZ$8,$U$2))","v":""}]
[{"$f":"IF('Data Input'!A61=0,\"\",'Data Input'!A61)","v":""},{"$f":"IF(ISBLANK('Data Input'!A61),\"\",COUNTIF('Data Input'!C61:AZ61,\"\"))","v":""},{"$f":"IF(ISBLANK('Data Input'!A61),\"\",COUNTIF('Data Input'!C61:AZ61,\"0\"))","v":""},{"$f":"IF(ISBLANK('Data Input'!A61),\"\",SUM(B57,C57))","v":""},{"$f":"IF(ISBLANK('Data Input'!A61),\"\",SUM('Data Input'!C61:AZ61))","v":""},{"$f":"IF(E57=\"\",\"\",E57/(COUNTA('Data Input'!$C$8:$AZ$8)))","v":""},{"$f":"IF(ISBLANK('Data Input'!A61),\"\",SUM('Data Input'!R61,'Data Input'!AA61,'Data Input'!AB61,'Data Input'!AC61,'Data Input'!AE61,'Data Input'!AH61,'Data Input'!AQ61,'Data Input'!AR61))","v":""},{"$f":"IF(G57=\"\",\"\",G57/COUNTIF('Data Input'!$C$8:$AZ$8,$G$2))","v":""},{"$f":"IF(ISBLANK('Data Input'!A61),\"\",SUM('Data Input'!D61,'Data Input'!E61,'Data Input'!F61,'Data Input'!G61,'Data Input'!H61,'Data Input'!J61,'Data Input'!K61,'Data Input'!O61,'Data Input'!U61,'Data Input'!V61,'Data Input'!W61,'Data Input'!X61,'Data Input'!Z61,'Data Input'!AG61,'Data Input'!AI61,'Data Input'!AJ61,'Data Input'!AK61))","v":""},{"$f":"IF(I57=\"\",\"\",I57/COUNTIF('Data Input'!$C$8:$AZ$8,$I$2))","v":""},{"$f":"IF(ISBLANK('Data Input'!A61),\"\",SUM('Data Input'!AF61,'Data Input'!AV61))","v":""},{"$f":"IF(K57=\"\",\"\",K57/COUNTIF('Data Input'!$C$8:$AZ$8,$K$2))","v":""},{"$f":"IF(ISBLANK('Data Input'!A61),\"\",SUM('Data Input'!C61,'Data Input'!I61,'Data Input'!L61,'Data Input'!M61,'Data Input'!N61,'Data Input'!P61,'Data Input'!S61,'Data Input'!T61,'Data Input'!Y61,'Data Input'!AD61,'Data Input'!AL61,'Data Input'!AM61,'Data Input'!AN61,'Data Input'!AO61,'Data Input'!AP61,'Data Input'!AS61))","v":""},{"$f":"IF(M57=\"\",\"\",M57/COUNTIF('Data Input'!$C$8:$AZ$8,$M$2))","v":""},{"$f":"IF(ISBLANK('Data Input'!A61),\"\",SUM('Data Input'!AY61,'Data Input'!AZ61))","v":""},{"$f":"IF(O57=\"\",\"\",O57/COUNTIF('Data Input'!$C$8:$AZ$8,$O$2))","v":""},{"$f":"IF(ISBLANK('Data Input'!A61),\"\",SUM('Data Input'!AW61))","v":""},{"$f":"IF(Q57=\"\",\"\",Q57/COUNTIF('Data Input'!$C$8:$AZ$8,$Q$2))","v":""},{"$f":"IF(ISBLANK('Data Input'!$A61),\"\",SUM('Data Input'!Q61,'Data Input'!AT61,'Data Input'!AU61))","v":""},{"$f":"IF(S57=\"\",\"\",S57/COUNTIF('Data Input'!$C$8:$AZ$8,$S$2))","v":""},{"$f":"IF(ISBLANK('Data Input'!$A61),\"\",SUM('Data Input'!AX61))","v":""},{"$f":"IF(U57=\"\",\"\",U57/COUNTIF('Data Input'!$C$8:$AZ$8,$U$2))","v":""}]
[{"$f":"IF('Data Input'!A62=0,\"\",'Data Input'!A62)","v":""},{"$f":"IF(ISBLANK('Data Input'!A62),\"\",COUNTIF('Data Input'!C62:AZ62,\"\"))","v":""},{"$f":"IF(ISBLANK('Data Input'!A62),\"\",COUNTIF('Data Input'!C62:AZ62,\"0\"))","v":""},{"$f":"IF(ISBLANK('Data Input'!A62),\"\",SUM(B58,C58))","v":""},{"$f":"IF(ISBLANK('Data Input'!A62),\"\",SUM('Data Input'!C62:AZ62))","v":""},{"$f":"IF(E58=\"\",\"\",E58/(COUNTA('Data Input'!$C$8:$AZ$8)))","v":""},{"$f":"IF(ISBLANK('Data Input'!A62),\"\",SUM('Data Input'!R62,'Data Input'!AA62,'Data Input'!AB62,'Data Input'!AC62,'Data Input'!AE62,'Data Input'!AH62,'Data Input'!AQ62,'Data Input'!AR62))","v":""},{"$f":"IF(G58=\"\",\"\",G58/COUNTIF('Data Input'!$C$8:$AZ$8,$G$2))","v":""},{"$f":"IF(ISBLANK('Data Input'!A62),\"\",SUM('Data Input'!D62,'Data Input'!E62,'Data Input'!F62,'Data Input'!G62,'Data Input'!H62,'Data Input'!J62,'Data Input'!K62,'Data Input'!O62,'Data Input'!U62,'Data Input'!V62,'Data Input'!W62,'Data Input'!X62,'Data Input'!Z62,'Data Input'!AG62,'Data Input'!AI62,'Data Input'!AJ62,'Data Input'!AK62))","v":""},{"$f":"IF(I58=\"\",\"\",I58/COUNTIF('Data Input'!$C$8:$AZ$8,$I$2))","v":""},{"$f":"IF(ISBLANK('Data Input'!A62),\"\",SUM('Data Input'!AF62,'Data Input'!AV62))","v":""},{"$f":"IF(K58=\"\",\"\",K58/COUNTIF('Data Input'!$C$8:$AZ$8,$K$2))","v":""},{"$f":"IF(ISBLANK('Data Input'!A62),\"\",SUM('Data Input'!C62,'Data Input'!I62,'Data Input'!L62,'Data Input'!M62,'Data Input'!N62,'Data Input'!P62,'Data Input'!S62,'Data Input'!T62,'Data Input'!Y62,'Data Input'!AD62,'Data Input'!AL62,'Data Input'!AM62,'Data Input'!AN62,'Data Input'!AO62,'Data Input'!AP62,'Data Input'!AS62))","v":""},{"$f":"IF(M58=\"\",\"\",M58/COUNTIF('Data Input'!$C$8:$AZ$8,$M$2))","v":""},{"$f":"IF(ISBLANK('Data Input'!A62),\"\",SUM('Data Input'!AY62,'Data Input'!AZ62))","v":""},{"$f":"IF(O58=\"\",\"\",O58/COUNTIF('Data Input'!$C$8:$AZ$8,$O$2))","v":""},{"$f":"IF(ISBLANK('Data Input'!A62),\"\",SUM('Data Input'!AW62))","v":""},{"$f":"IF(Q58=\"\",\"\",Q58/COUNTIF('Data Input'!$C$8:$AZ$8,$Q$2))","v":""},{"$f":"IF(ISBLANK('Data Input'!$A62),\"\",SUM('Data Input'!Q62,'Data Input'!AT62,'Data Input'!AU62))","v":""},{"$f":"IF(S58=\"\",\"\",S58/COUNTIF('Data Input'!$C$8:$AZ$8,$S$2))","v":""},{"$f":"IF(ISBLANK('Data Input'!$A62),\"\",SUM('Data Input'!AX62))","v":""},{"$f":"IF(U58=\"\",\"\",U58/COUNTIF('Data Input'!$C$8:$AZ$8,$U$2))","v":""}]
[{"$f":"IF('Data Input'!A63=0,\"\",'Data Input'!A63)","v":""},{"$f":"IF(ISBLANK('Data Input'!A63),\"\",COUNTIF('Data Input'!C63:AZ63,\"\"))","v":""},{"$f":"IF(ISBLANK('Data Input'!A63),\"\",COUNTIF('Data Input'!C63:AZ63,\"0\"))","v":""},{"$f":"IF(ISBLANK('Data Input'!A63),\"\",SUM(B59,C59))","v":""},{"$f":"IF(ISBLANK('Data Input'!A63),\"\",SUM('Data Input'!C63:AZ63))","v":""},{"$f":"IF(E59=\"\",\"\",E59/(COUNTA('Data Input'!$C$8:$AZ$8)))","v":""},{"$f":"IF(ISBLANK('Data Input'!A63),\"\",SUM('Data Input'!R63,'Data Input'!AA63,'Data Input'!AB63,'Data Input'!AC63,'Data Input'!AE63,'Data Input'!AH63,'Data Input'!AQ63,'Data Input'!AR63))","v":""},{"$f":"IF(G59=\"\",\"\",G59/COUNTIF('Data Input'!$C$8:$AZ$8,$G$2))","v":""},{"$f":"IF(ISBLANK('Data Input'!A63),\"\",SUM('Data Input'!D63,'Data Input'!E63,'Data Input'!F63,'Data Input'!G63,'Data Input'!H63,'Data Input'!J63,'Data Input'!K63,'Data Input'!O63,'Data Input'!U63,'Data Input'!V63,'Data Input'!W63,'Data Input'!X63,'Data Input'!Z63,'Data Input'!AG63,'Data Input'!AI63,'Data Input'!AJ63,'Data Input'!AK63))","v":""},{"$f":"IF(I59=\"\",\"\",I59/COUNTIF('Data Input'!$C$8:$AZ$8,$I$2))","v":""},{"$f":"IF(ISBLANK('Data Input'!A63),\"\",SUM('Data Input'!AF63,'Data Input'!AV63))","v":""},{"$f":"IF(K59=\"\",\"\",K59/COUNTIF('Data Input'!$C$8:$AZ$8,$K$2))","v":""},{"$f":"IF(ISBLANK('Data Input'!A63),\"\",SUM('Data Input'!C63,'Data Input'!I63,'Data Input'!L63,'Data Input'!M63,'Data Input'!N63,'Data Input'!P63,'Data Input'!S63,'Data Input'!T63,'Data Input'!Y63,'Data Input'!AD63,'Data Input'!AL63,'Data Input'!AM63,'Data Input'!AN63,'Data Input'!AO63,'Data Input'!AP63,'Data Input'!AS63))","v":""},{"$f":"IF(M59=\"\",\"\",M59/COUNTIF('Data Input'!$C$8:$AZ$8,$M$2))","v":""},{"$f":"IF(ISBLANK('Data Input'!A63),\"\",SUM('Data Input'!AY63,'Data Input'!AZ63))","v":""},{"$f":"IF(O59=\"\",\"\",O59/COUNTIF('Data Input'!$C$8:$AZ$8,$O$2))","v":""},{"$f":"IF(ISBLANK('Data Input'!A63),\"\",SUM('Data Input'!AW63))","v":""},{"$f":"IF(Q59=\"\",\"\",Q59/COUNTIF('Data Input'!$C$8:$AZ$8,$Q$2))","v":""},{"$f":"IF(ISBLANK('Data Input'!$A63),\"\",SUM('Data Input'!Q63,'Data Input'!AT63,'Data Input'!AU63))","v":""},{"$f":"IF(S59=\"\",\"\",S59/COUNTIF('Data Input'!$C$8:$AZ$8,$S$2))","v":""},{"$f":"IF(ISBLANK('Data Input'!$A63),\"\",SUM('Data Input'!AX63))","v":""},{"$f":"IF(U59=\"\",\"\",U59/COUNTIF('Data Input'!$C$8:$AZ$8,$U$2))","v":""}]
[{"$f":"IF('Data Input'!A64=0,\"\",'Data Input'!A64)","v":""},{"$f":"IF(ISBLANK('Data Input'!A64),\"\",COUNTIF('Data Input'!C64:AZ64,\"\"))","v":""},{"$f":"IF(ISBLANK('Data Input'!A64),\"\",COUNTIF('Data Input'!C64:AZ64,\"0\"))","v":""},{"$f":"IF(ISBLANK('Data Input'!A64),\"\",SUM(B60,C60))","v":""},{"$f":"IF(ISBLANK('Data Input'!A64),\"\",SUM('Data Input'!C64:AZ64))","v":""},{"$f":"IF(E60=\"\",\"\",E60/(COUNTA('Data Input'!$C$8:$AZ$8)))","v":""},{"$f":"IF(ISBLANK('Data Input'!A64),\"\",SUM('Data Input'!R64,'Data Input'!AA64,'Data Input'!AB64,'Data Input'!AC64,'Data Input'!AE64,'Data Input'!AH64,'Data Input'!AQ64,'Data Input'!AR64))","v":""},{"$f":"IF(G60=\"\",\"\",G60/COUNTIF('Data Input'!$C$8:$AZ$8,$G$2))","v":""},{"$f":"IF(ISBLANK('Data Input'!A64),\"\",SUM('Data Input'!D64,'Data Input'!E64,'Data Input'!F64,'Data Input'!G64,'Data Input'!H64,'Data Input'!J64,'Data Input'!K64,'Data Input'!O64,'Data Input'!U64,'Data Input'!V64,'Data Input'!W64,'Data Input'!X64,'Data Input'!Z64,'Data Input'!AG64,'Data Input'!AI64,'Data Input'!AJ64,'Data Input'!AK64))","v":""},{"$f":"IF(I60=\"\",\"\",I60/COUNTIF('Data Input'!$C$8:$AZ$8,$I$2))","v":""},{"$f":"IF(ISBLANK('Data Input'!A64),\"\",SUM('Data Input'!AF64,'Data Input'!AV64))","v":""},{"$f":"IF(K60=\"\",\"\",K60/COUNTIF('Data Input'!$C$8:$AZ$8,$K$2))","v":""},{"$f":"IF(ISBLANK('Data Input'!A64),\"\",SUM('Data Input'!C64,'Data Input'!I64,'Data Input'!L64,'Data Input'!M64,'Data Input'!N64,'Data Input'!P64,'Data Input'!S64,'Data Input'!T64,'Data Input'!Y64,'Data Input'!AD64,'Data Input'!AL64,'Data Input'!AM64,'Data Input'!AN64,'Data Input'!AO64,'Data Input'!AP64,'Data Input'!AS64))","v":""},{"$f":"IF(M60=\"\",\"\",M60/COUNTIF('Data Input'!$C$8:$AZ$8,$M$2))","v":""},{"$f":"IF(ISBLANK('Data Input'!A64),\"\",SUM('Data Input'!AY64,'Data Input'!AZ64))","v":""},{"$f":"IF(O60=\"\",\"\",O60/COUNTIF('Data Input'!$C$8:$AZ$8,$O$2))","v":""},{"$f":"IF(ISBLANK('Data Input'!A64),\"\",SUM('Data Input'!AW64))","v":""},{"$f":"IF(Q60=\"\",\"\",Q60/COUNTIF('Data Input'!$C$8:$AZ$8,$Q$2))","v":""},{"$f":"IF(ISBLANK('Data Input'!$A64),\"\",SUM('Data Input'!Q64,'Data Input'!AT64,'Data Input'!AU64))","v":""},{"$f":"IF(S60=\"\",\"\",S60/COUNTIF('Data Input'!$C$8:$AZ$8,$S$2))","v":""},{"$f":"IF(ISBLANK('Data Input'!$A64),\"\",SUM('Data Input'!AX64))","v":""},{"$f":"IF(U60=\"\",\"\",U60/COUNTIF('Data Input'!$C$8:$AZ$8,$U$2))","v":""}]
[{"$f":"IF('Data Input'!A65=0,\"\",'Data Input'!A65)","v":""},{"$f":"IF(ISBLANK('Data Input'!A65),\"\",COUNTIF('Data Input'!C65:AZ65,\"\"))","v":""},{"$f":"IF(ISBLANK('Data Input'!A65),\"\",COUNTIF('Data Input'!C65:AZ65,\"0\"))","v":""},{"$f":"IF(ISBLANK('Data Input'!A65),\"\",SUM(B61,C61))","v":""},{"$f":"IF(ISBLANK('Data Input'!A65),\"\",SUM('Data Input'!C65:AZ65))","v":""},{"$f":"IF(E61=\"\",\"\",E61/(COUNTA('Data Input'!$C$8:$AZ$8)))","v":""},{"$f":"IF(ISBLANK('Data Input'!A65),\"\",SUM('Data Input'!R65,'Data Input'!AA65,'Data Input'!AB65,'Data Input'!AC65,'Data Input'!AE65,'Data Input'!AH65,'Data Input'!AQ65,'Data Input'!AR65))","v":""},{"$f":"IF(G61=\"\",\"\",G61/COUNTIF('Data Input'!$C$8:$AZ$8,$G$2))","v":""},{"$f":"IF(ISBLANK('Data Input'!A65),\"\",SUM('Data Input'!D65,'Data Input'!E65,'Data Input'!F65,'Data Input'!G65,'Data Input'!H65,'Data Input'!J65,'Data Input'!K65,'Data Input'!O65,'Data Input'!U65,'Data Input'!V65,'Data Input'!W65,'Data Input'!X65,'Data Input'!Z65,'Data Input'!AG65,'Data Input'!AI65,'Data Input'!AJ65,'Data Input'!AK65))","v":""},{"$f":"IF(I61=\"\",\"\",I61/COUNTIF('Data Input'!$C$8:$AZ$8,$I$2))","v":""},{"$f":"IF(ISBLANK('Data Input'!A65),\"\",SUM('Data Input'!AF65,'Data Input'!AV65))","v":""},{"$f":"IF(K61=\"\",\"\",K61/COUNTIF('Data Input'!$C$8:$AZ$8,$K$2))","v":""},{"$f":"IF(ISBLANK('Data Input'!A65),\"\",SUM('Data Input'!C65,'Data Input'!I65,'Data Input'!L65,'Data Input'!M65,'Data Input'!N65,'Data Input'!P65,'Data Input'!S65,'Data Input'!T65,'Data Input'!Y65,'Data Input'!AD65,'Data Input'!AL65,'Data Input'!AM65,'Data Input'!AN65,'Data Input'!AO65,'Data Input'!AP65,'Data Input'!AS65))","v":""},{"$f":"IF(M61=\"\",\"\",M61/COUNTIF('Data Input'!$C$8:$AZ$8,$M$2))","v":""},{"$f":"IF(ISBLANK('Data Input'!A65),\"\",SUM('Data Input'!AY65,'Data Input'!AZ65))","v":""},{"$f":"IF(O61=\"\",\"\",O61/COUNTIF('Data Input'!$C$8:$AZ$8,$O$2))","v":""},{"$f":"IF(ISBLANK('Data Input'!A65),\"\",SUM('Data Input'!AW65))","v":""},{"$f":"IF(Q61=\"\",\"\",Q61/COUNTIF('Data Input'!$C$8:$AZ$8,$Q$2))","v":""},{"$f":"IF(ISBLANK('Data Input'!$A65),\"\",SUM('Data Input'!Q65,'Data Input'!AT65,'Data Input'!AU65))","v":""},{"$f":"IF(S61=\"\",\"\",S61/COUNTIF('Data Input'!$C$8:$AZ$8,$S$2))","v":""},{"$f":"IF(ISBLANK('Data Input'!$A65),\"\",SUM('Data Input'!AX65))","v":""},{"$f":"IF(U61=\"\",\"\",U61/COUNTIF('Data Input'!$C$8:$AZ$8,$U$2))","v":""}]
[{"$f":"IF('Data Input'!A66=0,\"\",'Data Input'!A66)","v":""},{"$f":"IF(ISBLANK('Data Input'!A66),\"\",COUNTIF('Data Input'!C66:AZ66,\"\"))","v":""},{"$f":"IF(ISBLANK('Data Input'!A66),\"\",COUNTIF('Data Input'!C66:AZ66,\"0\"))","v":""},{"$f":"IF(ISBLANK('Data Input'!A66),\"\",SUM(B62,C62))","v":""},{"$f":"IF(ISBLANK('Data Input'!A66),\"\",SUM('Data Input'!C66:AZ66))","v":""},{"$f":"IF(E62=\"\",\"\",E62/(COUNTA('Data Input'!$C$8:$AZ$8)))","v":""},{"$f":"IF(ISBLANK('Data Input'!A66),\"\",SUM('Data Input'!R66,'Data Input'!AA66,'Data Input'!AB66,'Data Input'!AC66,'Data Input'!AE66,'Data Input'!AH66,'Data Input'!AQ66,'Data Input'!AR66))","v":""},{"$f":"IF(G62=\"\",\"\",G62/COUNTIF('Data Input'!$C$8:$AZ$8,$G$2))","v":""},{"$f":"IF(ISBLANK('Data Input'!A66),\"\",SUM('Data Input'!D66,'Data Input'!E66,'Data Input'!F66,'Data Input'!G66,'Data Input'!H66,'Data Input'!J66,'Data Input'!K66,'Data Input'!O66,'Data Input'!U66,'Data Input'!V66,'Data Input'!W66,'Data Input'!X66,'Data Input'!Z66,'Data Input'!AG66,'Data Input'!AI66,'Data Input'!AJ66,'Data Input'!AK66))","v":""},{"$f":"IF(I62=\"\",\"\",I62/COUNTIF('Data Input'!$C$8:$AZ$8,$I$2))","v":""},{"$f":"IF(ISBLANK('Data Input'!A66),\"\",SUM('Data Input'!AF66,'Data Input'!AV66))","v":""},{"$f":"IF(K62=\"\",\"\",K62/COUNTIF('Data Input'!$C$8:$AZ$8,$K$2))","v":""},{"$f":"IF(ISBLANK('Data Input'!A66),\"\",SUM('Data Input'!C66,'Data Input'!I66,'Data Input'!L66,'Data Input'!M66,'Data Input'!N66,'Data Input'!P66,'Data Input'!S66,'Data Input'!T66,'Data Input'!Y66,'Data Input'!AD66,'Data Input'!AL66,'Data Input'!AM66,'Data Input'!AN66,'Data Input'!AO66,'Data Input'!AP66,'Data Input'!AS66))","v":""},{"$f":"IF(M62=\"\",\"\",M62/COUNTIF('Data Input'!$C$8:$AZ$8,$M$2))","v":""},{"$f":"IF(ISBLANK('Data Input'!A66),\"\",SUM('Data Input'!AY66,'Data Input'!AZ66))","v":""},{"$f":"IF(O62=\"\",\"\",O62/COUNTIF('Data Input'!$C$8:$AZ$8,$O$2))","v":""},{"$f":"IF(ISBLANK('Data Input'!A66),\"\",SUM('Data Input'!AW66))","v":""},{"$f":"IF(Q62=\"\",\"\",Q62/COUNTIF('Data Input'!$C$8:$AZ$8,$Q$2))","v":""},{"$f":"IF(ISBLANK('Data Input'!$A66),\"\",SUM('Data Input'!Q66,'Data Input'!AT66,'Data Input'!AU66))","v":""},{"$f":"IF(S62=\"\",\"\",S62/COUNTIF('Data Input'!$C$8:$AZ$8,$S$2))","v":""},{"$f":"IF(ISBLANK('Data Input'!$A66),\"\",SUM('Data Input'!AX66))","v":""},{"$f":"IF(U62=\"\",\"\",U62/COUNTIF('Data Input'!$C$8:$AZ$8,$U$2))","v":""}]
[{"$f":"IF('Data Input'!A67=0,\"\",'Data Input'!A67)","v":""},{"$f":"IF(ISBLANK('Data Input'!A67),\"\",COUNTIF('Data Input'!C67:AZ67,\"\"))","v":""},{"$f":"IF(ISBLANK('Data Input'!A67),\"\",COUNTIF('Data Input'!C67:AZ67,\"0\"))","v":""},{"$f":"IF(ISBLANK('Data Input'!A67),\"\",SUM(B63,C63))","v":""},{"$f":"IF(ISBLANK('Data Input'!A67),\"\",SUM('Data Input'!C67:AZ67))","v":""},{"$f":"IF(E63=\"\",\"\",E63/(COUNTA('Data Input'!$C$8:$AZ$8)))","v":""},{"$f":"IF(ISBLANK('Data Input'!A67),\"\",SUM('Data Input'!R67,'Data Input'!AA67,'Data Input'!AB67,'Data Input'!AC67,'Data Input'!AE67,'Data Input'!AH67,'Data Input'!AQ67,'Data Input'!AR67))","v":""},{"$f":"IF(G63=\"\",\"\",G63/COUNTIF('Data Input'!$C$8:$AZ$8,$G$2))","v":""},{"$f":"IF(ISBLANK('Data Input'!A67),\"\",SUM('Data Input'!D67,'Data Input'!E67,'Data Input'!F67,'Data Input'!G67,'Data Input'!H67,'Data Input'!J67,'Data Input'!K67,'Data Input'!O67,'Data Input'!U67,'Data Input'!V67,'Data Input'!W67,'Data Input'!X67,'Data Input'!Z67,'Data Input'!AG67,'Data Input'!AI67,'Data Input'!AJ67,'Data Input'!AK67))","v":""},{"$f":"IF(I63=\"\",\"\",I63/COUNTIF('Data Input'!$C$8:$AZ$8,$I$2))","v":""},{"$f":"IF(ISBLANK('Data Input'!A67),\"\",SUM('Data Input'!AF67,'Data Input'!AV67))","v":""},{"$f":"IF(K63=\"\",\"\",K63/COUNTIF('Data Input'!$C$8:$AZ$8,$K$2))","v":""},{"$f":"IF(ISBLANK('Data Input'!A67),\"\",SUM('Data Input'!C67,'Data Input'!I67,'Data Input'!L67,'Data Input'!M67,'Data Input'!N67,'Data Input'!P67,'Data Input'!S67,'Data Input'!T67,'Data Input'!Y67,'Data Input'!AD67,'Data Input'!AL67,'Data Input'!AM67,'Data Input'!AN67,'Data Input'!AO67,'Data Input'!AP67,'Data Input'!AS67))","v":""},{"$f":"IF(M63=\"\",\"\",M63/COUNTIF('Data Input'!$C$8:$AZ$8,$M$2))","v":""},{"$f":"IF(ISBLANK('Data Input'!A67),\"\",SUM('Data Input'!AY67,'Data Input'!AZ67))","v":""},{"$f":"IF(O63=\"\",\"\",O63/COUNTIF('Data Input'!$C$8:$AZ$8,$O$2))","v":""},{"$f":"IF(ISBLANK('Data Input'!A67),\"\",SUM('Data Input'!AW67))","v":""},{"$f":"IF(Q63=\"\",\"\",Q63/COUNTIF('Data Input'!$C$8:$AZ$8,$Q$2))","v":""},{"$f":"IF(ISBLANK('Data Input'!$A67),\"\",SUM('Data Input'!Q67,'Data Input'!AT67,'Data Input'!AU67))","v":""},{"$f":"IF(S63=\"\",\"\",S63/COUNTIF('Data Input'!$C$8:$AZ$8,$S$2))","v":""},{"$f":"IF(ISBLANK('Data Input'!$A67),\"\",SUM('Data Input'!AX67))","v":""},{"$f":"IF(U63=\"\",\"\",U63/COUNTIF('Data Input'!$C$8:$AZ$8,$U$2))","v":""}]
[{"$f":"IF('Data Input'!A68=0,\"\",'Data Input'!A68)","v":""},{"$f":"IF(ISBLANK('Data Input'!A68),\"\",COUNTIF('Data Input'!C68:AZ68,\"\"))","v":""},{"$f":"IF(ISBLANK('Data Input'!A68),\"\",COUNTIF('Data Input'!C68:AZ68,\"0\"))","v":""},{"$f":"IF(ISBLANK('Data Input'!A68),\"\",SUM(B64,C64))","v":""},{"$f":"IF(ISBLANK('Data Input'!A68),\"\",SUM('Data Input'!C68:AZ68))","v":""},{"$f":"IF(E64=\"\",\"\",E64/(COUNTA('Data Input'!$C$8:$AZ$8)))","v":""},{"$f":"IF(ISBLANK('Data Input'!A68),\"\",SUM('Data Input'!R68,'Data Input'!AA68,'Data Input'!AB68,'Data Input'!AC68,'Data Input'!AE68,'Data Input'!AH68,'Data Input'!AQ68,'Data Input'!AR68))","v":""},{"$f":"IF(G64=\"\",\"\",G64/COUNTIF('Data Input'!$C$8:$AZ$8,$G$2))","v":""},{"$f":"IF(ISBLANK('Data Input'!A68),\"\",SUM('Data Input'!D68,'Data Input'!E68,'Data Input'!F68,'Data Input'!G68,'Data Input'!H68,'Data Input'!J68,'Data Input'!K68,'Data Input'!O68,'Data Input'!U68,'Data Input'!V68,'Data Input'!W68,'Data Input'!X68,'Data Input'!Z68,'Data Input'!AG68,'Data Input'!AI68,'Data Input'!AJ68,'Data Input'!AK68))","v":""},{"$f":"IF(I64=\"\",\"\",I64/COUNTIF('Data Input'!$C$8:$AZ$8,$I$2))","v":""},{"$f":"IF(ISBLANK('Data Input'!A68),\"\",SUM('Data Input'!AF68,'Data Input'!AV68))","v":""},{"$f":"IF(K64=\"\",\"\",K64/COUNTIF('Data Input'!$C$8:$AZ$8,$K$2))","v":""},{"$f":"IF(ISBLANK('Data Input'!A68),\"\",SUM('Data Input'!C68,'Data Input'!I68,'Data Input'!L68,'Data Input'!M68,'Data Input'!N68,'Data Input'!P68,'Data Input'!S68,'Data Input'!T68,'Data Input'!Y68,'Data Input'!AD68,'Data Input'!AL68,'Data Input'!AM68,'Data Input'!AN68,'Data Input'!AO68,'Data Input'!AP68,'Data Input'!AS68))","v":""},{"$f":"IF(M64=\"\",\"\",M64/COUNTIF('Data Input'!$C$8:$AZ$8,$M$2))","v":""},{"$f":"IF(ISBLANK('Data Input'!A68),\"\",SUM('Data Input'!AY68,'Data Input'!AZ68))","v":""},{"$f":"IF(O64=\"\",\"\",O64/COUNTIF('Data Input'!$C$8:$AZ$8,$O$2))","v":""},{"$f":"IF(ISBLANK('Data Input'!A68),\"\",SUM('Data Input'!AW68))","v":""},{"$f":"IF(Q64=\"\",\"\",Q64/COUNTIF('Data Input'!$C$8:$AZ$8,$Q$2))","v":""},{"$f":"IF(ISBLANK('Data Input'!$A68),\"\",SUM('Data Input'!Q68,'Data Input'!AT68,'Data Input'!AU68))","v":""},{"$f":"IF(S64=\"\",\"\",S64/COUNTIF('Data Input'!$C$8:$AZ$8,$S$2))","v":""},{"$f":"IF(ISBLANK('Data Input'!$A68),\"\",SUM('Data Input'!AX68))","v":""},{"$f":"IF(U64=\"\",\"\",U64/COUNTIF('Data Input'!$C$8:$AZ$8,$U$2))","v":""}]
[{"$f":"IF('Data Input'!A69=0,\"\",'Data Input'!A69)","v":""},{"$f":"IF(ISBLANK('Data Input'!A69),\"\",COUNTIF('Data Input'!C69:AZ69,\"\"))","v":""},{"$f":"IF(ISBLANK('Data Input'!A69),\"\",COUNTIF('Data Input'!C69:AZ69,\"0\"))","v":""},{"$f":"IF(ISBLANK('Data Input'!A69),\"\",SUM(B65,C65))","v":""},{"$f":"IF(ISBLANK('Data Input'!A69),\"\",SUM('Data Input'!C69:AZ69))","v":""},{"$f":"IF(E65=\"\",\"\",E65/(COUNTA('Data Input'!$C$8:$AZ$8)))","v":""},{"$f":"IF(ISBLANK('Data Input'!A69),\"\",SUM('Data Input'!R69,'Data Input'!AA69,'Data Input'!AB69,'Data Input'!AC69,'Data Input'!AE69,'Data Input'!AH69,'Data Input'!AQ69,'Data Input'!AR69))","v":""},{"$f":"IF(G65=\"\",\"\",G65/COUNTIF('Data Input'!$C$8:$AZ$8,$G$2))","v":""},{"$f":"IF(ISBLANK('Data Input'!A69),\"\",SUM('Data Input'!D69,'Data Input'!E69,'Data Input'!F69,'Data Input'!G69,'Data Input'!H69,'Data Input'!J69,'Data Input'!K69,'Data Input'!O69,'Data Input'!U69,'Data Input'!V69,'Data Input'!W69,'Data Input'!X69,'Data Input'!Z69,'Data Input'!AG69,'Data Input'!AI69,'Data Input'!AJ69,'Data Input'!AK69))","v":""},{"$f":"IF(I65=\"\",\"\",I65/COUNTIF('Data Input'!$C$8:$AZ$8,$I$2))","v":""},{"$f":"IF(ISBLANK('Data Input'!A69),\"\",SUM('Data Input'!AF69,'Data Input'!AV69))","v":""},{"$f":"IF(K65=\"\",\"\",K65/COUNTIF('Data Input'!$C$8:$AZ$8,$K$2))","v":""},{"$f":"IF(ISBLANK('Data Input'!A69),\"\",SUM('Data Input'!C69,'Data Input'!I69,'Data Input'!L69,'Data Input'!M69,'Data Input'!N69,'Data Input'!P69,'Data Input'!S69,'Data Input'!T69,'Data Input'!Y69,'Data Input'!AD69,'Data Input'!AL69,'Data Input'!AM69,'Data Input'!AN69,'Data Input'!AO69,'Data Input'!AP69,'Data Input'!AS69))","v":""},{"$f":"IF(M65=\"\",\"\",M65/COUNTIF('Data Input'!$C$8:$AZ$8,$M$2))","v":""},{"$f":"IF(ISBLANK('Data Input'!A69),\"\",SUM('Data Input'!AY69,'Data Input'!AZ69))","v":""},{"$f":"IF(O65=\"\",\"\",O65/COUNTIF('Data Input'!$C$8:$AZ$8,$O$2))","v":""},{"$f":"IF(ISBLANK('Data Input'!A69),\"\",SUM('Data Input'!AW69))","v":""},{"$f":"IF(Q65=\"\",\"\",Q65/COUNTIF('Data Input'!$C$8:$AZ$8,$Q$2))","v":""},{"$f":"IF(ISBLANK('Data Input'!$A69),\"\",SUM('Data Input'!Q69,'Data Input'!AT69,'Data Input'!AU69))","v":""},{"$f":"IF(S65=\"\",\"\",S65/COUNTIF('Data Input'!$C$8:$AZ$8,$S$2))","v":""},{"$f":"IF(ISBLANK('Data Input'!$A69),\"\",SUM('Data Input'!AX69))","v":""},{"$f":"IF(U65=\"\",\"\",U65/COUNTIF('Data Input'!$C$8:$AZ$8,$U$2))","v":""}]
[{"$f":"IF('Data Input'!A70=0,\"\",'Data Input'!A70)","v":""},{"$f":"IF(ISBLANK('Data Input'!A70),\"\",COUNTIF('Data Input'!C70:AZ70,\"\"))","v":""},{"$f":"IF(ISBLANK('Data Input'!A70),\"\",COUNTIF('Data Input'!C70:AZ70,\"0\"))","v":""},{"$f":"IF(ISBLANK('Data Input'!A70),\"\",SUM(B66,C66))","v":""},{"$f":"IF(ISBLANK('Data Input'!A70),\"\",SUM('Data Input'!C70:AZ70))","v":""},{"$f":"IF(E66=\"\",\"\",E66/(COUNTA('Data Input'!$C$8:$AZ$8)))","v":""},{"$f":"IF(ISBLANK('Data Input'!A70),\"\",SUM('Data Input'!R70,'Data Input'!AA70,'Data Input'!AB70,'Data Input'!AC70,'Data Input'!AE70,'Data Input'!AH70,'Data Input'!AQ70,'Data Input'!AR70))","v":""},{"$f":"IF(G66=\"\",\"\",G66/COUNTIF('Data Input'!$C$8:$AZ$8,$G$2))","v":""},{"$f":"IF(ISBLANK('Data Input'!A70),\"\",SUM('Data Input'!D70,'Data Input'!E70,'Data Input'!F70,'Data Input'!G70,'Data Input'!H70,'Data Input'!J70,'Data Input'!K70,'Data Input'!O70,'Data Input'!U70,'Data Input'!V70,'Data Input'!W70,'Data Input'!X70,'Data Input'!Z70,'Data Input'!AG70,'Data Input'!AI70,'Data Input'!AJ70,'Data Input'!AK70))","v":""},{"$f":"IF(I66=\"\",\"\",I66/COUNTIF('Data Input'!$C$8:$AZ$8,$I$2))","v":""},{"$f":"IF(ISBLANK('Data Input'!A70),\"\",SUM('Data Input'!AF70,'Data Input'!AV70))","v":""},{"$f":"IF(K66=\"\",\"\",K66/COUNTIF('Data Input'!$C$8:$AZ$8,$K$2))","v":""},{"$f":"IF(ISBLANK('Data Input'!A70),\"\",SUM('Data Input'!C70,'Data Input'!I70,'Data Input'!L70,'Data Input'!M70,'Data Input'!N70,'Data Input'!P70,'Data Input'!S70,'Data Input'!T70,'Data Input'!Y70,'Data Input'!AD70,'Data Input'!AL70,'Data Input'!AM70,'Data Input'!AN70,'Data Input'!AO70,'Data Input'!AP70,'Data Input'!AS70))","v":""},{"$f":"IF(M66=\"\",\"\",M66/COUNTIF('Data Input'!$C$8:$AZ$8,$M$2))","v":""},{"$f":"IF(ISBLANK('Data Input'!A70),\"\",SUM('Data Input'!AY70,'Data Input'!AZ70))","v":""},{"$f":"IF(O66=\"\",\"\",O66/COUNTIF('Data Input'!$C$8:$AZ$8,$O$2))","v":""},{"$f":"IF(ISBLANK('Data Input'!A70),\"\",SUM('Data Input'!AW70))","v":""},{"$f":"IF(Q66=\"\",\"\",Q66/COUNTIF('Data Input'!$C$8:$AZ$8,$Q$2))","v":""},{"$f":"IF(ISBLANK('Data Input'!$A70),\"\",SUM('Data Input'!Q70,'Data Input'!AT70,'Data Input'!AU70))","v":""},{"$f":"IF(S66=\"\",\"\",S66/COUNTIF('Data Input'!$C$8:$AZ$8,$S$2))","v":""},{"$f":"IF(ISBLANK('Data Input'!$A70),\"\",SUM('Data Input'!AX70))","v":""},{"$f":"IF(U66=\"\",\"\",U66/COUNTIF('Data Input'!$C$8:$AZ$8,$U$2))","v":""}]
[{"$f":"IF('Data Input'!A71=0,\"\",'Data Input'!A71)","v":""},{"$f":"IF(ISBLANK('Data Input'!A71),\"\",COUNTIF('Data Input'!C71:AZ71,\"\"))","v":""},{"$f":"IF(ISBLANK('Data Input'!A71),\"\",COUNTIF('Data Input'!C71:AZ71,\"0\"))","v":""},{"$f":"IF(ISBLANK('Data Input'!A71),\"\",SUM(B67,C67))","v":""},{"$f":"IF(ISBLANK('Data Input'!A71),\"\",SUM('Data Input'!C71:AZ71))","v":""},{"$f":"IF(E67=\"\",\"\",E67/(COUNTA('Data Input'!$C$8:$AZ$8)))","v":""},{"$f":"IF(ISBLANK('Data Input'!A71),\"\",SUM('Data Input'!R71,'Data Input'!AA71,'Data Input'!AB71,'Data Input'!AC71,'Data Input'!AE71,'Data Input'!AH71,'Data Input'!AQ71,'Data Input'!AR71))","v":""},{"$f":"IF(G67=\"\",\"\",G67/COUNTIF('Data Input'!$C$8:$AZ$8,$G$2))","v":""},{"$f":"IF(ISBLANK('Data Input'!A71),\"\",SUM('Data Input'!D71,'Data Input'!E71,'Data Input'!F71,'Data Input'!G71,'Data Input'!H71,'Data Input'!J71,'Data Input'!K71,'Data Input'!O71,'Data Input'!U71,'Data Input'!V71,'Data Input'!W71,'Data Input'!X71,'Data Input'!Z71,'Data Input'!AG71,'Data Input'!AI71,'Data Input'!AJ71,'Data Input'!AK71))","v":""},{"$f":"IF(I67=\"\",\"\",I67/COUNTIF('Data Input'!$C$8:$AZ$8,$I$2))","v":""},{"$f":"IF(ISBLANK('Data Input'!A71),\"\",SUM('Data Input'!AF71,'Data Input'!AV71))","v":""},{"$f":"IF(K67=\"\",\"\",K67/COUNTIF('Data Input'!$C$8:$AZ$8,$K$2))","v":""},{"$f":"IF(ISBLANK('Data Input'!A71),\"\",SUM('Data Input'!C71,'Data Input'!I71,'Data Input'!L71,'Data Input'!M71,'Data Input'!N71,'Data Input'!P71,'Data Input'!S71,'Data Input'!T71,'Data Input'!Y71,'Data Input'!AD71,'Data Input'!AL71,'Data Input'!AM71,'Data Input'!AN71,'Data Input'!AO71,'Data Input'!AP71,'Data Input'!AS71))","v":""},{"$f":"IF(M67=\"\",\"\",M67/COUNTIF('Data Input'!$C$8:$AZ$8,$M$2))","v":""},{"$f":"IF(ISBLANK('Data Input'!A71),\"\",SUM('Data Input'!AY71,'Data Input'!AZ71))","v":""},{"$f":"IF(O67=\"\",\"\",O67/COUNTIF('Data Input'!$C$8:$AZ$8,$O$2))","v":""},{"$f":"IF(ISBLANK('Data Input'!A71),\"\",SUM('Data Input'!AW71))","v":""},{"$f":"IF(Q67=\"\",\"\",Q67/COUNTIF('Data Input'!$C$8:$AZ$8,$Q$2))","v":""},{"$f":"IF(ISBLANK('Data Input'!$A71),\"\",SUM('Data Input'!Q71,'Data Input'!AT71,'Data Input'!AU71))","v":""},{"$f":"IF(S67=\"\",\"\",S67/COUNTIF('Data Input'!$C$8:$AZ$8,$S$2))","v":""},{"$f":"IF(ISBLANK('Data Input'!$A71),\"\",SUM('Data Input'!AX71))","v":""},{"$f":"IF(U67=\"\",\"\",U67/COUNTIF('Data Input'!$C$8:$AZ$8,$U$2))","v":""}]
[{"$f":"IF('Data Input'!A72=0,\"\",'Data Input'!A72)","v":""},{"$f":"IF(ISBLANK('Data Input'!A72),\"\",COUNTIF('Data Input'!C72:AZ72,\"\"))","v":""},{"$f":"IF(ISBLANK('Data Input'!A72),\"\",COUNTIF('Data Input'!C72:AZ72,\"0\"))","v":""},{"$f":"IF(ISBLANK('Data Input'!A72),\"\",SUM(B68,C68))","v":""},{"$f":"IF(ISBLANK('Data Input'!A72),\"\",SUM('Data Input'!C72:AZ72))","v":""},{"$f":"IF(E68=\"\",\"\",E68/(COUNTA('Data Input'!$C$8:$AZ$8)))","v":""},{"$f":"IF(ISBLANK('Data Input'!A72),\"\",SUM('Data Input'!R72,'Data Input'!AA72,'Data Input'!AB72,'Data Input'!AC72,'Data Input'!AE72,'Data Input'!AH72,'Data Input'!AQ72,'Data Input'!AR72))","v":""},{"$f":"IF(G68=\"\",\"\",G68/COUNTIF('Data Input'!$C$8:$AZ$8,$G$2))","v":""},{"$f":"IF(ISBLANK('Data Input'!A72),\"\",SUM('Data Input'!D72,'Data Input'!E72,'Data Input'!F72,'Data Input'!G72,'Data Input'!H72,'Data Input'!J72,'Data Input'!K72,'Data Input'!O72,'Data Input'!U72,'Data Input'!V72,'Data Input'!W72,'Data Input'!X72,'Data Input'!Z72,'Data Input'!AG72,'Data Input'!AI72,'Data Input'!AJ72,'Data Input'!AK72))","v":""},{"$f":"IF(I68=\"\",\"\",I68/COUNTIF('Data Input'!$C$8:$AZ$8,$I$2))","v":""},{"$f":"IF(ISBLANK('Data Input'!A72),\"\",SUM('Data Input'!AF72,'Data Input'!AV72))","v":""},{"$f":"IF(K68=\"\",\"\",K68/COUNTIF('Data Input'!$C$8:$AZ$8,$K$2))","v":""},{"$f":"IF(ISBLANK('Data Input'!A72),\"\",SUM('Data Input'!C72,'Data Input'!I72,'Data Input'!L72,'Data Input'!M72,'Data Input'!N72,'Data Input'!P72,'Data Input'!S72,'Data Input'!T72,'Data Input'!Y72,'Data Input'!AD72,'Data Input'!AL72,'Data Input'!AM72,'Data Input'!AN72,'Data Input'!AO72,'Data Input'!AP72,'Data Input'!AS72))","v":""},{"$f":"IF(M68=\"\",\"\",M68/COUNTIF('Data Input'!$C$8:$AZ$8,$M$2))","v":""},{"$f":"IF(ISBLANK('Data Input'!A72),\"\",SUM('Data Input'!AY72,'Data Input'!AZ72))","v":""},{"$f":"IF(O68=\"\",\"\",O68/COUNTIF('Data Input'!$C$8:$AZ$8,$O$2))","v":""},{"$f":"IF(ISBLANK('Data Input'!A72),\"\",SUM('Data Input'!AW72))","v":""},{"$f":"IF(Q68=\"\",\"\",Q68/COUNTIF('Data Input'!$C$8:$AZ$8,$Q$2))","v":""},{"$f":"IF(ISBLANK('Data Input'!$A72),\"\",SUM('Data Input'!Q72,'Data Input'!AT72,'Data Input'!AU72))","v":""},{"$f":"IF(S68=\"\",\"\",S68/COUNTIF('Data Input'!$C$8:$AZ$8,$S$2))","v":""},{"$f":"IF(ISBLANK('Data Input'!$A72),\"\",SUM('Data Input'!AX72))","v":""},{"$f":"IF(U68=\"\",\"\",U68/COUNTIF('Data Input'!$C$8:$AZ$8,$U$2))","v":""}]
[{"$f":"IF('Data Input'!A73=0,\"\",'Data Input'!A73)","v":""},{"$f":"IF(ISBLANK('Data Input'!A73),\"\",COUNTIF('Data Input'!C73:AZ73,\"\"))","v":""},{"$f":"IF(ISBLANK('Data Input'!A73),\"\",COUNTIF('Data Input'!C73:AZ73,\"0\"))","v":""},{"$f":"IF(ISBLANK('Data Input'!A73),\"\",SUM(B69,C69))","v":""},{"$f":"IF(ISBLANK('Data Input'!A73),\"\",SUM('Data Input'!C73:AZ73))","v":""},{"$f":"IF(E69=\"\",\"\",E69/(COUNTA('Data Input'!$C$8:$AZ$8)))","v":""},{"$f":"IF(ISBLANK('Data Input'!A73),\"\",SUM('Data Input'!R73,'Data Input'!AA73,'Data Input'!AB73,'Data Input'!AC73,'Data Input'!AE73,'Data Input'!AH73,'Data Input'!AQ73,'Data Input'!AR73))","v":""},{"$f":"IF(G69=\"\",\"\",G69/COUNTIF('Data Input'!$C$8:$AZ$8,$G$2))","v":""},{"$f":"IF(ISBLANK('Data Input'!A73),\"\",SUM('Data Input'!D73,'Data Input'!E73,'Data Input'!F73,'Data Input'!G73,'Data Input'!H73,'Data Input'!J73,'Data Input'!K73,'Data Input'!O73,'Data Input'!U73,'Data Input'!V73,'Data Input'!W73,'Data Input'!X73,'Data Input'!Z73,'Data Input'!AG73,'Data Input'!AI73,'Data Input'!AJ73,'Data Input'!AK73))","v":""},{"$f":"IF(I69=\"\",\"\",I69/COUNTIF('Data Input'!$C$8:$AZ$8,$I$2))","v":""},{"$f":"IF(ISBLANK('Data Input'!A73),\"\",SUM('Data Input'!AF73,'Data Input'!AV73))","v":""},{"$f":"IF(K69=\"\",\"\",K69/COUNTIF('Data Input'!$C$8:$AZ$8,$K$2))","v":""},{"$f":"IF(ISBLANK('Data Input'!A73),\"\",SUM('Data Input'!C73,'Data Input'!I73,'Data Input'!L73,'Data Input'!M73,'Data Input'!N73,'Data Input'!P73,'Data Input'!S73,'Data Input'!T73,'Data Input'!Y73,'Data Input'!AD73,'Data Input'!AL73,'Data Input'!AM73,'Data Input'!AN73,'Data Input'!AO73,'Data Input'!AP73,'Data Input'!AS73))","v":""},{"$f":"IF(M69=\"\",\"\",M69/COUNTIF('Data Input'!$C$8:$AZ$8,$M$2))","v":""},{"$f":"IF(ISBLANK('Data Input'!A73),\"\",SUM('Data Input'!AY73,'Data Input'!AZ73))","v":""},{"$f":"IF(O69=\"\",\"\",O69/COUNTIF('Data Input'!$C$8:$AZ$8,$O$2))","v":""},{"$f":"IF(ISBLANK('Data Input'!A73),\"\",SUM('Data Input'!AW73))","v":""},{"$f":"IF(Q69=\"\",\"\",Q69/COUNTIF('Data Input'!$C$8:$AZ$8,$Q$2))","v":""},{"$f":"IF(ISBLANK('Data Input'!$A73),\"\",SUM('Data Input'!Q73,'Data Input'!AT73,'Data Input'!AU73))","v":""},{"$f":"IF(S69=\"\",\"\",S69/COUNTIF('Data Input'!$C$8:$AZ$8,$S$2))","v":""},{"$f":"IF(ISBLANK('Data Input'!$A73),\"\",SUM('Data Input'!AX73))","v":""},{"$f":"IF(U69=\"\",\"\",U69/COUNTIF('Data Input'!$C$8:$AZ$8,$U$2))","v":""}]
[{"$f":"IF('Data Input'!A74=0,\"\",'Data Input'!A74)","v":""},{"$f":"IF(ISBLANK('Data Input'!A74),\"\",COUNTIF('Data Input'!C74:AZ74,\"\"))","v":""},{"$f":"IF(ISBLANK('Data Input'!A74),\"\",COUNTIF('Data Input'!C74:AZ74,\"0\"))","v":""},{"$f":"IF(ISBLANK('Data Input'!A74),\"\",SUM(B70,C70))","v":""},{"$f":"IF(ISBLANK('Data Input'!A74),\"\",SUM('Data Input'!C74:AZ74))","v":""},{"$f":"IF(E70=\"\",\"\",E70/(COUNTA('Data Input'!$C$8:$AZ$8)))","v":""},{"$f":"IF(ISBLANK('Data Input'!A74),\"\",SUM('Data Input'!R74,'Data Input'!AA74,'Data Input'!AB74,'Data Input'!AC74,'Data Input'!AE74,'Data Input'!AH74,'Data Input'!AQ74,'Data Input'!AR74))","v":""},{"$f":"IF(G70=\"\",\"\",G70/COUNTIF('Data Input'!$C$8:$AZ$8,$G$2))","v":""},{"$f":"IF(ISBLANK('Data Input'!A74),\"\",SUM('Data Input'!D74,'Data Input'!E74,'Data Input'!F74,'Data Input'!G74,'Data Input'!H74,'Data Input'!J74,'Data Input'!K74,'Data Input'!O74,'Data Input'!U74,'Data Input'!V74,'Data Input'!W74,'Data Input'!X74,'Data Input'!Z74,'Data Input'!AG74,'Data Input'!AI74,'Data Input'!AJ74,'Data Input'!AK74))","v":""},{"$f":"IF(I70=\"\",\"\",I70/COUNTIF('Data Input'!$C$8:$AZ$8,$I$2))","v":""},{"$f":"IF(ISBLANK('Data Input'!A74),\"\",SUM('Data Input'!AF74,'Data Input'!AV74))","v":""},{"$f":"IF(K70=\"\",\"\",K70/COUNTIF('Data Input'!$C$8:$AZ$8,$K$2))","v":""},{"$f":"IF(ISBLANK('Data Input'!A74),\"\",SUM('Data Input'!C74,'Data Input'!I74,'Data Input'!L74,'Data Input'!M74,'Data Input'!N74,'Data Input'!P74,'Data Input'!S74,'Data Input'!T74,'Data Input'!Y74,'Data Input'!AD74,'Data Input'!AL74,'Data Input'!AM74,'Data Input'!AN74,'Data Input'!AO74,'Data Input'!AP74,'Data Input'!AS74))","v":""},{"$f":"IF(M70=\"\",\"\",M70/COUNTIF('Data Input'!$C$8:$AZ$8,$M$2))","v":""},{"$f":"IF(ISBLANK('Data Input'!A74),\"\",SUM('Data Input'!AY74,'Data Input'!AZ74))","v":""},{"$f":"IF(O70=\"\",\"\",O70/COUNTIF('Data Input'!$C$8:$AZ$8,$O$2))","v":""},{"$f":"IF(ISBLANK('Data Input'!A74),\"\",SUM('Data Input'!AW74))","v":""},{"$f":"IF(Q70=\"\",\"\",Q70/COUNTIF('Data Input'!$C$8:$AZ$8,$Q$2))","v":""},{"$f":"IF(ISBLANK('Data Input'!$A74),\"\",SUM('Data Input'!Q74,'Data Input'!AT74,'Data Input'!AU74))","v":""},{"$f":"IF(S70=\"\",\"\",S70/COUNTIF('Data Input'!$C$8:$AZ$8,$S$2))","v":""},{"$f":"IF(ISBLANK('Data Input'!$A74),\"\",SUM('Data Input'!AX74))","v":""},{"$f":"IF(U70=\"\",\"\",U70/COUNTIF('Data Input'!$C$8:$AZ$8,$U$2))","v":""}]
[{"$f":"IF('Data Input'!A75=0,\"\",'Data Input'!A75)","v":""},{"$f":"IF(ISBLANK('Data Input'!A75),\"\",COUNTIF('Data Input'!C75:AZ75,\"\"))","v":""},{"$f":"IF(ISBLANK('Data Input'!A75),\"\",COUNTIF('Data Input'!C75:AZ75,\"0\"))","v":""},{"$f":"IF(ISBLANK('Data Input'!A75),\"\",SUM(B71,C71))","v":""},{"$f":"IF(ISBLANK('Data Input'!A75),\"\",SUM('Data Input'!C75:AZ75))","v":""},{"$f":"IF(E71=\"\",\"\",E71/(COUNTA('Data Input'!$C$8:$AZ$8)))","v":""},{"$f":"IF(ISBLANK('Data Input'!A75),\"\",SUM('Data Input'!R75,'Data Input'!AA75,'Data Input'!AB75,'Data Input'!AC75,'Data Input'!AE75,'Data Input'!AH75,'Data Input'!AQ75,'Data Input'!AR75))","v":""},{"$f":"IF(G71=\"\",\"\",G71/COUNTIF('Data Input'!$C$8:$AZ$8,$G$2))","v":""},{"$f":"IF(ISBLANK('Data Input'!A75),\"\",SUM('Data Input'!D75,'Data Input'!E75,'Data Input'!F75,'Data Input'!G75,'Data Input'!H75,'Data Input'!J75,'Data Input'!K75,'Data Input'!O75,'Data Input'!U75,'Data Input'!V75,'Data Input'!W75,'Data Input'!X75,'Data Input'!Z75,'Data Input'!AG75,'Data Input'!AI75,'Data Input'!AJ75,'Data Input'!AK75))","v":""},{"$f":"IF(I71=\"\",\"\",I71/COUNTIF('Data Input'!$C$8:$AZ$8,$I$2))","v":""},{"$f":"IF(ISBLANK('Data Input'!A75),\"\",SUM('Data Input'!AF75,'Data Input'!AV75))","v":""},{"$f":"IF(K71=\"\",\"\",K71/COUNTIF('Data Input'!$C$8:$AZ$8,$K$2))","v":""},{"$f":"IF(ISBLANK('Data Input'!A75),\"\",SUM('Data Input'!C75,'Data Input'!I75,'Data Input'!L75,'Data Input'!M75,'Data Input'!N75,'Data Input'!P75,'Data Input'!S75,'Data Input'!T75,'Data Input'!Y75,'Data Input'!AD75,'Data Input'!AL75,'Data Input'!AM75,'Data Input'!AN75,'Data Input'!AO75,'Data Input'!AP75,'Data Input'!AS75))","v":""},{"$f":"IF(M71=\"\",\"\",M71/COUNTIF('Data Input'!$C$8:$AZ$8,$M$2))","v":""},{"$f":"IF(ISBLANK('Data Input'!A75),\"\",SUM('Data Input'!AY75,'Data Input'!AZ75))","v":""},{"$f":"IF(O71=\"\",\"\",O71/COUNTIF('Data Input'!$C$8:$AZ$8,$O$2))","v":""},{"$f":"IF(ISBLANK('Data Input'!A75),\"\",SUM('Data Input'!AW75))","v":""},{"$f":"IF(Q71=\"\",\"\",Q71/COUNTIF('Data Input'!$C$8:$AZ$8,$Q$2))","v":""},{"$f":"IF(ISBLANK('Data Input'!$A75),\"\",SUM('Data Input'!Q75,'Data Input'!AT75,'Data Input'!AU75))","v":""},{"$f":"IF(S71=\"\",\"\",S71/COUNTIF('Data Input'!$C$8:$AZ$8,$S$2))","v":""},{"$f":"IF(ISBLANK('Data Input'!$A75),\"\",SUM('Data Input'!AX75))","v":""},{"$f":"IF(U71=\"\",\"\",U71/COUNTIF('Data Input'!$C$8:$AZ$8,$U$2))","v":""}]
[{"$f":"IF('Data Input'!A76=0,\"\",'Data Input'!A76)","v":""},{"$f":"IF(ISBLANK('Data Input'!A76),\"\",COUNTIF('Data Input'!C76:AZ76,\"\"))","v":""},{"$f":"IF(ISBLANK('Data Input'!A76),\"\",COUNTIF('Data Input'!C76:AZ76,\"0\"))","v":""},{"$f":"IF(ISBLANK('Data Input'!A76),\"\",SUM(B72,C72))","v":""},{"$f":"IF(ISBLANK('Data Input'!A76),\"\",SUM('Data Input'!C76:AZ76))","v":""},{"$f":"IF(E72=\"\",\"\",E72/(COUNTA('Data Input'!$C$8:$AZ$8)))","v":""},{"$f":"IF(ISBLANK('Data Input'!A76),\"\",SUM('Data Input'!R76,'Data Input'!AA76,'Data Input'!AB76,'Data Input'!AC76,'Data Input'!AE76,'Data Input'!AH76,'Data Input'!AQ76,'Data Input'!AR76))","v":""},{"$f":"IF(G72=\"\",\"\",G72/COUNTIF('Data Input'!$C$8:$AZ$8,$G$2))","v":""},{"$f":"IF(ISBLANK('Data Input'!A76),\"\",SUM('Data Input'!D76,'Data Input'!E76,'Data Input'!F76,'Data Input'!G76,'Data Input'!H76,'Data Input'!J76,'Data Input'!K76,'Data Input'!O76,'Data Input'!U76,'Data Input'!V76,'Data Input'!W76,'Data Input'!X76,'Data Input'!Z76,'Data Input'!AG76,'Data Input'!AI76,'Data Input'!AJ76,'Data Input'!AK76))","v":""},{"$f":"IF(I72=\"\",\"\",I72/COUNTIF('Data Input'!$C$8:$AZ$8,$I$2))","v":""},{"$f":"IF(ISBLANK('Data Input'!A76),\"\",SUM('Data Input'!AF76,'Data Input'!AV76))","v":""},{"$f":"IF(K72=\"\",\"\",K72/COUNTIF('Data Input'!$C$8:$AZ$8,$K$2))","v":""},{"$f":"IF(ISBLANK('Data Input'!A76),\"\",SUM('Data Input'!C76,'Data Input'!I76,'Data Input'!L76,'Data Input'!M76,'Data Input'!N76,'Data Input'!P76,'Data Input'!S76,'Data Input'!T76,'Data Input'!Y76,'Data Input'!AD76,'Data Input'!AL76,'Data Input'!AM76,'Data Input'!AN76,'Data Input'!AO76,'Data Input'!AP76,'Data Input'!AS76))","v":""},{"$f":"IF(M72=\"\",\"\",M72/COUNTIF('Data Input'!$C$8:$AZ$8,$M$2))","v":""},{"$f":"IF(ISBLANK('Data Input'!A76),\"\",SUM('Data Input'!AY76,'Data Input'!AZ76))","v":""},{"$f":"IF(O72=\"\",\"\",O72/COUNTIF('Data Input'!$C$8:$AZ$8,$O$2))","v":""},{"$f":"IF(ISBLANK('Data Input'!A76),\"\",SUM('Data Input'!AW76))","v":""},{"$f":"IF(Q72=\"\",\"\",Q72/COUNTIF('Data Input'!$C$8:$AZ$8,$Q$2))","v":""},{"$f":"IF(ISBLANK('Data Input'!$A76),\"\",SUM('Data Input'!Q76,'Data Input'!AT76,'Data Input'!AU76))","v":""},{"$f":"IF(S72=\"\",\"\",S72/COUNTIF('Data Input'!$C$8:$AZ$8,$S$2))","v":""},{"$f":"IF(ISBLANK('Data Input'!$A76),\"\",SUM('Data Input'!AX76))","v":""},{"$f":"IF(U72=\"\",\"\",U72/COUNTIF('Data Input'!$C$8:$AZ$8,$U$2))","v":""}]
[{"$f":"IF('Data Input'!A77=0,\"\",'Data Input'!A77)","v":""},{"$f":"IF(ISBLANK('Data Input'!A77),\"\",COUNTIF('Data Input'!C77:AZ77,\"\"))","v":""},{"$f":"IF(ISBLANK('Data Input'!A77),\"\",COUNTIF('Data Input'!C77:AZ77,\"0\"))","v":""},{"$f":"IF(ISBLANK('Data Input'!A77),\"\",SUM(B73,C73))","v":""},{"$f":"IF(ISBLANK('Data Input'!A77),\"\",SUM('Data Input'!C77:AZ77))","v":""},{"$f":"IF(E73=\"\",\"\",E73/(COUNTA('Data Input'!$C$8:$AZ$8)))","v":""},{"$f":"IF(ISBLANK('Data Input'!A77),\"\",SUM('Data Input'!R77,'Data Input'!AA77,'Data Input'!AB77,'Data Input'!AC77,'Data Input'!AE77,'Data Input'!AH77,'Data Input'!AQ77,'Data Input'!AR77))","v":""},{"$f":"IF(G73=\"\",\"\",G73/COUNTIF('Data Input'!$C$8:$AZ$8,$G$2))","v":""},{"$f":"IF(ISBLANK('Data Input'!A77),\"\",SUM('Data Input'!D77,'Data Input'!E77,'Data Input'!F77,'Data Input'!G77,'Data Input'!H77,'Data Input'!J77,'Data Input'!K77,'Data Input'!O77,'Data Input'!U77,'Data Input'!V77,'Data Input'!W77,'Data Input'!X77,'Data Input'!Z77,'Data Input'!AG77,'Data Input'!AI77,'Data Input'!AJ77,'Data Input'!AK77))","v":""},{"$f":"IF(I73=\"\",\"\",I73/COUNTIF('Data Input'!$C$8:$AZ$8,$I$2))","v":""},{"$f":"IF(ISBLANK('Data Input'!A77),\"\",SUM('Data Input'!AF77,'Data Input'!AV77))","v":""},{"$f":"IF(K73=\"\",\"\",K73/COUNTIF('Data Input'!$C$8:$AZ$8,$K$2))","v":""},{"$f":"IF(ISBLANK('Data Input'!A77),\"\",SUM('Data Input'!C77,'Data Input'!I77,'Data Input'!L77,'Data Input'!M77,'Data Input'!N77,'Data Input'!P77,'Data Input'!S77,'Data Input'!T77,'Data Input'!Y77,'Data Input'!AD77,'Data Input'!AL77,'Data Input'!AM77,'Data Input'!AN77,'Data Input'!AO77,'Data Input'!AP77,'Data Input'!AS77))","v":""},{"$f":"IF(M73=\"\",\"\",M73/COUNTIF('Data Input'!$C$8:$AZ$8,$M$2))","v":""},{"$f":"IF(ISBLANK('Data Input'!A77),\"\",SUM('Data Input'!AY77,'Data Input'!AZ77))","v":""},{"$f":"IF(O73=\"\",\"\",O73/COUNTIF('Data Input'!$C$8:$AZ$8,$O$2))","v":""},{"$f":"IF(ISBLANK('Data Input'!A77),\"\",SUM('Data Input'!AW77))","v":""},{"$f":"IF(Q73=\"\",\"\",Q73/COUNTIF('Data Input'!$C$8:$AZ$8,$Q$2))","v":""},{"$f":"IF(ISBLANK('Data Input'!$A77),\"\",SUM('Data Input'!Q77,'Data Input'!AT77,'Data Input'!AU77))","v":""},{"$f":"IF(S73=\"\",\"\",S73/COUNTIF('Data Input'!$C$8:$AZ$8,$S$2))","v":""},{"$f":"IF(ISBLANK('Data Input'!$A77),\"\",SUM('Data Input'!AX77))","v":""},{"$f":"IF(U73=\"\",\"\",U73/COUNTIF('Data Input'!$C$8:$AZ$8,$U$2))","v":""}]
[{"$f":"IF('Data Input'!A78=0,\"\",'Data Input'!A78)","v":""},{"$f":"IF(ISBLANK('Data Input'!A78),\"\",COUNTIF('Data Input'!C78:AZ78,\"\"))","v":""},{"$f":"IF(ISBLANK('Data Input'!A78),\"\",COUNTIF('Data Input'!C78:AZ78,\"0\"))","v":""},{"$f":"IF(ISBLANK('Data Input'!A78),\"\",SUM(B74,C74))","v":""},{"$f":"IF(ISBLANK('Data Input'!A78),\"\",SUM('Data Input'!C78:AZ78))","v":""},{"$f":"IF(E74=\"\",\"\",E74/(COUNTA('Data Input'!$C$8:$AZ$8)))","v":""},{"$f":"IF(ISBLANK('Data Input'!A78),\"\",SUM('Data Input'!R78,'Data Input'!AA78,'Data Input'!AB78,'Data Input'!AC78,'Data Input'!AE78,'Data Input'!AH78,'Data Input'!AQ78,'Data Input'!AR78))","v":""},{"$f":"IF(G74=\"\",\"\",G74/COUNTIF('Data Input'!$C$8:$AZ$8,$G$2))","v":""},{"$f":"IF(ISBLANK('Data Input'!A78),\"\",SUM('Data Input'!D78,'Data Input'!E78,'Data Input'!F78,'Data Input'!G78,'Data Input'!H78,'Data Input'!J78,'Data Input'!K78,'Data Input'!O78,'Data Input'!U78,'Data Input'!V78,'Data Input'!W78,'Data Input'!X78,'Data Input'!Z78,'Data Input'!AG78,'Data Input'!AI78,'Data Input'!AJ78,'Data Input'!AK78))","v":""},{"$f":"IF(I74=\"\",\"\",I74/COUNTIF('Data Input'!$C$8:$AZ$8,$I$2))","v":""},{"$f":"IF(ISBLANK('Data Input'!A78),\"\",SUM('Data Input'!AF78,'Data Input'!AV78))","v":""},{"$f":"IF(K74=\"\",\"\",K74/COUNTIF('Data Input'!$C$8:$AZ$8,$K$2))","v":""},{"$f":"IF(ISBLANK('Data Input'!A78),\"\",SUM('Data Input'!C78,'Data Input'!I78,'Data Input'!L78,'Data Input'!M78,'Data Input'!N78,'Data Input'!P78,'Data Input'!S78,'Data Input'!T78,'Data Input'!Y78,'Data Input'!AD78,'Data Input'!AL78,'Data Input'!AM78,'Data Input'!AN78,'Data Input'!AO78,'Data Input'!AP78,'Data Input'!AS78))","v":""},{"$f":"IF(M74=\"\",\"\",M74/COUNTIF('Data Input'!$C$8:$AZ$8,$M$2))","v":""},{"$f":"IF(ISBLANK('Data Input'!A78),\"\",SUM('Data Input'!AY78,'Data Input'!AZ78))","v":""},{"$f":"IF(O74=\"\",\"\",O74/COUNTIF('Data Input'!$C$8:$AZ$8,$O$2))","v":""},{"$f":"IF(ISBLANK('Data Input'!A78),\"\",SUM('Data Input'!AW78))","v":""},{"$f":"IF(Q74=\"\",\"\",Q74/COUNTIF('Data Input'!$C$8:$AZ$8,$Q$2))","v":""},{"$f":"IF(ISBLANK('Data Input'!$A78),\"\",SUM('Data Input'!Q78,'Data Input'!AT78,'Data Input'!AU78))","v":""},{"$f":"IF(S74=\"\",\"\",S74/COUNTIF('Data Input'!$C$8:$AZ$8,$S$2))","v":""},{"$f":"IF(ISBLANK('Data Input'!$A78),\"\",SUM('Data Input'!AX78))","v":""},{"$f":"IF(U74=\"\",\"\",U74/COUNTIF('Data Input'!$C$8:$AZ$8,$U$2))","v":""}]
[{"$f":"IF('Data Input'!A79=0,\"\",'Data Input'!A79)","v":""},{"$f":"IF(ISBLANK('Data Input'!A79),\"\",COUNTIF('Data Input'!C79:AZ79,\"\"))","v":""},{"$f":"IF(ISBLANK('Data Input'!A79),\"\",COUNTIF('Data Input'!C79:AZ79,\"0\"))","v":""},{"$f":"IF(ISBLANK('Data Input'!A79),\"\",SUM(B75,C75))","v":""},{"$f":"IF(ISBLANK('Data Input'!A79),\"\",SUM('Data Input'!C79:AZ79))","v":""},{"$f":"IF(E75=\"\",\"\",E75/(COUNTA('Data Input'!$C$8:$AZ$8)))","v":""},{"$f":"IF(ISBLANK('Data Input'!A79),\"\",SUM('Data Input'!R79,'Data Input'!AA79,'Data Input'!AB79,'Data Input'!AC79,'Data Input'!AE79,'Data Input'!AH79,'Data Input'!AQ79,'Data Input'!AR79))","v":""},{"$f":"IF(G75=\"\",\"\",G75/COUNTIF('Data Input'!$C$8:$AZ$8,$G$2))","v":""},{"$f":"IF(ISBLANK('Data Input'!A79),\"\",SUM('Data Input'!D79,'Data Input'!E79,'Data Input'!F79,'Data Input'!G79,'Data Input'!H79,'Data Input'!J79,'Data Input'!K79,'Data Input'!O79,'Data Input'!U79,'Data Input'!V79,'Data Input'!W79,'Data Input'!X79,'Data Input'!Z79,'Data Input'!AG79,'Data Input'!AI79,'Data Input'!AJ79,'Data Input'!AK79))","v":""},{"$f":"IF(I75=\"\",\"\",I75/COUNTIF('Data Input'!$C$8:$AZ$8,$I$2))","v":""},{"$f":"IF(ISBLANK('Data Input'!A79),\"\",SUM('Data Input'!AF79,'Data Input'!AV79))","v":""},{"$f":"IF(K75=\"\",\"\",K75/COUNTIF('Data Input'!$C$8:$AZ$8,$K$2))","v":""},{"$f":"IF(ISBLANK('Data Input'!A79),\"\",SUM('Data Input'!C79,'Data Input'!I79,'Data Input'!L79,'Data Input'!M79,'Data Input'!N79,'Data Input'!P79,'Data Input'!S79,'Data Input'!T79,'Data Input'!Y79,'Data Input'!AD79,'Data Input'!AL79,'Data Input'!AM79,'Data Input'!AN79,'Data Input'!AO79,'Data Input'!AP79,'Data Input'!AS79))","v":""},{"$f":"IF(M75=\"\",\"\",M75/COUNTIF('Data Input'!$C$8:$AZ$8,$M$2))","v":""},{"$f":"IF(ISBLANK('Data Input'!A79),\"\",SUM('Data Input'!AY79,'Data Input'!AZ79))","v":""},{"$f":"IF(O75=\"\",\"\",O75/COUNTIF('Data Input'!$C$8:$AZ$8,$O$2))","v":""},{"$f":"IF(ISBLANK('Data Input'!A79),\"\",SUM('Data Input'!AW79))","v":""},{"$f":"IF(Q75=\"\",\"\",Q75/COUNTIF('Data Input'!$C$8:$AZ$8,$Q$2))","v":""},{"$f":"IF(ISBLANK('Data Input'!$A79),\"\",SUM('Data Input'!Q79,'Data Input'!AT79,'Data Input'!AU79))","v":""},{"$f":"IF(S75=\"\",\"\",S75/COUNTIF('Data Input'!$C$8:$AZ$8,$S$2))","v":""},{"$f":"IF(ISBLANK('Data Input'!$A79),\"\",SUM('Data Input'!AX79))","v":""},{"$f":"IF(U75=\"\",\"\",U75/COUNTIF('Data Input'!$C$8:$AZ$8,$U$2))","v":""}]
[{"$f":"IF('Data Input'!A80=0,\"\",'Data Input'!A80)","v":""},{"$f":"IF(ISBLANK('Data Input'!A80),\"\",COUNTIF('Data Input'!C80:AZ80,\"\"))","v":""},{"$f":"IF(ISBLANK('Data Input'!A80),\"\",COUNTIF('Data Input'!C80:AZ80,\"0\"))","v":""},{"$f":"IF(ISBLANK('Data Input'!A80),\"\",SUM(B76,C76))","v":""},{"$f":"IF(ISBLANK('Data Input'!A80),\"\",SUM('Data Input'!C80:AZ80))","v":""},{"$f":"IF(E76=\"\",\"\",E76/(COUNTA('Data Input'!$C$8:$AZ$8)))","v":""},{"$f":"IF(ISBLANK('Data Input'!A80),\"\",SUM('Data Input'!R80,'Data Input'!AA80,'Data Input'!AB80,'Data Input'!AC80,'Data Input'!AE80,'Data Input'!AH80,'Data Input'!AQ80,'Data Input'!AR80))","v":""},{"$f":"IF(G76=\"\",\"\",G76/COUNTIF('Data Input'!$C$8:$AZ$8,$G$2))","v":""},{"$f":"IF(ISBLANK('Data Input'!A80),\"\",SUM('Data Input'!D80,'Data Input'!E80,'Data Input'!F80,'Data Input'!G80,'Data Input'!H80,'Data Input'!J80,'Data Input'!K80,'Data Input'!O80,'Data Input'!U80,'Data Input'!V80,'Data Input'!W80,'Data Input'!X80,'Data Input'!Z80,'Data Input'!AG80,'Data Input'!AI80,'Data Input'!AJ80,'Data Input'!AK80))","v":""},{"$f":"IF(I76=\"\",\"\",I76/COUNTIF('Data Input'!$C$8:$AZ$8,$I$2))","v":""},{"$f":"IF(ISBLANK('Data Input'!A80),\"\",SUM('Data Input'!AF80,'Data Input'!AV80))","v":""},{"$f":"IF(K76=\"\",\"\",K76/COUNTIF('Data Input'!$C$8:$AZ$8,$K$2))","v":""},{"$f":"IF(ISBLANK('Data Input'!A80),\"\",SUM('Data Input'!C80,'Data Input'!I80,'Data Input'!L80,'Data Input'!M80,'Data Input'!N80,'Data Input'!P80,'Data Input'!S80,'Data Input'!T80,'Data Input'!Y80,'Data Input'!AD80,'Data Input'!AL80,'Data Input'!AM80,'Data Input'!AN80,'Data Input'!AO80,'Data Input'!AP80,'Data Input'!AS80))","v":""},{"$f":"IF(M76=\"\",\"\",M76/COUNTIF('Data Input'!$C$8:$AZ$8,$M$2))","v":""},{"$f":"IF(ISBLANK('Data Input'!A80),\"\",SUM('Data Input'!AY80,'Data Input'!AZ80))","v":""},{"$f":"IF(O76=\"\",\"\",O76/COUNTIF('Data Input'!$C$8:$AZ$8,$O$2))","v":""},{"$f":"IF(ISBLANK('Data Input'!A80),\"\",SUM('Data Input'!AW80))","v":""},{"$f":"IF(Q76=\"\",\"\",Q76/COUNTIF('Data Input'!$C$8:$AZ$8,$Q$2))","v":""},{"$f":"IF(ISBLANK('Data Input'!$A80),\"\",SUM('Data Input'!Q80,'Data Input'!AT80,'Data Input'!AU80))","v":""},{"$f":"IF(S76=\"\",\"\",S76/COUNTIF('Data Input'!$C$8:$AZ$8,$S$2))","v":""},{"$f":"IF(ISBLANK('Data Input'!$A80),\"\",SUM('Data Input'!AX80))","v":""},{"$f":"IF(U76=\"\",\"\",U76/COUNTIF('Data Input'!$C$8:$AZ$8,$U$2))","v":""}]
[{"$f":"IF('Data Input'!A81=0,\"\",'Data Input'!A81)","v":""},{"$f":"IF(ISBLANK('Data Input'!A81),\"\",COUNTIF('Data Input'!C81:AZ81,\"\"))","v":""},{"$f":"IF(ISBLANK('Data Input'!A81),\"\",COUNTIF('Data Input'!C81:AZ81,\"0\"))","v":""},{"$f":"IF(ISBLANK('Data Input'!A81),\"\",SUM(B77,C77))","v":""},{"$f":"IF(ISBLANK('Data Input'!A81),\"\",SUM('Data Input'!C81:AZ81))","v":""},{"$f":"IF(E77=\"\",\"\",E77/(COUNTA('Data Input'!$C$8:$AZ$8)))","v":""},{"$f":"IF(ISBLANK('Data Input'!A81),\"\",SUM('Data Input'!R81,'Data Input'!AA81,'Data Input'!AB81,'Data Input'!AC81,'Data Input'!AE81,'Data Input'!AH81,'Data Input'!AQ81,'Data Input'!AR81))","v":""},{"$f":"IF(G77=\"\",\"\",G77/COUNTIF('Data Input'!$C$8:$AZ$8,$G$2))","v":""},{"$f":"IF(ISBLANK('Data Input'!A81),\"\",SUM('Data Input'!D81,'Data Input'!E81,'Data Input'!F81,'Data Input'!G81,'Data Input'!H81,'Data Input'!J81,'Data Input'!K81,'Data Input'!O81,'Data Input'!U81,'Data Input'!V81,'Data Input'!W81,'Data Input'!X81,'Data Input'!Z81,'Data Input'!AG81,'Data Input'!AI81,'Data Input'!AJ81,'Data Input'!AK81))","v":""},{"$f":"IF(I77=\"\",\"\",I77/COUNTIF('Data Input'!$C$8:$AZ$8,$I$2))","v":""},{"$f":"IF(ISBLANK('Data Input'!A81),\"\",SUM('Data Input'!AF81,'Data Input'!AV81))","v":""},{"$f":"IF(K77=\"\",\"\",K77/COUNTIF('Data Input'!$C$8:$AZ$8,$K$2))","v":""},{"$f":"IF(ISBLANK('Data Input'!A81),\"\",SUM('Data Input'!C81,'Data Input'!I81,'Data Input'!L81,'Data Input'!M81,'Data Input'!N81,'Data Input'!P81,'Data Input'!S81,'Data Input'!T81,'Data Input'!Y81,'Data Input'!AD81,'Data Input'!AL81,'Data Input'!AM81,'Data Input'!AN81,'Data Input'!AO81,'Data Input'!AP81,'Data Input'!AS81))","v":""},{"$f":"IF(M77=\"\",\"\",M77/COUNTIF('Data Input'!$C$8:$AZ$8,$M$2))","v":""},{"$f":"IF(ISBLANK('Data Input'!A81),\"\",SUM('Data Input'!AY81,'Data Input'!AZ81))","v":""},{"$f":"IF(O77=\"\",\"\",O77/COUNTIF('Data Input'!$C$8:$AZ$8,$O$2))","v":""},{"$f":"IF(ISBLANK('Data Input'!A81),\"\",SUM('Data Input'!AW81))","v":""},{"$f":"IF(Q77=\"\",\"\",Q77/COUNTIF('Data Input'!$C$8:$AZ$8,$Q$2))","v":""},{"$f":"IF(ISBLANK('Data Input'!$A81),\"\",SUM('Data Input'!Q81,'Data Input'!AT81,'Data Input'!AU81))","v":""},{"$f":"IF(S77=\"\",\"\",S77/COUNTIF('Data Input'!$C$8:$AZ$8,$S$2))","v":""},{"$f":"IF(ISBLANK('Data Input'!$A81),\"\",SUM('Data Input'!AX81))","v":""},{"$f":"IF(U77=\"\",\"\",U77/COUNTIF('Data Input'!$C$8:$AZ$8,$U$2))","v":""}]
[{"$f":"IF('Data Input'!A82=0,\"\",'Data Input'!A82)","v":""},{"$f":"IF(ISBLANK('Data Input'!A82),\"\",COUNTIF('Data Input'!C82:AZ82,\"\"))","v":""},{"$f":"IF(ISBLANK('Data Input'!A82),\"\",COUNTIF('Data Input'!C82:AZ82,\"0\"))","v":""},{"$f":"IF(ISBLANK('Data Input'!A82),\"\",SUM(B78,C78))","v":""},{"$f":"IF(ISBLANK('Data Input'!A82),\"\",SUM('Data Input'!C82:AZ82))","v":""},{"$f":"IF(E78=\"\",\"\",E78/(COUNTA('Data Input'!$C$8:$AZ$8)))","v":""},{"$f":"IF(ISBLANK('Data Input'!A82),\"\",SUM('Data Input'!R82,'Data Input'!AA82,'Data Input'!AB82,'Data Input'!AC82,'Data Input'!AE82,'Data Input'!AH82,'Data Input'!AQ82,'Data Input'!AR82))","v":""},{"$f":"IF(G78=\"\",\"\",G78/COUNTIF('Data Input'!$C$8:$AZ$8,$G$2))","v":""},{"$f":"IF(ISBLANK('Data Input'!A82),\"\",SUM('Data Input'!D82,'Data Input'!E82,'Data Input'!F82,'Data Input'!G82,'Data Input'!H82,'Data Input'!J82,'Data Input'!K82,'Data Input'!O82,'Data Input'!U82,'Data Input'!V82,'Data Input'!W82,'Data Input'!X82,'Data Input'!Z82,'Data Input'!AG82,'Data Input'!AI82,'Data Input'!AJ82,'Data Input'!AK82))","v":""},{"$f":"IF(I78=\"\",\"\",I78/COUNTIF('Data Input'!$C$8:$AZ$8,$I$2))","v":""},{"$f":"IF(ISBLANK('Data Input'!A82),\"\",SUM('Data Input'!AF82,'Data Input'!AV82))","v":""},{"$f":"IF(K78=\"\",\"\",K78/COUNTIF('Data Input'!$C$8:$AZ$8,$K$2))","v":""},{"$f":"IF(ISBLANK('Data Input'!A82),\"\",SUM('Data Input'!C82,'Data Input'!I82,'Data Input'!L82,'Data Input'!M82,'Data Input'!N82,'Data Input'!P82,'Data Input'!S82,'Data Input'!T82,'Data Input'!Y82,'Data Input'!AD82,'Data Input'!AL82,'Data Input'!AM82,'Data Input'!AN82,'Data Input'!AO82,'Data Input'!AP82,'Data Input'!AS82))","v":""},{"$f":"IF(M78=\"\",\"\",M78/COUNTIF('Data Input'!$C$8:$AZ$8,$M$2))","v":""},{"$f":"IF(ISBLANK('Data Input'!A82),\"\",SUM('Data Input'!AY82,'Data Input'!AZ82))","v":""},{"$f":"IF(O78=\"\",\"\",O78/COUNTIF('Data Input'!$C$8:$AZ$8,$O$2))","v":""},{"$f":"IF(ISBLANK('Data Input'!A82),\"\",SUM('Data Input'!AW82))","v":""},{"$f":"IF(Q78=\"\",\"\",Q78/COUNTIF('Data Input'!$C$8:$AZ$8,$Q$2))","v":""},{"$f":"IF(ISBLANK('Data Input'!$A82),\"\",SUM('Data Input'!Q82,'Data Input'!AT82,'Data Input'!AU82))","v":""},{"$f":"IF(S78=\"\",\"\",S78/COUNTIF('Data Input'!$C$8:$AZ$8,$S$2))","v":""},{"$f":"IF(ISBLANK('Data Input'!$A82),\"\",SUM('Data Input'!AX82))","v":""},{"$f":"IF(U78=\"\",\"\",U78/COUNTIF('Data Input'!$C$8:$AZ$8,$U$2))","v":""}]
[{"$f":"IF('Data Input'!A83=0,\"\",'Data Input'!A83)","v":""},{"$f":"IF(ISBLANK('Data Input'!A83),\"\",COUNTIF('Data Input'!C83:AZ83,\"\"))","v":""},{"$f":"IF(ISBLANK('Data Input'!A83),\"\",COUNTIF('Data Input'!C83:AZ83,\"0\"))","v":""},{"$f":"IF(ISBLANK('Data Input'!A83),\"\",SUM(B79,C79))","v":""},{"$f":"IF(ISBLANK('Data Input'!A83),\"\",SUM('Data Input'!C83:AZ83))","v":""},{"$f":"IF(E79=\"\",\"\",E79/(COUNTA('Data Input'!$C$8:$AZ$8)))","v":""},{"$f":"IF(ISBLANK('Data Input'!A83),\"\",SUM('Data Input'!R83,'Data Input'!AA83,'Data Input'!AB83,'Data Input'!AC83,'Data Input'!AE83,'Data Input'!AH83,'Data Input'!AQ83,'Data Input'!AR83))","v":""},{"$f":"IF(G79=\"\",\"\",G79/COUNTIF('Data Input'!$C$8:$AZ$8,$G$2))","v":""},{"$f":"IF(ISBLANK('Data Input'!A83),\"\",SUM('Data Input'!D83,'Data Input'!E83,'Data Input'!F83,'Data Input'!G83,'Data Input'!H83,'Data Input'!J83,'Data Input'!K83,'Data Input'!O83,'Data Input'!U83,'Data Input'!V83,'Data Input'!W83,'Data Input'!X83,'Data Input'!Z83,'Data Input'!AG83,'Data Input'!AI83,'Data Input'!AJ83,'Data Input'!AK83))","v":""},{"$f":"IF(I79=\"\",\"\",I79/COUNTIF('Data Input'!$C$8:$AZ$8,$I$2))","v":""},{"$f":"IF(ISBLANK('Data Input'!A83),\"\",SUM('Data Input'!AF83,'Data Input'!AV83))","v":""},{"$f":"IF(K79=\"\",\"\",K79/COUNTIF('Data Input'!$C$8:$AZ$8,$K$2))","v":""},{"$f":"IF(ISBLANK('Data Input'!A83),\"\",SUM('Data Input'!C83,'Data Input'!I83,'Data Input'!L83,'Data Input'!M83,'Data Input'!N83,'Data Input'!P83,'Data Input'!S83,'Data Input'!T83,'Data Input'!Y83,'Data Input'!AD83,'Data Input'!AL83,'Data Input'!AM83,'Data Input'!AN83,'Data Input'!AO83,'Data Input'!AP83,'Data Input'!AS83))","v":""},{"$f":"IF(M79=\"\",\"\",M79/COUNTIF('Data Input'!$C$8:$AZ$8,$M$2))","v":""},{"$f":"IF(ISBLANK('Data Input'!A83),\"\",SUM('Data Input'!AY83,'Data Input'!AZ83))","v":""},{"$f":"IF(O79=\"\",\"\",O79/COUNTIF('Data Input'!$C$8:$AZ$8,$O$2))","v":""},{"$f":"IF(ISBLANK('Data Input'!A83),\"\",SUM('Data Input'!AW83))","v":""},{"$f":"IF(Q79=\"\",\"\",Q79/COUNTIF('Data Input'!$C$8:$AZ$8,$Q$2))","v":""},{"$f":"IF(ISBLANK('Data Input'!$A83),\"\",SUM('Data Input'!Q83,'Data Input'!AT83,'Data Input'!AU83))","v":""},{"$f":"IF(S79=\"\",\"\",S79/COUNTIF('Data Input'!$C$8:$AZ$8,$S$2))","v":""},{"$f":"IF(ISBLANK('Data Input'!$A83),\"\",SUM('Data Input'!AX83))","v":""},{"$f":"IF(U79=\"\",\"\",U79/COUNTIF('Data Input'!$C$8:$AZ$8,$U$2))","v":""}]
[{"$f":"IF('Data Input'!A84=0,\"\",'Data Input'!A84)","v":""},{"$f":"IF(ISBLANK('Data Input'!A84),\"\",COUNTIF('Data Input'!C84:AZ84,\"\"))","v":""},{"$f":"IF(ISBLANK('Data Input'!A84),\"\",COUNTIF('Data Input'!C84:AZ84,\"0\"))","v":""},{"$f":"IF(ISBLANK('Data Input'!A84),\"\",SUM(B80,C80))","v":""},{"$f":"IF(ISBLANK('Data Input'!A84),\"\",SUM('Data Input'!C84:AZ84))","v":""},{"$f":"IF(E80=\"\",\"\",E80/(COUNTA('Data Input'!$C$8:$AZ$8)))","v":""},{"$f":"IF(ISBLANK('Data Input'!A84),\"\",SUM('Data Input'!R84,'Data Input'!AA84,'Data Input'!AB84,'Data Input'!AC84,'Data Input'!AE84,'Data Input'!AH84,'Data Input'!AQ84,'Data Input'!AR84))","v":""},{"$f":"IF(G80=\"\",\"\",G80/COUNTIF('Data Input'!$C$8:$AZ$8,$G$2))","v":""},{"$f":"IF(ISBLANK('Data Input'!A84),\"\",SUM('Data Input'!D84,'Data Input'!E84,'Data Input'!F84,'Data Input'!G84,'Data Input'!H84,'Data Input'!J84,'Data Input'!K84,'Data Input'!O84,'Data Input'!U84,'Data Input'!V84,'Data Input'!W84,'Data Input'!X84,'Data Input'!Z84,'Data Input'!AG84,'Data Input'!AI84,'Data Input'!AJ84,'Data Input'!AK84))","v":""},{"$f":"IF(I80=\"\",\"\",I80/COUNTIF('Data Input'!$C$8:$AZ$8,$I$2))","v":""},{"$f":"IF(ISBLANK('Data Input'!A84),\"\",SUM('Data Input'!AF84,'Data Input'!AV84))","v":""},{"$f":"IF(K80=\"\",\"\",K80/COUNTIF('Data Input'!$C$8:$AZ$8,$K$2))","v":""},{"$f":"IF(ISBLANK('Data Input'!A84),\"\",SUM('Data Input'!C84,'Data Input'!I84,'Data Input'!L84,'Data Input'!M84,'Data Input'!N84,'Data Input'!P84,'Data Input'!S84,'Data Input'!T84,'Data Input'!Y84,'Data Input'!AD84,'Data Input'!AL84,'Data Input'!AM84,'Data Input'!AN84,'Data Input'!AO84,'Data Input'!AP84,'Data Input'!AS84))","v":""},{"$f":"IF(M80=\"\",\"\",M80/COUNTIF('Data Input'!$C$8:$AZ$8,$M$2))","v":""},{"$f":"IF(ISBLANK('Data Input'!A84),\"\",SUM('Data Input'!AY84,'Data Input'!AZ84))","v":""},{"$f":"IF(O80=\"\",\"\",O80/COUNTIF('Data Input'!$C$8:$AZ$8,$O$2))","v":""},{"$f":"IF(ISBLANK('Data Input'!A84),\"\",SUM('Data Input'!AW84))","v":""},{"$f":"IF(Q80=\"\",\"\",Q80/COUNTIF('Data Input'!$C$8:$AZ$8,$Q$2))","v":""},{"$f":"IF(ISBLANK('Data Input'!$A84),\"\",SUM('Data Input'!Q84,'Data Input'!AT84,'Data Input'!AU84))","v":""},{"$f":"IF(S80=\"\",\"\",S80/COUNTIF('Data Input'!$C$8:$AZ$8,$S$2))","v":""},{"$f":"IF(ISBLANK('Data Input'!$A84),\"\",SUM('Data Input'!AX84))","v":""},{"$f":"IF(U80=\"\",\"\",U80/COUNTIF('Data Input'!$C$8:$AZ$8,$U$2))","v":""}]
[{"$f":"IF('Data Input'!A85=0,\"\",'Data Input'!A85)","v":""},{"$f":"IF(ISBLANK('Data Input'!A85),\"\",COUNTIF('Data Input'!C85:AZ85,\"\"))","v":""},{"$f":"IF(ISBLANK('Data Input'!A85),\"\",COUNTIF('Data Input'!C85:AZ85,\"0\"))","v":""},{"$f":"IF(ISBLANK('Data Input'!A85),\"\",SUM(B81,C81))","v":""},{"$f":"IF(ISBLANK('Data Input'!A85),\"\",SUM('Data Input'!C85:AZ85))","v":""},{"$f":"IF(E81=\"\",\"\",E81/(COUNTA('Data Input'!$C$8:$AZ$8)))","v":""},{"$f":"IF(ISBLANK('Data Input'!A85),\"\",SUM('Data Input'!R85,'Data Input'!AA85,'Data Input'!AB85,'Data Input'!AC85,'Data Input'!AE85,'Data Input'!AH85,'Data Input'!AQ85,'Data Input'!AR85))","v":""},{"$f":"IF(G81=\"\",\"\",G81/COUNTIF('Data Input'!$C$8:$AZ$8,$G$2))","v":""},{"$f":"IF(ISBLANK('Data Input'!A85),\"\",SUM('Data Input'!D85,'Data Input'!E85,'Data Input'!F85,'Data Input'!G85,'Data Input'!H85,'Data Input'!J85,'Data Input'!K85,'Data Input'!O85,'Data Input'!U85,'Data Input'!V85,'Data Input'!W85,'Data Input'!X85,'Data Input'!Z85,'Data Input'!AG85,'Data Input'!AI85,'Data Input'!AJ85,'Data Input'!AK85))","v":""},{"$f":"IF(I81=\"\",\"\",I81/COUNTIF('Data Input'!$C$8:$AZ$8,$I$2))","v":""},{"$f":"IF(ISBLANK('Data Input'!A85),\"\",SUM('Data Input'!AF85,'Data Input'!AV85))","v":""},{"$f":"IF(K81=\"\",\"\",K81/COUNTIF('Data Input'!$C$8:$AZ$8,$K$2))","v":""},{"$f":"IF(ISBLANK('Data Input'!A85),\"\",SUM('Data Input'!C85,'Data Input'!I85,'Data Input'!L85,'Data Input'!M85,'Data Input'!N85,'Data Input'!P85,'Data Input'!S85,'Data Input'!T85,'Data Input'!Y85,'Data Input'!AD85,'Data Input'!AL85,'Data Input'!AM85,'Data Input'!AN85,'Data Input'!AO85,'Data Input'!AP85,'Data Input'!AS85))","v":""},{"$f":"IF(M81=\"\",\"\",M81/COUNTIF('Data Input'!$C$8:$AZ$8,$M$2))","v":""},{"$f":"IF(ISBLANK('Data Input'!A85),\"\",SUM('Data Input'!AY85,'Data Input'!AZ85))","v":""},{"$f":"IF(O81=\"\",\"\",O81/COUNTIF('Data Input'!$C$8:$AZ$8,$O$2))","v":""},{"$f":"IF(ISBLANK('Data Input'!A85),\"\",SUM('Data Input'!AW85))","v":""},{"$f":"IF(Q81=\"\",\"\",Q81/COUNTIF('Data Input'!$C$8:$AZ$8,$Q$2))","v":""},{"$f":"IF(ISBLANK('Data Input'!$A85),\"\",SUM('Data Input'!Q85,'Data Input'!AT85,'Data Input'!AU85))","v":""},{"$f":"IF(S81=\"\",\"\",S81/COUNTIF('Data Input'!$C$8:$AZ$8,$S$2))","v":""},{"$f":"IF(ISBLANK('Data Input'!$A85),\"\",SUM('Data Input'!AX85))","v":""},{"$f":"IF(U81=\"\",\"\",U81/COUNTIF('Data Input'!$C$8:$AZ$8,$U$2))","v":""}]
[{"$f":"IF('Data Input'!A86=0,\"\",'Data Input'!A86)","v":""},{"$f":"IF(ISBLANK('Data Input'!A86),\"\",COUNTIF('Data Input'!C86:AZ86,\"\"))","v":""},{"$f":"IF(ISBLANK('Data Input'!A86),\"\",COUNTIF('Data Input'!C86:AZ86,\"0\"))","v":""},{"$f":"IF(ISBLANK('Data Input'!A86),\"\",SUM(B82,C82))","v":""},{"$f":"IF(ISBLANK('Data Input'!A86),\"\",SUM('Data Input'!C86:AZ86))","v":""},{"$f":"IF(E82=\"\",\"\",E82/(COUNTA('Data Input'!$C$8:$AZ$8)))","v":""},{"$f":"IF(ISBLANK('Data Input'!A86),\"\",SUM('Data Input'!R86,'Data Input'!AA86,'Data Input'!AB86,'Data Input'!AC86,'Data Input'!AE86,'Data Input'!AH86,'Data Input'!AQ86,'Data Input'!AR86))","v":""},{"$f":"IF(G82=\"\",\"\",G82/COUNTIF('Data Input'!$C$8:$AZ$8,$G$2))","v":""},{"$f":"IF(ISBLANK('Data Input'!A86),\"\",SUM('Data Input'!D86,'Data Input'!E86,'Data Input'!F86,'Data Input'!G86,'Data Input'!H86,'Data Input'!J86,'Data Input'!K86,'Data Input'!O86,'Data Input'!U86,'Data Input'!V86,'Data Input'!W86,'Data Input'!X86,'Data Input'!Z86,'Data Input'!AG86,'Data Input'!AI86,'Data Input'!AJ86,'Data Input'!AK86))","v":""},{"$f":"IF(I82=\"\",\"\",I82/COUNTIF('Data Input'!$C$8:$AZ$8,$I$2))","v":""},{"$f":"IF(ISBLANK('Data Input'!A86),\"\",SUM('Data Input'!AF86,'Data Input'!AV86))","v":""},{"$f":"IF(K82=\"\",\"\",K82/COUNTIF('Data Input'!$C$8:$AZ$8,$K$2))","v":""},{"$f":"IF(ISBLANK('Data Input'!A86),\"\",SUM('Data Input'!C86,'Data Input'!I86,'Data Input'!L86,'Data Input'!M86,'Data Input'!N86,'Data Input'!P86,'Data Input'!S86,'Data Input'!T86,'Data Input'!Y86,'Data Input'!AD86,'Data Input'!AL86,'Data Input'!AM86,'Data Input'!AN86,'Data Input'!AO86,'Data Input'!AP86,'Data Input'!AS86))","v":""},{"$f":"IF(M82=\"\",\"\",M82/COUNTIF('Data Input'!$C$8:$AZ$8,$M$2))","v":""},{"$f":"IF(ISBLANK('Data Input'!A86),\"\",SUM('Data Input'!AY86,'Data Input'!AZ86))","v":""},{"$f":"IF(O82=\"\",\"\",O82/COUNTIF('Data Input'!$C$8:$AZ$8,$O$2))","v":""},{"$f":"IF(ISBLANK('Data Input'!A86),\"\",SUM('Data Input'!AW86))","v":""},{"$f":"IF(Q82=\"\",\"\",Q82/COUNTIF('Data Input'!$C$8:$AZ$8,$Q$2))","v":""},{"$f":"IF(ISBLANK('Data Input'!$A86),\"\",SUM('Data Input'!Q86,'Data Input'!AT86,'Data Input'!AU86))","v":""},{"$f":"IF(S82=\"\",\"\",S82/COUNTIF('Data Input'!$C$8:$AZ$8,$S$2))","v":""},{"$f":"IF(ISBLANK('Data Input'!$A86),\"\",SUM('Data Input'!AX86))","v":""},{"$f":"IF(U82=\"\",\"\",U82/COUNTIF('Data Input'!$C$8:$AZ$8,$U$2))","v":""}]
[{"$f":"IF('Data Input'!A87=0,\"\",'Data Input'!A87)","v":""},{"$f":"IF(ISBLANK('Data Input'!A87),\"\",COUNTIF('Data Input'!C87:AZ87,\"\"))","v":""},{"$f":"IF(ISBLANK('Data Input'!A87),\"\",COUNTIF('Data Input'!C87:AZ87,\"0\"))","v":""},{"$f":"IF(ISBLANK('Data Input'!A87),\"\",SUM(B83,C83))","v":""},{"$f":"IF(ISBLANK('Data Input'!A87),\"\",SUM('Data Input'!C87:AZ87))","v":""},{"$f":"IF(E83=\"\",\"\",E83/(COUNTA('Data Input'!$C$8:$AZ$8)))","v":""},{"$f":"IF(ISBLANK('Data Input'!A87),\"\",SUM('Data Input'!R87,'Data Input'!AA87,'Data Input'!AB87,'Data Input'!AC87,'Data Input'!AE87,'Data Input'!AH87,'Data Input'!AQ87,'Data Input'!AR87))","v":""},{"$f":"IF(G83=\"\",\"\",G83/COUNTIF('Data Input'!$C$8:$AZ$8,$G$2))","v":""},{"$f":"IF(ISBLANK('Data Input'!A87),\"\",SUM('Data Input'!D87,'Data Input'!E87,'Data Input'!F87,'Data Input'!G87,'Data Input'!H87,'Data Input'!J87,'Data Input'!K87,'Data Input'!O87,'Data Input'!U87,'Data Input'!V87,'Data Input'!W87,'Data Input'!X87,'Data Input'!Z87,'Data Input'!AG87,'Data Input'!AI87,'Data Input'!AJ87,'Data Input'!AK87))","v":""},{"$f":"IF(I83=\"\",\"\",I83/COUNTIF('Data Input'!$C$8:$AZ$8,$I$2))","v":""},{"$f":"IF(ISBLANK('Data Input'!A87),\"\",SUM('Data Input'!AF87,'Data Input'!AV87))","v":""},{"$f":"IF(K83=\"\",\"\",K83/COUNTIF('Data Input'!$C$8:$AZ$8,$K$2))","v":""},{"$f":"IF(ISBLANK('Data Input'!A87),\"\",SUM('Data Input'!C87,'Data Input'!I87,'Data Input'!L87,'Data Input'!M87,'Data Input'!N87,'Data Input'!P87,'Data Input'!S87,'Data Input'!T87,'Data Input'!Y87,'Data Input'!AD87,'Data Input'!AL87,'Data Input'!AM87,'Data Input'!AN87,'Data Input'!AO87,'Data Input'!AP87,'Data Input'!AS87))","v":""},{"$f":"IF(M83=\"\",\"\",M83/COUNTIF('Data Input'!$C$8:$AZ$8,$M$2))","v":""},{"$f":"IF(ISBLANK('Data Input'!A87),\"\",SUM('Data Input'!AY87,'Data Input'!AZ87))","v":""},{"$f":"IF(O83=\"\",\"\",O83/COUNTIF('Data Input'!$C$8:$AZ$8,$O$2))","v":""},{"$f":"IF(ISBLANK('Data Input'!A87),\"\",SUM('Data Input'!AW87))","v":""},{"$f":"IF(Q83=\"\",\"\",Q83/COUNTIF('Data Input'!$C$8:$AZ$8,$Q$2))","v":""},{"$f":"IF(ISBLANK('Data Input'!$A87),\"\",SUM('Data Input'!Q87,'Data Input'!AT87,'Data Input'!AU87))","v":""},{"$f":"IF(S83=\"\",\"\",S83/COUNTIF('Data Input'!$C$8:$AZ$8,$S$2))","v":""},{"$f":"IF(ISBLANK('Data Input'!$A87),\"\",SUM('Data Input'!AX87))","v":""},{"$f":"IF(U83=\"\",\"\",U83/COUNTIF('Data Input'!$C$8:$AZ$8,$U$2))","v":""}]
[{"$f":"IF('Data Input'!A88=0,\"\",'Data Input'!A88)","v":""},{"$f":"IF(ISBLANK('Data Input'!A88),\"\",COUNTIF('Data Input'!C88:AZ88,\"\"))","v":""},{"$f":"IF(ISBLANK('Data Input'!A88),\"\",COUNTIF('Data Input'!C88:AZ88,\"0\"))","v":""},{"$f":"IF(ISBLANK('Data Input'!A88),\"\",SUM(B84,C84))","v":""},{"$f":"IF(ISBLANK('Data Input'!A88),\"\",SUM('Data Input'!C88:AZ88))","v":""},{"$f":"IF(E84=\"\",\"\",E84/(COUNTA('Data Input'!$C$8:$AZ$8)))","v":""},{"$f":"IF(ISBLANK('Data Input'!A88),\"\",SUM('Data Input'!R88,'Data Input'!AA88,'Data Input'!AB88,'Data Input'!AC88,'Data Input'!AE88,'Data Input'!AH88,'Data Input'!AQ88,'Data Input'!AR88))","v":""},{"$f":"IF(G84=\"\",\"\",G84/COUNTIF('Data Input'!$C$8:$AZ$8,$G$2))","v":""},{"$f":"IF(ISBLANK('Data Input'!A88),\"\",SUM('Data Input'!D88,'Data Input'!E88,'Data Input'!F88,'Data Input'!G88,'Data Input'!H88,'Data Input'!J88,'Data Input'!K88,'Data Input'!O88,'Data Input'!U88,'Data Input'!V88,'Data Input'!W88,'Data Input'!X88,'Data Input'!Z88,'Data Input'!AG88,'Data Input'!AI88,'Data Input'!AJ88,'Data Input'!AK88))","v":""},{"$f":"IF(I84=\"\",\"\",I84/COUNTIF('Data Input'!$C$8:$AZ$8,$I$2))","v":""},{"$f":"IF(ISBLANK('Data Input'!A88),\"\",SUM('Data Input'!AF88,'Data Input'!AV88))","v":""},{"$f":"IF(K84=\"\",\"\",K84/COUNTIF('Data Input'!$C$8:$AZ$8,$K$2))","v":""},{"$f":"IF(ISBLANK('Data Input'!A88),\"\",SUM('Data Input'!C88,'Data Input'!I88,'Data Input'!L88,'Data Input'!M88,'Data Input'!N88,'Data Input'!P88,'Data Input'!S88,'Data Input'!T88,'Data Input'!Y88,'Data Input'!AD88,'Data Input'!AL88,'Data Input'!AM88,'Data Input'!AN88,'Data Input'!AO88,'Data Input'!AP88,'Data Input'!AS88))","v":""},{"$f":"IF(M84=\"\",\"\",M84/COUNTIF('Data Input'!$C$8:$AZ$8,$M$2))","v":""},{"$f":"IF(ISBLANK('Data Input'!A88),\"\",SUM('Data Input'!AY88,'Data Input'!AZ88))","v":""},{"$f":"IF(O84=\"\",\"\",O84/COUNTIF('Data Input'!$C$8:$AZ$8,$O$2))","v":""},{"$f":"IF(ISBLANK('Data Input'!A88),\"\",SUM('Data Input'!AW88))","v":""},{"$f":"IF(Q84=\"\",\"\",Q84/COUNTIF('Data Input'!$C$8:$AZ$8,$Q$2))","v":""},{"$f":"IF(ISBLANK('Data Input'!$A88),\"\",SUM('Data Input'!Q88,'Data Input'!AT88,'Data Input'!AU88))","v":""},{"$f":"IF(S84=\"\",\"\",S84/COUNTIF('Data Input'!$C$8:$AZ$8,$S$2))","v":""},{"$f":"IF(ISBLANK('Data Input'!$A88),\"\",SUM('Data Input'!AX88))","v":""},{"$f":"IF(U84=\"\",\"\",U84/COUNTIF('Data Input'!$C$8:$AZ$8,$U$2))","v":""}]
[{"$f":"IF('Data Input'!A89=0,\"\",'Data Input'!A89)","v":""},{"$f":"IF(ISBLANK('Data Input'!A89),\"\",COUNTIF('Data Input'!C89:AZ89,\"\"))","v":""},{"$f":"IF(ISBLANK('Data Input'!A89),\"\",COUNTIF('Data Input'!C89:AZ89,\"0\"))","v":""},{"$f":"IF(ISBLANK('Data Input'!A89),\"\",SUM(B85,C85))","v":""},{"$f":"IF(ISBLANK('Data Input'!A89),\"\",SUM('Data Input'!C89:AZ89))","v":""},{"$f":"IF(E85=\"\",\"\",E85/(COUNTA('Data Input'!$C$8:$AZ$8)))","v":""},{"$f":"IF(ISBLANK('Data Input'!A89),\"\",SUM('Data Input'!R89,'Data Input'!AA89,'Data Input'!AB89,'Data Input'!AC89,'Data Input'!AE89,'Data Input'!AH89,'Data Input'!AQ89,'Data Input'!AR89))","v":""},{"$f":"IF(G85=\"\",\"\",G85/COUNTIF('Data Input'!$C$8:$AZ$8,$G$2))","v":""},{"$f":"IF(ISBLANK('Data Input'!A89),\"\",SUM('Data Input'!D89,'Data Input'!E89,'Data Input'!F89,'Data Input'!G89,'Data Input'!H89,'Data Input'!J89,'Data Input'!K89,'Data Input'!O89,'Data Input'!U89,'Data Input'!V89,'Data Input'!W89,'Data Input'!X89,'Data Input'!Z89,'Data Input'!AG89,'Data Input'!AI89,'Data Input'!AJ89,'Data Input'!AK89))","v":""},{"$f":"IF(I85=\"\",\"\",I85/COUNTIF('Data Input'!$C$8:$AZ$8,$I$2))","v":""},{"$f":"IF(ISBLANK('Data Input'!A89),\"\",SUM('Data Input'!AF89,'Data Input'!AV89))","v":""},{"$f":"IF(K85=\"\",\"\",K85/COUNTIF('Data Input'!$C$8:$AZ$8,$K$2))","v":""},{"$f":"IF(ISBLANK('Data Input'!A89),\"\",SUM('Data Input'!C89,'Data Input'!I89,'Data Input'!L89,'Data Input'!M89,'Data Input'!N89,'Data Input'!P89,'Data Input'!S89,'Data Input'!T89,'Data Input'!Y89,'Data Input'!AD89,'Data Input'!AL89,'Data Input'!AM89,'Data Input'!AN89,'Data Input'!AO89,'Data Input'!AP89,'Data Input'!AS89))","v":""},{"$f":"IF(M85=\"\",\"\",M85/COUNTIF('Data Input'!$C$8:$AZ$8,$M$2))","v":""},{"$f":"IF(ISBLANK('Data Input'!A89),\"\",SUM('Data Input'!AY89,'Data Input'!AZ89))","v":""},{"$f":"IF(O85=\"\",\"\",O85/COUNTIF('Data Input'!$C$8:$AZ$8,$O$2))","v":""},{"$f":"IF(ISBLANK('Data Input'!A89),\"\",SUM('Data Input'!AW89))","v":""},{"$f":"IF(Q85=\"\",\"\",Q85/COUNTIF('Data Input'!$C$8:$AZ$8,$Q$2))","v":""},{"$f":"IF(ISBLANK('Data Input'!$A89),\"\",SUM('Data Input'!Q89,'Data Input'!AT89,'Data Input'!AU89))","v":""},{"$f":"IF(S85=\"\",\"\",S85/COUNTIF('Data Input'!$C$8:$AZ$8,$S$2))","v":""},{"$f":"IF(ISBLANK('Data Input'!$A89),\"\",SUM('Data Input'!AX89))","v":""},{"$f":"IF(U85=\"\",\"\",U85/COUNTIF('Data Input'!$C$8:$AZ$8,$U$2))","v":""}]
[{"$f":"IF('Data Input'!A90=0,\"\",'Data Input'!A90)","v":""},{"$f":"IF(ISBLANK('Data Input'!A90),\"\",COUNTIF('Data Input'!C90:AZ90,\"\"))","v":""},{"$f":"IF(ISBLANK('Data Input'!A90),\"\",COUNTIF('Data Input'!C90:AZ90,\"0\"))","v":""},{"$f":"IF(ISBLANK('Data Input'!A90),\"\",SUM(B86,C86))","v":""},{"$f":"IF(ISBLANK('Data Input'!A90),\"\",SUM('Data Input'!C90:AZ90))","v":""},{"$f":"IF(E86=\"\",\"\",E86/(COUNTA('Data Input'!$C$8:$AZ$8)))","v":""},{"$f":"IF(ISBLANK('Data Input'!A90),\"\",SUM('Data Input'!R90,'Data Input'!AA90,'Data Input'!AB90,'Data Input'!AC90,'Data Input'!AE90,'Data Input'!AH90,'Data Input'!AQ90,'Data Input'!AR90))","v":""},{"$f":"IF(G86=\"\",\"\",G86/COUNTIF('Data Input'!$C$8:$AZ$8,$G$2))","v":""},{"$f":"IF(ISBLANK('Data Input'!A90),\"\",SUM('Data Input'!D90,'Data Input'!E90,'Data Input'!F90,'Data Input'!G90,'Data Input'!H90,'Data Input'!J90,'Data Input'!K90,'Data Input'!O90,'Data Input'!U90,'Data Input'!V90,'Data Input'!W90,'Data Input'!X90,'Data Input'!Z90,'Data Input'!AG90,'Data Input'!AI90,'Data Input'!AJ90,'Data Input'!AK90))","v":""},{"$f":"IF(I86=\"\",\"\",I86/COUNTIF('Data Input'!$C$8:$AZ$8,$I$2))","v":""},{"$f":"IF(ISBLANK('Data Input'!A90),\"\",SUM('Data Input'!AF90,'Data Input'!AV90))","v":""},{"$f":"IF(K86=\"\",\"\",K86/COUNTIF('Data Input'!$C$8:$AZ$8,$K$2))","v":""},{"$f":"IF(ISBLANK('Data Input'!A90),\"\",SUM('Data Input'!C90,'Data Input'!I90,'Data Input'!L90,'Data Input'!M90,'Data Input'!N90,'Data Input'!P90,'Data Input'!S90,'Data Input'!T90,'Data Input'!Y90,'Data Input'!AD90,'Data Input'!AL90,'Data Input'!AM90,'Data Input'!AN90,'Data Input'!AO90,'Data Input'!AP90,'Data Input'!AS90))","v":""},{"$f":"IF(M86=\"\",\"\",M86/COUNTIF('Data Input'!$C$8:$AZ$8,$M$2))","v":""},{"$f":"IF(ISBLANK('Data Input'!A90),\"\",SUM('Data Input'!AY90,'Data Input'!AZ90))","v":""},{"$f":"IF(O86=\"\",\"\",O86/COUNTIF('Data Input'!$C$8:$AZ$8,$O$2))","v":""},{"$f":"IF(ISBLANK('Data Input'!A90),\"\",SUM('Data Input'!AW90))","v":""},{"$f":"IF(Q86=\"\",\"\",Q86/COUNTIF('Data Input'!$C$8:$AZ$8,$Q$2))","v":""},{"$f":"IF(ISBLANK('Data Input'!$A90),\"\",SUM('Data Input'!Q90,'Data Input'!AT90,'Data Input'!AU90))","v":""},{"$f":"IF(S86=\"\",\"\",S86/COUNTIF('Data Input'!$C$8:$AZ$8,$S$2))","v":""},{"$f":"IF(ISBLANK('Data Input'!$A90),\"\",SUM('Data Input'!AX90))","v":""},{"$f":"IF(U86=\"\",\"\",U86/COUNTIF('Data Input'!$C$8:$AZ$8,$U$2))","v":""}]
[{"$f":"IF('Data Input'!A91=0,\"\",'Data Input'!A91)","v":""},{"$f":"IF(ISBLANK('Data Input'!A91),\"\",COUNTIF('Data Input'!C91:AZ91,\"\"))","v":""},{"$f":"IF(ISBLANK('Data Input'!A91),\"\",COUNTIF('Data Input'!C91:AZ91,\"0\"))","v":""},{"$f":"IF(ISBLANK('Data Input'!A91),\"\",SUM(B87,C87))","v":""},{"$f":"IF(ISBLANK('Data Input'!A91),\"\",SUM('Data Input'!C91:AZ91))","v":""},{"$f":"IF(E87=\"\",\"\",E87/(COUNTA('Data Input'!$C$8:$AZ$8)))","v":""},{"$f":"IF(ISBLANK('Data Input'!A91),\"\",SUM('Data Input'!R91,'Data Input'!AA91,'Data Input'!AB91,'Data Input'!AC91,'Data Input'!AE91,'Data Input'!AH91,'Data Input'!AQ91,'Data Input'!AR91))","v":""},{"$f":"IF(G87=\"\",\"\",G87/COUNTIF('Data Input'!$C$8:$AZ$8,$G$2))","v":""},{"$f":"IF(ISBLANK('Data Input'!A91),\"\",SUM('Data Input'!D91,'Data Input'!E91,'Data Input'!F91,'Data Input'!G91,'Data Input'!H91,'Data Input'!J91,'Data Input'!K91,'Data Input'!O91,'Data Input'!U91,'Data Input'!V91,'Data Input'!W91,'Data Input'!X91,'Data Input'!Z91,'Data Input'!AG91,'Data Input'!AI91,'Data Input'!AJ91,'Data Input'!AK91))","v":""},{"$f":"IF(I87=\"\",\"\",I87/COUNTIF('Data Input'!$C$8:$AZ$8,$I$2))","v":""},{"$f":"IF(ISBLANK('Data Input'!A91),\"\",SUM('Data Input'!AF91,'Data Input'!AV91))","v":""},{"$f":"IF(K87=\"\",\"\",K87/COUNTIF('Data Input'!$C$8:$AZ$8,$K$2))","v":""},{"$f":"IF(ISBLANK('Data Input'!A91),\"\",SUM('Data Input'!C91,'Data Input'!I91,'Data Input'!L91,'Data Input'!M91,'Data Input'!N91,'Data Input'!P91,'Data Input'!S91,'Data Input'!T91,'Data Input'!Y91,'Data Input'!AD91,'Data Input'!AL91,'Data Input'!AM91,'Data Input'!AN91,'Data Input'!AO91,'Data Input'!AP91,'Data Input'!AS91))","v":""},{"$f":"IF(M87=\"\",\"\",M87/COUNTIF('Data Input'!$C$8:$AZ$8,$M$2))","v":""},{"$f":"IF(ISBLANK('Data Input'!A91),\"\",SUM('Data Input'!AY91,'Data Input'!AZ91))","v":""},{"$f":"IF(O87=\"\",\"\",O87/COUNTIF('Data Input'!$C$8:$AZ$8,$O$2))","v":""},{"$f":"IF(ISBLANK('Data Input'!A91),\"\",SUM('Data Input'!AW91))","v":""},{"$f":"IF(Q87=\"\",\"\",Q87/COUNTIF('Data Input'!$C$8:$AZ$8,$Q$2))","v":""},{"$f":"IF(ISBLANK('Data Input'!$A91),\"\",SUM('Data Input'!Q91,'Data Input'!AT91,'Data Input'!AU91))","v":""},{"$f":"IF(S87=\"\",\"\",S87/COUNTIF('Data Input'!$C$8:$AZ$8,$S$2))","v":""},{"$f":"IF(ISBLANK('Data Input'!$A91),\"\",SUM('Data Input'!AX91))","v":""},{"$f":"IF(U87=\"\",\"\",U87/COUNTIF('Data Input'!$C$8:$AZ$8,$U$2))","v":""}]
[{"$f":"IF('Data Input'!A92=0,\"\",'Data Input'!A92)","v":""},{"$f":"IF(ISBLANK('Data Input'!A92),\"\",COUNTIF('Data Input'!C92:AZ92,\"\"))","v":""},{"$f":"IF(ISBLANK('Data Input'!A92),\"\",COUNTIF('Data Input'!C92:AZ92,\"0\"))","v":""},{"$f":"IF(ISBLANK('Data Input'!A92),\"\",SUM(B88,C88))","v":""},{"$f":"IF(ISBLANK('Data Input'!A92),\"\",SUM('Data Input'!C92:AZ92))","v":""},{"$f":"IF(E88=\"\",\"\",E88/(COUNTA('Data Input'!$C$8:$AZ$8)))","v":""},{"$f":"IF(ISBLANK('Data Input'!A92),\"\",SUM('Data Input'!R92,'Data Input'!AA92,'Data Input'!AB92,'Data Input'!AC92,'Data Input'!AE92,'Data Input'!AH92,'Data Input'!AQ92,'Data Input'!AR92))","v":""},{"$f":"IF(G88=\"\",\"\",G88/COUNTIF('Data Input'!$C$8:$AZ$8,$G$2))","v":""},{"$f":"IF(ISBLANK('Data Input'!A92),\"\",SUM('Data Input'!D92,'Data Input'!E92,'Data Input'!F92,'Data Input'!G92,'Data Input'!H92,'Data Input'!J92,'Data Input'!K92,'Data Input'!O92,'Data Input'!U92,'Data Input'!V92,'Data Input'!W92,'Data Input'!X92,'Data Input'!Z92,'Data Input'!AG92,'Data Input'!AI92,'Data Input'!AJ92,'Data Input'!AK92))","v":""},{"$f":"IF(I88=\"\",\"\",I88/COUNTIF('Data Input'!$C$8:$AZ$8,$I$2))","v":""},{"$f":"IF(ISBLANK('Data Input'!A92),\"\",SUM('Data Input'!AF92,'Data Input'!AV92))","v":""},{"$f":"IF(K88=\"\",\"\",K88/COUNTIF('Data Input'!$C$8:$AZ$8,$K$2))","v":""},{"$f":"IF(ISBLANK('Data Input'!A92),\"\",SUM('Data Input'!C92,'Data Input'!I92,'Data Input'!L92,'Data Input'!M92,'Data Input'!N92,'Data Input'!P92,'Data Input'!S92,'Data Input'!T92,'Data Input'!Y92,'Data Input'!AD92,'Data Input'!AL92,'Data Input'!AM92,'Data Input'!AN92,'Data Input'!AO92,'Data Input'!AP92,'Data Input'!AS92))","v":""},{"$f":"IF(M88=\"\",\"\",M88/COUNTIF('Data Input'!$C$8:$AZ$8,$M$2))","v":""},{"$f":"IF(ISBLANK('Data Input'!A92),\"\",SUM('Data Input'!AY92,'Data Input'!AZ92))","v":""},{"$f":"IF(O88=\"\",\"\",O88/COUNTIF('Data Input'!$C$8:$AZ$8,$O$2))","v":""},{"$f":"IF(ISBLANK('Data Input'!A92),\"\",SUM('Data Input'!AW92))","v":""},{"$f":"IF(Q88=\"\",\"\",Q88/COUNTIF('Data Input'!$C$8:$AZ$8,$Q$2))","v":""},{"$f":"IF(ISBLANK('Data Input'!$A92),\"\",SUM('Data Input'!Q92,'Data Input'!AT92,'Data Input'!AU92))","v":""},{"$f":"IF(S88=\"\",\"\",S88/COUNTIF('Data Input'!$C$8:$AZ$8,$S$2))","v":""},{"$f":"IF(ISBLANK('Data Input'!$A92),\"\",SUM('Data Input'!AX92))","v":""},{"$f":"IF(U88=\"\",\"\",U88/COUNTIF('Data Input'!$C$8:$AZ$8,$U$2))","v":""}]
[{"$f":"IF('Data Input'!A93=0,\"\",'Data Input'!A93)","v":""},{"$f":"IF(ISBLANK('Data Input'!A93),\"\",COUNTIF('Data Input'!C93:AZ93,\"\"))","v":""},{"$f":"IF(ISBLANK('Data Input'!A93),\"\",COUNTIF('Data Input'!C93:AZ93,\"0\"))","v":""},{"$f":"IF(ISBLANK('Data Input'!A93),\"\",SUM(B89,C89))","v":""},{"$f":"IF(ISBLANK('Data Input'!A93),\"\",SUM('Data Input'!C93:AZ93))","v":""},{"$f":"IF(E89=\"\",\"\",E89/(COUNTA('Data Input'!$C$8:$AZ$8)))","v":""},{"$f":"IF(ISBLANK('Data Input'!A93),\"\",SUM('Data Input'!R93,'Data Input'!AA93,'Data Input'!AB93,'Data Input'!AC93,'Data Input'!AE93,'Data Input'!AH93,'Data Input'!AQ93,'Data Input'!AR93))","v":""},{"$f":"IF(G89=\"\",\"\",G89/COUNTIF('Data Input'!$C$8:$AZ$8,$G$2))","v":""},{"$f":"IF(ISBLANK('Data Input'!A93),\"\",SUM('Data Input'!D93,'Data Input'!E93,'Data Input'!F93,'Data Input'!G93,'Data Input'!H93,'Data Input'!J93,'Data Input'!K93,'Data Input'!O93,'Data Input'!U93,'Data Input'!V93,'Data Input'!W93,'Data Input'!X93,'Data Input'!Z93,'Data Input'!AG93,'Data Input'!AI93,'Data Input'!AJ93,'Data Input'!AK93))","v":""},{"$f":"IF(I89=\"\",\"\",I89/COUNTIF('Data Input'!$C$8:$AZ$8,$I$2))","v":""},{"$f":"IF(ISBLANK('Data Input'!A93),\"\",SUM('Data Input'!AF93,'Data Input'!AV93))","v":""},{"$f":"IF(K89=\"\",\"\",K89/COUNTIF('Data Input'!$C$8:$AZ$8,$K$2))","v":""},{"$f":"IF(ISBLANK('Data Input'!A93),\"\",SUM('Data Input'!C93,'Data Input'!I93,'Data Input'!L93,'Data Input'!M93,'Data Input'!N93,'Data Input'!P93,'Data Input'!S93,'Data Input'!T93,'Data Input'!Y93,'Data Input'!AD93,'Data Input'!AL93,'Data Input'!AM93,'Data Input'!AN93,'Data Input'!AO93,'Data Input'!AP93,'Data Input'!AS93))","v":""},{"$f":"IF(M89=\"\",\"\",M89/COUNTIF('Data Input'!$C$8:$AZ$8,$M$2))","v":""},{"$f":"IF(ISBLANK('Data Input'!A93),\"\",SUM('Data Input'!AY93,'Data Input'!AZ93))","v":""},{"$f":"IF(O89=\"\",\"\",O89/COUNTIF('Data Input'!$C$8:$AZ$8,$O$2))","v":""},{"$f":"IF(ISBLANK('Data Input'!A93),\"\",SUM('Data Input'!AW93))","v":""},{"$f":"IF(Q89=\"\",\"\",Q89/COUNTIF('Data Input'!$C$8:$AZ$8,$Q$2))","v":""},{"$f":"IF(ISBLANK('Data Input'!$A93),\"\",SUM('Data Input'!Q93,'Data Input'!AT93,'Data Input'!AU93))","v":""},{"$f":"IF(S89=\"\",\"\",S89/COUNTIF('Data Input'!$C$8:$AZ$8,$S$2))","v":""},{"$f":"IF(ISBLANK('Data Input'!$A93),\"\",SUM('Data Input'!AX93))","v":""},{"$f":"IF(U89=\"\",\"\",U89/COUNTIF('Data Input'!$C$8:$AZ$8,$U$2))","v":""}]
[{"$f":"IF('Data Input'!A94=0,\"\",'Data Input'!A94)","v":""},{"$f":"IF(ISBLANK('Data Input'!A94),\"\",COUNTIF('Data Input'!C94:AZ94,\"\"))","v":""},{"$f":"IF(ISBLANK('Data Input'!A94),\"\",COUNTIF('Data Input'!C94:AZ94,\"0\"))","v":""},{"$f":"IF(ISBLANK('Data Input'!A94),\"\",SUM(B90,C90))","v":""},{"$f":"IF(ISBLANK('Data Input'!A94),\"\",SUM('Data Input'!C94:AZ94))","v":""},{"$f":"IF(E90=\"\",\"\",E90/(COUNTA('Data Input'!$C$8:$AZ$8)))","v":""},{"$f":"IF(ISBLANK('Data Input'!A94),\"\",SUM('Data Input'!R94,'Data Input'!AA94,'Data Input'!AB94,'Data Input'!AC94,'Data Input'!AE94,'Data Input'!AH94,'Data Input'!AQ94,'Data Input'!AR94))","v":""},{"$f":"IF(G90=\"\",\"\",G90/COUNTIF('Data Input'!$C$8:$AZ$8,$G$2))","v":""},{"$f":"IF(ISBLANK('Data Input'!A94),\"\",SUM('Data Input'!D94,'Data Input'!E94,'Data Input'!F94,'Data Input'!G94,'Data Input'!H94,'Data Input'!J94,'Data Input'!K94,'Data Input'!O94,'Data Input'!U94,'Data Input'!V94,'Data Input'!W94,'Data Input'!X94,'Data Input'!Z94,'Data Input'!AG94,'Data Input'!AI94,'Data Input'!AJ94,'Data Input'!AK94))","v":""},{"$f":"IF(I90=\"\",\"\",I90/COUNTIF('Data Input'!$C$8:$AZ$8,$I$2))","v":""},{"$f":"IF(ISBLANK('Data Input'!A94),\"\",SUM('Data Input'!AF94,'Data Input'!AV94))","v":""},{"$f":"IF(K90=\"\",\"\",K90/COUNTIF('Data Input'!$C$8:$AZ$8,$K$2))","v":""},{"$f":"IF(ISBLANK('Data Input'!A94),\"\",SUM('Data Input'!C94,'Data Input'!I94,'Data Input'!L94,'Data Input'!M94,'Data Input'!N94,'Data Input'!P94,'Data Input'!S94,'Data Input'!T94,'Data Input'!Y94,'Data Input'!AD94,'Data Input'!AL94,'Data Input'!AM94,'Data Input'!AN94,'Data Input'!AO94,'Data Input'!AP94,'Data Input'!AS94))","v":""},{"$f":"IF(M90=\"\",\"\",M90/COUNTIF('Data Input'!$C$8:$AZ$8,$M$2))","v":""},{"$f":"IF(ISBLANK('Data Input'!A94),\"\",SUM('Data Input'!AY94,'Data Input'!AZ94))","v":""},{"$f":"IF(O90=\"\",\"\",O90/COUNTIF('Data Input'!$C$8:$AZ$8,$O$2))","v":""},{"$f":"IF(ISBLANK('Data Input'!A94),\"\",SUM('Data Input'!AW94))","v":""},{"$f":"IF(Q90=\"\",\"\",Q90/COUNTIF('Data Input'!$C$8:$AZ$8,$Q$2))","v":""},{"$f":"IF(ISBLANK('Data Input'!$A94),\"\",SUM('Data Input'!Q94,'Data Input'!AT94,'Data Input'!AU94))","v":""},{"$f":"IF(S90=\"\",\"\",S90/COUNTIF('Data Input'!$C$8:$AZ$8,$S$2))","v":""},{"$f":"IF(ISBLANK('Data Input'!$A94),\"\",SUM('Data Input'!AX94))","v":""},{"$f":"IF(U90=\"\",\"\",U90/COUNTIF('Data Input'!$C$8:$AZ$8,$U$2))","v":""}]
[{"$f":"IF('Data Input'!A95=0,\"\",'Data Input'!A95)","v":""},{"$f":"IF(ISBLANK('Data Input'!A95),\"\",COUNTIF('Data Input'!C95:AZ95,\"\"))","v":""},{"$f":"IF(ISBLANK('Data Input'!A95),\"\",COUNTIF('Data Input'!C95:AZ95,\"0\"))","v":""},{"$f":"IF(ISBLANK('Data Input'!A95),\"\",SUM(B91,C91))","v":""},{"$f":"IF(ISBLANK('Data Input'!A95),\"\",SUM('Data Input'!C95:AZ95))","v":""},{"$f":"IF(E91=\"\",\"\",E91/(COUNTA('Data Input'!$C$8:$AZ$8)))","v":""},{"$f":"IF(ISBLANK('Data Input'!A95),\"\",SUM('Data Input'!R95,'Data Input'!AA95,'Data Input'!AB95,'Data Input'!AC95,'Data Input'!AE95,'Data Input'!AH95,'Data Input'!AQ95,'Data Input'!AR95))","v":""},{"$f":"IF(G91=\"\",\"\",G91/COUNTIF('Data Input'!$C$8:$AZ$8,$G$2))","v":""},{"$f":"IF(ISBLANK('Data Input'!A95),\"\",SUM('Data Input'!D95,'Data Input'!E95,'Data Input'!F95,'Data Input'!G95,'Data Input'!H95,'Data Input'!J95,'Data Input'!K95,'Data Input'!O95,'Data Input'!U95,'Data Input'!V95,'Data Input'!W95,'Data Input'!X95,'Data Input'!Z95,'Data Input'!AG95,'Data Input'!AI95,'Data Input'!AJ95,'Data Input'!AK95))","v":""},{"$f":"IF(I91=\"\",\"\",I91/COUNTIF('Data Input'!$C$8:$AZ$8,$I$2))","v":""},{"$f":"IF(ISBLANK('Data Input'!A95),\"\",SUM('Data Input'!AF95,'Data Input'!AV95))","v":""},{"$f":"IF(K91=\"\",\"\",K91/COUNTIF('Data Input'!$C$8:$AZ$8,$K$2))","v":""},{"$f":"IF(ISBLANK('Data Input'!A95),\"\",SUM('Data Input'!C95,'Data Input'!I95,'Data Input'!L95,'Data Input'!M95,'Data Input'!N95,'Data Input'!P95,'Data Input'!S95,'Data Input'!T95,'Data Input'!Y95,'Data Input'!AD95,'Data Input'!AL95,'Data Input'!AM95,'Data Input'!AN95,'Data Input'!AO95,'Data Input'!AP95,'Data Input'!AS95))","v":""},{"$f":"IF(M91=\"\",\"\",M91/COUNTIF('Data Input'!$C$8:$AZ$8,$M$2))","v":""},{"$f":"IF(ISBLANK('Data Input'!A95),\"\",SUM('Data Input'!AY95,'Data Input'!AZ95))","v":""},{"$f":"IF(O91=\"\",\"\",O91/COUNTIF('Data Input'!$C$8:$AZ$8,$O$2))","v":""},{"$f":"IF(ISBLANK('Data Input'!A95),\"\",SUM('Data Input'!AW95))","v":""},{"$f":"IF(Q91=\"\",\"\",Q91/COUNTIF('Data Input'!$C$8:$AZ$8,$Q$2))","v":""},{"$f":"IF(ISBLANK('Data Input'!$A95),\"\",SUM('Data Input'!Q95,'Data Input'!AT95,'Data Input'!AU95))","v":""},{"$f":"IF(S91=\"\",\"\",S91/COUNTIF('Data Input'!$C$8:$AZ$8,$S$2))","v":""},{"$f":"IF(ISBLANK('Data Input'!$A95),\"\",SUM('Data Input'!AX95))","v":""},{"$f":"IF(U91=\"\",\"\",U91/COUNTIF('Data Input'!$C$8:$AZ$8,$U$2))","v":""}]
[{"$f":"IF('Data Input'!A96=0,\"\",'Data Input'!A96)","v":""},{"$f":"IF(ISBLANK('Data Input'!A96),\"\",COUNTIF('Data Input'!C96:AZ96,\"\"))","v":""},{"$f":"IF(ISBLANK('Data Input'!A96),\"\",COUNTIF('Data Input'!C96:AZ96,\"0\"))","v":""},{"$f":"IF(ISBLANK('Data Input'!A96),\"\",SUM(B92,C92))","v":""},{"$f":"IF(ISBLANK('Data Input'!A96),\"\",SUM('Data Input'!C96:AZ96))","v":""},{"$f":"IF(E92=\"\",\"\",E92/(COUNTA('Data Input'!$C$8:$AZ$8)))","v":""},{"$f":"IF(ISBLANK('Data Input'!A96),\"\",SUM('Data Input'!R96,'Data Input'!AA96,'Data Input'!AB96,'Data Input'!AC96,'Data Input'!AE96,'Data Input'!AH96,'Data Input'!AQ96,'Data Input'!AR96))","v":""},{"$f":"IF(G92=\"\",\"\",G92/COUNTIF('Data Input'!$C$8:$AZ$8,$G$2))","v":""},{"$f":"IF(ISBLANK('Data Input'!A96),\"\",SUM('Data Input'!D96,'Data Input'!E96,'Data Input'!F96,'Data Input'!G96,'Data Input'!H96,'Data Input'!J96,'Data Input'!K96,'Data Input'!O96,'Data Input'!U96,'Data Input'!V96,'Data Input'!W96,'Data Input'!X96,'Data Input'!Z96,'Data Input'!AG96,'Data Input'!AI96,'Data Input'!AJ96,'Data Input'!AK96))","v":""},{"$f":"IF(I92=\"\",\"\",I92/COUNTIF('Data Input'!$C$8:$AZ$8,$I$2))","v":""},{"$f":"IF(ISBLANK('Data Input'!A96),\"\",SUM('Data Input'!AF96,'Data Input'!AV96))","v":""},{"$f":"IF(K92=\"\",\"\",K92/COUNTIF('Data Input'!$C$8:$AZ$8,$K$2))","v":""},{"$f":"IF(ISBLANK('Data Input'!A96),\"\",SUM('Data Input'!C96,'Data Input'!I96,'Data Input'!L96,'Data Input'!M96,'Data Input'!N96,'Data Input'!P96,'Data Input'!S96,'Data Input'!T96,'Data Input'!Y96,'Data Input'!AD96,'Data Input'!AL96,'Data Input'!AM96,'Data Input'!AN96,'Data Input'!AO96,'Data Input'!AP96,'Data Input'!AS96))","v":""},{"$f":"IF(M92=\"\",\"\",M92/COUNTIF('Data Input'!$C$8:$AZ$8,$M$2))","v":""},{"$f":"IF(ISBLANK('Data Input'!A96),\"\",SUM('Data Input'!AY96,'Data Input'!AZ96))","v":""},{"$f":"IF(O92=\"\",\"\",O92/COUNTIF('Data Input'!$C$8:$AZ$8,$O$2))","v":""},{"$f":"IF(ISBLANK('Data Input'!A96),\"\",SUM('Data Input'!AW96))","v":""},{"$f":"IF(Q92=\"\",\"\",Q92/COUNTIF('Data Input'!$C$8:$AZ$8,$Q$2))","v":""},{"$f":"IF(ISBLANK('Data Input'!$A96),\"\",SUM('Data Input'!Q96,'Data Input'!AT96,'Data Input'!AU96))","v":""},{"$f":"IF(S92=\"\",\"\",S92/COUNTIF('Data Input'!$C$8:$AZ$8,$S$2))","v":""},{"$f":"IF(ISBLANK('Data Input'!$A96),\"\",SUM('Data Input'!AX96))","v":""},{"$f":"IF(U92=\"\",\"\",U92/COUNTIF('Data Input'!$C$8:$AZ$8,$U$2))","v":""}]
[{"$f":"IF('Data Input'!A97=0,\"\",'Data Input'!A97)","v":""},{"$f":"IF(ISBLANK('Data Input'!A97),\"\",COUNTIF('Data Input'!C97:AZ97,\"\"))","v":""},{"$f":"IF(ISBLANK('Data Input'!A97),\"\",COUNTIF('Data Input'!C97:AZ97,\"0\"))","v":""},{"$f":"IF(ISBLANK('Data Input'!A97),\"\",SUM(B93,C93))","v":""},{"$f":"IF(ISBLANK('Data Input'!A97),\"\",SUM('Data Input'!C97:AZ97))","v":""},{"$f":"IF(E93=\"\",\"\",E93/(COUNTA('Data Input'!$C$8:$AZ$8)))","v":""},{"$f":"IF(ISBLANK('Data Input'!A97),\"\",SUM('Data Input'!R97,'Data Input'!AA97,'Data Input'!AB97,'Data Input'!AC97,'Data Input'!AE97,'Data Input'!AH97,'Data Input'!AQ97,'Data Input'!AR97))","v":""},{"$f":"IF(G93=\"\",\"\",G93/COUNTIF('Data Input'!$C$8:$AZ$8,$G$2))","v":""},{"$f":"IF(ISBLANK('Data Input'!A97),\"\",SUM('Data Input'!D97,'Data Input'!E97,'Data Input'!F97,'Data Input'!G97,'Data Input'!H97,'Data Input'!J97,'Data Input'!K97,'Data Input'!O97,'Data Input'!U97,'Data Input'!V97,'Data Input'!W97,'Data Input'!X97,'Data Input'!Z97,'Data Input'!AG97,'Data Input'!AI97,'Data Input'!AJ97,'Data Input'!AK97))","v":""},{"$f":"IF(I93=\"\",\"\",I93/COUNTIF('Data Input'!$C$8:$AZ$8,$I$2))","v":""},{"$f":"IF(ISBLANK('Data Input'!A97),\"\",SUM('Data Input'!AF97,'Data Input'!AV97))","v":""},{"$f":"IF(K93=\"\",\"\",K93/COUNTIF('Data Input'!$C$8:$AZ$8,$K$2))","v":""},{"$f":"IF(ISBLANK('Data Input'!A97),\"\",SUM('Data Input'!C97,'Data Input'!I97,'Data Input'!L97,'Data Input'!M97,'Data Input'!N97,'Data Input'!P97,'Data Input'!S97,'Data Input'!T97,'Data Input'!Y97,'Data Input'!AD97,'Data Input'!AL97,'Data Input'!AM97,'Data Input'!AN97,'Data Input'!AO97,'Data Input'!AP97,'Data Input'!AS97))","v":""},{"$f":"IF(M93=\"\",\"\",M93/COUNTIF('Data Input'!$C$8:$AZ$8,$M$2))","v":""},{"$f":"IF(ISBLANK('Data Input'!A97),\"\",SUM('Data Input'!AY97,'Data Input'!AZ97))","v":""},{"$f":"IF(O93=\"\",\"\",O93/COUNTIF('Data Input'!$C$8:$AZ$8,$O$2))","v":""},{"$f":"IF(ISBLANK('Data Input'!A97),\"\",SUM('Data Input'!AW97))","v":""},{"$f":"IF(Q93=\"\",\"\",Q93/COUNTIF('Data Input'!$C$8:$AZ$8,$Q$2))","v":""},{"$f":"IF(ISBLANK('Data Input'!$A97),\"\",SUM('Data Input'!Q97,'Data Input'!AT97,'Data Input'!AU97))","v":""},{"$f":"IF(S93=\"\",\"\",S93/COUNTIF('Data Input'!$C$8:$AZ$8,$S$2))","v":""},{"$f":"IF(ISBLANK('Data Input'!$A97),\"\",SUM('Data Input'!AX97))","v":""},{"$f":"IF(U93=\"\",\"\",U93/COUNTIF('Data Input'!$C$8:$AZ$8,$U$2))","v":""}]
[{"$f":"IF('Data Input'!A98=0,\"\",'Data Input'!A98)","v":""},{"$f":"IF(ISBLANK('Data Input'!A98),\"\",COUNTIF('Data Input'!C98:AZ98,\"\"))","v":""},{"$f":"IF(ISBLANK('Data Input'!A98),\"\",COUNTIF('Data Input'!C98:AZ98,\"0\"))","v":""},{"$f":"IF(ISBLANK('Data Input'!A98),\"\",SUM(B94,C94))","v":""},{"$f":"IF(ISBLANK('Data Input'!A98),\"\",SUM('Data Input'!C98:AZ98))","v":""},{"$f":"IF(E94=\"\",\"\",E94/(COUNTA('Data Input'!$C$8:$AZ$8)))","v":""},{"$f":"IF(ISBLANK('Data Input'!A98),\"\",SUM('Data Input'!R98,'Data Input'!AA98,'Data Input'!AB98,'Data Input'!AC98,'Data Input'!AE98,'Data Input'!AH98,'Data Input'!AQ98,'Data Input'!AR98))","v":""},{"$f":"IF(G94=\"\",\"\",G94/COUNTIF('Data Input'!$C$8:$AZ$8,$G$2))","v":""},{"$f":"IF(ISBLANK('Data Input'!A98),\"\",SUM('Data Input'!D98,'Data Input'!E98,'Data Input'!F98,'Data Input'!G98,'Data Input'!H98,'Data Input'!J98,'Data Input'!K98,'Data Input'!O98,'Data Input'!U98,'Data Input'!V98,'Data Input'!W98,'Data Input'!X98,'Data Input'!Z98,'Data Input'!AG98,'Data Input'!AI98,'Data Input'!AJ98,'Data Input'!AK98))","v":""},{"$f":"IF(I94=\"\",\"\",I94/COUNTIF('Data Input'!$C$8:$AZ$8,$I$2))","v":""},{"$f":"IF(ISBLANK('Data Input'!A98),\"\",SUM('Data Input'!AF98,'Data Input'!AV98))","v":""},{"$f":"IF(K94=\"\",\"\",K94/COUNTIF('Data Input'!$C$8:$AZ$8,$K$2))","v":""},{"$f":"IF(ISBLANK('Data Input'!A98),\"\",SUM('Data Input'!C98,'Data Input'!I98,'Data Input'!L98,'Data Input'!M98,'Data Input'!N98,'Data Input'!P98,'Data Input'!S98,'Data Input'!T98,'Data Input'!Y98,'Data Input'!AD98,'Data Input'!AL98,'Data Input'!AM98,'Data Input'!AN98,'Data Input'!AO98,'Data Input'!AP98,'Data Input'!AS98))","v":""},{"$f":"IF(M94=\"\",\"\",M94/COUNTIF('Data Input'!$C$8:$AZ$8,$M$2))","v":""},{"$f":"IF(ISBLANK('Data Input'!A98),\"\",SUM('Data Input'!AY98,'Data Input'!AZ98))","v":""},{"$f":"IF(O94=\"\",\"\",O94/COUNTIF('Data Input'!$C$8:$AZ$8,$O$2))","v":""},{"$f":"IF(ISBLANK('Data Input'!A98),\"\",SUM('Data Input'!AW98))","v":""},{"$f":"IF(Q94=\"\",\"\",Q94/COUNTIF('Data Input'!$C$8:$AZ$8,$Q$2))","v":""},{"$f":"IF(ISBLANK('Data Input'!$A98),\"\",SUM('Data Input'!Q98,'Data Input'!AT98,'Data Input'!AU98))","v":""},{"$f":"IF(S94=\"\",\"\",S94/COUNTIF('Data Input'!$C$8:$AZ$8,$S$2))","v":""},{"$f":"IF(ISBLANK('Data Input'!$A98),\"\",SUM('Data Input'!AX98))","v":""},{"$f":"IF(U94=\"\",\"\",U94/COUNTIF('Data Input'!$C$8:$AZ$8,$U$2))","v":""}]
[{"$f":"IF('Data Input'!A99=0,\"\",'Data Input'!A99)","v":""},{"$f":"IF(ISBLANK('Data Input'!A99),\"\",COUNTIF('Data Input'!C99:AZ99,\"\"))","v":""},{"$f":"IF(ISBLANK('Data Input'!A99),\"\",COUNTIF('Data Input'!C99:AZ99,\"0\"))","v":""},{"$f":"IF(ISBLANK('Data Input'!A99),\"\",SUM(B95,C95))","v":""},{"$f":"IF(ISBLANK('Data Input'!A99),\"\",SUM('Data Input'!C99:AZ99))","v":""},{"$f":"IF(E95=\"\",\"\",E95/(COUNTA('Data Input'!$C$8:$AZ$8)))","v":""},{"$f":"IF(ISBLANK('Data Input'!A99),\"\",SUM('Data Input'!R99,'Data Input'!AA99,'Data Input'!AB99,'Data Input'!AC99,'Data Input'!AE99,'Data Input'!AH99,'Data Input'!AQ99,'Data Input'!AR99))","v":""},{"$f":"IF(G95=\"\",\"\",G95/COUNTIF('Data Input'!$C$8:$AZ$8,$G$2))","v":""},{"$f":"IF(ISBLANK('Data Input'!A99),\"\",SUM('Data Input'!D99,'Data Input'!E99,'Data Input'!F99,'Data Input'!G99,'Data Input'!H99,'Data Input'!J99,'Data Input'!K99,'Data Input'!O99,'Data Input'!U99,'Data Input'!V99,'Data Input'!W99,'Data Input'!X99,'Data Input'!Z99,'Data Input'!AG99,'Data Input'!AI99,'Data Input'!AJ99,'Data Input'!AK99))","v":""},{"$f":"IF(I95=\"\",\"\",I95/COUNTIF('Data Input'!$C$8:$AZ$8,$I$2))","v":""},{"$f":"IF(ISBLANK('Data Input'!A99),\"\",SUM('Data Input'!AF99,'Data Input'!AV99))","v":""},{"$f":"IF(K95=\"\",\"\",K95/COUNTIF('Data Input'!$C$8:$AZ$8,$K$2))","v":""},{"$f":"IF(ISBLANK('Data Input'!A99),\"\",SUM('Data Input'!C99,'Data Input'!I99,'Data Input'!L99,'Data Input'!M99,'Data Input'!N99,'Data Input'!P99,'Data Input'!S99,'Data Input'!T99,'Data Input'!Y99,'Data Input'!AD99,'Data Input'!AL99,'Data Input'!AM99,'Data Input'!AN99,'Data Input'!AO99,'Data Input'!AP99,'Data Input'!AS99))","v":""},{"$f":"IF(M95=\"\",\"\",M95/COUNTIF('Data Input'!$C$8:$AZ$8,$M$2))","v":""},{"$f":"IF(ISBLANK('Data Input'!A99),\"\",SUM('Data Input'!AY99,'Data Input'!AZ99))","v":""},{"$f":"IF(O95=\"\",\"\",O95/COUNTIF('Data Input'!$C$8:$AZ$8,$O$2))","v":""},{"$f":"IF(ISBLANK('Data Input'!A99),\"\",SUM('Data Input'!AW99))","v":""},{"$f":"IF(Q95=\"\",\"\",Q95/COUNTIF('Data Input'!$C$8:$AZ$8,$Q$2))","v":""},{"$f":"IF(ISBLANK('Data Input'!$A99),\"\",SUM('Data Input'!Q99,'Data Input'!AT99,'Data Input'!AU99))","v":""},{"$f":"IF(S95=\"\",\"\",S95/COUNTIF('Data Input'!$C$8:$AZ$8,$S$2))","v":""},{"$f":"IF(ISBLANK('Data Input'!$A99),\"\",SUM('Data Input'!AX99))","v":""},{"$f":"IF(U95=\"\",\"\",U95/COUNTIF('Data Input'!$C$8:$AZ$8,$U$2))","v":""}]
[{"$f":"IF('Data Input'!A100=0,\"\",'Data Input'!A100)","v":""},{"$f":"IF(ISBLANK('Data Input'!A100),\"\",COUNTIF('Data Input'!C100:AZ100,\"\"))","v":""},{"$f":"IF(ISBLANK('Data Input'!A100),\"\",COUNTIF('Data Input'!C100:AZ100,\"0\"))","v":""},{"$f":"IF(ISBLANK('Data Input'!A100),\"\",SUM(B96,C96))","v":""},{"$f":"IF(ISBLANK('Data Input'!A100),\"\",SUM('Data Input'!C100:AZ100))","v":""},{"$f":"IF(E96=\"\",\"\",E96/(COUNTA('Data Input'!$C$8:$AZ$8)))","v":""},{"$f":"IF(ISBLANK('Data Input'!A100),\"\",SUM('Data Input'!R100,'Data Input'!AA100,'Data Input'!AB100,'Data Input'!AC100,'Data Input'!AE100,'Data Input'!AH100,'Data Input'!AQ100,'Data Input'!AR100))","v":""},{"$f":"IF(G96=\"\",\"\",G96/COUNTIF('Data Input'!$C$8:$AZ$8,$G$2))","v":""},{"$f":"IF(ISBLANK('Data Input'!A100),\"\",SUM('Data Input'!D100,'Data Input'!E100,'Data Input'!F100,'Data Input'!G100,'Data Input'!H100,'Data Input'!J100,'Data Input'!K100,'Data Input'!O100,'Data Input'!U100,'Data Input'!V100,'Data Input'!W100,'Data Input'!X100,'Data Input'!Z100,'Data Input'!AG100,'Data Input'!AI100,'Data Input'!AJ100,'Data Input'!AK100))","v":""},{"$f":"IF(I96=\"\",\"\",I96/COUNTIF('Data Input'!$C$8:$AZ$8,$I$2))","v":""},{"$f":"IF(ISBLANK('Data Input'!A100),\"\",SUM('Data Input'!AF100,'Data Input'!AV100))","v":""},{"$f":"IF(K96=\"\",\"\",K96/COUNTIF('Data Input'!$C$8:$AZ$8,$K$2))","v":""},{"$f":"IF(ISBLANK('Data Input'!A100),\"\",SUM('Data Input'!C100,'Data Input'!I100,'Data Input'!L100,'Data Input'!M100,'Data Input'!N100,'Data Input'!P100,'Data Input'!S100,'Data Input'!T100,'Data Input'!Y100,'Data Input'!AD100,'Data Input'!AL100,'Data Input'!AM100,'Data Input'!AN100,'Data Input'!AO100,'Data Input'!AP100,'Data Input'!AS100))","v":""},{"$f":"IF(M96=\"\",\"\",M96/COUNTIF('Data Input'!$C$8:$AZ$8,$M$2))","v":""},{"$f":"IF(ISBLANK('Data Input'!A100),\"\",SUM('Data Input'!AY100,'Data Input'!AZ100))","v":""},{"$f":"IF(O96=\"\",\"\",O96/COUNTIF('Data Input'!$C$8:$AZ$8,$O$2))","v":""},{"$f":"IF(ISBLANK('Data Input'!A100),\"\",SUM('Data Input'!AW100))","v":""},{"$f":"IF(Q96=\"\",\"\",Q96/COUNTIF('Data Input'!$C$8:$AZ$8,$Q$2))","v":""},{"$f":"IF(ISBLANK('Data Input'!$A100),\"\",SUM('Data Input'!Q100,'Data Input'!AT100,'Data Input'!AU100))","v":""},{"$f":"IF(S96=\"\",\"\",S96/COUNTIF('Data Input'!$C$8:$AZ$8,$S$2))","v":""},{"$f":"IF(ISBLANK('Data Input'!$A100),\"\",SUM('Data Input'!AX100))","v":""},{"$f":"IF(U96=\"\",\"\",U96/COUNTIF('Data Input'!$C$8:$AZ$8,$U$2))","v":""}]
[{"$f":"IF('Data Input'!A101=0,\"\",'Data Input'!A101)","v":""},{"$f":"IF(ISBLANK('Data Input'!A101),\"\",COUNTIF('Data Input'!C101:AZ101,\"\"))","v":""},{"$f":"IF(ISBLANK('Data Input'!A101),\"\",COUNTIF('Data Input'!C101:AZ101,\"0\"))","v":""},{"$f":"IF(ISBLANK('Data Input'!A101),\"\",SUM(B97,C97))","v":""},{"$f":"IF(ISBLANK('Data Input'!A101),\"\",SUM('Data Input'!C101:AZ101))","v":""},{"$f":"IF(E97=\"\",\"\",E97/(COUNTA('Data Input'!$C$8:$AZ$8)))","v":""},{"$f":"IF(ISBLANK('Data Input'!A101),\"\",SUM('Data Input'!R101,'Data Input'!AA101,'Data Input'!AB101,'Data Input'!AC101,'Data Input'!AE101,'Data Input'!AH101,'Data Input'!AQ101,'Data Input'!AR101))","v":""},{"$f":"IF(G97=\"\",\"\",G97/COUNTIF('Data Input'!$C$8:$AZ$8,$G$2))","v":""},{"$f":"IF(ISBLANK('Data Input'!A101),\"\",SUM('Data Input'!D101,'Data Input'!E101,'Data Input'!F101,'Data Input'!G101,'Data Input'!H101,'Data Input'!J101,'Data Input'!K101,'Data Input'!O101,'Data Input'!U101,'Data Input'!V101,'Data Input'!W101,'Data Input'!X101,'Data Input'!Z101,'Data Input'!AG101,'Data Input'!AI101,'Data Input'!AJ101,'Data Input'!AK101))","v":""},{"$f":"IF(I97=\"\",\"\",I97/COUNTIF('Data Input'!$C$8:$AZ$8,$I$2))","v":""},{"$f":"IF(ISBLANK('Data Input'!A101),\"\",SUM('Data Input'!AF101,'Data Input'!AV101))","v":""},{"$f":"IF(K97=\"\",\"\",K97/COUNTIF('Data Input'!$C$8:$AZ$8,$K$2))","v":""},{"$f":"IF(ISBLANK('Data Input'!A101),\"\",SUM('Data Input'!C101,'Data Input'!I101,'Data Input'!L101,'Data Input'!M101,'Data Input'!N101,'Data Input'!P101,'Data Input'!S101,'Data Input'!T101,'Data Input'!Y101,'Data Input'!AD101,'Data Input'!AL101,'Data Input'!AM101,'Data Input'!AN101,'Data Input'!AO101,'Data Input'!AP101,'Data Input'!AS101))","v":""},{"$f":"IF(M97=\"\",\"\",M97/COUNTIF('Data Input'!$C$8:$AZ$8,$M$2))","v":""},{"$f":"IF(ISBLANK('Data Input'!A101),\"\",SUM('Data Input'!AY101,'Data Input'!AZ101))","v":""},{"$f":"IF(O97=\"\",\"\",O97/COUNTIF('Data Input'!$C$8:$AZ$8,$O$2))","v":""},{"$f":"IF(ISBLANK('Data Input'!A101),\"\",SUM('Data Input'!AW101))","v":""},{"$f":"IF(Q97=\"\",\"\",Q97/COUNTIF('Data Input'!$C$8:$AZ$8,$Q$2))","v":""},{"$f":"IF(ISBLANK('Data Input'!$A101),\"\",SUM('Data Input'!Q101,'Data Input'!AT101,'Data Input'!AU101))","v":""},{"$f":"IF(S97=\"\",\"\",S97/COUNTIF('Data Input'!$C$8:$AZ$8,$S$2))","v":""},{"$f":"IF(ISBLANK('Data Input'!$A101),\"\",SUM('Data Input'!AX101))","v":""},{"$f":"IF(U97=\"\",\"\",U97/COUNTIF('Data Input'!$C$8:$AZ$8,$U$2))","v":""}]
[{"$f":"IF('Data Input'!A102=0,\"\",'Data Input'!A102)","v":""},{"$f":"IF(ISBLANK('Data Input'!A102),\"\",COUNTIF('Data Input'!C102:AZ102,\"\"))","v":""},{"$f":"IF(ISBLANK('Data Input'!A102),\"\",COUNTIF('Data Input'!C102:AZ102,\"0\"))","v":""},{"$f":"IF(ISBLANK('Data Input'!A102),\"\",SUM(B98,C98))","v":""},{"$f":"IF(ISBLANK('Data Input'!A102),\"\",SUM('Data Input'!C102:AZ102))","v":""},{"$f":"IF(E98=\"\",\"\",E98/(COUNTA('Data Input'!$C$8:$AZ$8)))","v":""},{"$f":"IF(ISBLANK('Data Input'!A102),\"\",SUM('Data Input'!R102,'Data Input'!AA102,'Data Input'!AB102,'Data Input'!AC102,'Data Input'!AE102,'Data Input'!AH102,'Data Input'!AQ102,'Data Input'!AR102))","v":""},{"$f":"IF(G98=\"\",\"\",G98/COUNTIF('Data Input'!$C$8:$AZ$8,$G$2))","v":""},{"$f":"IF(ISBLANK('Data Input'!A102),\"\",SUM('Data Input'!D102,'Data Input'!E102,'Data Input'!F102,'Data Input'!G102,'Data Input'!H102,'Data Input'!J102,'Data Input'!K102,'Data Input'!O102,'Data Input'!U102,'Data Input'!V102,'Data Input'!W102,'Data Input'!X102,'Data Input'!Z102,'Data Input'!AG102,'Data Input'!AI102,'Data Input'!AJ102,'Data Input'!AK102))","v":""},{"$f":"IF(I98=\"\",\"\",I98/COUNTIF('Data Input'!$C$8:$AZ$8,$I$2))","v":""},{"$f":"IF(ISBLANK('Data Input'!A102),\"\",SUM('Data Input'!AF102,'Data Input'!AV102))","v":""},{"$f":"IF(K98=\"\",\"\",K98/COUNTIF('Data Input'!$C$8:$AZ$8,$K$2))","v":""},{"$f":"IF(ISBLANK('Data Input'!A102),\"\",SUM('Data Input'!C102,'Data Input'!I102,'Data Input'!L102,'Data Input'!M102,'Data Input'!N102,'Data Input'!P102,'Data Input'!S102,'Data Input'!T102,'Data Input'!Y102,'Data Input'!AD102,'Data Input'!AL102,'Data Input'!AM102,'Data Input'!AN102,'Data Input'!AO102,'Data Input'!AP102,'Data Input'!AS102))","v":""},{"$f":"IF(M98=\"\",\"\",M98/COUNTIF('Data Input'!$C$8:$AZ$8,$M$2))","v":""},{"$f":"IF(ISBLANK('Data Input'!A102),\"\",SUM('Data Input'!AY102,'Data Input'!AZ102))","v":""},{"$f":"IF(O98=\"\",\"\",O98/COUNTIF('Data Input'!$C$8:$AZ$8,$O$2))","v":""},{"$f":"IF(ISBLANK('Data Input'!A102),\"\",SUM('Data Input'!AW102))","v":""},{"$f":"IF(Q98=\"\",\"\",Q98/COUNTIF('Data Input'!$C$8:$AZ$8,$Q$2))","v":""},{"$f":"IF(ISBLANK('Data Input'!$A102),\"\",SUM('Data Input'!Q102,'Data Input'!AT102,'Data Input'!AU102))","v":""},{"$f":"IF(S98=\"\",\"\",S98/COUNTIF('Data Input'!$C$8:$AZ$8,$S$2))","v":""},{"$f":"IF(ISBLANK('Data Input'!$A102),\"\",SUM('Data Input'!AX102))","v":""},{"$f":"IF(U98=\"\",\"\",U98/COUNTIF('Data Input'!$C$8:$AZ$8,$U$2))","v":""}]
[{"$f":"IF('Data Input'!A103=0,\"\",'Data Input'!A103)","v":""},{"$f":"IF(ISBLANK('Data Input'!A103),\"\",COUNTIF('Data Input'!C103:AZ103,\"\"))","v":""},{"$f":"IF(ISBLANK('Data Input'!A103),\"\",COUNTIF('Data Input'!C103:AZ103,\"0\"))","v":""},{"$f":"IF(ISBLANK('Data Input'!A103),\"\",SUM(B99,C99))","v":""},{"$f":"IF(ISBLANK('Data Input'!A103),\"\",SUM('Data Input'!C103:AZ103))","v":""},{"$f":"IF(E99=\"\",\"\",E99/(COUNTA('Data Input'!$C$8:$AZ$8)))","v":""},{"$f":"IF(ISBLANK('Data Input'!A103),\"\",SUM('Data Input'!R103,'Data Input'!AA103,'Data Input'!AB103,'Data Input'!AC103,'Data Input'!AE103,'Data Input'!AH103,'Data Input'!AQ103,'Data Input'!AR103))","v":""},{"$f":"IF(G99=\"\",\"\",G99/COUNTIF('Data Input'!$C$8:$AZ$8,$G$2))","v":""},{"$f":"IF(ISBLANK('Data Input'!A103),\"\",SUM('Data Input'!D103,'Data Input'!E103,'Data Input'!F103,'Data Input'!G103,'Data Input'!H103,'Data Input'!J103,'Data Input'!K103,'Data Input'!O103,'Data Input'!U103,'Data Input'!V103,'Data Input'!W103,'Data Input'!X103,'Data Input'!Z103,'Data Input'!AG103,'Data Input'!AI103,'Data Input'!AJ103,'Data Input'!AK103))","v":""},{"$f":"IF(I99=\"\",\"\",I99/COUNTIF('Data Input'!$C$8:$AZ$8,$I$2))","v":""},{"$f":"IF(ISBLANK('Data Input'!A103),\"\",SUM('Data Input'!AF103,'Data Input'!AV103))","v":""},{"$f":"IF(K99=\"\",\"\",K99/COUNTIF('Data Input'!$C$8:$AZ$8,$K$2))","v":""},{"$f":"IF(ISBLANK('Data Input'!A103),\"\",SUM('Data Input'!C103,'Data Input'!I103,'Data Input'!L103,'Data Input'!M103,'Data Input'!N103,'Data Input'!P103,'Data Input'!S103,'Data Input'!T103,'Data Input'!Y103,'Data Input'!AD103,'Data Input'!AL103,'Data Input'!AM103,'Data Input'!AN103,'Data Input'!AO103,'Data Input'!AP103,'Data Input'!AS103))","v":""},{"$f":"IF(M99=\"\",\"\",M99/COUNTIF('Data Input'!$C$8:$AZ$8,$M$2))","v":""},{"$f":"IF(ISBLANK('Data Input'!A103),\"\",SUM('Data Input'!AY103,'Data Input'!AZ103))","v":""},{"$f":"IF(O99=\"\",\"\",O99/COUNTIF('Data Input'!$C$8:$AZ$8,$O$2))","v":""},{"$f":"IF(ISBLANK('Data Input'!A103),\"\",SUM('Data Input'!AW103))","v":""},{"$f":"IF(Q99=\"\",\"\",Q99/COUNTIF('Data Input'!$C$8:$AZ$8,$Q$2))","v":""},{"$f":"IF(ISBLANK('Data Input'!$A103),\"\",SUM('Data Input'!Q103,'Data Input'!AT103,'Data Input'!AU103))","v":""},{"$f":"IF(S99=\"\",\"\",S99/COUNTIF('Data Input'!$C$8:$AZ$8,$S$2))","v":""},{"$f":"IF(ISBLANK('Data Input'!$A103),\"\",SUM('Data Input'!AX103))","v":""},{"$f":"IF(U99=\"\",\"\",U99/COUNTIF('Data Input'!$C$8:$AZ$8,$U$2))","v":""}]
[{"$f":"IF('Data Input'!A104=0,\"\",'Data Input'!A104)","v":""},{"$f":"IF(ISBLANK('Data Input'!A104),\"\",COUNTIF('Data Input'!C104:AZ104,\"\"))","v":""},{"$f":"IF(ISBLANK('Data Input'!A104),\"\",COUNTIF('Data Input'!C104:AZ104,\"0\"))","v":""},{"$f":"IF(ISBLANK('Data Input'!A104),\"\",SUM(B100,C100))","v":""},{"$f":"IF(ISBLANK('Data Input'!A104),\"\",SUM('Data Input'!C104:AZ104))","v":""},{"$f":"IF(E100=\"\",\"\",E100/(COUNTA('Data Input'!$C$8:$AZ$8)))","v":""},{"$f":"IF(ISBLANK('Data Input'!A104),\"\",SUM('Data Input'!R104,'Data Input'!AA104,'Data Input'!AB104,'Data Input'!AC104,'Data Input'!AE104,'Data Input'!AH104,'Data Input'!AQ104,'Data Input'!AR104))","v":""},{"$f":"IF(G100=\"\",\"\",G100/COUNTIF('Data Input'!$C$8:$AZ$8,$G$2))","v":""},{"$f":"IF(ISBLANK('Data Input'!A104),\"\",SUM('Data Input'!D104,'Data Input'!E104,'Data Input'!F104,'Data Input'!G104,'Data Input'!H104,'Data Input'!J104,'Data Input'!K104,'Data Input'!O104,'Data Input'!U104,'Data Input'!V104,'Data Input'!W104,'Data Input'!X104,'Data Input'!Z104,'Data Input'!AG104,'Data Input'!AI104,'Data Input'!AJ104,'Data Input'!AK104))","v":""},{"$f":"IF(I100=\"\",\"\",I100/COUNTIF('Data Input'!$C$8:$AZ$8,$I$2))","v":""},{"$f":"IF(ISBLANK('Data Input'!A104),\"\",SUM('Data Input'!AF104,'Data Input'!AV104))","v":""},{"$f":"IF(K100=\"\",\"\",K100/COUNTIF('Data Input'!$C$8:$AZ$8,$K$2))","v":""},{"$f":"IF(ISBLANK('Data Input'!A104),\"\",SUM('Data Input'!C104,'Data Input'!I104,'Data Input'!L104,'Data Input'!M104,'Data Input'!N104,'Data Input'!P104,'Data Input'!S104,'Data Input'!T104,'Data Input'!Y104,'Data Input'!AD104,'Data Input'!AL104,'Data Input'!AM104,'Data Input'!AN104,'Data Input'!AO104,'Data Input'!AP104,'Data Input'!AS104))","v":""},{"$f":"IF(M100=\"\",\"\",M100/COUNTIF('Data Input'!$C$8:$AZ$8,$M$2))","v":""},{"$f":"IF(ISBLANK('Data Input'!A104),\"\",SUM('Data Input'!AY104,'Data Input'!AZ104))","v":""},{"$f":"IF(O100=\"\",\"\",O100/COUNTIF('Data Input'!$C$8:$AZ$8,$O$2))","v":""},{"$f":"IF(ISBLANK('Data Input'!A104),\"\",SUM('Data Input'!AW104))","v":""},{"$f":"IF(Q100=\"\",\"\",Q100/COUNTIF('Data Input'!$C$8:$AZ$8,$Q$2))","v":""},{"$f":"IF(ISBLANK('Data Input'!$A104),\"\",SUM('Data Input'!Q104,'Data Input'!AT104,'Data Input'!AU104))","v":""},{"$f":"IF(S100=\"\",\"\",S100/COUNTIF('Data Input'!$C$8:$AZ$8,$S$2))","v":""},{"$f":"IF(ISBLANK('Data Input'!$A104),\"\",SUM('Data Input'!AX104))","v":""},{"$f":"IF(U100=\"\",\"\",U100/COUNTIF('Data Input'!$C$8:$AZ$8,$U$2))","v":""}]
[{"$f":"IF('Data Input'!A105=0,\"\",'Data Input'!A105)","v":""},{"$f":"IF(ISBLANK('Data Input'!A105),\"\",COUNTIF('Data Input'!C105:AZ105,\"\"))","v":""},{"$f":"IF(ISBLANK('Data Input'!A105),\"\",COUNTIF('Data Input'!C105:AZ105,\"0\"))","v":""},{"$f":"IF(ISBLANK('Data Input'!A105),\"\",SUM(B101,C101))","v":""},{"$f":"IF(ISBLANK('Data Input'!A105),\"\",SUM('Data Input'!C105:AZ105))","v":""},{"$f":"IF(E101=\"\",\"\",E101/(COUNTA('Data Input'!$C$8:$AZ$8)))","v":""},{"$f":"IF(ISBLANK('Data Input'!A105),\"\",SUM('Data Input'!R105,'Data Input'!AA105,'Data Input'!AB105,'Data Input'!AC105,'Data Input'!AE105,'Data Input'!AH105,'Data Input'!AQ105,'Data Input'!AR105))","v":""},{"$f":"IF(G101=\"\",\"\",G101/COUNTIF('Data Input'!$C$8:$AZ$8,$G$2))","v":""},{"$f":"IF(ISBLANK('Data Input'!A105),\"\",SUM('Data Input'!D105,'Data Input'!E105,'Data Input'!F105,'Data Input'!G105,'Data Input'!H105,'Data Input'!J105,'Data Input'!K105,'Data Input'!O105,'Data Input'!U105,'Data Input'!V105,'Data Input'!W105,'Data Input'!X105,'Data Input'!Z105,'Data Input'!AG105,'Data Input'!AI105,'Data Input'!AJ105,'Data Input'!AK105))","v":""},{"$f":"IF(I101=\"\",\"\",I101/COUNTIF('Data Input'!$C$8:$AZ$8,$I$2))","v":""},{"$f":"IF(ISBLANK('Data Input'!A105),\"\",SUM('Data Input'!AF105,'Data Input'!AV105))","v":""},{"$f":"IF(K101=\"\",\"\",K101/COUNTIF('Data Input'!$C$8:$AZ$8,$K$2))","v":""},{"$f":"IF(ISBLANK('Data Input'!A105),\"\",SUM('Data Input'!C105,'Data Input'!I105,'Data Input'!L105,'Data Input'!M105,'Data Input'!N105,'Data Input'!P105,'Data Input'!S105,'Data Input'!T105,'Data Input'!Y105,'Data Input'!AD105,'Data Input'!AL105,'Data Input'!AM105,'Data Input'!AN105,'Data Input'!AO105,'Data Input'!AP105,'Data Input'!AS105))","v":""},{"$f":"IF(M101=\"\",\"\",M101/COUNTIF('Data Input'!$C$8:$AZ$8,$M$2))","v":""},{"$f":"IF(ISBLANK('Data Input'!A105),\"\",SUM('Data Input'!AY105,'Data Input'!AZ105))","v":""},{"$f":"IF(O101=\"\",\"\",O101/COUNTIF('Data Input'!$C$8:$AZ$8,$O$2))","v":""},{"$f":"IF(ISBLANK('Data Input'!A105),\"\",SUM('Data Input'!AW105))","v":""},{"$f":"IF(Q101=\"\",\"\",Q101/COUNTIF('Data Input'!$C$8:$AZ$8,$Q$2))","v":""},{"$f":"IF(ISBLANK('Data Input'!$A105),\"\",SUM('Data Input'!Q105,'Data Input'!AT105,'Data Input'!AU105))","v":""},{"$f":"IF(S101=\"\",\"\",S101/COUNTIF('Data Input'!$C$8:$AZ$8,$S$2))","v":""},{"$f":"IF(ISBLANK('Data Input'!$A105),\"\",SUM('Data Input'!AX105))","v":""},{"$f":"IF(U101=\"\",\"\",U101/COUNTIF('Data Input'!$C$8:$AZ$8,$U$2))","v":""}]
[{"$f":"IF('Data Input'!A106=0,\"\",'Data Input'!A106)","v":""},{"$f":"IF(ISBLANK('Data Input'!A106),\"\",COUNTIF('Data Input'!C106:AZ106,\"\"))","v":""},{"$f":"IF(ISBLANK('Data Input'!A106),\"\",COUNTIF('Data Input'!C106:AZ106,\"0\"))","v":""},{"$f":"IF(ISBLANK('Data Input'!A106),\"\",SUM(B102,C102))","v":""},{"$f":"IF(ISBLANK('Data Input'!A106),\"\",SUM('Data Input'!C106:AZ106))","v":""},{"$f":"IF(E102=\"\",\"\",E102/(COUNTA('Data Input'!$C$8:$AZ$8)))","v":""},{"$f":"IF(ISBLANK('Data Input'!A106),\"\",SUM('Data Input'!R106,'Data Input'!AA106,'Data Input'!AB106,'Data Input'!AC106,'Data Input'!AE106,'Data Input'!AH106,'Data Input'!AQ106,'Data Input'!AR106))","v":""},{"$f":"IF(G102=\"\",\"\",G102/COUNTIF('Data Input'!$C$8:$AZ$8,$G$2))","v":""},{"$f":"IF(ISBLANK('Data Input'!A106),\"\",SUM('Data Input'!D106,'Data Input'!E106,'Data Input'!F106,'Data Input'!G106,'Data Input'!H106,'Data Input'!J106,'Data Input'!K106,'Data Input'!O106,'Data Input'!U106,'Data Input'!V106,'Data Input'!W106,'Data Input'!X106,'Data Input'!Z106,'Data Input'!AG106,'Data Input'!AI106,'Data Input'!AJ106,'Data Input'!AK106))","v":""},{"$f":"IF(I102=\"\",\"\",I102/COUNTIF('Data Input'!$C$8:$AZ$8,$I$2))","v":""},{"$f":"IF(ISBLANK('Data Input'!A106),\"\",SUM('Data Input'!AF106,'Data Input'!AV106))","v":""},{"$f":"IF(K102=\"\",\"\",K102/COUNTIF('Data Input'!$C$8:$AZ$8,$K$2))","v":""},{"$f":"IF(ISBLANK('Data Input'!A106),\"\",SUM('Data Input'!C106,'Data Input'!I106,'Data Input'!L106,'Data Input'!M106,'Data Input'!N106,'Data Input'!P106,'Data Input'!S106,'Data Input'!T106,'Data Input'!Y106,'Data Input'!AD106,'Data Input'!AL106,'Data Input'!AM106,'Data Input'!AN106,'Data Input'!AO106,'Data Input'!AP106,'Data Input'!AS106))","v":""},{"$f":"IF(M102=\"\",\"\",M102/COUNTIF('Data Input'!$C$8:$AZ$8,$M$2))","v":""},{"$f":"IF(ISBLANK('Data Input'!A106),\"\",SUM('Data Input'!AY106,'Data Input'!AZ106))","v":""},{"$f":"IF(O102=\"\",\"\",O102/COUNTIF('Data Input'!$C$8:$AZ$8,$O$2))","v":""},{"$f":"IF(ISBLANK('Data Input'!A106),\"\",SUM('Data Input'!AW106))","v":""},{"$f":"IF(Q102=\"\",\"\",Q102/COUNTIF('Data Input'!$C$8:$AZ$8,$Q$2))","v":""},{"$f":"IF(ISBLANK('Data Input'!$A106),\"\",SUM('Data Input'!Q106,'Data Input'!AT106,'Data Input'!AU106))","v":""},{"$f":"IF(S102=\"\",\"\",S102/COUNTIF('Data Input'!$C$8:$AZ$8,$S$2))","v":""},{"$f":"IF(ISBLANK('Data Input'!$A106),\"\",SUM('Data Input'!AX106))","v":""},{"$f":"IF(U102=\"\",\"\",U102/COUNTIF('Data Input'!$C$8:$AZ$8,$U$2))","v":""}]
[{"$f":"IF('Data Input'!A107=0,\"\",'Data Input'!A107)","v":""},{"$f":"IF(ISBLANK('Data Input'!A107),\"\",COUNTIF('Data Input'!C107:AZ107,\"\"))","v":""},{"$f":"IF(ISBLANK('Data Input'!A107),\"\",COUNTIF('Data Input'!C107:AZ107,\"0\"))","v":""},{"$f":"IF(ISBLANK('Data Input'!A107),\"\",SUM(B103,C103))","v":""},{"$f":"IF(ISBLANK('Data Input'!A107),\"\",SUM('Data Input'!C107:AZ107))","v":""},{"$f":"IF(E103=\"\",\"\",E103/(COUNTA('Data Input'!$C$8:$AZ$8)))","v":""},{"$f":"IF(ISBLANK('Data Input'!A107),\"\",SUM('Data Input'!R107,'Data Input'!AA107,'Data Input'!AB107,'Data Input'!AC107,'Data Input'!AE107,'Data Input'!AH107,'Data Input'!AQ107,'Data Input'!AR107))","v":""},{"$f":"IF(G103=\"\",\"\",G103/COUNTIF('Data Input'!$C$8:$AZ$8,$G$2))","v":""},{"$f":"IF(ISBLANK('Data Input'!A107),\"\",SUM('Data Input'!D107,'Data Input'!E107,'Data Input'!F107,'Data Input'!G107,'Data Input'!H107,'Data Input'!J107,'Data Input'!K107,'Data Input'!O107,'Data Input'!U107,'Data Input'!V107,'Data Input'!W107,'Data Input'!X107,'Data Input'!Z107,'Data Input'!AG107,'Data Input'!AI107,'Data Input'!AJ107,'Data Input'!AK107))","v":""},{"$f":"IF(I103=\"\",\"\",I103/COUNTIF('Data Input'!$C$8:$AZ$8,$I$2))","v":""},{"$f":"IF(ISBLANK('Data Input'!A107),\"\",SUM('Data Input'!AF107,'Data Input'!AV107))","v":""},{"$f":"IF(K103=\"\",\"\",K103/COUNTIF('Data Input'!$C$8:$AZ$8,$K$2))","v":""},{"$f":"IF(ISBLANK('Data Input'!A107),\"\",SUM('Data Input'!C107,'Data Input'!I107,'Data Input'!L107,'Data Input'!M107,'Data Input'!N107,'Data Input'!P107,'Data Input'!S107,'Data Input'!T107,'Data Input'!Y107,'Data Input'!AD107,'Data Input'!AL107,'Data Input'!AM107,'Data Input'!AN107,'Data Input'!AO107,'Data Input'!AP107,'Data Input'!AS107))","v":""},{"$f":"IF(M103=\"\",\"\",M103/COUNTIF('Data Input'!$C$8:$AZ$8,$M$2))","v":""},{"$f":"IF(ISBLANK('Data Input'!A107),\"\",SUM('Data Input'!AY107,'Data Input'!AZ107))","v":""},{"$f":"IF(O103=\"\",\"\",O103/COUNTIF('Data Input'!$C$8:$AZ$8,$O$2))","v":""},{"$f":"IF(ISBLANK('Data Input'!A107),\"\",SUM('Data Input'!AW107))","v":""},{"$f":"IF(Q103=\"\",\"\",Q103/COUNTIF('Data Input'!$C$8:$AZ$8,$Q$2))","v":""},{"$f":"IF(ISBLANK('Data Input'!$A107),\"\",SUM('Data Input'!Q107,'Data Input'!AT107,'Data Input'!AU107))","v":""},{"$f":"IF(S103=\"\",\"\",S103/COUNTIF('Data Input'!$C$8:$AZ$8,$S$2))","v":""},{"$f":"IF(ISBLANK('Data Input'!$A107),\"\",SUM('Data Input'!AX107))","v":""},{"$f":"IF(U103=\"\",\"\",U103/COUNTIF('Data Input'!$C$8:$AZ$8,$U$2))","v":""}]
[{"$f":"IF('Data Input'!A108=0,\"\",'Data Input'!A108)","v":""},{"$f":"IF(ISBLANK('Data Input'!A108),\"\",COUNTIF('Data Input'!C108:AZ108,\"\"))","v":""},{"$f":"IF(ISBLANK('Data Input'!A108),\"\",COUNTIF('Data Input'!C108:AZ108,\"0\"))","v":""},{"$f":"IF(ISBLANK('Data Input'!A108),\"\",SUM(B104,C104))","v":""},{"$f":"IF(ISBLANK('Data Input'!A108),\"\",SUM('Data Input'!C108:AZ108))","v":""},{"$f":"IF(E104=\"\",\"\",E104/(COUNTA('Data Input'!$C$8:$AZ$8)))","v":""},{"$f":"IF(ISBLANK('Data Input'!A108),\"\",SUM('Data Input'!R108,'Data Input'!AA108,'Data Input'!AB108,'Data Input'!AC108,'Data Input'!AE108,'Data Input'!AH108,'Data Input'!AQ108,'Data Input'!AR108))","v":""},{"$f":"IF(G104=\"\",\"\",G104/COUNTIF('Data Input'!$C$8:$AZ$8,$G$2))","v":""},{"$f":"IF(ISBLANK('Data Input'!A108),\"\",SUM('Data Input'!D108,'Data Input'!E108,'Data Input'!F108,'Data Input'!G108,'Data Input'!H108,'Data Input'!J108,'Data Input'!K108,'Data Input'!O108,'Data Input'!U108,'Data Input'!V108,'Data Input'!W108,'Data Input'!X108,'Data Input'!Z108,'Data Input'!AG108,'Data Input'!AI108,'Data Input'!AJ108,'Data Input'!AK108))","v":""},{"$f":"IF(I104=\"\",\"\",I104/COUNTIF('Data Input'!$C$8:$AZ$8,$I$2))","v":""},{"$f":"IF(ISBLANK('Data Input'!A108),\"\",SUM('Data Input'!AF108,'Data Input'!AV108))","v":""},{"$f":"IF(K104=\"\",\"\",K104/COUNTIF('Data Input'!$C$8:$AZ$8,$K$2))","v":""},{"$f":"IF(ISBLANK('Data Input'!A108),\"\",SUM('Data Input'!C108,'Data Input'!I108,'Data Input'!L108,'Data Input'!M108,'Data Input'!N108,'Data Input'!P108,'Data Input'!S108,'Data Input'!T108,'Data Input'!Y108,'Data Input'!AD108,'Data Input'!AL108,'Data Input'!AM108,'Data Input'!AN108,'Data Input'!AO108,'Data Input'!AP108,'Data Input'!AS108))","v":""},{"$f":"IF(M104=\"\",\"\",M104/COUNTIF('Data Input'!$C$8:$AZ$8,$M$2))","v":""},{"$f":"IF(ISBLANK('Data Input'!A108),\"\",SUM('Data Input'!AY108,'Data Input'!AZ108))","v":""},{"$f":"IF(O104=\"\",\"\",O104/COUNTIF('Data Input'!$C$8:$AZ$8,$O$2))","v":""},{"$f":"IF(ISBLANK('Data Input'!A108),\"\",SUM('Data Input'!AW108))","v":""},{"$f":"IF(Q104=\"\",\"\",Q104/COUNTIF('Data Input'!$C$8:$AZ$8,$Q$2))","v":""},{"$f":"IF(ISBLANK('Data Input'!$A108),\"\",SUM('Data Input'!Q108,'Data Input'!AT108,'Data Input'!AU108))","v":""},{"$f":"IF(S104=\"\",\"\",S104/COUNTIF('Data Input'!$C$8:$AZ$8,$S$2))","v":""},{"$f":"IF(ISBLANK('Data Input'!$A108),\"\",SUM('Data Input'!AX108))","v":""},{"$f":"IF(U104=\"\",\"\",U104/COUNTIF('Data Input'!$C$8:$AZ$8,$U$2))","v":""}]
[{"$f":"IF('Data Input'!A109=0,\"\",'Data Input'!A109)","v":""},{"$f":"IF(ISBLANK('Data Input'!A109),\"\",COUNTIF('Data Input'!C109:AZ109,\"\"))","v":""},{"$f":"IF(ISBLANK('Data Input'!A109),\"\",COUNTIF('Data Input'!C109:AZ109,\"0\"))","v":""},{"$f":"IF(ISBLANK('Data Input'!A109),\"\",SUM(B105,C105))","v":""},{"$f":"IF(ISBLANK('Data Input'!A109),\"\",SUM('Data Input'!C109:AZ109))","v":""},{"$f":"IF(E105=\"\",\"\",E105/(COUNTA('Data Input'!$C$8:$AZ$8)))","v":""},{"$f":"IF(ISBLANK('Data Input'!A109),\"\",SUM('Data Input'!R109,'Data Input'!AA109,'Data Input'!AB109,'Data Input'!AC109,'Data Input'!AE109,'Data Input'!AH109,'Data Input'!AQ109,'Data Input'!AR109))","v":""},{"$f":"IF(G105=\"\",\"\",G105/COUNTIF('Data Input'!$C$8:$AZ$8,$G$2))","v":""},{"$f":"IF(ISBLANK('Data Input'!A109),\"\",SUM('Data Input'!D109,'Data Input'!E109,'Data Input'!F109,'Data Input'!G109,'Data Input'!H109,'Data Input'!J109,'Data Input'!K109,'Data Input'!O109,'Data Input'!U109,'Data Input'!V109,'Data Input'!W109,'Data Input'!X109,'Data Input'!Z109,'Data Input'!AG109,'Data Input'!AI109,'Data Input'!AJ109,'Data Input'!AK109))","v":""},{"$f":"IF(I105=\"\",\"\",I105/COUNTIF('Data Input'!$C$8:$AZ$8,$I$2))","v":""},{"$f":"IF(ISBLANK('Data Input'!A109),\"\",SUM('Data Input'!AF109,'Data Input'!AV109))","v":""},{"$f":"IF(K105=\"\",\"\",K105/COUNTIF('Data Input'!$C$8:$AZ$8,$K$2))","v":""},{"$f":"IF(ISBLANK('Data Input'!A109),\"\",SUM('Data Input'!C109,'Data Input'!I109,'Data Input'!L109,'Data Input'!M109,'Data Input'!N109,'Data Input'!P109,'Data Input'!S109,'Data Input'!T109,'Data Input'!Y109,'Data Input'!AD109,'Data Input'!AL109,'Data Input'!AM109,'Data Input'!AN109,'Data Input'!AO109,'Data Input'!AP109,'Data Input'!AS109))","v":""},{"$f":"IF(M105=\"\",\"\",M105/COUNTIF('Data Input'!$C$8:$AZ$8,$M$2))","v":""},{"$f":"IF(ISBLANK('Data Input'!A109),\"\",SUM('Data Input'!AY109,'Data Input'!AZ109))","v":""},{"$f":"IF(O105=\"\",\"\",O105/COUNTIF('Data Input'!$C$8:$AZ$8,$O$2))","v":""},{"$f":"IF(ISBLANK('Data Input'!A109),\"\",SUM('Data Input'!AW109))","v":""},{"$f":"IF(Q105=\"\",\"\",Q105/COUNTIF('Data Input'!$C$8:$AZ$8,$Q$2))","v":""},{"$f":"IF(ISBLANK('Data Input'!$A109),\"\",SUM('Data Input'!Q109,'Data Input'!AT109,'Data Input'!AU109))","v":""},{"$f":"IF(S105=\"\",\"\",S105/COUNTIF('Data Input'!$C$8:$AZ$8,$S$2))","v":""},{"$f":"IF(ISBLANK('Data Input'!$A109),\"\",SUM('Data Input'!AX109))","v":""},{"$f":"IF(U105=\"\",\"\",U105/COUNTIF('Data Input'!$C$8:$AZ$8,$U$2))","v":""}]
[{"$f":"IF('Data Input'!A110=0,\"\",'Data Input'!A110)","v":""},{"$f":"IF(ISBLANK('Data Input'!A110),\"\",COUNTIF('Data Input'!C110:AZ110,\"\"))","v":""},{"$f":"IF(ISBLANK('Data Input'!A110),\"\",COUNTIF('Data Input'!C110:AZ110,\"0\"))","v":""},{"$f":"IF(ISBLANK('Data Input'!A110),\"\",SUM(B106,C106))","v":""},{"$f":"IF(ISBLANK('Data Input'!A110),\"\",SUM('Data Input'!C110:AZ110))","v":""},{"$f":"IF(E106=\"\",\"\",E106/(COUNTA('Data Input'!$C$8:$AZ$8)))","v":""},{"$f":"IF(ISBLANK('Data Input'!A110),\"\",SUM('Data Input'!R110,'Data Input'!AA110,'Data Input'!AB110,'Data Input'!AC110,'Data Input'!AE110,'Data Input'!AH110,'Data Input'!AQ110,'Data Input'!AR110))","v":""},{"$f":"IF(G106=\"\",\"\",G106/COUNTIF('Data Input'!$C$8:$AZ$8,$G$2))","v":""},{"$f":"IF(ISBLANK('Data Input'!A110),\"\",SUM('Data Input'!D110,'Data Input'!E110,'Data Input'!F110,'Data Input'!G110,'Data Input'!H110,'Data Input'!J110,'Data Input'!K110,'Data Input'!O110,'Data Input'!U110,'Data Input'!V110,'Data Input'!W110,'Data Input'!X110,'Data Input'!Z110,'Data Input'!AG110,'Data Input'!AI110,'Data Input'!AJ110,'Data Input'!AK110))","v":""},{"$f":"IF(I106=\"\",\"\",I106/COUNTIF('Data Input'!$C$8:$AZ$8,$I$2))","v":""},{"$f":"IF(ISBLANK('Data Input'!A110),\"\",SUM('Data Input'!AF110,'Data Input'!AV110))","v":""},{"$f":"IF(K106=\"\",\"\",K106/COUNTIF('Data Input'!$C$8:$AZ$8,$K$2))","v":""},{"$f":"IF(ISBLANK('Data Input'!A110),\"\",SUM('Data Input'!C110,'Data Input'!I110,'Data Input'!L110,'Data Input'!M110,'Data Input'!N110,'Data Input'!P110,'Data Input'!S110,'Data Input'!T110,'Data Input'!Y110,'Data Input'!AD110,'Data Input'!AL110,'Data Input'!AM110,'Data Input'!AN110,'Data Input'!AO110,'Data Input'!AP110,'Data Input'!AS110))","v":""},{"$f":"IF(M106=\"\",\"\",M106/COUNTIF('Data Input'!$C$8:$AZ$8,$M$2))","v":""},{"$f":"IF(ISBLANK('Data Input'!A110),\"\",SUM('Data Input'!AY110,'Data Input'!AZ110))","v":""},{"$f":"IF(O106=\"\",\"\",O106/COUNTIF('Data Input'!$C$8:$AZ$8,$O$2))","v":""},{"$f":"IF(ISBLANK('Data Input'!A110),\"\",SUM('Data Input'!AW110))","v":""},{"$f":"IF(Q106=\"\",\"\",Q106/COUNTIF('Data Input'!$C$8:$AZ$8,$Q$2))","v":""},{"$f":"IF(ISBLANK('Data Input'!$A110),\"\",SUM('Data Input'!Q110,'Data Input'!AT110,'Data Input'!AU110))","v":""},{"$f":"IF(S106=\"\",\"\",S106/COUNTIF('Data Input'!$C$8:$AZ$8,$S$2))","v":""},{"$f":"IF(ISBLANK('Data Input'!$A110),\"\",SUM('Data Input'!AX110))","v":""},{"$f":"IF(U106=\"\",\"\",U106/COUNTIF('Data Input'!$C$8:$AZ$8,$U$2))","v":""}]
[{"$f":"IF('Data Input'!A111=0,\"\",'Data Input'!A111)","v":""},{"$f":"IF(ISBLANK('Data Input'!A111),\"\",COUNTIF('Data Input'!C111:AZ111,\"\"))","v":""},{"$f":"IF(ISBLANK('Data Input'!A111),\"\",COUNTIF('Data Input'!C111:AZ111,\"0\"))","v":""},{"$f":"IF(ISBLANK('Data Input'!A111),\"\",SUM(B107,C107))","v":""},{"$f":"IF(ISBLANK('Data Input'!A111),\"\",SUM('Data Input'!C111:AZ111))","v":""},{"$f":"IF(E107=\"\",\"\",E107/(COUNTA('Data Input'!$C$8:$AZ$8)))","v":""},{"$f":"IF(ISBLANK('Data Input'!A111),\"\",SUM('Data Input'!R111,'Data Input'!AA111,'Data Input'!AB111,'Data Input'!AC111,'Data Input'!AE111,'Data Input'!AH111,'Data Input'!AQ111,'Data Input'!AR111))","v":""},{"$f":"IF(G107=\"\",\"\",G107/COUNTIF('Data Input'!$C$8:$AZ$8,$G$2))","v":""},{"$f":"IF(ISBLANK('Data Input'!A111),\"\",SUM('Data Input'!D111,'Data Input'!E111,'Data Input'!F111,'Data Input'!G111,'Data Input'!H111,'Data Input'!J111,'Data Input'!K111,'Data Input'!O111,'Data Input'!U111,'Data Input'!V111,'Data Input'!W111,'Data Input'!X111,'Data Input'!Z111,'Data Input'!AG111,'Data Input'!AI111,'Data Input'!AJ111,'Data Input'!AK111))","v":""},{"$f":"IF(I107=\"\",\"\",I107/COUNTIF('Data Input'!$C$8:$AZ$8,$I$2))","v":""},{"$f":"IF(ISBLANK('Data Input'!A111),\"\",SUM('Data Input'!AF111,'Data Input'!AV111))","v":""},{"$f":"IF(K107=\"\",\"\",K107/COUNTIF('Data Input'!$C$8:$AZ$8,$K$2))","v":""},{"$f":"IF(ISBLANK('Data Input'!A111),\"\",SUM('Data Input'!C111,'Data Input'!I111,'Data Input'!L111,'Data Input'!M111,'Data Input'!N111,'Data Input'!P111,'Data Input'!S111,'Data Input'!T111,'Data Input'!Y111,'Data Input'!AD111,'Data Input'!AL111,'Data Input'!AM111,'Data Input'!AN111,'Data Input'!AO111,'Data Input'!AP111,'Data Input'!AS111))","v":""},{"$f":"IF(M107=\"\",\"\",M107/COUNTIF('Data Input'!$C$8:$AZ$8,$M$2))","v":""},{"$f":"IF(ISBLANK('Data Input'!A111),\"\",SUM('Data Input'!AY111,'Data Input'!AZ111))","v":""},{"$f":"IF(O107=\"\",\"\",O107/COUNTIF('Data Input'!$C$8:$AZ$8,$O$2))","v":""},{"$f":"IF(ISBLANK('Data Input'!A111),\"\",SUM('Data Input'!AW111))","v":""},{"$f":"IF(Q107=\"\",\"\",Q107/COUNTIF('Data Input'!$C$8:$AZ$8,$Q$2))","v":""},{"$f":"IF(ISBLANK('Data Input'!$A111),\"\",SUM('Data Input'!Q111,'Data Input'!AT111,'Data Input'!AU111))","v":""},{"$f":"IF(S107=\"\",\"\",S107/COUNTIF('Data Input'!$C$8:$AZ$8,$S$2))","v":""},{"$f":"IF(ISBLANK('Data Input'!$A111),\"\",SUM('Data Input'!AX111))","v":""},{"$f":"IF(U107=\"\",\"\",U107/COUNTIF('Data Input'!$C$8:$AZ$8,$U$2))","v":""}]
[{"$f":"IF('Data Input'!A112=0,\"\",'Data Input'!A112)","v":""},{"$f":"IF(ISBLANK('Data Input'!A112),\"\",COUNTIF('Data Input'!C112:AZ112,\"\"))","v":""},{"$f":"IF(ISBLANK('Data Input'!A112),\"\",COUNTIF('Data Input'!C112:AZ112,\"0\"))","v":""},{"$f":"IF(ISBLANK('Data Input'!A112),\"\",SUM(B108,C108))","v":""},{"$f":"IF(ISBLANK('Data Input'!A112),\"\",SUM('Data Input'!C112:AZ112))","v":""},{"$f":"IF(E108=\"\",\"\",E108/(COUNTA('Data Input'!$C$8:$AZ$8)))","v":""},{"$f":"IF(ISBLANK('Data Input'!A112),\"\",SUM('Data Input'!R112,'Data Input'!AA112,'Data Input'!AB112,'Data Input'!AC112,'Data Input'!AE112,'Data Input'!AH112,'Data Input'!AQ112,'Data Input'!AR112))","v":""},{"$f":"IF(G108=\"\",\"\",G108/COUNTIF('Data Input'!$C$8:$AZ$8,$G$2))","v":""},{"$f":"IF(ISBLANK('Data Input'!A112),\"\",SUM('Data Input'!D112,'Data Input'!E112,'Data Input'!F112,'Data Input'!G112,'Data Input'!H112,'Data Input'!J112,'Data Input'!K112,'Data Input'!O112,'Data Input'!U112,'Data Input'!V112,'Data Input'!W112,'Data Input'!X112,'Data Input'!Z112,'Data Input'!AG112,'Data Input'!AI112,'Data Input'!AJ112,'Data Input'!AK112))","v":""},{"$f":"IF(I108=\"\",\"\",I108/COUNTIF('Data Input'!$C$8:$AZ$8,$I$2))","v":""},{"$f":"IF(ISBLANK('Data Input'!A112),\"\",SUM('Data Input'!AF112,'Data Input'!AV112))","v":""},{"$f":"IF(K108=\"\",\"\",K108/COUNTIF('Data Input'!$C$8:$AZ$8,$K$2))","v":""},{"$f":"IF(ISBLANK('Data Input'!A112),\"\",SUM('Data Input'!C112,'Data Input'!I112,'Data Input'!L112,'Data Input'!M112,'Data Input'!N112,'Data Input'!P112,'Data Input'!S112,'Data Input'!T112,'Data Input'!Y112,'Data Input'!AD112,'Data Input'!AL112,'Data Input'!AM112,'Data Input'!AN112,'Data Input'!AO112,'Data Input'!AP112,'Data Input'!AS112))","v":""},{"$f":"IF(M108=\"\",\"\",M108/COUNTIF('Data Input'!$C$8:$AZ$8,$M$2))","v":""},{"$f":"IF(ISBLANK('Data Input'!A112),\"\",SUM('Data Input'!AY112,'Data Input'!AZ112))","v":""},{"$f":"IF(O108=\"\",\"\",O108/COUNTIF('Data Input'!$C$8:$AZ$8,$O$2))","v":""},{"$f":"IF(ISBLANK('Data Input'!A112),\"\",SUM('Data Input'!AW112))","v":""},{"$f":"IF(Q108=\"\",\"\",Q108/COUNTIF('Data Input'!$C$8:$AZ$8,$Q$2))","v":""},{"$f":"IF(ISBLANK('Data Input'!$A112),\"\",SUM('Data Input'!Q112,'Data Input'!AT112,'Data Input'!AU112))","v":""},{"$f":"IF(S108=\"\",\"\",S108/COUNTIF('Data Input'!$C$8:$AZ$8,$S$2))","v":""},{"$f":"IF(ISBLANK('Data Input'!$A112),\"\",SUM('Data Input'!AX112))","v":""},{"$f":"IF(U108=\"\",\"\",U108/COUNTIF('Data Input'!$C$8:$AZ$8,$U$2))","v":""}]
[{"$f":"IF('Data Input'!A113=0,\"\",'Data Input'!A113)","v":""},{"$f":"IF(ISBLANK('Data Input'!A113),\"\",COUNTIF('Data Input'!C113:AZ113,\"\"))","v":""},{"$f":"IF(ISBLANK('Data Input'!A113),\"\",COUNTIF('Data Input'!C113:AZ113,\"0\"))","v":""},{"$f":"IF(ISBLANK('Data Input'!A113),\"\",SUM(B109,C109))","v":""},{"$f":"IF(ISBLANK('Data Input'!A113),\"\",SUM('Data Input'!C113:AZ113))","v":""},{"$f":"IF(E109=\"\",\"\",E109/(COUNTA('Data Input'!$C$8:$AZ$8)))","v":""},{"$f":"IF(ISBLANK('Data Input'!A113),\"\",SUM('Data Input'!R113,'Data Input'!AA113,'Data Input'!AB113,'Data Input'!AC113,'Data Input'!AE113,'Data Input'!AH113,'Data Input'!AQ113,'Data Input'!AR113))","v":""},{"$f":"IF(G109=\"\",\"\",G109/COUNTIF('Data Input'!$C$8:$AZ$8,$G$2))","v":""},{"$f":"IF(ISBLANK('Data Input'!A113),\"\",SUM('Data Input'!D113,'Data Input'!E113,'Data Input'!F113,'Data Input'!G113,'Data Input'!H113,'Data Input'!J113,'Data Input'!K113,'Data Input'!O113,'Data Input'!U113,'Data Input'!V113,'Data Input'!W113,'Data Input'!X113,'Data Input'!Z113,'Data Input'!AG113,'Data Input'!AI113,'Data Input'!AJ113,'Data Input'!AK113))","v":""},{"$f":"IF(I109=\"\",\"\",I109/COUNTIF('Data Input'!$C$8:$AZ$8,$I$2))","v":""},{"$f":"IF(ISBLANK('Data Input'!A113),\"\",SUM('Data Input'!AF113,'Data Input'!AV113))","v":""},{"$f":"IF(K109=\"\",\"\",K109/COUNTIF('Data Input'!$C$8:$AZ$8,$K$2))","v":""},{"$f":"IF(ISBLANK('Data Input'!A113),\"\",SUM('Data Input'!C113,'Data Input'!I113,'Data Input'!L113,'Data Input'!M113,'Data Input'!N113,'Data Input'!P113,'Data Input'!S113,'Data Input'!T113,'Data Input'!Y113,'Data Input'!AD113,'Data Input'!AL113,'Data Input'!AM113,'Data Input'!AN113,'Data Input'!AO113,'Data Input'!AP113,'Data Input'!AS113))","v":""},{"$f":"IF(M109=\"\",\"\",M109/COUNTIF('Data Input'!$C$8:$AZ$8,$M$2))","v":""},{"$f":"IF(ISBLANK('Data Input'!A113),\"\",SUM('Data Input'!AY113,'Data Input'!AZ113))","v":""},{"$f":"IF(O109=\"\",\"\",O109/COUNTIF('Data Input'!$C$8:$AZ$8,$O$2))","v":""},{"$f":"IF(ISBLANK('Data Input'!A113),\"\",SUM('Data Input'!AW113))","v":""},{"$f":"IF(Q109=\"\",\"\",Q109/COUNTIF('Data Input'!$C$8:$AZ$8,$Q$2))","v":""},{"$f":"IF(ISBLANK('Data Input'!$A113),\"\",SUM('Data Input'!Q113,'Data Input'!AT113,'Data Input'!AU113))","v":""},{"$f":"IF(S109=\"\",\"\",S109/COUNTIF('Data Input'!$C$8:$AZ$8,$S$2))","v":""},{"$f":"IF(ISBLANK('Data Input'!$A113),\"\",SUM('Data Input'!AX113))","v":""},{"$f":"IF(U109=\"\",\"\",U109/COUNTIF('Data Input'!$C$8:$AZ$8,$U$2))","v":""}]
[{"$f":"IF('Data Input'!A114=0,\"\",'Data Input'!A114)","v":""},{"$f":"IF(ISBLANK('Data Input'!A114),\"\",COUNTIF('Data Input'!C114:AZ114,\"\"))","v":""},{"$f":"IF(ISBLANK('Data Input'!A114),\"\",COUNTIF('Data Input'!C114:AZ114,\"0\"))","v":""},{"$f":"IF(ISBLANK('Data Input'!A114),\"\",SUM(B110,C110))","v":""},{"$f":"IF(ISBLANK('Data Input'!A114),\"\",SUM('Data Input'!C114:AZ114))","v":""},{"$f":"IF(E110=\"\",\"\",E110/(COUNTA('Data Input'!$C$8:$AZ$8)))","v":""},{"$f":"IF(ISBLANK('Data Input'!A114),\"\",SUM('Data Input'!R114,'Data Input'!AA114,'Data Input'!AB114,'Data Input'!AC114,'Data Input'!AE114,'Data Input'!AH114,'Data Input'!AQ114,'Data Input'!AR114))","v":""},{"$f":"IF(G110=\"\",\"\",G110/COUNTIF('Data Input'!$C$8:$AZ$8,$G$2))","v":""},{"$f":"IF(ISBLANK('Data Input'!A114),\"\",SUM('Data Input'!D114,'Data Input'!E114,'Data Input'!F114,'Data Input'!G114,'Data Input'!H114,'Data Input'!J114,'Data Input'!K114,'Data Input'!O114,'Data Input'!U114,'Data Input'!V114,'Data Input'!W114,'Data Input'!X114,'Data Input'!Z114,'Data Input'!AG114,'Data Input'!AI114,'Data Input'!AJ114,'Data Input'!AK114))","v":""},{"$f":"IF(I110=\"\",\"\",I110/COUNTIF('Data Input'!$C$8:$AZ$8,$I$2))","v":""},{"$f":"IF(ISBLANK('Data Input'!A114),\"\",SUM('Data Input'!AF114,'Data Input'!AV114))","v":""},{"$f":"IF(K110=\"\",\"\",K110/COUNTIF('Data Input'!$C$8:$AZ$8,$K$2))","v":""},{"$f":"IF(ISBLANK('Data Input'!A114),\"\",SUM('Data Input'!C114,'Data Input'!I114,'Data Input'!L114,'Data Input'!M114,'Data Input'!N114,'Data Input'!P114,'Data Input'!S114,'Data Input'!T114,'Data Input'!Y114,'Data Input'!AD114,'Data Input'!AL114,'Data Input'!AM114,'Data Input'!AN114,'Data Input'!AO114,'Data Input'!AP114,'Data Input'!AS114))","v":""},{"$f":"IF(M110=\"\",\"\",M110/COUNTIF('Data Input'!$C$8:$AZ$8,$M$2))","v":""},{"$f":"IF(ISBLANK('Data Input'!A114),\"\",SUM('Data Input'!AY114,'Data Input'!AZ114))","v":""},{"$f":"IF(O110=\"\",\"\",O110/COUNTIF('Data Input'!$C$8:$AZ$8,$O$2))","v":""},{"$f":"IF(ISBLANK('Data Input'!A114),\"\",SUM('Data Input'!AW114))","v":""},{"$f":"IF(Q110=\"\",\"\",Q110/COUNTIF('Data Input'!$C$8:$AZ$8,$Q$2))","v":""},{"$f":"IF(ISBLANK('Data Input'!$A114),\"\",SUM('Data Input'!Q114,'Data Input'!AT114,'Data Input'!AU114))","v":""},{"$f":"IF(S110=\"\",\"\",S110/COUNTIF('Data Input'!$C$8:$AZ$8,$S$2))","v":""},{"$f":"IF(ISBLANK('Data Input'!$A114),\"\",SUM('Data Input'!AX114))","v":""},{"$f":"IF(U110=\"\",\"\",U110/COUNTIF('Data Input'!$C$8:$AZ$8,$U$2))","v":""}]
[{"$f":"IF('Data Input'!A115=0,\"\",'Data Input'!A115)","v":""},{"$f":"IF(ISBLANK('Data Input'!A115),\"\",COUNTIF('Data Input'!C115:AZ115,\"\"))","v":""},{"$f":"IF(ISBLANK('Data Input'!A115),\"\",COUNTIF('Data Input'!C115:AZ115,\"0\"))","v":""},{"$f":"IF(ISBLANK('Data Input'!A115),\"\",SUM(B111,C111))","v":""},{"$f":"IF(ISBLANK('Data Input'!A115),\"\",SUM('Data Input'!C115:AZ115))","v":""},{"$f":"IF(E111=\"\",\"\",E111/(COUNTA('Data Input'!$C$8:$AZ$8)))","v":""},{"$f":"IF(ISBLANK('Data Input'!A115),\"\",SUM('Data Input'!R115,'Data Input'!AA115,'Data Input'!AB115,'Data Input'!AC115,'Data Input'!AE115,'Data Input'!AH115,'Data Input'!AQ115,'Data Input'!AR115))","v":""},{"$f":"IF(G111=\"\",\"\",G111/COUNTIF('Data Input'!$C$8:$AZ$8,$G$2))","v":""},{"$f":"IF(ISBLANK('Data Input'!A115),\"\",SUM('Data Input'!D115,'Data Input'!E115,'Data Input'!F115,'Data Input'!G115,'Data Input'!H115,'Data Input'!J115,'Data Input'!K115,'Data Input'!O115,'Data Input'!U115,'Data Input'!V115,'Data Input'!W115,'Data Input'!X115,'Data Input'!Z115,'Data Input'!AG115,'Data Input'!AI115,'Data Input'!AJ115,'Data Input'!AK115))","v":""},{"$f":"IF(I111=\"\",\"\",I111/COUNTIF('Data Input'!$C$8:$AZ$8,$I$2))","v":""},{"$f":"IF(ISBLANK('Data Input'!A115),\"\",SUM('Data Input'!AF115,'Data Input'!AV115))","v":""},{"$f":"IF(K111=\"\",\"\",K111/COUNTIF('Data Input'!$C$8:$AZ$8,$K$2))","v":""},{"$f":"IF(ISBLANK('Data Input'!A115),\"\",SUM('Data Input'!C115,'Data Input'!I115,'Data Input'!L115,'Data Input'!M115,'Data Input'!N115,'Data Input'!P115,'Data Input'!S115,'Data Input'!T115,'Data Input'!Y115,'Data Input'!AD115,'Data Input'!AL115,'Data Input'!AM115,'Data Input'!AN115,'Data Input'!AO115,'Data Input'!AP115,'Data Input'!AS115))","v":""},{"$f":"IF(M111=\"\",\"\",M111/COUNTIF('Data Input'!$C$8:$AZ$8,$M$2))","v":""},{"$f":"IF(ISBLANK('Data Input'!A115),\"\",SUM('Data Input'!AY115,'Data Input'!AZ115))","v":""},{"$f":"IF(O111=\"\",\"\",O111/COUNTIF('Data Input'!$C$8:$AZ$8,$O$2))","v":""},{"$f":"IF(ISBLANK('Data Input'!A115),\"\",SUM('Data Input'!AW115))","v":""},{"$f":"IF(Q111=\"\",\"\",Q111/COUNTIF('Data Input'!$C$8:$AZ$8,$Q$2))","v":""},{"$f":"IF(ISBLANK('Data Input'!$A115),\"\",SUM('Data Input'!Q115,'Data Input'!AT115,'Data Input'!AU115))","v":""},{"$f":"IF(S111=\"\",\"\",S111/COUNTIF('Data Input'!$C$8:$AZ$8,$S$2))","v":""},{"$f":"IF(ISBLANK('Data Input'!$A115),\"\",SUM('Data Input'!AX115))","v":""},{"$f":"IF(U111=\"\",\"\",U111/COUNTIF('Data Input'!$C$8:$AZ$8,$U$2))","v":""}]
[{"$f":"IF('Data Input'!A116=0,\"\",'Data Input'!A116)","v":""},{"$f":"IF(ISBLANK('Data Input'!A116),\"\",COUNTIF('Data Input'!C116:AZ116,\"\"))","v":""},{"$f":"IF(ISBLANK('Data Input'!A116),\"\",COUNTIF('Data Input'!C116:AZ116,\"0\"))","v":""},{"$f":"IF(ISBLANK('Data Input'!A116),\"\",SUM(B112,C112))","v":""},{"$f":"IF(ISBLANK('Data Input'!A116),\"\",SUM('Data Input'!C116:AZ116))","v":""},{"$f":"IF(E112=\"\",\"\",E112/(COUNTA('Data Input'!$C$8:$AZ$8)))","v":""},{"$f":"IF(ISBLANK('Data Input'!A116),\"\",SUM('Data Input'!R116,'Data Input'!AA116,'Data Input'!AB116,'Data Input'!AC116,'Data Input'!AE116,'Data Input'!AH116,'Data Input'!AQ116,'Data Input'!AR116))","v":""},{"$f":"IF(G112=\"\",\"\",G112/COUNTIF('Data Input'!$C$8:$AZ$8,$G$2))","v":""},{"$f":"IF(ISBLANK('Data Input'!A116),\"\",SUM('Data Input'!D116,'Data Input'!E116,'Data Input'!F116,'Data Input'!G116,'Data Input'!H116,'Data Input'!J116,'Data Input'!K116,'Data Input'!O116,'Data Input'!U116,'Data Input'!V116,'Data Input'!W116,'Data Input'!X116,'Data Input'!Z116,'Data Input'!AG116,'Data Input'!AI116,'Data Input'!AJ116,'Data Input'!AK116))","v":""},{"$f":"IF(I112=\"\",\"\",I112/COUNTIF('Data Input'!$C$8:$AZ$8,$I$2))","v":""},{"$f":"IF(ISBLANK('Data Input'!A116),\"\",SUM('Data Input'!AF116,'Data Input'!AV116))","v":""},{"$f":"IF(K112=\"\",\"\",K112/COUNTIF('Data Input'!$C$8:$AZ$8,$K$2))","v":""},{"$f":"IF(ISBLANK('Data Input'!A116),\"\",SUM('Data Input'!C116,'Data Input'!I116,'Data Input'!L116,'Data Input'!M116,'Data Input'!N116,'Data Input'!P116,'Data Input'!S116,'Data Input'!T116,'Data Input'!Y116,'Data Input'!AD116,'Data Input'!AL116,'Data Input'!AM116,'Data Input'!AN116,'Data Input'!AO116,'Data Input'!AP116,'Data Input'!AS116))","v":""},{"$f":"IF(M112=\"\",\"\",M112/COUNTIF('Data Input'!$C$8:$AZ$8,$M$2))","v":""},{"$f":"IF(ISBLANK('Data Input'!A116),\"\",SUM('Data Input'!AY116,'Data Input'!AZ116))","v":""},{"$f":"IF(O112=\"\",\"\",O112/COUNTIF('Data Input'!$C$8:$AZ$8,$O$2))","v":""},{"$f":"IF(ISBLANK('Data Input'!A116),\"\",SUM('Data Input'!AW116))","v":""},{"$f":"IF(Q112=\"\",\"\",Q112/COUNTIF('Data Input'!$C$8:$AZ$8,$Q$2))","v":""},{"$f":"IF(ISBLANK('Data Input'!$A116),\"\",SUM('Data Input'!Q116,'Data Input'!AT116,'Data Input'!AU116))","v":""},{"$f":"IF(S112=\"\",\"\",S112/COUNTIF('Data Input'!$C$8:$AZ$8,$S$2))","v":""},{"$f":"IF(ISBLANK('Data Input'!$A116),\"\",SUM('Data Input'!AX116))","v":""},{"$f":"IF(U112=\"\",\"\",U112/COUNTIF('Data Input'!$C$8:$AZ$8,$U$2))","v":""}]
[{"$f":"IF('Data Input'!A117=0,\"\",'Data Input'!A117)","v":""},{"$f":"IF(ISBLANK('Data Input'!A117),\"\",COUNTIF('Data Input'!C117:AZ117,\"\"))","v":""},{"$f":"IF(ISBLANK('Data Input'!A117),\"\",COUNTIF('Data Input'!C117:AZ117,\"0\"))","v":""},{"$f":"IF(ISBLANK('Data Input'!A117),\"\",SUM(B113,C113))","v":""},{"$f":"IF(ISBLANK('Data Input'!A117),\"\",SUM('Data Input'!C117:AZ117))","v":""},{"$f":"IF(E113=\"\",\"\",E113/(COUNTA('Data Input'!$C$8:$AZ$8)))","v":""},{"$f":"IF(ISBLANK('Data Input'!A117),\"\",SUM('Data Input'!R117,'Data Input'!AA117,'Data Input'!AB117,'Data Input'!AC117,'Data Input'!AE117,'Data Input'!AH117,'Data Input'!AQ117,'Data Input'!AR117))","v":""},{"$f":"IF(G113=\"\",\"\",G113/COUNTIF('Data Input'!$C$8:$AZ$8,$G$2))","v":""},{"$f":"IF(ISBLANK('Data Input'!A117),\"\",SUM('Data Input'!D117,'Data Input'!E117,'Data Input'!F117,'Data Input'!G117,'Data Input'!H117,'Data Input'!J117,'Data Input'!K117,'Data Input'!O117,'Data Input'!U117,'Data Input'!V117,'Data Input'!W117,'Data Input'!X117,'Data Input'!Z117,'Data Input'!AG117,'Data Input'!AI117,'Data Input'!AJ117,'Data Input'!AK117))","v":""},{"$f":"IF(I113=\"\",\"\",I113/COUNTIF('Data Input'!$C$8:$AZ$8,$I$2))","v":""},{"$f":"IF(ISBLANK('Data Input'!A117),\"\",SUM('Data Input'!AF117,'Data Input'!AV117))","v":""},{"$f":"IF(K113=\"\",\"\",K113/COUNTIF('Data Input'!$C$8:$AZ$8,$K$2))","v":""},{"$f":"IF(ISBLANK('Data Input'!A117),\"\",SUM('Data Input'!C117,'Data Input'!I117,'Data Input'!L117,'Data Input'!M117,'Data Input'!N117,'Data Input'!P117,'Data Input'!S117,'Data Input'!T117,'Data Input'!Y117,'Data Input'!AD117,'Data Input'!AL117,'Data Input'!AM117,'Data Input'!AN117,'Data Input'!AO117,'Data Input'!AP117,'Data Input'!AS117))","v":""},{"$f":"IF(M113=\"\",\"\",M113/COUNTIF('Data Input'!$C$8:$AZ$8,$M$2))","v":""},{"$f":"IF(ISBLANK('Data Input'!A117),\"\",SUM('Data Input'!AY117,'Data Input'!AZ117))","v":""},{"$f":"IF(O113=\"\",\"\",O113/COUNTIF('Data Input'!$C$8:$AZ$8,$O$2))","v":""},{"$f":"IF(ISBLANK('Data Input'!A117),\"\",SUM('Data Input'!AW117))","v":""},{"$f":"IF(Q113=\"\",\"\",Q113/COUNTIF('Data Input'!$C$8:$AZ$8,$Q$2))","v":""},{"$f":"IF(ISBLANK('Data Input'!$A117),\"\",SUM('Data Input'!Q117,'Data Input'!AT117,'Data Input'!AU117))","v":""},{"$f":"IF(S113=\"\",\"\",S113/COUNTIF('Data Input'!$C$8:$AZ$8,$S$2))","v":""},{"$f":"IF(ISBLANK('Data Input'!$A117),\"\",SUM('Data Input'!AX117))","v":""},{"$f":"IF(U113=\"\",\"\",U113/COUNTIF('Data Input'!$C$8:$AZ$8,$U$2))","v":""}]
[{"$f":"IF('Data Input'!A118=0,\"\",'Data Input'!A118)","v":""},{"$f":"IF(ISBLANK('Data Input'!A118),\"\",COUNTIF('Data Input'!C118:AZ118,\"\"))","v":""},{"$f":"IF(ISBLANK('Data Input'!A118),\"\",COUNTIF('Data Input'!C118:AZ118,\"0\"))","v":""},{"$f":"IF(ISBLANK('Data Input'!A118),\"\",SUM(B114,C114))","v":""},{"$f":"IF(ISBLANK('Data Input'!A118),\"\",SUM('Data Input'!C118:AZ118))","v":""},{"$f":"IF(E114=\"\",\"\",E114/(COUNTA('Data Input'!$C$8:$AZ$8)))","v":""},{"$f":"IF(ISBLANK('Data Input'!A118),\"\",SUM('Data Input'!R118,'Data Input'!AA118,'Data Input'!AB118,'Data Input'!AC118,'Data Input'!AE118,'Data Input'!AH118,'Data Input'!AQ118,'Data Input'!AR118))","v":""},{"$f":"IF(G114=\"\",\"\",G114/COUNTIF('Data Input'!$C$8:$AZ$8,$G$2))","v":""},{"$f":"IF(ISBLANK('Data Input'!A118),\"\",SUM('Data Input'!D118,'Data Input'!E118,'Data Input'!F118,'Data Input'!G118,'Data Input'!H118,'Data Input'!J118,'Data Input'!K118,'Data Input'!O118,'Data Input'!U118,'Data Input'!V118,'Data Input'!W118,'Data Input'!X118,'Data Input'!Z118,'Data Input'!AG118,'Data Input'!AI118,'Data Input'!AJ118,'Data Input'!AK118))","v":""},{"$f":"IF(I114=\"\",\"\",I114/COUNTIF('Data Input'!$C$8:$AZ$8,$I$2))","v":""},{"$f":"IF(ISBLANK('Data Input'!A118),\"\",SUM('Data Input'!AF118,'Data Input'!AV118))","v":""},{"$f":"IF(K114=\"\",\"\",K114/COUNTIF('Data Input'!$C$8:$AZ$8,$K$2))","v":""},{"$f":"IF(ISBLANK('Data Input'!A118),\"\",SUM('Data Input'!C118,'Data Input'!I118,'Data Input'!L118,'Data Input'!M118,'Data Input'!N118,'Data Input'!P118,'Data Input'!S118,'Data Input'!T118,'Data Input'!Y118,'Data Input'!AD118,'Data Input'!AL118,'Data Input'!AM118,'Data Input'!AN118,'Data Input'!AO118,'Data Input'!AP118,'Data Input'!AS118))","v":""},{"$f":"IF(M114=\"\",\"\",M114/COUNTIF('Data Input'!$C$8:$AZ$8,$M$2))","v":""},{"$f":"IF(ISBLANK('Data Input'!A118),\"\",SUM('Data Input'!AY118,'Data Input'!AZ118))","v":""},{"$f":"IF(O114=\"\",\"\",O114/COUNTIF('Data Input'!$C$8:$AZ$8,$O$2))","v":""},{"$f":"IF(ISBLANK('Data Input'!A118),\"\",SUM('Data Input'!AW118))","v":""},{"$f":"IF(Q114=\"\",\"\",Q114/COUNTIF('Data Input'!$C$8:$AZ$8,$Q$2))","v":""},{"$f":"IF(ISBLANK('Data Input'!$A118),\"\",SUM('Data Input'!Q118,'Data Input'!AT118,'Data Input'!AU118))","v":""},{"$f":"IF(S114=\"\",\"\",S114/COUNTIF('Data Input'!$C$8:$AZ$8,$S$2))","v":""},{"$f":"IF(ISBLANK('Data Input'!$A118),\"\",SUM('Data Input'!AX118))","v":""},{"$f":"IF(U114=\"\",\"\",U114/COUNTIF('Data Input'!$C$8:$AZ$8,$U$2))","v":""}]
[{"$f":"IF('Data Input'!A119=0,\"\",'Data Input'!A119)","v":""},{"$f":"IF(ISBLANK('Data Input'!A119),\"\",COUNTIF('Data Input'!C119:AZ119,\"\"))","v":""},{"$f":"IF(ISBLANK('Data Input'!A119),\"\",COUNTIF('Data Input'!C119:AZ119,\"0\"))","v":""},{"$f":"IF(ISBLANK('Data Input'!A119),\"\",SUM(B115,C115))","v":""},{"$f":"IF(ISBLANK('Data Input'!A119),\"\",SUM('Data Input'!C119:AZ119))","v":""},{"$f":"IF(E115=\"\",\"\",E115/(COUNTA('Data Input'!$C$8:$AZ$8)))","v":""},{"$f":"IF(ISBLANK('Data Input'!A119),\"\",SUM('Data Input'!R119,'Data Input'!AA119,'Data Input'!AB119,'Data Input'!AC119,'Data Input'!AE119,'Data Input'!AH119,'Data Input'!AQ119,'Data Input'!AR119))","v":""},{"$f":"IF(G115=\"\",\"\",G115/COUNTIF('Data Input'!$C$8:$AZ$8,$G$2))","v":""},{"$f":"IF(ISBLANK('Data Input'!A119),\"\",SUM('Data Input'!D119,'Data Input'!E119,'Data Input'!F119,'Data Input'!G119,'Data Input'!H119,'Data Input'!J119,'Data Input'!K119,'Data Input'!O119,'Data Input'!U119,'Data Input'!V119,'Data Input'!W119,'Data Input'!X119,'Data Input'!Z119,'Data Input'!AG119,'Data Input'!AI119,'Data Input'!AJ119,'Data Input'!AK119))","v":""},{"$f":"IF(I115=\"\",\"\",I115/COUNTIF('Data Input'!$C$8:$AZ$8,$I$2))","v":""},{"$f":"IF(ISBLANK('Data Input'!A119),\"\",SUM('Data Input'!AF119,'Data Input'!AV119))","v":""},{"$f":"IF(K115=\"\",\"\",K115/COUNTIF('Data Input'!$C$8:$AZ$8,$K$2))","v":""},{"$f":"IF(ISBLANK('Data Input'!A119),\"\",SUM('Data Input'!C119,'Data Input'!I119,'Data Input'!L119,'Data Input'!M119,'Data Input'!N119,'Data Input'!P119,'Data Input'!S119,'Data Input'!T119,'Data Input'!Y119,'Data Input'!AD119,'Data Input'!AL119,'Data Input'!AM119,'Data Input'!AN119,'Data Input'!AO119,'Data Input'!AP119,'Data Input'!AS119))","v":""},{"$f":"IF(M115=\"\",\"\",M115/COUNTIF('Data Input'!$C$8:$AZ$8,$M$2))","v":""},{"$f":"IF(ISBLANK('Data Input'!A119),\"\",SUM('Data Input'!AY119,'Data Input'!AZ119))","v":""},{"$f":"IF(O115=\"\",\"\",O115/COUNTIF('Data Input'!$C$8:$AZ$8,$O$2))","v":""},{"$f":"IF(ISBLANK('Data Input'!A119),\"\",SUM('Data Input'!AW119))","v":""},{"$f":"IF(Q115=\"\",\"\",Q115/COUNTIF('Data Input'!$C$8:$AZ$8,$Q$2))","v":""},{"$f":"IF(ISBLANK('Data Input'!$A119),\"\",SUM('Data Input'!Q119,'Data Input'!AT119,'Data Input'!AU119))","v":""},{"$f":"IF(S115=\"\",\"\",S115/COUNTIF('Data Input'!$C$8:$AZ$8,$S$2))","v":""},{"$f":"IF(ISBLANK('Data Input'!$A119),\"\",SUM('Data Input'!AX119))","v":""},{"$f":"IF(U115=\"\",\"\",U115/COUNTIF('Data Input'!$C$8:$AZ$8,$U$2))","v":""}]
[{"$f":"IF('Data Input'!A120=0,\"\",'Data Input'!A120)","v":""},{"$f":"IF(ISBLANK('Data Input'!A120),\"\",COUNTIF('Data Input'!C120:AZ120,\"\"))","v":""},{"$f":"IF(ISBLANK('Data Input'!A120),\"\",COUNTIF('Data Input'!C120:AZ120,\"0\"))","v":""},{"$f":"IF(ISBLANK('Data Input'!A120),\"\",SUM(B116,C116))","v":""},{"$f":"IF(ISBLANK('Data Input'!A120),\"\",SUM('Data Input'!C120:AZ120))","v":""},{"$f":"IF(E116=\"\",\"\",E116/(COUNTA('Data Input'!$C$8:$AZ$8)))","v":""},{"$f":"IF(ISBLANK('Data Input'!A120),\"\",SUM('Data Input'!R120,'Data Input'!AA120,'Data Input'!AB120,'Data Input'!AC120,'Data Input'!AE120,'Data Input'!AH120,'Data Input'!AQ120,'Data Input'!AR120))","v":""},{"$f":"IF(G116=\"\",\"\",G116/COUNTIF('Data Input'!$C$8:$AZ$8,$G$2))","v":""},{"$f":"IF(ISBLANK('Data Input'!A120),\"\",SUM('Data Input'!D120,'Data Input'!E120,'Data Input'!F120,'Data Input'!G120,'Data Input'!H120,'Data Input'!J120,'Data Input'!K120,'Data Input'!O120,'Data Input'!U120,'Data Input'!V120,'Data Input'!W120,'Data Input'!X120,'Data Input'!Z120,'Data Input'!AG120,'Data Input'!AI120,'Data Input'!AJ120,'Data Input'!AK120))","v":""},{"$f":"IF(I116=\"\",\"\",I116/COUNTIF('Data Input'!$C$8:$AZ$8,$I$2))","v":""},{"$f":"IF(ISBLANK('Data Input'!A120),\"\",SUM('Data Input'!AF120,'Data Input'!AV120))","v":""},{"$f":"IF(K116=\"\",\"\",K116/COUNTIF('Data Input'!$C$8:$AZ$8,$K$2))","v":""},{"$f":"IF(ISBLANK('Data Input'!A120),\"\",SUM('Data Input'!C120,'Data Input'!I120,'Data Input'!L120,'Data Input'!M120,'Data Input'!N120,'Data Input'!P120,'Data Input'!S120,'Data Input'!T120,'Data Input'!Y120,'Data Input'!AD120,'Data Input'!AL120,'Data Input'!AM120,'Data Input'!AN120,'Data Input'!AO120,'Data Input'!AP120,'Data Input'!AS120))","v":""},{"$f":"IF(M116=\"\",\"\",M116/COUNTIF('Data Input'!$C$8:$AZ$8,$M$2))","v":""},{"$f":"IF(ISBLANK('Data Input'!A120),\"\",SUM('Data Input'!AY120,'Data Input'!AZ120))","v":""},{"$f":"IF(O116=\"\",\"\",O116/COUNTIF('Data Input'!$C$8:$AZ$8,$O$2))","v":""},{"$f":"IF(ISBLANK('Data Input'!A120),\"\",SUM('Data Input'!AW120))","v":""},{"$f":"IF(Q116=\"\",\"\",Q116/COUNTIF('Data Input'!$C$8:$AZ$8,$Q$2))","v":""},{"$f":"IF(ISBLANK('Data Input'!$A120),\"\",SUM('Data Input'!Q120,'Data Input'!AT120,'Data Input'!AU120))","v":""},{"$f":"IF(S116=\"\",\"\",S116/COUNTIF('Data Input'!$C$8:$AZ$8,$S$2))","v":""},{"$f":"IF(ISBLANK('Data Input'!$A120),\"\",SUM('Data Input'!AX120))","v":""},{"$f":"IF(U116=\"\",\"\",U116/COUNTIF('Data Input'!$C$8:$AZ$8,$U$2))","v":""}]
[{"$f":"IF('Data Input'!A121=0,\"\",'Data Input'!A121)","v":""},{"$f":"IF(ISBLANK('Data Input'!A121),\"\",COUNTIF('Data Input'!C121:AZ121,\"\"))","v":""},{"$f":"IF(ISBLANK('Data Input'!A121),\"\",COUNTIF('Data Input'!C121:AZ121,\"0\"))","v":""},{"$f":"IF(ISBLANK('Data Input'!A121),\"\",SUM(B117,C117))","v":""},{"$f":"IF(ISBLANK('Data Input'!A121),\"\",SUM('Data Input'!C121:AZ121))","v":""},{"$f":"IF(E117=\"\",\"\",E117/(COUNTA('Data Input'!$C$8:$AZ$8)))","v":""},{"$f":"IF(ISBLANK('Data Input'!A121),\"\",SUM('Data Input'!R121,'Data Input'!AA121,'Data Input'!AB121,'Data Input'!AC121,'Data Input'!AE121,'Data Input'!AH121,'Data Input'!AQ121,'Data Input'!AR121))","v":""},{"$f":"IF(G117=\"\",\"\",G117/COUNTIF('Data Input'!$C$8:$AZ$8,$G$2))","v":""},{"$f":"IF(ISBLANK('Data Input'!A121),\"\",SUM('Data Input'!D121,'Data Input'!E121,'Data Input'!F121,'Data Input'!G121,'Data Input'!H121,'Data Input'!J121,'Data Input'!K121,'Data Input'!O121,'Data Input'!U121,'Data Input'!V121,'Data Input'!W121,'Data Input'!X121,'Data Input'!Z121,'Data Input'!AG121,'Data Input'!AI121,'Data Input'!AJ121,'Data Input'!AK121))","v":""},{"$f":"IF(I117=\"\",\"\",I117/COUNTIF('Data Input'!$C$8:$AZ$8,$I$2))","v":""},{"$f":"IF(ISBLANK('Data Input'!A121),\"\",SUM('Data Input'!AF121,'Data Input'!AV121))","v":""},{"$f":"IF(K117=\"\",\"\",K117/COUNTIF('Data Input'!$C$8:$AZ$8,$K$2))","v":""},{"$f":"IF(ISBLANK('Data Input'!A121),\"\",SUM('Data Input'!C121,'Data Input'!I121,'Data Input'!L121,'Data Input'!M121,'Data Input'!N121,'Data Input'!P121,'Data Input'!S121,'Data Input'!T121,'Data Input'!Y121,'Data Input'!AD121,'Data Input'!AL121,'Data Input'!AM121,'Data Input'!AN121,'Data Input'!AO121,'Data Input'!AP121,'Data Input'!AS121))","v":""},{"$f":"IF(M117=\"\",\"\",M117/COUNTIF('Data Input'!$C$8:$AZ$8,$M$2))","v":""},{"$f":"IF(ISBLANK('Data Input'!A121),\"\",SUM('Data Input'!AY121,'Data Input'!AZ121))","v":""},{"$f":"IF(O117=\"\",\"\",O117/COUNTIF('Data Input'!$C$8:$AZ$8,$O$2))","v":""},{"$f":"IF(ISBLANK('Data Input'!A121),\"\",SUM('Data Input'!AW121))","v":""},{"$f":"IF(Q117=\"\",\"\",Q117/COUNTIF('Data Input'!$C$8:$AZ$8,$Q$2))","v":""},{"$f":"IF(ISBLANK('Data Input'!$A121),\"\",SUM('Data Input'!Q121,'Data Input'!AT121,'Data Input'!AU121))","v":""},{"$f":"IF(S117=\"\",\"\",S117/COUNTIF('Data Input'!$C$8:$AZ$8,$S$2))","v":""},{"$f":"IF(ISBLANK('Data Input'!$A121),\"\",SUM('Data Input'!AX121))","v":""},{"$f":"IF(U117=\"\",\"\",U117/COUNTIF('Data Input'!$C$8:$AZ$8,$U$2))","v":""}]
[{"$f":"IF('Data Input'!A122=0,\"\",'Data Input'!A122)","v":""},{"$f":"IF(ISBLANK('Data Input'!A122),\"\",COUNTIF('Data Input'!C122:AZ122,\"\"))","v":""},{"$f":"IF(ISBLANK('Data Input'!A122),\"\",COUNTIF('Data Input'!C122:AZ122,\"0\"))","v":""},{"$f":"IF(ISBLANK('Data Input'!A122),\"\",SUM(B118,C118))","v":""},{"$f":"IF(ISBLANK('Data Input'!A122),\"\",SUM('Data Input'!C122:AZ122))","v":""},{"$f":"IF(E118=\"\",\"\",E118/(COUNTA('Data Input'!$C$8:$AZ$8)))","v":""},{"$f":"IF(ISBLANK('Data Input'!A122),\"\",SUM('Data Input'!R122,'Data Input'!AA122,'Data Input'!AB122,'Data Input'!AC122,'Data Input'!AE122,'Data Input'!AH122,'Data Input'!AQ122,'Data Input'!AR122))","v":""},{"$f":"IF(G118=\"\",\"\",G118/COUNTIF('Data Input'!$C$8:$AZ$8,$G$2))","v":""},{"$f":"IF(ISBLANK('Data Input'!A122),\"\",SUM('Data Input'!D122,'Data Input'!E122,'Data Input'!F122,'Data Input'!G122,'Data Input'!H122,'Data Input'!J122,'Data Input'!K122,'Data Input'!O122,'Data Input'!U122,'Data Input'!V122,'Data Input'!W122,'Data Input'!X122,'Data Input'!Z122,'Data Input'!AG122,'Data Input'!AI122,'Data Input'!AJ122,'Data Input'!AK122))","v":""},{"$f":"IF(I118=\"\",\"\",I118/COUNTIF('Data Input'!$C$8:$AZ$8,$I$2))","v":""},{"$f":"IF(ISBLANK('Data Input'!A122),\"\",SUM('Data Input'!AF122,'Data Input'!AV122))","v":""},{"$f":"IF(K118=\"\",\"\",K118/COUNTIF('Data Input'!$C$8:$AZ$8,$K$2))","v":""},{"$f":"IF(ISBLANK('Data Input'!A122),\"\",SUM('Data Input'!C122,'Data Input'!I122,'Data Input'!L122,'Data Input'!M122,'Data Input'!N122,'Data Input'!P122,'Data Input'!S122,'Data Input'!T122,'Data Input'!Y122,'Data Input'!AD122,'Data Input'!AL122,'Data Input'!AM122,'Data Input'!AN122,'Data Input'!AO122,'Data Input'!AP122,'Data Input'!AS122))","v":""},{"$f":"IF(M118=\"\",\"\",M118/COUNTIF('Data Input'!$C$8:$AZ$8,$M$2))","v":""},{"$f":"IF(ISBLANK('Data Input'!A122),\"\",SUM('Data Input'!AY122,'Data Input'!AZ122))","v":""},{"$f":"IF(O118=\"\",\"\",O118/COUNTIF('Data Input'!$C$8:$AZ$8,$O$2))","v":""},{"$f":"IF(ISBLANK('Data Input'!A122),\"\",SUM('Data Input'!AW122))","v":""},{"$f":"IF(Q118=\"\",\"\",Q118/COUNTIF('Data Input'!$C$8:$AZ$8,$Q$2))","v":""},{"$f":"IF(ISBLANK('Data Input'!$A122),\"\",SUM('Data Input'!Q122,'Data Input'!AT122,'Data Input'!AU122))","v":""},{"$f":"IF(S118=\"\",\"\",S118/COUNTIF('Data Input'!$C$8:$AZ$8,$S$2))","v":""},{"$f":"IF(ISBLANK('Data Input'!$A122),\"\",SUM('Data Input'!AX122))","v":""},{"$f":"IF(U118=\"\",\"\",U118/COUNTIF('Data Input'!$C$8:$AZ$8,$U$2))","v":""}]
[{"$f":"IF('Data Input'!A123=0,\"\",'Data Input'!A123)","v":""},{"$f":"IF(ISBLANK('Data Input'!A123),\"\",COUNTIF('Data Input'!C123:AZ123,\"\"))","v":""},{"$f":"IF(ISBLANK('Data Input'!A123),\"\",COUNTIF('Data Input'!C123:AZ123,\"0\"))","v":""},{"$f":"IF(ISBLANK('Data Input'!A123),\"\",SUM(B119,C119))","v":""},{"$f":"IF(ISBLANK('Data Input'!A123),\"\",SUM('Data Input'!C123:AZ123))","v":""},{"$f":"IF(E119=\"\",\"\",E119/(COUNTA('Data Input'!$C$8:$AZ$8)))","v":""},{"$f":"IF(ISBLANK('Data Input'!A123),\"\",SUM('Data Input'!R123,'Data Input'!AA123,'Data Input'!AB123,'Data Input'!AC123,'Data Input'!AE123,'Data Input'!AH123,'Data Input'!AQ123,'Data Input'!AR123))","v":""},{"$f":"IF(G119=\"\",\"\",G119/COUNTIF('Data Input'!$C$8:$AZ$8,$G$2))","v":""},{"$f":"IF(ISBLANK('Data Input'!A123),\"\",SUM('Data Input'!D123,'Data Input'!E123,'Data Input'!F123,'Data Input'!G123,'Data Input'!H123,'Data Input'!J123,'Data Input'!K123,'Data Input'!O123,'Data Input'!U123,'Data Input'!V123,'Data Input'!W123,'Data Input'!X123,'Data Input'!Z123,'Data Input'!AG123,'Data Input'!AI123,'Data Input'!AJ123,'Data Input'!AK123))","v":""},{"$f":"IF(I119=\"\",\"\",I119/COUNTIF('Data Input'!$C$8:$AZ$8,$I$2))","v":""},{"$f":"IF(ISBLANK('Data Input'!A123),\"\",SUM('Data Input'!AF123,'Data Input'!AV123))","v":""},{"$f":"IF(K119=\"\",\"\",K119/COUNTIF('Data Input'!$C$8:$AZ$8,$K$2))","v":""},{"$f":"IF(ISBLANK('Data Input'!A123),\"\",SUM('Data Input'!C123,'Data Input'!I123,'Data Input'!L123,'Data Input'!M123,'Data Input'!N123,'Data Input'!P123,'Data Input'!S123,'Data Input'!T123,'Data Input'!Y123,'Data Input'!AD123,'Data Input'!AL123,'Data Input'!AM123,'Data Input'!AN123,'Data Input'!AO123,'Data Input'!AP123,'Data Input'!AS123))","v":""},{"$f":"IF(M119=\"\",\"\",M119/COUNTIF('Data Input'!$C$8:$AZ$8,$M$2))","v":""},{"$f":"IF(ISBLANK('Data Input'!A123),\"\",SUM('Data Input'!AY123,'Data Input'!AZ123))","v":""},{"$f":"IF(O119=\"\",\"\",O119/COUNTIF('Data Input'!$C$8:$AZ$8,$O$2))","v":""},{"$f":"IF(ISBLANK('Data Input'!A123),\"\",SUM('Data Input'!AW123))","v":""},{"$f":"IF(Q119=\"\",\"\",Q119/COUNTIF('Data Input'!$C$8:$AZ$8,$Q$2))","v":""},{"$f":"IF(ISBLANK('Data Input'!$A123),\"\",SUM('Data Input'!Q123,'Data Input'!AT123,'Data Input'!AU123))","v":""},{"$f":"IF(S119=\"\",\"\",S119/COUNTIF('Data Input'!$C$8:$AZ$8,$S$2))","v":""},{"$f":"IF(ISBLANK('Data Input'!$A123),\"\",SUM('Data Input'!AX123))","v":""},{"$f":"IF(U119=\"\",\"\",U119/COUNTIF('Data Input'!$C$8:$AZ$8,$U$2))","v":""}]
[{"$f":"IF('Data Input'!A124=0,\"\",'Data Input'!A124)","v":""},{"$f":"IF(ISBLANK('Data Input'!A124),\"\",COUNTIF('Data Input'!C124:AZ124,\"\"))","v":""},{"$f":"IF(ISBLANK('Data Input'!A124),\"\",COUNTIF('Data Input'!C124:AZ124,\"0\"))","v":""},{"$f":"IF(ISBLANK('Data Input'!A124),\"\",SUM(B120,C120))","v":""},{"$f":"IF(ISBLANK('Data Input'!A124),\"\",SUM('Data Input'!C124:AZ124))","v":""},{"$f":"IF(E120=\"\",\"\",E120/(COUNTA('Data Input'!$C$8:$AZ$8)))","v":""},{"$f":"IF(ISBLANK('Data Input'!A124),\"\",SUM('Data Input'!R124,'Data Input'!AA124,'Data Input'!AB124,'Data Input'!AC124,'Data Input'!AE124,'Data Input'!AH124,'Data Input'!AQ124,'Data Input'!AR124))","v":""},{"$f":"IF(G120=\"\",\"\",G120/COUNTIF('Data Input'!$C$8:$AZ$8,$G$2))","v":""},{"$f":"IF(ISBLANK('Data Input'!A124),\"\",SUM('Data Input'!D124,'Data Input'!E124,'Data Input'!F124,'Data Input'!G124,'Data Input'!H124,'Data Input'!J124,'Data Input'!K124,'Data Input'!O124,'Data Input'!U124,'Data Input'!V124,'Data Input'!W124,'Data Input'!X124,'Data Input'!Z124,'Data Input'!AG124,'Data Input'!AI124,'Data Input'!AJ124,'Data Input'!AK124))","v":""},{"$f":"IF(I120=\"\",\"\",I120/COUNTIF('Data Input'!$C$8:$AZ$8,$I$2))","v":""},{"$f":"IF(ISBLANK('Data Input'!A124),\"\",SUM('Data Input'!AF124,'Data Input'!AV124))","v":""},{"$f":"IF(K120=\"\",\"\",K120/COUNTIF('Data Input'!$C$8:$AZ$8,$K$2))","v":""},{"$f":"IF(ISBLANK('Data Input'!A124),\"\",SUM('Data Input'!C124,'Data Input'!I124,'Data Input'!L124,'Data Input'!M124,'Data Input'!N124,'Data Input'!P124,'Data Input'!S124,'Data Input'!T124,'Data Input'!Y124,'Data Input'!AD124,'Data Input'!AL124,'Data Input'!AM124,'Data Input'!AN124,'Data Input'!AO124,'Data Input'!AP124,'Data Input'!AS124))","v":""},{"$f":"IF(M120=\"\",\"\",M120/COUNTIF('Data Input'!$C$8:$AZ$8,$M$2))","v":""},{"$f":"IF(ISBLANK('Data Input'!A124),\"\",SUM('Data Input'!AY124,'Data Input'!AZ124))","v":""},{"$f":"IF(O120=\"\",\"\",O120/COUNTIF('Data Input'!$C$8:$AZ$8,$O$2))","v":""},{"$f":"IF(ISBLANK('Data Input'!A124),\"\",SUM('Data Input'!AW124))","v":""},{"$f":"IF(Q120=\"\",\"\",Q120/COUNTIF('Data Input'!$C$8:$AZ$8,$Q$2))","v":""},{"$f":"IF(ISBLANK('Data Input'!$A124),\"\",SUM('Data Input'!Q124,'Data Input'!AT124,'Data Input'!AU124))","v":""},{"$f":"IF(S120=\"\",\"\",S120/COUNTIF('Data Input'!$C$8:$AZ$8,$S$2))","v":""},{"$f":"IF(ISBLANK('Data Input'!$A124),\"\",SUM('Data Input'!AX124))","v":""},{"$f":"IF(U120=\"\",\"\",U120/COUNTIF('Data Input'!$C$8:$AZ$8,$U$2))","v":""}]
[{"$f":"IF('Data Input'!A125=0,\"\",'Data Input'!A125)","v":""},{"$f":"IF(ISBLANK('Data Input'!A125),\"\",COUNTIF('Data Input'!C125:AZ125,\"\"))","v":""},{"$f":"IF(ISBLANK('Data Input'!A125),\"\",COUNTIF('Data Input'!C125:AZ125,\"0\"))","v":""},{"$f":"IF(ISBLANK('Data Input'!A125),\"\",SUM(B121,C121))","v":""},{"$f":"IF(ISBLANK('Data Input'!A125),\"\",SUM('Data Input'!C125:AZ125))","v":""},{"$f":"IF(E121=\"\",\"\",E121/(COUNTA('Data Input'!$C$8:$AZ$8)))","v":""},{"$f":"IF(ISBLANK('Data Input'!A125),\"\",SUM('Data Input'!R125,'Data Input'!AA125,'Data Input'!AB125,'Data Input'!AC125,'Data Input'!AE125,'Data Input'!AH125,'Data Input'!AQ125,'Data Input'!AR125))","v":""},{"$f":"IF(G121=\"\",\"\",G121/COUNTIF('Data Input'!$C$8:$AZ$8,$G$2))","v":""},{"$f":"IF(ISBLANK('Data Input'!A125),\"\",SUM('Data Input'!D125,'Data Input'!E125,'Data Input'!F125,'Data Input'!G125,'Data Input'!H125,'Data Input'!J125,'Data Input'!K125,'Data Input'!O125,'Data Input'!U125,'Data Input'!V125,'Data Input'!W125,'Data Input'!X125,'Data Input'!Z125,'Data Input'!AG125,'Data Input'!AI125,'Data Input'!AJ125,'Data Input'!AK125))","v":""},{"$f":"IF(I121=\"\",\"\",I121/COUNTIF('Data Input'!$C$8:$AZ$8,$I$2))","v":""},{"$f":"IF(ISBLANK('Data Input'!A125),\"\",SUM('Data Input'!AF125,'Data Input'!AV125))","v":""},{"$f":"IF(K121=\"\",\"\",K121/COUNTIF('Data Input'!$C$8:$AZ$8,$K$2))","v":""},{"$f":"IF(ISBLANK('Data Input'!A125),\"\",SUM('Data Input'!C125,'Data Input'!I125,'Data Input'!L125,'Data Input'!M125,'Data Input'!N125,'Data Input'!P125,'Data Input'!S125,'Data Input'!T125,'Data Input'!Y125,'Data Input'!AD125,'Data Input'!AL125,'Data Input'!AM125,'Data Input'!AN125,'Data Input'!AO125,'Data Input'!AP125,'Data Input'!AS125))","v":""},{"$f":"IF(M121=\"\",\"\",M121/COUNTIF('Data Input'!$C$8:$AZ$8,$M$2))","v":""},{"$f":"IF(ISBLANK('Data Input'!A125),\"\",SUM('Data Input'!AY125,'Data Input'!AZ125))","v":""},{"$f":"IF(O121=\"\",\"\",O121/COUNTIF('Data Input'!$C$8:$AZ$8,$O$2))","v":""},{"$f":"IF(ISBLANK('Data Input'!A125),\"\",SUM('Data Input'!AW125))","v":""},{"$f":"IF(Q121=\"\",\"\",Q121/COUNTIF('Data Input'!$C$8:$AZ$8,$Q$2))","v":""},{"$f":"IF(ISBLANK('Data Input'!$A125),\"\",SUM('Data Input'!Q125,'Data Input'!AT125,'Data Input'!AU125))","v":""},{"$f":"IF(S121=\"\",\"\",S121/COUNTIF('Data Input'!$C$8:$AZ$8,$S$2))","v":""},{"$f":"IF(ISBLANK('Data Input'!$A125),\"\",SUM('Data Input'!AX125))","v":""},{"$f":"IF(U121=\"\",\"\",U121/COUNTIF('Data Input'!$C$8:$AZ$8,$U$2))","v":""}]
[{"$f":"IF('Data Input'!A126=0,\"\",'Data Input'!A126)","v":""},{"$f":"IF(ISBLANK('Data Input'!A126),\"\",COUNTIF('Data Input'!C126:AZ126,\"\"))","v":""},{"$f":"IF(ISBLANK('Data Input'!A126),\"\",COUNTIF('Data Input'!C126:AZ126,\"0\"))","v":""},{"$f":"IF(ISBLANK('Data Input'!A126),\"\",SUM(B122,C122))","v":""},{"$f":"IF(ISBLANK('Data Input'!A126),\"\",SUM('Data Input'!C126:AZ126))","v":""},{"$f":"IF(E122=\"\",\"\",E122/(COUNTA('Data Input'!$C$8:$AZ$8)))","v":""},{"$f":"IF(ISBLANK('Data Input'!A126),\"\",SUM('Data Input'!R126,'Data Input'!AA126,'Data Input'!AB126,'Data Input'!AC126,'Data Input'!AE126,'Data Input'!AH126,'Data Input'!AQ126,'Data Input'!AR126))","v":""},{"$f":"IF(G122=\"\",\"\",G122/COUNTIF('Data Input'!$C$8:$AZ$8,$G$2))","v":""},{"$f":"IF(ISBLANK('Data Input'!A126),\"\",SUM('Data Input'!D126,'Data Input'!E126,'Data Input'!F126,'Data Input'!G126,'Data Input'!H126,'Data Input'!J126,'Data Input'!K126,'Data Input'!O126,'Data Input'!U126,'Data Input'!V126,'Data Input'!W126,'Data Input'!X126,'Data Input'!Z126,'Data Input'!AG126,'Data Input'!AI126,'Data Input'!AJ126,'Data Input'!AK126))","v":""},{"$f":"IF(I122=\"\",\"\",I122/COUNTIF('Data Input'!$C$8:$AZ$8,$I$2))","v":""},{"$f":"IF(ISBLANK('Data Input'!A126),\"\",SUM('Data Input'!AF126,'Data Input'!AV126))","v":""},{"$f":"IF(K122=\"\",\"\",K122/COUNTIF('Data Input'!$C$8:$AZ$8,$K$2))","v":""},{"$f":"IF(ISBLANK('Data Input'!A126),\"\",SUM('Data Input'!C126,'Data Input'!I126,'Data Input'!L126,'Data Input'!M126,'Data Input'!N126,'Data Input'!P126,'Data Input'!S126,'Data Input'!T126,'Data Input'!Y126,'Data Input'!AD126,'Data Input'!AL126,'Data Input'!AM126,'Data Input'!AN126,'Data Input'!AO126,'Data Input'!AP126,'Data Input'!AS126))","v":""},{"$f":"IF(M122=\"\",\"\",M122/COUNTIF('Data Input'!$C$8:$AZ$8,$M$2))","v":""},{"$f":"IF(ISBLANK('Data Input'!A126),\"\",SUM('Data Input'!AY126,'Data Input'!AZ126))","v":""},{"$f":"IF(O122=\"\",\"\",O122/COUNTIF('Data Input'!$C$8:$AZ$8,$O$2))","v":""},{"$f":"IF(ISBLANK('Data Input'!A126),\"\",SUM('Data Input'!AW126))","v":""},{"$f":"IF(Q122=\"\",\"\",Q122/COUNTIF('Data Input'!$C$8:$AZ$8,$Q$2))","v":""},{"$f":"IF(ISBLANK('Data Input'!$A126),\"\",SUM('Data Input'!Q126,'Data Input'!AT126,'Data Input'!AU126))","v":""},{"$f":"IF(S122=\"\",\"\",S122/COUNTIF('Data Input'!$C$8:$AZ$8,$S$2))","v":""},{"$f":"IF(ISBLANK('Data Input'!$A126),\"\",SUM('Data Input'!AX126))","v":""},{"$f":"IF(U122=\"\",\"\",U122/COUNTIF('Data Input'!$C$8:$AZ$8,$U$2))","v":""}]
[{"$f":"IF('Data Input'!A127=0,\"\",'Data Input'!A127)","v":""},{"$f":"IF(ISBLANK('Data Input'!A127),\"\",COUNTIF('Data Input'!C127:AZ127,\"\"))","v":""},{"$f":"IF(ISBLANK('Data Input'!A127),\"\",COUNTIF('Data Input'!C127:AZ127,\"0\"))","v":""},{"$f":"IF(ISBLANK('Data Input'!A127),\"\",SUM(B123,C123))","v":""},{"$f":"IF(ISBLANK('Data Input'!A127),\"\",SUM('Data Input'!C127:AZ127))","v":""},{"$f":"IF(E123=\"\",\"\",E123/(COUNTA('Data Input'!$C$8:$AZ$8)))","v":""},{"$f":"IF(ISBLANK('Data Input'!A127),\"\",SUM('Data Input'!R127,'Data Input'!AA127,'Data Input'!AB127,'Data Input'!AC127,'Data Input'!AE127,'Data Input'!AH127,'Data Input'!AQ127,'Data Input'!AR127))","v":""},{"$f":"IF(G123=\"\",\"\",G123/COUNTIF('Data Input'!$C$8:$AZ$8,$G$2))","v":""},{"$f":"IF(ISBLANK('Data Input'!A127),\"\",SUM('Data Input'!D127,'Data Input'!E127,'Data Input'!F127,'Data Input'!G127,'Data Input'!H127,'Data Input'!J127,'Data Input'!K127,'Data Input'!O127,'Data Input'!U127,'Data Input'!V127,'Data Input'!W127,'Data Input'!X127,'Data Input'!Z127,'Data Input'!AG127,'Data Input'!AI127,'Data Input'!AJ127,'Data Input'!AK127))","v":""},{"$f":"IF(I123=\"\",\"\",I123/COUNTIF('Data Input'!$C$8:$AZ$8,$I$2))","v":""},{"$f":"IF(ISBLANK('Data Input'!A127),\"\",SUM('Data Input'!AF127,'Data Input'!AV127))","v":""},{"$f":"IF(K123=\"\",\"\",K123/COUNTIF('Data Input'!$C$8:$AZ$8,$K$2))","v":""},{"$f":"IF(ISBLANK('Data Input'!A127),\"\",SUM('Data Input'!C127,'Data Input'!I127,'Data Input'!L127,'Data Input'!M127,'Data Input'!N127,'Data Input'!P127,'Data Input'!S127,'Data Input'!T127,'Data Input'!Y127,'Data Input'!AD127,'Data Input'!AL127,'Data Input'!AM127,'Data Input'!AN127,'Data Input'!AO127,'Data Input'!AP127,'Data Input'!AS127))","v":""},{"$f":"IF(M123=\"\",\"\",M123/COUNTIF('Data Input'!$C$8:$AZ$8,$M$2))","v":""},{"$f":"IF(ISBLANK('Data Input'!A127),\"\",SUM('Data Input'!AY127,'Data Input'!AZ127))","v":""},{"$f":"IF(O123=\"\",\"\",O123/COUNTIF('Data Input'!$C$8:$AZ$8,$O$2))","v":""},{"$f":"IF(ISBLANK('Data Input'!A127),\"\",SUM('Data Input'!AW127))","v":""},{"$f":"IF(Q123=\"\",\"\",Q123/COUNTIF('Data Input'!$C$8:$AZ$8,$Q$2))","v":""},{"$f":"IF(ISBLANK('Data Input'!$A127),\"\",SUM('Data Input'!Q127,'Data Input'!AT127,'Data Input'!AU127))","v":""},{"$f":"IF(S123=\"\",\"\",S123/COUNTIF('Data Input'!$C$8:$AZ$8,$S$2))","v":""},{"$f":"IF(ISBLANK('Data Input'!$A127),\"\",SUM('Data Input'!AX127))","v":""},{"$f":"IF(U123=\"\",\"\",U123/COUNTIF('Data Input'!$C$8:$AZ$8,$U$2))","v":""}]
[{"$f":"IF('Data Input'!A128=0,\"\",'Data Input'!A128)","v":""},{"$f":"IF(ISBLANK('Data Input'!A128),\"\",COUNTIF('Data Input'!C128:AZ128,\"\"))","v":""},{"$f":"IF(ISBLANK('Data Input'!A128),\"\",COUNTIF('Data Input'!C128:AZ128,\"0\"))","v":""},{"$f":"IF(ISBLANK('Data Input'!A128),\"\",SUM(B124,C124))","v":""},{"$f":"IF(ISBLANK('Data Input'!A128),\"\",SUM('Data Input'!C128:AZ128))","v":""},{"$f":"IF(E124=\"\",\"\",E124/(COUNTA('Data Input'!$C$8:$AZ$8)))","v":""},{"$f":"IF(ISBLANK('Data Input'!A128),\"\",SUM('Data Input'!R128,'Data Input'!AA128,'Data Input'!AB128,'Data Input'!AC128,'Data Input'!AE128,'Data Input'!AH128,'Data Input'!AQ128,'Data Input'!AR128))","v":""},{"$f":"IF(G124=\"\",\"\",G124/COUNTIF('Data Input'!$C$8:$AZ$8,$G$2))","v":""},{"$f":"IF(ISBLANK('Data Input'!A128),\"\",SUM('Data Input'!D128,'Data Input'!E128,'Data Input'!F128,'Data Input'!G128,'Data Input'!H128,'Data Input'!J128,'Data Input'!K128,'Data Input'!O128,'Data Input'!U128,'Data Input'!V128,'Data Input'!W128,'Data Input'!X128,'Data Input'!Z128,'Data Input'!AG128,'Data Input'!AI128,'Data Input'!AJ128,'Data Input'!AK128))","v":""},{"$f":"IF(I124=\"\",\"\",I124/COUNTIF('Data Input'!$C$8:$AZ$8,$I$2))","v":""},{"$f":"IF(ISBLANK('Data Input'!A128),\"\",SUM('Data Input'!AF128,'Data Input'!AV128))","v":""},{"$f":"IF(K124=\"\",\"\",K124/COUNTIF('Data Input'!$C$8:$AZ$8,$K$2))","v":""},{"$f":"IF(ISBLANK('Data Input'!A128),\"\",SUM('Data Input'!C128,'Data Input'!I128,'Data Input'!L128,'Data Input'!M128,'Data Input'!N128,'Data Input'!P128,'Data Input'!S128,'Data Input'!T128,'Data Input'!Y128,'Data Input'!AD128,'Data Input'!AL128,'Data Input'!AM128,'Data Input'!AN128,'Data Input'!AO128,'Data Input'!AP128,'Data Input'!AS128))","v":""},{"$f":"IF(M124=\"\",\"\",M124/COUNTIF('Data Input'!$C$8:$AZ$8,$M$2))","v":""},{"$f":"IF(ISBLANK('Data Input'!A128),\"\",SUM('Data Input'!AY128,'Data Input'!AZ128))","v":""},{"$f":"IF(O124=\"\",\"\",O124/COUNTIF('Data Input'!$C$8:$AZ$8,$O$2))","v":""},{"$f":"IF(ISBLANK('Data Input'!A128),\"\",SUM('Data Input'!AW128))","v":""},{"$f":"IF(Q124=\"\",\"\",Q124/COUNTIF('Data Input'!$C$8:$AZ$8,$Q$2))","v":""},{"$f":"IF(ISBLANK('Data Input'!$A128),\"\",SUM('Data Input'!Q128,'Data Input'!AT128,'Data Input'!AU128))","v":""},{"$f":"IF(S124=\"\",\"\",S124/COUNTIF('Data Input'!$C$8:$AZ$8,$S$2))","v":""},{"$f":"IF(ISBLANK('Data Input'!$A128),\"\",SUM('Data Input'!AX128))","v":""},{"$f":"IF(U124=\"\",\"\",U124/COUNTIF('Data Input'!$C$8:$AZ$8,$U$2))","v":""}]
[{"$f":"IF('Data Input'!A129=0,\"\",'Data Input'!A129)","v":""},{"$f":"IF(ISBLANK('Data Input'!A129),\"\",COUNTIF('Data Input'!C129:AZ129,\"\"))","v":""},{"$f":"IF(ISBLANK('Data Input'!A129),\"\",COUNTIF('Data Input'!C129:AZ129,\"0\"))","v":""},{"$f":"IF(ISBLANK('Data Input'!A129),\"\",SUM(B125,C125))","v":""},{"$f":"IF(ISBLANK('Data Input'!A129),\"\",SUM('Data Input'!C129:AZ129))","v":""},{"$f":"IF(E125=\"\",\"\",E125/(COUNTA('Data Input'!$C$8:$AZ$8)))","v":""},{"$f":"IF(ISBLANK('Data Input'!A129),\"\",SUM('Data Input'!R129,'Data Input'!AA129,'Data Input'!AB129,'Data Input'!AC129,'Data Input'!AE129,'Data Input'!AH129,'Data Input'!AQ129,'Data Input'!AR129))","v":""},{"$f":"IF(G125=\"\",\"\",G125/COUNTIF('Data Input'!$C$8:$AZ$8,$G$2))","v":""},{"$f":"IF(ISBLANK('Data Input'!A129),\"\",SUM('Data Input'!D129,'Data Input'!E129,'Data Input'!F129,'Data Input'!G129,'Data Input'!H129,'Data Input'!J129,'Data Input'!K129,'Data Input'!O129,'Data Input'!U129,'Data Input'!V129,'Data Input'!W129,'Data Input'!X129,'Data Input'!Z129,'Data Input'!AG129,'Data Input'!AI129,'Data Input'!AJ129,'Data Input'!AK129))","v":""},{"$f":"IF(I125=\"\",\"\",I125/COUNTIF('Data Input'!$C$8:$AZ$8,$I$2))","v":""},{"$f":"IF(ISBLANK('Data Input'!A129),\"\",SUM('Data Input'!AF129,'Data Input'!AV129))","v":""},{"$f":"IF(K125=\"\",\"\",K125/COUNTIF('Data Input'!$C$8:$AZ$8,$K$2))","v":""},{"$f":"IF(ISBLANK('Data Input'!A129),\"\",SUM('Data Input'!C129,'Data Input'!I129,'Data Input'!L129,'Data Input'!M129,'Data Input'!N129,'Data Input'!P129,'Data Input'!S129,'Data Input'!T129,'Data Input'!Y129,'Data Input'!AD129,'Data Input'!AL129,'Data Input'!AM129,'Data Input'!AN129,'Data Input'!AO129,'Data Input'!AP129,'Data Input'!AS129))","v":""},{"$f":"IF(M125=\"\",\"\",M125/COUNTIF('Data Input'!$C$8:$AZ$8,$M$2))","v":""},{"$f":"IF(ISBLANK('Data Input'!A129),\"\",SUM('Data Input'!AY129,'Data Input'!AZ129))","v":""},{"$f":"IF(O125=\"\",\"\",O125/COUNTIF('Data Input'!$C$8:$AZ$8,$O$2))","v":""},{"$f":"IF(ISBLANK('Data Input'!A129),\"\",SUM('Data Input'!AW129))","v":""},{"$f":"IF(Q125=\"\",\"\",Q125/COUNTIF('Data Input'!$C$8:$AZ$8,$Q$2))","v":""},{"$f":"IF(ISBLANK('Data Input'!$A129),\"\",SUM('Data Input'!Q129,'Data Input'!AT129,'Data Input'!AU129))","v":""},{"$f":"IF(S125=\"\",\"\",S125/COUNTIF('Data Input'!$C$8:$AZ$8,$S$2))","v":""},{"$f":"IF(ISBLANK('Data Input'!$A129),\"\",SUM('Data Input'!AX129))","v":""},{"$f":"IF(U125=\"\",\"\",U125/COUNTIF('Data Input'!$C$8:$AZ$8,$U$2))","v":""}]
[{"$f":"IF('Data Input'!A130=0,\"\",'Data Input'!A130)","v":""},{"$f":"IF(ISBLANK('Data Input'!A130),\"\",COUNTIF('Data Input'!C130:AZ130,\"\"))","v":""},{"$f":"IF(ISBLANK('Data Input'!A130),\"\",COUNTIF('Data Input'!C130:AZ130,\"0\"))","v":""},{"$f":"IF(ISBLANK('Data Input'!A130),\"\",SUM(B126,C126))","v":""},{"$f":"IF(ISBLANK('Data Input'!A130),\"\",SUM('Data Input'!C130:AZ130))","v":""},{"$f":"IF(E126=\"\",\"\",E126/(COUNTA('Data Input'!$C$8:$AZ$8)))","v":""},{"$f":"IF(ISBLANK('Data Input'!A130),\"\",SUM('Data Input'!R130,'Data Input'!AA130,'Data Input'!AB130,'Data Input'!AC130,'Data Input'!AE130,'Data Input'!AH130,'Data Input'!AQ130,'Data Input'!AR130))","v":""},{"$f":"IF(G126=\"\",\"\",G126/COUNTIF('Data Input'!$C$8:$AZ$8,$G$2))","v":""},{"$f":"IF(ISBLANK('Data Input'!A130),\"\",SUM('Data Input'!D130,'Data Input'!E130,'Data Input'!F130,'Data Input'!G130,'Data Input'!H130,'Data Input'!J130,'Data Input'!K130,'Data Input'!O130,'Data Input'!U130,'Data Input'!V130,'Data Input'!W130,'Data Input'!X130,'Data Input'!Z130,'Data Input'!AG130,'Data Input'!AI130,'Data Input'!AJ130,'Data Input'!AK130))","v":""},{"$f":"IF(I126=\"\",\"\",I126/COUNTIF('Data Input'!$C$8:$AZ$8,$I$2))","v":""},{"$f":"IF(ISBLANK('Data Input'!A130),\"\",SUM('Data Input'!AF130,'Data Input'!AV130))","v":""},{"$f":"IF(K126=\"\",\"\",K126/COUNTIF('Data Input'!$C$8:$AZ$8,$K$2))","v":""},{"$f":"IF(ISBLANK('Data Input'!A130),\"\",SUM('Data Input'!C130,'Data Input'!I130,'Data Input'!L130,'Data Input'!M130,'Data Input'!N130,'Data Input'!P130,'Data Input'!S130,'Data Input'!T130,'Data Input'!Y130,'Data Input'!AD130,'Data Input'!AL130,'Data Input'!AM130,'Data Input'!AN130,'Data Input'!AO130,'Data Input'!AP130,'Data Input'!AS130))","v":""},{"$f":"IF(M126=\"\",\"\",M126/COUNTIF('Data Input'!$C$8:$AZ$8,$M$2))","v":""},{"$f":"IF(ISBLANK('Data Input'!A130),\"\",SUM('Data Input'!AY130,'Data Input'!AZ130))","v":""},{"$f":"IF(O126=\"\",\"\",O126/COUNTIF('Data Input'!$C$8:$AZ$8,$O$2))","v":""},{"$f":"IF(ISBLANK('Data Input'!A130),\"\",SUM('Data Input'!AW130))","v":""},{"$f":"IF(Q126=\"\",\"\",Q126/COUNTIF('Data Input'!$C$8:$AZ$8,$Q$2))","v":""},{"$f":"IF(ISBLANK('Data Input'!$A130),\"\",SUM('Data Input'!Q130,'Data Input'!AT130,'Data Input'!AU130))","v":""},{"$f":"IF(S126=\"\",\"\",S126/COUNTIF('Data Input'!$C$8:$AZ$8,$S$2))","v":""},{"$f":"IF(ISBLANK('Data Input'!$A130),\"\",SUM('Data Input'!AX130))","v":""},{"$f":"IF(U126=\"\",\"\",U126/COUNTIF('Data Input'!$C$8:$AZ$8,$U$2))","v":""}]
[{"$f":"IF('Data Input'!A131=0,\"\",'Data Input'!A131)","v":""},{"$f":"IF(ISBLANK('Data Input'!A131),\"\",COUNTIF('Data Input'!C131:AZ131,\"\"))","v":""},{"$f":"IF(ISBLANK('Data Input'!A131),\"\",COUNTIF('Data Input'!C131:AZ131,\"0\"))","v":""},{"$f":"IF(ISBLANK('Data Input'!A131),\"\",SUM(B127,C127))","v":""},{"$f":"IF(ISBLANK('Data Input'!A131),\"\",SUM('Data Input'!C131:AZ131))","v":""},{"$f":"IF(E127=\"\",\"\",E127/(COUNTA('Data Input'!$C$8:$AZ$8)))","v":""},{"$f":"IF(ISBLANK('Data Input'!A131),\"\",SUM('Data Input'!R131,'Data Input'!AA131,'Data Input'!AB131,'Data Input'!AC131,'Data Input'!AE131,'Data Input'!AH131,'Data Input'!AQ131,'Data Input'!AR131))","v":""},{"$f":"IF(G127=\"\",\"\",G127/COUNTIF('Data Input'!$C$8:$AZ$8,$G$2))","v":""},{"$f":"IF(ISBLANK('Data Input'!A131),\"\",SUM('Data Input'!D131,'Data Input'!E131,'Data Input'!F131,'Data Input'!G131,'Data Input'!H131,'Data Input'!J131,'Data Input'!K131,'Data Input'!O131,'Data Input'!U131,'Data Input'!V131,'Data Input'!W131,'Data Input'!X131,'Data Input'!Z131,'Data Input'!AG131,'Data Input'!AI131,'Data Input'!AJ131,'Data Input'!AK131))","v":""},{"$f":"IF(I127=\"\",\"\",I127/COUNTIF('Data Input'!$C$8:$AZ$8,$I$2))","v":""},{"$f":"IF(ISBLANK('Data Input'!A131),\"\",SUM('Data Input'!AF131,'Data Input'!AV131))","v":""},{"$f":"IF(K127=\"\",\"\",K127/COUNTIF('Data Input'!$C$8:$AZ$8,$K$2))","v":""},{"$f":"IF(ISBLANK('Data Input'!A131),\"\",SUM('Data Input'!C131,'Data Input'!I131,'Data Input'!L131,'Data Input'!M131,'Data Input'!N131,'Data Input'!P131,'Data Input'!S131,'Data Input'!T131,'Data Input'!Y131,'Data Input'!AD131,'Data Input'!AL131,'Data Input'!AM131,'Data Input'!AN131,'Data Input'!AO131,'Data Input'!AP131,'Data Input'!AS131))","v":""},{"$f":"IF(M127=\"\",\"\",M127/COUNTIF('Data Input'!$C$8:$AZ$8,$M$2))","v":""},{"$f":"IF(ISBLANK('Data Input'!A131),\"\",SUM('Data Input'!AY131,'Data Input'!AZ131))","v":""},{"$f":"IF(O127=\"\",\"\",O127/COUNTIF('Data Input'!$C$8:$AZ$8,$O$2))","v":""},{"$f":"IF(ISBLANK('Data Input'!A131),\"\",SUM('Data Input'!AW131))","v":""},{"$f":"IF(Q127=\"\",\"\",Q127/COUNTIF('Data Input'!$C$8:$AZ$8,$Q$2))","v":""},{"$f":"IF(ISBLANK('Data Input'!$A131),\"\",SUM('Data Input'!Q131,'Data Input'!AT131,'Data Input'!AU131))","v":""},{"$f":"IF(S127=\"\",\"\",S127/COUNTIF('Data Input'!$C$8:$AZ$8,$S$2))","v":""},{"$f":"IF(ISBLANK('Data Input'!$A131),\"\",SUM('Data Input'!AX131))","v":""},{"$f":"IF(U127=\"\",\"\",U127/COUNTIF('Data Input'!$C$8:$AZ$8,$U$2))","v":""}]
[{"$f":"IF('Data Input'!A132=0,\"\",'Data Input'!A132)","v":""},{"$f":"IF(ISBLANK('Data Input'!A132),\"\",COUNTIF('Data Input'!C132:AZ132,\"\"))","v":""},{"$f":"IF(ISBLANK('Data Input'!A132),\"\",COUNTIF('Data Input'!C132:AZ132,\"0\"))","v":""},{"$f":"IF(ISBLANK('Data Input'!A132),\"\",SUM(B128,C128))","v":""},{"$f":"IF(ISBLANK('Data Input'!A132),\"\",SUM('Data Input'!C132:AZ132))","v":""},{"$f":"IF(E128=\"\",\"\",E128/(COUNTA('Data Input'!$C$8:$AZ$8)))","v":""},{"$f":"IF(ISBLANK('Data Input'!A132),\"\",SUM('Data Input'!R132,'Data Input'!AA132,'Data Input'!AB132,'Data Input'!AC132,'Data Input'!AE132,'Data Input'!AH132,'Data Input'!AQ132,'Data Input'!AR132))","v":""},{"$f":"IF(G128=\"\",\"\",G128/COUNTIF('Data Input'!$C$8:$AZ$8,$G$2))","v":""},{"$f":"IF(ISBLANK('Data Input'!A132),\"\",SUM('Data Input'!D132,'Data Input'!E132,'Data Input'!F132,'Data Input'!G132,'Data Input'!H132,'Data Input'!J132,'Data Input'!K132,'Data Input'!O132,'Data Input'!U132,'Data Input'!V132,'Data Input'!W132,'Data Input'!X132,'Data Input'!Z132,'Data Input'!AG132,'Data Input'!AI132,'Data Input'!AJ132,'Data Input'!AK132))","v":""},{"$f":"IF(I128=\"\",\"\",I128/COUNTIF('Data Input'!$C$8:$AZ$8,$I$2))","v":""},{"$f":"IF(ISBLANK('Data Input'!A132),\"\",SUM('Data Input'!AF132,'Data Input'!AV132))","v":""},{"$f":"IF(K128=\"\",\"\",K128/COUNTIF('Data Input'!$C$8:$AZ$8,$K$2))","v":""},{"$f":"IF(ISBLANK('Data Input'!A132),\"\",SUM('Data Input'!C132,'Data Input'!I132,'Data Input'!L132,'Data Input'!M132,'Data Input'!N132,'Data Input'!P132,'Data Input'!S132,'Data Input'!T132,'Data Input'!Y132,'Data Input'!AD132,'Data Input'!AL132,'Data Input'!AM132,'Data Input'!AN132,'Data Input'!AO132,'Data Input'!AP132,'Data Input'!AS132))","v":""},{"$f":"IF(M128=\"\",\"\",M128/COUNTIF('Data Input'!$C$8:$AZ$8,$M$2))","v":""},{"$f":"IF(ISBLANK('Data Input'!A132),\"\",SUM('Data Input'!AY132,'Data Input'!AZ132))","v":""},{"$f":"IF(O128=\"\",\"\",O128/COUNTIF('Data Input'!$C$8:$AZ$8,$O$2))","v":""},{"$f":"IF(ISBLANK('Data Input'!A132),\"\",SUM('Data Input'!AW132))","v":""},{"$f":"IF(Q128=\"\",\"\",Q128/COUNTIF('Data Input'!$C$8:$AZ$8,$Q$2))","v":""},{"$f":"IF(ISBLANK('Data Input'!$A132),\"\",SUM('Data Input'!Q132,'Data Input'!AT132,'Data Input'!AU132))","v":""},{"$f":"IF(S128=\"\",\"\",S128/COUNTIF('Data Input'!$C$8:$AZ$8,$S$2))","v":""},{"$f":"IF(ISBLANK('Data Input'!$A132),\"\",SUM('Data Input'!AX132))","v":""},{"$f":"IF(U128=\"\",\"\",U128/COUNTIF('Data Input'!$C$8:$AZ$8,$U$2))","v":""}]
[{"$f":"IF('Data Input'!A133=0,\"\",'Data Input'!A133)","v":""},{"$f":"IF(ISBLANK('Data Input'!A133),\"\",COUNTIF('Data Input'!C133:AZ133,\"\"))","v":""},{"$f":"IF(ISBLANK('Data Input'!A133),\"\",COUNTIF('Data Input'!C133:AZ133,\"0\"))","v":""},{"$f":"IF(ISBLANK('Data Input'!A133),\"\",SUM(B129,C129))","v":""},{"$f":"IF(ISBLANK('Data Input'!A133),\"\",SUM('Data Input'!C133:AZ133))","v":""},{"$f":"IF(E129=\"\",\"\",E129/(COUNTA('Data Input'!$C$8:$AZ$8)))","v":""},{"$f":"IF(ISBLANK('Data Input'!A133),\"\",SUM('Data Input'!R133,'Data Input'!AA133,'Data Input'!AB133,'Data Input'!AC133,'Data Input'!AE133,'Data Input'!AH133,'Data Input'!AQ133,'Data Input'!AR133))","v":""},{"$f":"IF(G129=\"\",\"\",G129/COUNTIF('Data Input'!$C$8:$AZ$8,$G$2))","v":""},{"$f":"IF(ISBLANK('Data Input'!A133),\"\",SUM('Data Input'!D133,'Data Input'!E133,'Data Input'!F133,'Data Input'!G133,'Data Input'!H133,'Data Input'!J133,'Data Input'!K133,'Data Input'!O133,'Data Input'!U133,'Data Input'!V133,'Data Input'!W133,'Data Input'!X133,'Data Input'!Z133,'Data Input'!AG133,'Data Input'!AI133,'Data Input'!AJ133,'Data Input'!AK133))","v":""},{"$f":"IF(I129=\"\",\"\",I129/COUNTIF('Data Input'!$C$8:$AZ$8,$I$2))","v":""},{"$f":"IF(ISBLANK('Data Input'!A133),\"\",SUM('Data Input'!AF133,'Data Input'!AV133))","v":""},{"$f":"IF(K129=\"\",\"\",K129/COUNTIF('Data Input'!$C$8:$AZ$8,$K$2))","v":""},{"$f":"IF(ISBLANK('Data Input'!A133),\"\",SUM('Data Input'!C133,'Data Input'!I133,'Data Input'!L133,'Data Input'!M133,'Data Input'!N133,'Data Input'!P133,'Data Input'!S133,'Data Input'!T133,'Data Input'!Y133,'Data Input'!AD133,'Data Input'!AL133,'Data Input'!AM133,'Data Input'!AN133,'Data Input'!AO133,'Data Input'!AP133,'Data Input'!AS133))","v":""},{"$f":"IF(M129=\"\",\"\",M129/COUNTIF('Data Input'!$C$8:$AZ$8,$M$2))","v":""},{"$f":"IF(ISBLANK('Data Input'!A133),\"\",SUM('Data Input'!AY133,'Data Input'!AZ133))","v":""},{"$f":"IF(O129=\"\",\"\",O129/COUNTIF('Data Input'!$C$8:$AZ$8,$O$2))","v":""},{"$f":"IF(ISBLANK('Data Input'!A133),\"\",SUM('Data Input'!AW133))","v":""},{"$f":"IF(Q129=\"\",\"\",Q129/COUNTIF('Data Input'!$C$8:$AZ$8,$Q$2))","v":""},{"$f":"IF(ISBLANK('Data Input'!$A133),\"\",SUM('Data Input'!Q133,'Data Input'!AT133,'Data Input'!AU133))","v":""},{"$f":"IF(S129=\"\",\"\",S129/COUNTIF('Data Input'!$C$8:$AZ$8,$S$2))","v":""},{"$f":"IF(ISBLANK('Data Input'!$A133),\"\",SUM('Data Input'!AX133))","v":""},{"$f":"IF(U129=\"\",\"\",U129/COUNTIF('Data Input'!$C$8:$AZ$8,$U$2))","v":""}]
[{"$f":"IF('Data Input'!A134=0,\"\",'Data Input'!A134)","v":""},{"$f":"IF(ISBLANK('Data Input'!A134),\"\",COUNTIF('Data Input'!C134:AZ134,\"\"))","v":""},{"$f":"IF(ISBLANK('Data Input'!A134),\"\",COUNTIF('Data Input'!C134:AZ134,\"0\"))","v":""},{"$f":"IF(ISBLANK('Data Input'!A134),\"\",SUM(B130,C130))","v":""},{"$f":"IF(ISBLANK('Data Input'!A134),\"\",SUM('Data Input'!C134:AZ134))","v":""},{"$f":"IF(E130=\"\",\"\",E130/(COUNTA('Data Input'!$C$8:$AZ$8)))","v":""},{"$f":"IF(ISBLANK('Data Input'!A134),\"\",SUM('Data Input'!R134,'Data Input'!AA134,'Data Input'!AB134,'Data Input'!AC134,'Data Input'!AE134,'Data Input'!AH134,'Data Input'!AQ134,'Data Input'!AR134))","v":""},{"$f":"IF(G130=\"\",\"\",G130/COUNTIF('Data Input'!$C$8:$AZ$8,$G$2))","v":""},{"$f":"IF(ISBLANK('Data Input'!A134),\"\",SUM('Data Input'!D134,'Data Input'!E134,'Data Input'!F134,'Data Input'!G134,'Data Input'!H134,'Data Input'!J134,'Data Input'!K134,'Data Input'!O134,'Data Input'!U134,'Data Input'!V134,'Data Input'!W134,'Data Input'!X134,'Data Input'!Z134,'Data Input'!AG134,'Data Input'!AI134,'Data Input'!AJ134,'Data Input'!AK134))","v":""},{"$f":"IF(I130=\"\",\"\",I130/COUNTIF('Data Input'!$C$8:$AZ$8,$I$2))","v":""},{"$f":"IF(ISBLANK('Data Input'!A134),\"\",SUM('Data Input'!AF134,'Data Input'!AV134))","v":""},{"$f":"IF(K130=\"\",\"\",K130/COUNTIF('Data Input'!$C$8:$AZ$8,$K$2))","v":""},{"$f":"IF(ISBLANK('Data Input'!A134),\"\",SUM('Data Input'!C134,'Data Input'!I134,'Data Input'!L134,'Data Input'!M134,'Data Input'!N134,'Data Input'!P134,'Data Input'!S134,'Data Input'!T134,'Data Input'!Y134,'Data Input'!AD134,'Data Input'!AL134,'Data Input'!AM134,'Data Input'!AN134,'Data Input'!AO134,'Data Input'!AP134,'Data Input'!AS134))","v":""},{"$f":"IF(M130=\"\",\"\",M130/COUNTIF('Data Input'!$C$8:$AZ$8,$M$2))","v":""},{"$f":"IF(ISBLANK('Data Input'!A134),\"\",SUM('Data Input'!AY134,'Data Input'!AZ134))","v":""},{"$f":"IF(O130=\"\",\"\",O130/COUNTIF('Data Input'!$C$8:$AZ$8,$O$2))","v":""},{"$f":"IF(ISBLANK('Data Input'!A134),\"\",SUM('Data Input'!AW134))","v":""},{"$f":"IF(Q130=\"\",\"\",Q130/COUNTIF('Data Input'!$C$8:$AZ$8,$Q$2))","v":""},{"$f":"IF(ISBLANK('Data Input'!$A134),\"\",SUM('Data Input'!Q134,'Data Input'!AT134,'Data Input'!AU134))","v":""},{"$f":"IF(S130=\"\",\"\",S130/COUNTIF('Data Input'!$C$8:$AZ$8,$S$2))","v":""},{"$f":"IF(ISBLANK('Data Input'!$A134),\"\",SUM('Data Input'!AX134))","v":""},{"$f":"IF(U130=\"\",\"\",U130/COUNTIF('Data Input'!$C$8:$AZ$8,$U$2))","v":""}]
[{"$f":"IF('Data Input'!A135=0,\"\",'Data Input'!A135)","v":""},{"$f":"IF(ISBLANK('Data Input'!A135),\"\",COUNTIF('Data Input'!C135:AZ135,\"\"))","v":""},{"$f":"IF(ISBLANK('Data Input'!A135),\"\",COUNTIF('Data Input'!C135:AZ135,\"0\"))","v":""},{"$f":"IF(ISBLANK('Data Input'!A135),\"\",SUM(B131,C131))","v":""},{"$f":"IF(ISBLANK('Data Input'!A135),\"\",SUM('Data Input'!C135:AZ135))","v":""},{"$f":"IF(E131=\"\",\"\",E131/(COUNTA('Data Input'!$C$8:$AZ$8)))","v":""},{"$f":"IF(ISBLANK('Data Input'!A135),\"\",SUM('Data Input'!R135,'Data Input'!AA135,'Data Input'!AB135,'Data Input'!AC135,'Data Input'!AE135,'Data Input'!AH135,'Data Input'!AQ135,'Data Input'!AR135))","v":""},{"$f":"IF(G131=\"\",\"\",G131/COUNTIF('Data Input'!$C$8:$AZ$8,$G$2))","v":""},{"$f":"IF(ISBLANK('Data Input'!A135),\"\",SUM('Data Input'!D135,'Data Input'!E135,'Data Input'!F135,'Data Input'!G135,'Data Input'!H135,'Data Input'!J135,'Data Input'!K135,'Data Input'!O135,'Data Input'!U135,'Data Input'!V135,'Data Input'!W135,'Data Input'!X135,'Data Input'!Z135,'Data Input'!AG135,'Data Input'!AI135,'Data Input'!AJ135,'Data Input'!AK135))","v":""},{"$f":"IF(I131=\"\",\"\",I131/COUNTIF('Data Input'!$C$8:$AZ$8,$I$2))","v":""},{"$f":"IF(ISBLANK('Data Input'!A135),\"\",SUM('Data Input'!AF135,'Data Input'!AV135))","v":""},{"$f":"IF(K131=\"\",\"\",K131/COUNTIF('Data Input'!$C$8:$AZ$8,$K$2))","v":""},{"$f":"IF(ISBLANK('Data Input'!A135),\"\",SUM('Data Input'!C135,'Data Input'!I135,'Data Input'!L135,'Data Input'!M135,'Data Input'!N135,'Data Input'!P135,'Data Input'!S135,'Data Input'!T135,'Data Input'!Y135,'Data Input'!AD135,'Data Input'!AL135,'Data Input'!AM135,'Data Input'!AN135,'Data Input'!AO135,'Data Input'!AP135,'Data Input'!AS135))","v":""},{"$f":"IF(M131=\"\",\"\",M131/COUNTIF('Data Input'!$C$8:$AZ$8,$M$2))","v":""},{"$f":"IF(ISBLANK('Data Input'!A135),\"\",SUM('Data Input'!AY135,'Data Input'!AZ135))","v":""},{"$f":"IF(O131=\"\",\"\",O131/COUNTIF('Data Input'!$C$8:$AZ$8,$O$2))","v":""},{"$f":"IF(ISBLANK('Data Input'!A135),\"\",SUM('Data Input'!AW135))","v":""},{"$f":"IF(Q131=\"\",\"\",Q131/COUNTIF('Data Input'!$C$8:$AZ$8,$Q$2))","v":""},{"$f":"IF(ISBLANK('Data Input'!$A135),\"\",SUM('Data Input'!Q135,'Data Input'!AT135,'Data Input'!AU135))","v":""},{"$f":"IF(S131=\"\",\"\",S131/COUNTIF('Data Input'!$C$8:$AZ$8,$S$2))","v":""},{"$f":"IF(ISBLANK('Data Input'!$A135),\"\",SUM('Data Input'!AX135))","v":""},{"$f":"IF(U131=\"\",\"\",U131/COUNTIF('Data Input'!$C$8:$AZ$8,$U$2))","v":""}]
[{"$f":"IF('Data Input'!A136=0,\"\",'Data Input'!A136)","v":""},{"$f":"IF(ISBLANK('Data Input'!A136),\"\",COUNTIF('Data Input'!C136:AZ136,\"\"))","v":""},{"$f":"IF(ISBLANK('Data Input'!A136),\"\",COUNTIF('Data Input'!C136:AZ136,\"0\"))","v":""},{"$f":"IF(ISBLANK('Data Input'!A136),\"\",SUM(B132,C132))","v":""},{"$f":"IF(ISBLANK('Data Input'!A136),\"\",SUM('Data Input'!C136:AZ136))","v":""},{"$f":"IF(E132=\"\",\"\",E132/(COUNTA('Data Input'!$C$8:$AZ$8)))","v":""},{"$f":"IF(ISBLANK('Data Input'!A136),\"\",SUM('Data Input'!R136,'Data Input'!AA136,'Data Input'!AB136,'Data Input'!AC136,'Data Input'!AE136,'Data Input'!AH136,'Data Input'!AQ136,'Data Input'!AR136))","v":""},{"$f":"IF(G132=\"\",\"\",G132/COUNTIF('Data Input'!$C$8:$AZ$8,$G$2))","v":""},{"$f":"IF(ISBLANK('Data Input'!A136),\"\",SUM('Data Input'!D136,'Data Input'!E136,'Data Input'!F136,'Data Input'!G136,'Data Input'!H136,'Data Input'!J136,'Data Input'!K136,'Data Input'!O136,'Data Input'!U136,'Data Input'!V136,'Data Input'!W136,'Data Input'!X136,'Data Input'!Z136,'Data Input'!AG136,'Data Input'!AI136,'Data Input'!AJ136,'Data Input'!AK136))","v":""},{"$f":"IF(I132=\"\",\"\",I132/COUNTIF('Data Input'!$C$8:$AZ$8,$I$2))","v":""},{"$f":"IF(ISBLANK('Data Input'!A136),\"\",SUM('Data Input'!AF136,'Data Input'!AV136))","v":""},{"$f":"IF(K132=\"\",\"\",K132/COUNTIF('Data Input'!$C$8:$AZ$8,$K$2))","v":""},{"$f":"IF(ISBLANK('Data Input'!A136),\"\",SUM('Data Input'!C136,'Data Input'!I136,'Data Input'!L136,'Data Input'!M136,'Data Input'!N136,'Data Input'!P136,'Data Input'!S136,'Data Input'!T136,'Data Input'!Y136,'Data Input'!AD136,'Data Input'!AL136,'Data Input'!AM136,'Data Input'!AN136,'Data Input'!AO136,'Data Input'!AP136,'Data Input'!AS136))","v":""},{"$f":"IF(M132=\"\",\"\",M132/COUNTIF('Data Input'!$C$8:$AZ$8,$M$2))","v":""},{"$f":"IF(ISBLANK('Data Input'!A136),\"\",SUM('Data Input'!AY136,'Data Input'!AZ136))","v":""},{"$f":"IF(O132=\"\",\"\",O132/COUNTIF('Data Input'!$C$8:$AZ$8,$O$2))","v":""},{"$f":"IF(ISBLANK('Data Input'!A136),\"\",SUM('Data Input'!AW136))","v":""},{"$f":"IF(Q132=\"\",\"\",Q132/COUNTIF('Data Input'!$C$8:$AZ$8,$Q$2))","v":""},{"$f":"IF(ISBLANK('Data Input'!$A136),\"\",SUM('Data Input'!Q136,'Data Input'!AT136,'Data Input'!AU136))","v":""},{"$f":"IF(S132=\"\",\"\",S132/COUNTIF('Data Input'!$C$8:$AZ$8,$S$2))","v":""},{"$f":"IF(ISBLANK('Data Input'!$A136),\"\",SUM('Data Input'!AX136))","v":""},{"$f":"IF(U132=\"\",\"\",U132/COUNTIF('Data Input'!$C$8:$AZ$8,$U$2))","v":""}]
[{"$f":"IF('Data Input'!A137=0,\"\",'Data Input'!A137)","v":""},{"$f":"IF(ISBLANK('Data Input'!A137),\"\",COUNTIF('Data Input'!C137:AZ137,\"\"))","v":""},{"$f":"IF(ISBLANK('Data Input'!A137),\"\",COUNTIF('Data Input'!C137:AZ137,\"0\"))","v":""},{"$f":"IF(ISBLANK('Data Input'!A137),\"\",SUM(B133,C133))","v":""},{"$f":"IF(ISBLANK('Data Input'!A137),\"\",SUM('Data Input'!C137:AZ137))","v":""},{"$f":"IF(E133=\"\",\"\",E133/(COUNTA('Data Input'!$C$8:$AZ$8)))","v":""},{"$f":"IF(ISBLANK('Data Input'!A137),\"\",SUM('Data Input'!R137,'Data Input'!AA137,'Data Input'!AB137,'Data Input'!AC137,'Data Input'!AE137,'Data Input'!AH137,'Data Input'!AQ137,'Data Input'!AR137))","v":""},{"$f":"IF(G133=\"\",\"\",G133/COUNTIF('Data Input'!$C$8:$AZ$8,$G$2))","v":""},{"$f":"IF(ISBLANK('Data Input'!A137),\"\",SUM('Data Input'!D137,'Data Input'!E137,'Data Input'!F137,'Data Input'!G137,'Data Input'!H137,'Data Input'!J137,'Data Input'!K137,'Data Input'!O137,'Data Input'!U137,'Data Input'!V137,'Data Input'!W137,'Data Input'!X137,'Data Input'!Z137,'Data Input'!AG137,'Data Input'!AI137,'Data Input'!AJ137,'Data Input'!AK137))","v":""},{"$f":"IF(I133=\"\",\"\",I133/COUNTIF('Data Input'!$C$8:$AZ$8,$I$2))","v":""},{"$f":"IF(ISBLANK('Data Input'!A137),\"\",SUM('Data Input'!AF137,'Data Input'!AV137))","v":""},{"$f":"IF(K133=\"\",\"\",K133/COUNTIF('Data Input'!$C$8:$AZ$8,$K$2))","v":""},{"$f":"IF(ISBLANK('Data Input'!A137),\"\",SUM('Data Input'!C137,'Data Input'!I137,'Data Input'!L137,'Data Input'!M137,'Data Input'!N137,'Data Input'!P137,'Data Input'!S137,'Data Input'!T137,'Data Input'!Y137,'Data Input'!AD137,'Data Input'!AL137,'Data Input'!AM137,'Data Input'!AN137,'Data Input'!AO137,'Data Input'!AP137,'Data Input'!AS137))","v":""},{"$f":"IF(M133=\"\",\"\",M133/COUNTIF('Data Input'!$C$8:$AZ$8,$M$2))","v":""},{"$f":"IF(ISBLANK('Data Input'!A137),\"\",SUM('Data Input'!AY137,'Data Input'!AZ137))","v":""},{"$f":"IF(O133=\"\",\"\",O133/COUNTIF('Data Input'!$C$8:$AZ$8,$O$2))","v":""},{"$f":"IF(ISBLANK('Data Input'!A137),\"\",SUM('Data Input'!AW137))","v":""},{"$f":"IF(Q133=\"\",\"\",Q133/COUNTIF('Data Input'!$C$8:$AZ$8,$Q$2))","v":""},{"$f":"IF(ISBLANK('Data Input'!$A137),\"\",SUM('Data Input'!Q137,'Data Input'!AT137,'Data Input'!AU137))","v":""},{"$f":"IF(S133=\"\",\"\",S133/COUNTIF('Data Input'!$C$8:$AZ$8,$S$2))","v":""},{"$f":"IF(ISBLANK('Data Input'!$A137),\"\",SUM('Data Input'!AX137))","v":""},{"$f":"IF(U133=\"\",\"\",U133/COUNTIF('Data Input'!$C$8:$AZ$8,$U$2))","v":""}]
[{"$f":"IF('Data Input'!A138=0,\"\",'Data Input'!A138)","v":""},{"$f":"IF(ISBLANK('Data Input'!A138),\"\",COUNTIF('Data Input'!C138:AZ138,\"\"))","v":""},{"$f":"IF(ISBLANK('Data Input'!A138),\"\",COUNTIF('Data Input'!C138:AZ138,\"0\"))","v":""},{"$f":"IF(ISBLANK('Data Input'!A138),\"\",SUM(B134,C134))","v":""},{"$f":"IF(ISBLANK('Data Input'!A138),\"\",SUM('Data Input'!C138:AZ138))","v":""},{"$f":"IF(E134=\"\",\"\",E134/(COUNTA('Data Input'!$C$8:$AZ$8)))","v":""},{"$f":"IF(ISBLANK('Data Input'!A138),\"\",SUM('Data Input'!R138,'Data Input'!AA138,'Data Input'!AB138,'Data Input'!AC138,'Data Input'!AE138,'Data Input'!AH138,'Data Input'!AQ138,'Data Input'!AR138))","v":""},{"$f":"IF(G134=\"\",\"\",G134/COUNTIF('Data Input'!$C$8:$AZ$8,$G$2))","v":""},{"$f":"IF(ISBLANK('Data Input'!A138),\"\",SUM('Data Input'!D138,'Data Input'!E138,'Data Input'!F138,'Data Input'!G138,'Data Input'!H138,'Data Input'!J138,'Data Input'!K138,'Data Input'!O138,'Data Input'!U138,'Data Input'!V138,'Data Input'!W138,'Data Input'!X138,'Data Input'!Z138,'Data Input'!AG138,'Data Input'!AI138,'Data Input'!AJ138,'Data Input'!AK138))","v":""},{"$f":"IF(I134=\"\",\"\",I134/COUNTIF('Data Input'!$C$8:$AZ$8,$I$2))","v":""},{"$f":"IF(ISBLANK('Data Input'!A138),\"\",SUM('Data Input'!AF138,'Data Input'!AV138))","v":""},{"$f":"IF(K134=\"\",\"\",K134/COUNTIF('Data Input'!$C$8:$AZ$8,$K$2))","v":""},{"$f":"IF(ISBLANK('Data Input'!A138),\"\",SUM('Data Input'!C138,'Data Input'!I138,'Data Input'!L138,'Data Input'!M138,'Data Input'!N138,'Data Input'!P138,'Data Input'!S138,'Data Input'!T138,'Data Input'!Y138,'Data Input'!AD138,'Data Input'!AL138,'Data Input'!AM138,'Data Input'!AN138,'Data Input'!AO138,'Data Input'!AP138,'Data Input'!AS138))","v":""},{"$f":"IF(M134=\"\",\"\",M134/COUNTIF('Data Input'!$C$8:$AZ$8,$M$2))","v":""},{"$f":"IF(ISBLANK('Data Input'!A138),\"\",SUM('Data Input'!AY138,'Data Input'!AZ138))","v":""},{"$f":"IF(O134=\"\",\"\",O134/COUNTIF('Data Input'!$C$8:$AZ$8,$O$2))","v":""},{"$f":"IF(ISBLANK('Data Input'!A138),\"\",SUM('Data Input'!AW138))","v":""},{"$f":"IF(Q134=\"\",\"\",Q134/COUNTIF('Data Input'!$C$8:$AZ$8,$Q$2))","v":""},{"$f":"IF(ISBLANK('Data Input'!$A138),\"\",SUM('Data Input'!Q138,'Data Input'!AT138,'Data Input'!AU138))","v":""},{"$f":"IF(S134=\"\",\"\",S134/COUNTIF('Data Input'!$C$8:$AZ$8,$S$2))","v":""},{"$f":"IF(ISBLANK('Data Input'!$A138),\"\",SUM('Data Input'!AX138))","v":""},{"$f":"IF(U134=\"\",\"\",U134/COUNTIF('Data Input'!$C$8:$AZ$8,$U$2))","v":""}]
[{"$f":"IF('Data Input'!A139=0,\"\",'Data Input'!A139)","v":""},{"$f":"IF(ISBLANK('Data Input'!A139),\"\",COUNTIF('Data Input'!C139:AZ139,\"\"))","v":""},{"$f":"IF(ISBLANK('Data Input'!A139),\"\",COUNTIF('Data Input'!C139:AZ139,\"0\"))","v":""},{"$f":"IF(ISBLANK('Data Input'!A139),\"\",SUM(B135,C135))","v":""},{"$f":"IF(ISBLANK('Data Input'!A139),\"\",SUM('Data Input'!C139:AZ139))","v":""},{"$f":"IF(E135=\"\",\"\",E135/(COUNTA('Data Input'!$C$8:$AZ$8)))","v":""},{"$f":"IF(ISBLANK('Data Input'!A139),\"\",SUM('Data Input'!R139,'Data Input'!AA139,'Data Input'!AB139,'Data Input'!AC139,'Data Input'!AE139,'Data Input'!AH139,'Data Input'!AQ139,'Data Input'!AR139))","v":""},{"$f":"IF(G135=\"\",\"\",G135/COUNTIF('Data Input'!$C$8:$AZ$8,$G$2))","v":""},{"$f":"IF(ISBLANK('Data Input'!A139),\"\",SUM('Data Input'!D139,'Data Input'!E139,'Data Input'!F139,'Data Input'!G139,'Data Input'!H139,'Data Input'!J139,'Data Input'!K139,'Data Input'!O139,'Data Input'!U139,'Data Input'!V139,'Data Input'!W139,'Data Input'!X139,'Data Input'!Z139,'Data Input'!AG139,'Data Input'!AI139,'Data Input'!AJ139,'Data Input'!AK139))","v":""},{"$f":"IF(I135=\"\",\"\",I135/COUNTIF('Data Input'!$C$8:$AZ$8,$I$2))","v":""},{"$f":"IF(ISBLANK('Data Input'!A139),\"\",SUM('Data Input'!AF139,'Data Input'!AV139))","v":""},{"$f":"IF(K135=\"\",\"\",K135/COUNTIF('Data Input'!$C$8:$AZ$8,$K$2))","v":""},{"$f":"IF(ISBLANK('Data Input'!A139),\"\",SUM('Data Input'!C139,'Data Input'!I139,'Data Input'!L139,'Data Input'!M139,'Data Input'!N139,'Data Input'!P139,'Data Input'!S139,'Data Input'!T139,'Data Input'!Y139,'Data Input'!AD139,'Data Input'!AL139,'Data Input'!AM139,'Data Input'!AN139,'Data Input'!AO139,'Data Input'!AP139,'Data Input'!AS139))","v":""},{"$f":"IF(M135=\"\",\"\",M135/COUNTIF('Data Input'!$C$8:$AZ$8,$M$2))","v":""},{"$f":"IF(ISBLANK('Data Input'!A139),\"\",SUM('Data Input'!AY139,'Data Input'!AZ139))","v":""},{"$f":"IF(O135=\"\",\"\",O135/COUNTIF('Data Input'!$C$8:$AZ$8,$O$2))","v":""},{"$f":"IF(ISBLANK('Data Input'!A139),\"\",SUM('Data Input'!AW139))","v":""},{"$f":"IF(Q135=\"\",\"\",Q135/COUNTIF('Data Input'!$C$8:$AZ$8,$Q$2))","v":""},{"$f":"IF(ISBLANK('Data Input'!$A139),\"\",SUM('Data Input'!Q139,'Data Input'!AT139,'Data Input'!AU139))","v":""},{"$f":"IF(S135=\"\",\"\",S135/COUNTIF('Data Input'!$C$8:$AZ$8,$S$2))","v":""},{"$f":"IF(ISBLANK('Data Input'!$A139),\"\",SUM('Data Input'!AX139))","v":""},{"$f":"IF(U135=\"\",\"\",U135/COUNTIF('Data Input'!$C$8:$AZ$8,$U$2))","v":""}]
[{"$f":"IF('Data Input'!A140=0,\"\",'Data Input'!A140)","v":""},{"$f":"IF(ISBLANK('Data Input'!A140),\"\",COUNTIF('Data Input'!C140:AZ140,\"\"))","v":""},{"$f":"IF(ISBLANK('Data Input'!A140),\"\",COUNTIF('Data Input'!C140:AZ140,\"0\"))","v":""},{"$f":"IF(ISBLANK('Data Input'!A140),\"\",SUM(B136,C136))","v":""},{"$f":"IF(ISBLANK('Data Input'!A140),\"\",SUM('Data Input'!C140:AZ140))","v":""},{"$f":"IF(E136=\"\",\"\",E136/(COUNTA('Data Input'!$C$8:$AZ$8)))","v":""},{"$f":"IF(ISBLANK('Data Input'!A140),\"\",SUM('Data Input'!R140,'Data Input'!AA140,'Data Input'!AB140,'Data Input'!AC140,'Data Input'!AE140,'Data Input'!AH140,'Data Input'!AQ140,'Data Input'!AR140))","v":""},{"$f":"IF(G136=\"\",\"\",G136/COUNTIF('Data Input'!$C$8:$AZ$8,$G$2))","v":""},{"$f":"IF(ISBLANK('Data Input'!A140),\"\",SUM('Data Input'!D140,'Data Input'!E140,'Data Input'!F140,'Data Input'!G140,'Data Input'!H140,'Data Input'!J140,'Data Input'!K140,'Data Input'!O140,'Data Input'!U140,'Data Input'!V140,'Data Input'!W140,'Data Input'!X140,'Data Input'!Z140,'Data Input'!AG140,'Data Input'!AI140,'Data Input'!AJ140,'Data Input'!AK140))","v":""},{"$f":"IF(I136=\"\",\"\",I136/COUNTIF('Data Input'!$C$8:$AZ$8,$I$2))","v":""},{"$f":"IF(ISBLANK('Data Input'!A140),\"\",SUM('Data Input'!AF140,'Data Input'!AV140))","v":""},{"$f":"IF(K136=\"\",\"\",K136/COUNTIF('Data Input'!$C$8:$AZ$8,$K$2))","v":""},{"$f":"IF(ISBLANK('Data Input'!A140),\"\",SUM('Data Input'!C140,'Data Input'!I140,'Data Input'!L140,'Data Input'!M140,'Data Input'!N140,'Data Input'!P140,'Data Input'!S140,'Data Input'!T140,'Data Input'!Y140,'Data Input'!AD140,'Data Input'!AL140,'Data Input'!AM140,'Data Input'!AN140,'Data Input'!AO140,'Data Input'!AP140,'Data Input'!AS140))","v":""},{"$f":"IF(M136=\"\",\"\",M136/COUNTIF('Data Input'!$C$8:$AZ$8,$M$2))","v":""},{"$f":"IF(ISBLANK('Data Input'!A140),\"\",SUM('Data Input'!AY140,'Data Input'!AZ140))","v":""},{"$f":"IF(O136=\"\",\"\",O136/COUNTIF('Data Input'!$C$8:$AZ$8,$O$2))","v":""},{"$f":"IF(ISBLANK('Data Input'!A140),\"\",SUM('Data Input'!AW140))","v":""},{"$f":"IF(Q136=\"\",\"\",Q136/COUNTIF('Data Input'!$C$8:$AZ$8,$Q$2))","v":""},{"$f":"IF(ISBLANK('Data Input'!$A140),\"\",SUM('Data Input'!Q140,'Data Input'!AT140,'Data Input'!AU140))","v":""},{"$f":"IF(S136=\"\",\"\",S136/COUNTIF('Data Input'!$C$8:$AZ$8,$S$2))","v":""},{"$f":"IF(ISBLANK('Data Input'!$A140),\"\",SUM('Data Input'!AX140))","v":""},{"$f":"IF(U136=\"\",\"\",U136/COUNTIF('Data Input'!$C$8:$AZ$8,$U$2))","v":""}]
[{"$f":"IF('Data Input'!A141=0,\"\",'Data Input'!A141)","v":""},{"$f":"IF(ISBLANK('Data Input'!A141),\"\",COUNTIF('Data Input'!C141:AZ141,\"\"))","v":""},{"$f":"IF(ISBLANK('Data Input'!A141),\"\",COUNTIF('Data Input'!C141:AZ141,\"0\"))","v":""},{"$f":"IF(ISBLANK('Data Input'!A141),\"\",SUM(B137,C137))","v":""},{"$f":"IF(ISBLANK('Data Input'!A141),\"\",SUM('Data Input'!C141:AZ141))","v":""},{"$f":"IF(E137=\"\",\"\",E137/(COUNTA('Data Input'!$C$8:$AZ$8)))","v":""},{"$f":"IF(ISBLANK('Data Input'!A141),\"\",SUM('Data Input'!R141,'Data Input'!AA141,'Data Input'!AB141,'Data Input'!AC141,'Data Input'!AE141,'Data Input'!AH141,'Data Input'!AQ141,'Data Input'!AR141))","v":""},{"$f":"IF(G137=\"\",\"\",G137/COUNTIF('Data Input'!$C$8:$AZ$8,$G$2))","v":""},{"$f":"IF(ISBLANK('Data Input'!A141),\"\",SUM('Data Input'!D141,'Data Input'!E141,'Data Input'!F141,'Data Input'!G141,'Data Input'!H141,'Data Input'!J141,'Data Input'!K141,'Data Input'!O141,'Data Input'!U141,'Data Input'!V141,'Data Input'!W141,'Data Input'!X141,'Data Input'!Z141,'Data Input'!AG141,'Data Input'!AI141,'Data Input'!AJ141,'Data Input'!AK141))","v":""},{"$f":"IF(I137=\"\",\"\",I137/COUNTIF('Data Input'!$C$8:$AZ$8,$I$2))","v":""},{"$f":"IF(ISBLANK('Data Input'!A141),\"\",SUM('Data Input'!AF141,'Data Input'!AV141))","v":""},{"$f":"IF(K137=\"\",\"\",K137/COUNTIF('Data Input'!$C$8:$AZ$8,$K$2))","v":""},{"$f":"IF(ISBLANK('Data Input'!A141),\"\",SUM('Data Input'!C141,'Data Input'!I141,'Data Input'!L141,'Data Input'!M141,'Data Input'!N141,'Data Input'!P141,'Data Input'!S141,'Data Input'!T141,'Data Input'!Y141,'Data Input'!AD141,'Data Input'!AL141,'Data Input'!AM141,'Data Input'!AN141,'Data Input'!AO141,'Data Input'!AP141,'Data Input'!AS141))","v":""},{"$f":"IF(M137=\"\",\"\",M137/COUNTIF('Data Input'!$C$8:$AZ$8,$M$2))","v":""},{"$f":"IF(ISBLANK('Data Input'!A141),\"\",SUM('Data Input'!AY141,'Data Input'!AZ141))","v":""},{"$f":"IF(O137=\"\",\"\",O137/COUNTIF('Data Input'!$C$8:$AZ$8,$O$2))","v":""},{"$f":"IF(ISBLANK('Data Input'!A141),\"\",SUM('Data Input'!AW141))","v":""},{"$f":"IF(Q137=\"\",\"\",Q137/COUNTIF('Data Input'!$C$8:$AZ$8,$Q$2))","v":""},{"$f":"IF(ISBLANK('Data Input'!$A141),\"\",SUM('Data Input'!Q141,'Data Input'!AT141,'Data Input'!AU141))","v":""},{"$f":"IF(S137=\"\",\"\",S137/COUNTIF('Data Input'!$C$8:$AZ$8,$S$2))","v":""},{"$f":"IF(ISBLANK('Data Input'!$A141),\"\",SUM('Data Input'!AX141))","v":""},{"$f":"IF(U137=\"\",\"\",U137/COUNTIF('Data Input'!$C$8:$AZ$8,$U$2))","v":""}]
[{"$f":"IF('Data Input'!A142=0,\"\",'Data Input'!A142)","v":""},{"$f":"IF(ISBLANK('Data Input'!A142),\"\",COUNTIF('Data Input'!C142:AZ142,\"\"))","v":""},{"$f":"IF(ISBLANK('Data Input'!A142),\"\",COUNTIF('Data Input'!C142:AZ142,\"0\"))","v":""},{"$f":"IF(ISBLANK('Data Input'!A142),\"\",SUM(B138,C138))","v":""},{"$f":"IF(ISBLANK('Data Input'!A142),\"\",SUM('Data Input'!C142:AZ142))","v":""},{"$f":"IF(E138=\"\",\"\",E138/(COUNTA('Data Input'!$C$8:$AZ$8)))","v":""},{"$f":"IF(ISBLANK('Data Input'!A142),\"\",SUM('Data Input'!R142,'Data Input'!AA142,'Data Input'!AB142,'Data Input'!AC142,'Data Input'!AE142,'Data Input'!AH142,'Data Input'!AQ142,'Data Input'!AR142))","v":""},{"$f":"IF(G138=\"\",\"\",G138/COUNTIF('Data Input'!$C$8:$AZ$8,$G$2))","v":""},{"$f":"IF(ISBLANK('Data Input'!A142),\"\",SUM('Data Input'!D142,'Data Input'!E142,'Data Input'!F142,'Data Input'!G142,'Data Input'!H142,'Data Input'!J142,'Data Input'!K142,'Data Input'!O142,'Data Input'!U142,'Data Input'!V142,'Data Input'!W142,'Data Input'!X142,'Data Input'!Z142,'Data Input'!AG142,'Data Input'!AI142,'Data Input'!AJ142,'Data Input'!AK142))","v":""},{"$f":"IF(I138=\"\",\"\",I138/COUNTIF('Data Input'!$C$8:$AZ$8,$I$2))","v":""},{"$f":"IF(ISBLANK('Data Input'!A142),\"\",SUM('Data Input'!AF142,'Data Input'!AV142))","v":""},{"$f":"IF(K138=\"\",\"\",K138/COUNTIF('Data Input'!$C$8:$AZ$8,$K$2))","v":""},{"$f":"IF(ISBLANK('Data Input'!A142),\"\",SUM('Data Input'!C142,'Data Input'!I142,'Data Input'!L142,'Data Input'!M142,'Data Input'!N142,'Data Input'!P142,'Data Input'!S142,'Data Input'!T142,'Data Input'!Y142,'Data Input'!AD142,'Data Input'!AL142,'Data Input'!AM142,'Data Input'!AN142,'Data Input'!AO142,'Data Input'!AP142,'Data Input'!AS142))","v":""},{"$f":"IF(M138=\"\",\"\",M138/COUNTIF('Data Input'!$C$8:$AZ$8,$M$2))","v":""},{"$f":"IF(ISBLANK('Data Input'!A142),\"\",SUM('Data Input'!AY142,'Data Input'!AZ142))","v":""},{"$f":"IF(O138=\"\",\"\",O138/COUNTIF('Data Input'!$C$8:$AZ$8,$O$2))","v":""},{"$f":"IF(ISBLANK('Data Input'!A142),\"\",SUM('Data Input'!AW142))","v":""},{"$f":"IF(Q138=\"\",\"\",Q138/COUNTIF('Data Input'!$C$8:$AZ$8,$Q$2))","v":""},{"$f":"IF(ISBLANK('Data Input'!$A142),\"\",SUM('Data Input'!Q142,'Data Input'!AT142,'Data Input'!AU142))","v":""},{"$f":"IF(S138=\"\",\"\",S138/COUNTIF('Data Input'!$C$8:$AZ$8,$S$2))","v":""},{"$f":"IF(ISBLANK('Data Input'!$A142),\"\",SUM('Data Input'!AX142))","v":""},{"$f":"IF(U138=\"\",\"\",U138/COUNTIF('Data Input'!$C$8:$AZ$8,$U$2))","v":""}]
[{"$f":"IF('Data Input'!A143=0,\"\",'Data Input'!A143)","v":""},{"$f":"IF(ISBLANK('Data Input'!A143),\"\",COUNTIF('Data Input'!C143:AZ143,\"\"))","v":""},{"$f":"IF(ISBLANK('Data Input'!A143),\"\",COUNTIF('Data Input'!C143:AZ143,\"0\"))","v":""},{"$f":"IF(ISBLANK('Data Input'!A143),\"\",SUM(B139,C139))","v":""},{"$f":"IF(ISBLANK('Data Input'!A143),\"\",SUM('Data Input'!C143:AZ143))","v":""},{"$f":"IF(E139=\"\",\"\",E139/(COUNTA('Data Input'!$C$8:$AZ$8)))","v":""},{"$f":"IF(ISBLANK('Data Input'!A143),\"\",SUM('Data Input'!R143,'Data Input'!AA143,'Data Input'!AB143,'Data Input'!AC143,'Data Input'!AE143,'Data Input'!AH143,'Data Input'!AQ143,'Data Input'!AR143))","v":""},{"$f":"IF(G139=\"\",\"\",G139/COUNTIF('Data Input'!$C$8:$AZ$8,$G$2))","v":""},{"$f":"IF(ISBLANK('Data Input'!A143),\"\",SUM('Data Input'!D143,'Data Input'!E143,'Data Input'!F143,'Data Input'!G143,'Data Input'!H143,'Data Input'!J143,'Data Input'!K143,'Data Input'!O143,'Data Input'!U143,'Data Input'!V143,'Data Input'!W143,'Data Input'!X143,'Data Input'!Z143,'Data Input'!AG143,'Data Input'!AI143,'Data Input'!AJ143,'Data Input'!AK143))","v":""},{"$f":"IF(I139=\"\",\"\",I139/COUNTIF('Data Input'!$C$8:$AZ$8,$I$2))","v":""},{"$f":"IF(ISBLANK('Data Input'!A143),\"\",SUM('Data Input'!AF143,'Data Input'!AV143))","v":""},{"$f":"IF(K139=\"\",\"\",K139/COUNTIF('Data Input'!$C$8:$AZ$8,$K$2))","v":""},{"$f":"IF(ISBLANK('Data Input'!A143),\"\",SUM('Data Input'!C143,'Data Input'!I143,'Data Input'!L143,'Data Input'!M143,'Data Input'!N143,'Data Input'!P143,'Data Input'!S143,'Data Input'!T143,'Data Input'!Y143,'Data Input'!AD143,'Data Input'!AL143,'Data Input'!AM143,'Data Input'!AN143,'Data Input'!AO143,'Data Input'!AP143,'Data Input'!AS143))","v":""},{"$f":"IF(M139=\"\",\"\",M139/COUNTIF('Data Input'!$C$8:$AZ$8,$M$2))","v":""},{"$f":"IF(ISBLANK('Data Input'!A143),\"\",SUM('Data Input'!AY143,'Data Input'!AZ143))","v":""},{"$f":"IF(O139=\"\",\"\",O139/COUNTIF('Data Input'!$C$8:$AZ$8,$O$2))","v":""},{"$f":"IF(ISBLANK('Data Input'!A143),\"\",SUM('Data Input'!AW143))","v":""},{"$f":"IF(Q139=\"\",\"\",Q139/COUNTIF('Data Input'!$C$8:$AZ$8,$Q$2))","v":""},{"$f":"IF(ISBLANK('Data Input'!$A143),\"\",SUM('Data Input'!Q143,'Data Input'!AT143,'Data Input'!AU143))","v":""},{"$f":"IF(S139=\"\",\"\",S139/COUNTIF('Data Input'!$C$8:$AZ$8,$S$2))","v":""},{"$f":"IF(ISBLANK('Data Input'!$A143),\"\",SUM('Data Input'!AX143))","v":""},{"$f":"IF(U139=\"\",\"\",U139/COUNTIF('Data Input'!$C$8:$AZ$8,$U$2))","v":""}]
[{"$f":"IF('Data Input'!A144=0,\"\",'Data Input'!A144)","v":""},{"$f":"IF(ISBLANK('Data Input'!A144),\"\",COUNTIF('Data Input'!C144:AZ144,\"\"))","v":""},{"$f":"IF(ISBLANK('Data Input'!A144),\"\",COUNTIF('Data Input'!C144:AZ144,\"0\"))","v":""},{"$f":"IF(ISBLANK('Data Input'!A144),\"\",SUM(B140,C140))","v":""},{"$f":"IF(ISBLANK('Data Input'!A144),\"\",SUM('Data Input'!C144:AZ144))","v":""},{"$f":"IF(E140=\"\",\"\",E140/(COUNTA('Data Input'!$C$8:$AZ$8)))","v":""},{"$f":"IF(ISBLANK('Data Input'!A144),\"\",SUM('Data Input'!R144,'Data Input'!AA144,'Data Input'!AB144,'Data Input'!AC144,'Data Input'!AE144,'Data Input'!AH144,'Data Input'!AQ144,'Data Input'!AR144))","v":""},{"$f":"IF(G140=\"\",\"\",G140/COUNTIF('Data Input'!$C$8:$AZ$8,$G$2))","v":""},{"$f":"IF(ISBLANK('Data Input'!A144),\"\",SUM('Data Input'!D144,'Data Input'!E144,'Data Input'!F144,'Data Input'!G144,'Data Input'!H144,'Data Input'!J144,'Data Input'!K144,'Data Input'!O144,'Data Input'!U144,'Data Input'!V144,'Data Input'!W144,'Data Input'!X144,'Data Input'!Z144,'Data Input'!AG144,'Data Input'!AI144,'Data Input'!AJ144,'Data Input'!AK144))","v":""},{"$f":"IF(I140=\"\",\"\",I140/COUNTIF('Data Input'!$C$8:$AZ$8,$I$2))","v":""},{"$f":"IF(ISBLANK('Data Input'!A144),\"\",SUM('Data Input'!AF144,'Data Input'!AV144))","v":""},{"$f":"IF(K140=\"\",\"\",K140/COUNTIF('Data Input'!$C$8:$AZ$8,$K$2))","v":""},{"$f":"IF(ISBLANK('Data Input'!A144),\"\",SUM('Data Input'!C144,'Data Input'!I144,'Data Input'!L144,'Data Input'!M144,'Data Input'!N144,'Data Input'!P144,'Data Input'!S144,'Data Input'!T144,'Data Input'!Y144,'Data Input'!AD144,'Data Input'!AL144,'Data Input'!AM144,'Data Input'!AN144,'Data Input'!AO144,'Data Input'!AP144,'Data Input'!AS144))","v":""},{"$f":"IF(M140=\"\",\"\",M140/COUNTIF('Data Input'!$C$8:$AZ$8,$M$2))","v":""},{"$f":"IF(ISBLANK('Data Input'!A144),\"\",SUM('Data Input'!AY144,'Data Input'!AZ144))","v":""},{"$f":"IF(O140=\"\",\"\",O140/COUNTIF('Data Input'!$C$8:$AZ$8,$O$2))","v":""},{"$f":"IF(ISBLANK('Data Input'!A144),\"\",SUM('Data Input'!AW144))","v":""},{"$f":"IF(Q140=\"\",\"\",Q140/COUNTIF('Data Input'!$C$8:$AZ$8,$Q$2))","v":""},{"$f":"IF(ISBLANK('Data Input'!$A144),\"\",SUM('Data Input'!Q144,'Data Input'!AT144,'Data Input'!AU144))","v":""},{"$f":"IF(S140=\"\",\"\",S140/COUNTIF('Data Input'!$C$8:$AZ$8,$S$2))","v":""},{"$f":"IF(ISBLANK('Data Input'!$A144),\"\",SUM('Data Input'!AX144))","v":""},{"$f":"IF(U140=\"\",\"\",U140/COUNTIF('Data Input'!$C$8:$AZ$8,$U$2))","v":""}]
[{"$f":"IF('Data Input'!A145=0,\"\",'Data Input'!A145)","v":""},{"$f":"IF(ISBLANK('Data Input'!A145),\"\",COUNTIF('Data Input'!C145:AZ145,\"\"))","v":""},{"$f":"IF(ISBLANK('Data Input'!A145),\"\",COUNTIF('Data Input'!C145:AZ145,\"0\"))","v":""},{"$f":"IF(ISBLANK('Data Input'!A145),\"\",SUM(B141,C141))","v":""},{"$f":"IF(ISBLANK('Data Input'!A145),\"\",SUM('Data Input'!C145:AZ145))","v":""},{"$f":"IF(E141=\"\",\"\",E141/(COUNTA('Data Input'!$C$8:$AZ$8)))","v":""},{"$f":"IF(ISBLANK('Data Input'!A145),\"\",SUM('Data Input'!R145,'Data Input'!AA145,'Data Input'!AB145,'Data Input'!AC145,'Data Input'!AE145,'Data Input'!AH145,'Data Input'!AQ145,'Data Input'!AR145))","v":""},{"$f":"IF(G141=\"\",\"\",G141/COUNTIF('Data Input'!$C$8:$AZ$8,$G$2))","v":""},{"$f":"IF(ISBLANK('Data Input'!A145),\"\",SUM('Data Input'!D145,'Data Input'!E145,'Data Input'!F145,'Data Input'!G145,'Data Input'!H145,'Data Input'!J145,'Data Input'!K145,'Data Input'!O145,'Data Input'!U145,'Data Input'!V145,'Data Input'!W145,'Data Input'!X145,'Data Input'!Z145,'Data Input'!AG145,'Data Input'!AI145,'Data Input'!AJ145,'Data Input'!AK145))","v":""},{"$f":"IF(I141=\"\",\"\",I141/COUNTIF('Data Input'!$C$8:$AZ$8,$I$2))","v":""},{"$f":"IF(ISBLANK('Data Input'!A145),\"\",SUM('Data Input'!AF145,'Data Input'!AV145))","v":""},{"$f":"IF(K141=\"\",\"\",K141/COUNTIF('Data Input'!$C$8:$AZ$8,$K$2))","v":""},{"$f":"IF(ISBLANK('Data Input'!A145),\"\",SUM('Data Input'!C145,'Data Input'!I145,'Data Input'!L145,'Data Input'!M145,'Data Input'!N145,'Data Input'!P145,'Data Input'!S145,'Data Input'!T145,'Data Input'!Y145,'Data Input'!AD145,'Data Input'!AL145,'Data Input'!AM145,'Data Input'!AN145,'Data Input'!AO145,'Data Input'!AP145,'Data Input'!AS145))","v":""},{"$f":"IF(M141=\"\",\"\",M141/COUNTIF('Data Input'!$C$8:$AZ$8,$M$2))","v":""},{"$f":"IF(ISBLANK('Data Input'!A145),\"\",SUM('Data Input'!AY145,'Data Input'!AZ145))","v":""},{"$f":"IF(O141=\"\",\"\",O141/COUNTIF('Data Input'!$C$8:$AZ$8,$O$2))","v":""},{"$f":"IF(ISBLANK('Data Input'!A145),\"\",SUM('Data Input'!AW145))","v":""},{"$f":"IF(Q141=\"\",\"\",Q141/COUNTIF('Data Input'!$C$8:$AZ$8,$Q$2))","v":""},{"$f":"IF(ISBLANK('Data Input'!$A145),\"\",SUM('Data Input'!Q145,'Data Input'!AT145,'Data Input'!AU145))","v":""},{"$f":"IF(S141=\"\",\"\",S141/COUNTIF('Data Input'!$C$8:$AZ$8,$S$2))","v":""},{"$f":"IF(ISBLANK('Data Input'!$A145),\"\",SUM('Data Input'!AX145))","v":""},{"$f":"IF(U141=\"\",\"\",U141/COUNTIF('Data Input'!$C$8:$AZ$8,$U$2))","v":""}]
[{"$f":"IF('Data Input'!A146=0,\"\",'Data Input'!A146)","v":""},{"$f":"IF(ISBLANK('Data Input'!A146),\"\",COUNTIF('Data Input'!C146:AZ146,\"\"))","v":""},{"$f":"IF(ISBLANK('Data Input'!A146),\"\",COUNTIF('Data Input'!C146:AZ146,\"0\"))","v":""},{"$f":"IF(ISBLANK('Data Input'!A146),\"\",SUM(B142,C142))","v":""},{"$f":"IF(ISBLANK('Data Input'!A146),\"\",SUM('Data Input'!C146:AZ146))","v":""},{"$f":"IF(E142=\"\",\"\",E142/(COUNTA('Data Input'!$C$8:$AZ$8)))","v":""},{"$f":"IF(ISBLANK('Data Input'!A146),\"\",SUM('Data Input'!R146,'Data Input'!AA146,'Data Input'!AB146,'Data Input'!AC146,'Data Input'!AE146,'Data Input'!AH146,'Data Input'!AQ146,'Data Input'!AR146))","v":""},{"$f":"IF(G142=\"\",\"\",G142/COUNTIF('Data Input'!$C$8:$AZ$8,$G$2))","v":""},{"$f":"IF(ISBLANK('Data Input'!A146),\"\",SUM('Data Input'!D146,'Data Input'!E146,'Data Input'!F146,'Data Input'!G146,'Data Input'!H146,'Data Input'!J146,'Data Input'!K146,'Data Input'!O146,'Data Input'!U146,'Data Input'!V146,'Data Input'!W146,'Data Input'!X146,'Data Input'!Z146,'Data Input'!AG146,'Data Input'!AI146,'Data Input'!AJ146,'Data Input'!AK146))","v":""},{"$f":"IF(I142=\"\",\"\",I142/COUNTIF('Data Input'!$C$8:$AZ$8,$I$2))","v":""},{"$f":"IF(ISBLANK('Data Input'!A146),\"\",SUM('Data Input'!AF146,'Data Input'!AV146))","v":""},{"$f":"IF(K142=\"\",\"\",K142/COUNTIF('Data Input'!$C$8:$AZ$8,$K$2))","v":""},{"$f":"IF(ISBLANK('Data Input'!A146),\"\",SUM('Data Input'!C146,'Data Input'!I146,'Data Input'!L146,'Data Input'!M146,'Data Input'!N146,'Data Input'!P146,'Data Input'!S146,'Data Input'!T146,'Data Input'!Y146,'Data Input'!AD146,'Data Input'!AL146,'Data Input'!AM146,'Data Input'!AN146,'Data Input'!AO146,'Data Input'!AP146,'Data Input'!AS146))","v":""},{"$f":"IF(M142=\"\",\"\",M142/COUNTIF('Data Input'!$C$8:$AZ$8,$M$2))","v":""},{"$f":"IF(ISBLANK('Data Input'!A146),\"\",SUM('Data Input'!AY146,'Data Input'!AZ146))","v":""},{"$f":"IF(O142=\"\",\"\",O142/COUNTIF('Data Input'!$C$8:$AZ$8,$O$2))","v":""},{"$f":"IF(ISBLANK('Data Input'!A146),\"\",SUM('Data Input'!AW146))","v":""},{"$f":"IF(Q142=\"\",\"\",Q142/COUNTIF('Data Input'!$C$8:$AZ$8,$Q$2))","v":""},{"$f":"IF(ISBLANK('Data Input'!$A146),\"\",SUM('Data Input'!Q146,'Data Input'!AT146,'Data Input'!AU146))","v":""},{"$f":"IF(S142=\"\",\"\",S142/COUNTIF('Data Input'!$C$8:$AZ$8,$S$2))","v":""},{"$f":"IF(ISBLANK('Data Input'!$A146),\"\",SUM('Data Input'!AX146))","v":""},{"$f":"IF(U142=\"\",\"\",U142/COUNTIF('Data Input'!$C$8:$AZ$8,$U$2))","v":""}]
[{"$f":"IF('Data Input'!A147=0,\"\",'Data Input'!A147)","v":""},{"$f":"IF(ISBLANK('Data Input'!A147),\"\",COUNTIF('Data Input'!C147:AZ147,\"\"))","v":""},{"$f":"IF(ISBLANK('Data Input'!A147),\"\",COUNTIF('Data Input'!C147:AZ147,\"0\"))","v":""},{"$f":"IF(ISBLANK('Data Input'!A147),\"\",SUM(B143,C143))","v":""},{"$f":"IF(ISBLANK('Data Input'!A147),\"\",SUM('Data Input'!C147:AZ147))","v":""},{"$f":"IF(E143=\"\",\"\",E143/(COUNTA('Data Input'!$C$8:$AZ$8)))","v":""},{"$f":"IF(ISBLANK('Data Input'!A147),\"\",SUM('Data Input'!R147,'Data Input'!AA147,'Data Input'!AB147,'Data Input'!AC147,'Data Input'!AE147,'Data Input'!AH147,'Data Input'!AQ147,'Data Input'!AR147))","v":""},{"$f":"IF(G143=\"\",\"\",G143/COUNTIF('Data Input'!$C$8:$AZ$8,$G$2))","v":""},{"$f":"IF(ISBLANK('Data Input'!A147),\"\",SUM('Data Input'!D147,'Data Input'!E147,'Data Input'!F147,'Data Input'!G147,'Data Input'!H147,'Data Input'!J147,'Data Input'!K147,'Data Input'!O147,'Data Input'!U147,'Data Input'!V147,'Data Input'!W147,'Data Input'!X147,'Data Input'!Z147,'Data Input'!AG147,'Data Input'!AI147,'Data Input'!AJ147,'Data Input'!AK147))","v":""},{"$f":"IF(I143=\"\",\"\",I143/COUNTIF('Data Input'!$C$8:$AZ$8,$I$2))","v":""},{"$f":"IF(ISBLANK('Data Input'!A147),\"\",SUM('Data Input'!AF147,'Data Input'!AV147))","v":""},{"$f":"IF(K143=\"\",\"\",K143/COUNTIF('Data Input'!$C$8:$AZ$8,$K$2))","v":""},{"$f":"IF(ISBLANK('Data Input'!A147),\"\",SUM('Data Input'!C147,'Data Input'!I147,'Data Input'!L147,'Data Input'!M147,'Data Input'!N147,'Data Input'!P147,'Data Input'!S147,'Data Input'!T147,'Data Input'!Y147,'Data Input'!AD147,'Data Input'!AL147,'Data Input'!AM147,'Data Input'!AN147,'Data Input'!AO147,'Data Input'!AP147,'Data Input'!AS147))","v":""},{"$f":"IF(M143=\"\",\"\",M143/COUNTIF('Data Input'!$C$8:$AZ$8,$M$2))","v":""},{"$f":"IF(ISBLANK('Data Input'!A147),\"\",SUM('Data Input'!AY147,'Data Input'!AZ147))","v":""},{"$f":"IF(O143=\"\",\"\",O143/COUNTIF('Data Input'!$C$8:$AZ$8,$O$2))","v":""},{"$f":"IF(ISBLANK('Data Input'!A147),\"\",SUM('Data Input'!AW147))","v":""},{"$f":"IF(Q143=\"\",\"\",Q143/COUNTIF('Data Input'!$C$8:$AZ$8,$Q$2))","v":""},{"$f":"IF(ISBLANK('Data Input'!$A147),\"\",SUM('Data Input'!Q147,'Data Input'!AT147,'Data Input'!AU147))","v":""},{"$f":"IF(S143=\"\",\"\",S143/COUNTIF('Data Input'!$C$8:$AZ$8,$S$2))","v":""},{"$f":"IF(ISBLANK('Data Input'!$A147),\"\",SUM('Data Input'!AX147))","v":""},{"$f":"IF(U143=\"\",\"\",U143/COUNTIF('Data Input'!$C$8:$AZ$8,$U$2))","v":""}]
[{"$f":"IF('Data Input'!A148=0,\"\",'Data Input'!A148)","v":""},{"$f":"IF(ISBLANK('Data Input'!A148),\"\",COUNTIF('Data Input'!C148:AZ148,\"\"))","v":""},{"$f":"IF(ISBLANK('Data Input'!A148),\"\",COUNTIF('Data Input'!C148:AZ148,\"0\"))","v":""},{"$f":"IF(ISBLANK('Data Input'!A148),\"\",SUM(B144,C144))","v":""},{"$f":"IF(ISBLANK('Data Input'!A148),\"\",SUM('Data Input'!C148:AZ148))","v":""},{"$f":"IF(E144=\"\",\"\",E144/(COUNTA('Data Input'!$C$8:$AZ$8)))","v":""},{"$f":"IF(ISBLANK('Data Input'!A148),\"\",SUM('Data Input'!R148,'Data Input'!AA148,'Data Input'!AB148,'Data Input'!AC148,'Data Input'!AE148,'Data Input'!AH148,'Data Input'!AQ148,'Data Input'!AR148))","v":""},{"$f":"IF(G144=\"\",\"\",G144/COUNTIF('Data Input'!$C$8:$AZ$8,$G$2))","v":""},{"$f":"IF(ISBLANK('Data Input'!A148),\"\",SUM('Data Input'!D148,'Data Input'!E148,'Data Input'!F148,'Data Input'!G148,'Data Input'!H148,'Data Input'!J148,'Data Input'!K148,'Data Input'!O148,'Data Input'!U148,'Data Input'!V148,'Data Input'!W148,'Data Input'!X148,'Data Input'!Z148,'Data Input'!AG148,'Data Input'!AI148,'Data Input'!AJ148,'Data Input'!AK148))","v":""},{"$f":"IF(I144=\"\",\"\",I144/COUNTIF('Data Input'!$C$8:$AZ$8,$I$2))","v":""},{"$f":"IF(ISBLANK('Data Input'!A148),\"\",SUM('Data Input'!AF148,'Data Input'!AV148))","v":""},{"$f":"IF(K144=\"\",\"\",K144/COUNTIF('Data Input'!$C$8:$AZ$8,$K$2))","v":""},{"$f":"IF(ISBLANK('Data Input'!A148),\"\",SUM('Data Input'!C148,'Data Input'!I148,'Data Input'!L148,'Data Input'!M148,'Data Input'!N148,'Data Input'!P148,'Data Input'!S148,'Data Input'!T148,'Data Input'!Y148,'Data Input'!AD148,'Data Input'!AL148,'Data Input'!AM148,'Data Input'!AN148,'Data Input'!AO148,'Data Input'!AP148,'Data Input'!AS148))","v":""},{"$f":"IF(M144=\"\",\"\",M144/COUNTIF('Data Input'!$C$8:$AZ$8,$M$2))","v":""},{"$f":"IF(ISBLANK('Data Input'!A148),\"\",SUM('Data Input'!AY148,'Data Input'!AZ148))","v":""},{"$f":"IF(O144=\"\",\"\",O144/COUNTIF('Data Input'!$C$8:$AZ$8,$O$2))","v":""},{"$f":"IF(ISBLANK('Data Input'!A148),\"\",SUM('Data Input'!AW148))","v":""},{"$f":"IF(Q144=\"\",\"\",Q144/COUNTIF('Data Input'!$C$8:$AZ$8,$Q$2))","v":""},{"$f":"IF(ISBLANK('Data Input'!$A148),\"\",SUM('Data Input'!Q148,'Data Input'!AT148,'Data Input'!AU148))","v":""},{"$f":"IF(S144=\"\",\"\",S144/COUNTIF('Data Input'!$C$8:$AZ$8,$S$2))","v":""},{"$f":"IF(ISBLANK('Data Input'!$A148),\"\",SUM('Data Input'!AX148))","v":""},{"$f":"IF(U144=\"\",\"\",U144/COUNTIF('Data Input'!$C$8:$AZ$8,$U$2))","v":""}]
[{"$f":"IF('Data Input'!A149=0,\"\",'Data Input'!A149)","v":""},{"$f":"IF(ISBLANK('Data Input'!A149),\"\",COUNTIF('Data Input'!C149:AZ149,\"\"))","v":""},{"$f":"IF(ISBLANK('Data Input'!A149),\"\",COUNTIF('Data Input'!C149:AZ149,\"0\"))","v":""},{"$f":"IF(ISBLANK('Data Input'!A149),\"\",SUM(B145,C145))","v":""},{"$f":"IF(ISBLANK('Data Input'!A149),\"\",SUM('Data Input'!C149:AZ149))","v":""},{"$f":"IF(E145=\"\",\"\",E145/(COUNTA('Data Input'!$C$8:$AZ$8)))","v":""},{"$f":"IF(ISBLANK('Data Input'!A149),\"\",SUM('Data Input'!R149,'Data Input'!AA149,'Data Input'!AB149,'Data Input'!AC149,'Data Input'!AE149,'Data Input'!AH149,'Data Input'!AQ149,'Data Input'!AR149))","v":""},{"$f":"IF(G145=\"\",\"\",G145/COUNTIF('Data Input'!$C$8:$AZ$8,$G$2))","v":""},{"$f":"IF(ISBLANK('Data Input'!A149),\"\",SUM('Data Input'!D149,'Data Input'!E149,'Data Input'!F149,'Data Input'!G149,'Data Input'!H149,'Data Input'!J149,'Data Input'!K149,'Data Input'!O149,'Data Input'!U149,'Data Input'!V149,'Data Input'!W149,'Data Input'!X149,'Data Input'!Z149,'Data Input'!AG149,'Data Input'!AI149,'Data Input'!AJ149,'Data Input'!AK149))","v":""},{"$f":"IF(I145=\"\",\"\",I145/COUNTIF('Data Input'!$C$8:$AZ$8,$I$2))","v":""},{"$f":"IF(ISBLANK('Data Input'!A149),\"\",SUM('Data Input'!AF149,'Data Input'!AV149))","v":""},{"$f":"IF(K145=\"\",\"\",K145/COUNTIF('Data Input'!$C$8:$AZ$8,$K$2))","v":""},{"$f":"IF(ISBLANK('Data Input'!A149),\"\",SUM('Data Input'!C149,'Data Input'!I149,'Data Input'!L149,'Data Input'!M149,'Data Input'!N149,'Data Input'!P149,'Data Input'!S149,'Data Input'!T149,'Data Input'!Y149,'Data Input'!AD149,'Data Input'!AL149,'Data Input'!AM149,'Data Input'!AN149,'Data Input'!AO149,'Data Input'!AP149,'Data Input'!AS149))","v":""},{"$f":"IF(M145=\"\",\"\",M145/COUNTIF('Data Input'!$C$8:$AZ$8,$M$2))","v":""},{"$f":"IF(ISBLANK('Data Input'!A149),\"\",SUM('Data Input'!AY149,'Data Input'!AZ149))","v":""},{"$f":"IF(O145=\"\",\"\",O145/COUNTIF('Data Input'!$C$8:$AZ$8,$O$2))","v":""},{"$f":"IF(ISBLANK('Data Input'!A149),\"\",SUM('Data Input'!AW149))","v":""},{"$f":"IF(Q145=\"\",\"\",Q145/COUNTIF('Data Input'!$C$8:$AZ$8,$Q$2))","v":""},{"$f":"IF(ISBLANK('Data Input'!$A149),\"\",SUM('Data Input'!Q149,'Data Input'!AT149,'Data Input'!AU149))","v":""},{"$f":"IF(S145=\"\",\"\",S145/COUNTIF('Data Input'!$C$8:$AZ$8,$S$2))","v":""},{"$f":"IF(ISBLANK('Data Input'!$A149),\"\",SUM('Data Input'!AX149))","v":""},{"$f":"IF(U145=\"\",\"\",U145/COUNTIF('Data Input'!$C$8:$AZ$8,$U$2))","v":""}]
[{"$f":"IF('Data Input'!A150=0,\"\",'Data Input'!A150)","v":""},{"$f":"IF(ISBLANK('Data Input'!A150),\"\",COUNTIF('Data Input'!C150:AZ150,\"\"))","v":""},{"$f":"IF(ISBLANK('Data Input'!A150),\"\",COUNTIF('Data Input'!C150:AZ150,\"0\"))","v":""},{"$f":"IF(ISBLANK('Data Input'!A150),\"\",SUM(B146,C146))","v":""},{"$f":"IF(ISBLANK('Data Input'!A150),\"\",SUM('Data Input'!C150:AZ150))","v":""},{"$f":"IF(E146=\"\",\"\",E146/(COUNTA('Data Input'!$C$8:$AZ$8)))","v":""},{"$f":"IF(ISBLANK('Data Input'!A150),\"\",SUM('Data Input'!R150,'Data Input'!AA150,'Data Input'!AB150,'Data Input'!AC150,'Data Input'!AE150,'Data Input'!AH150,'Data Input'!AQ150,'Data Input'!AR150))","v":""},{"$f":"IF(G146=\"\",\"\",G146/COUNTIF('Data Input'!$C$8:$AZ$8,$G$2))","v":""},{"$f":"IF(ISBLANK('Data Input'!A150),\"\",SUM('Data Input'!D150,'Data Input'!E150,'Data Input'!F150,'Data Input'!G150,'Data Input'!H150,'Data Input'!J150,'Data Input'!K150,'Data Input'!O150,'Data Input'!U150,'Data Input'!V150,'Data Input'!W150,'Data Input'!X150,'Data Input'!Z150,'Data Input'!AG150,'Data Input'!AI150,'Data Input'!AJ150,'Data Input'!AK150))","v":""},{"$f":"IF(I146=\"\",\"\",I146/COUNTIF('Data Input'!$C$8:$AZ$8,$I$2))","v":""},{"$f":"IF(ISBLANK('Data Input'!A150),\"\",SUM('Data Input'!AF150,'Data Input'!AV150))","v":""},{"$f":"IF(K146=\"\",\"\",K146/COUNTIF('Data Input'!$C$8:$AZ$8,$K$2))","v":""},{"$f":"IF(ISBLANK('Data Input'!A150),\"\",SUM('Data Input'!C150,'Data Input'!I150,'Data Input'!L150,'Data Input'!M150,'Data Input'!N150,'Data Input'!P150,'Data Input'!S150,'Data Input'!T150,'Data Input'!Y150,'Data Input'!AD150,'Data Input'!AL150,'Data Input'!AM150,'Data Input'!AN150,'Data Input'!AO150,'Data Input'!AP150,'Data Input'!AS150))","v":""},{"$f":"IF(M146=\"\",\"\",M146/COUNTIF('Data Input'!$C$8:$AZ$8,$M$2))","v":""},{"$f":"IF(ISBLANK('Data Input'!A150),\"\",SUM('Data Input'!AY150,'Data Input'!AZ150))","v":""},{"$f":"IF(O146=\"\",\"\",O146/COUNTIF('Data Input'!$C$8:$AZ$8,$O$2))","v":""},{"$f":"IF(ISBLANK('Data Input'!A150),\"\",SUM('Data Input'!AW150))","v":""},{"$f":"IF(Q146=\"\",\"\",Q146/COUNTIF('Data Input'!$C$8:$AZ$8,$Q$2))","v":""},{"$f":"IF(ISBLANK('Data Input'!$A150),\"\",SUM('Data Input'!Q150,'Data Input'!AT150,'Data Input'!AU150))","v":""},{"$f":"IF(S146=\"\",\"\",S146/COUNTIF('Data Input'!$C$8:$AZ$8,$S$2))","v":""},{"$f":"IF(ISBLANK('Data Input'!$A150),\"\",SUM('Data Input'!AX150))","v":""},{"$f":"IF(U146=\"\",\"\",U146/COUNTIF('Data Input'!$C$8:$AZ$8,$U$2))","v":""}]
[{"$f":"IF('Data Input'!A151=0,\"\",'Data Input'!A151)","v":""},{"$f":"IF(ISBLANK('Data Input'!A151),\"\",COUNTIF('Data Input'!C151:AZ151,\"\"))","v":""},{"$f":"IF(ISBLANK('Data Input'!A151),\"\",COUNTIF('Data Input'!C151:AZ151,\"0\"))","v":""},{"$f":"IF(ISBLANK('Data Input'!A151),\"\",SUM(B147,C147))","v":""},{"$f":"IF(ISBLANK('Data Input'!A151),\"\",SUM('Data Input'!C151:AZ151))","v":""},{"$f":"IF(E147=\"\",\"\",E147/(COUNTA('Data Input'!$C$8:$AZ$8)))","v":""},{"$f":"IF(ISBLANK('Data Input'!A151),\"\",SUM('Data Input'!R151,'Data Input'!AA151,'Data Input'!AB151,'Data Input'!AC151,'Data Input'!AE151,'Data Input'!AH151,'Data Input'!AQ151,'Data Input'!AR151))","v":""},{"$f":"IF(G147=\"\",\"\",G147/COUNTIF('Data Input'!$C$8:$AZ$8,$G$2))","v":""},{"$f":"IF(ISBLANK('Data Input'!A151),\"\",SUM('Data Input'!D151,'Data Input'!E151,'Data Input'!F151,'Data Input'!G151,'Data Input'!H151,'Data Input'!J151,'Data Input'!K151,'Data Input'!O151,'Data Input'!U151,'Data Input'!V151,'Data Input'!W151,'Data Input'!X151,'Data Input'!Z151,'Data Input'!AG151,'Data Input'!AI151,'Data Input'!AJ151,'Data Input'!AK151))","v":""},{"$f":"IF(I147=\"\",\"\",I147/COUNTIF('Data Input'!$C$8:$AZ$8,$I$2))","v":""},{"$f":"IF(ISBLANK('Data Input'!A151),\"\",SUM('Data Input'!AF151,'Data Input'!AV151))","v":""},{"$f":"IF(K147=\"\",\"\",K147/COUNTIF('Data Input'!$C$8:$AZ$8,$K$2))","v":""},{"$f":"IF(ISBLANK('Data Input'!A151),\"\",SUM('Data Input'!C151,'Data Input'!I151,'Data Input'!L151,'Data Input'!M151,'Data Input'!N151,'Data Input'!P151,'Data Input'!S151,'Data Input'!T151,'Data Input'!Y151,'Data Input'!AD151,'Data Input'!AL151,'Data Input'!AM151,'Data Input'!AN151,'Data Input'!AO151,'Data Input'!AP151,'Data Input'!AS151))","v":""},{"$f":"IF(M147=\"\",\"\",M147/COUNTIF('Data Input'!$C$8:$AZ$8,$M$2))","v":""},{"$f":"IF(ISBLANK('Data Input'!A151),\"\",SUM('Data Input'!AY151,'Data Input'!AZ151))","v":""},{"$f":"IF(O147=\"\",\"\",O147/COUNTIF('Data Input'!$C$8:$AZ$8,$O$2))","v":""},{"$f":"IF(ISBLANK('Data Input'!A151),\"\",SUM('Data Input'!AW151))","v":""},{"$f":"IF(Q147=\"\",\"\",Q147/COUNTIF('Data Input'!$C$8:$AZ$8,$Q$2))","v":""},{"$f":"IF(ISBLANK('Data Input'!$A151),\"\",SUM('Data Input'!Q151,'Data Input'!AT151,'Data Input'!AU151))","v":""},{"$f":"IF(S147=\"\",\"\",S147/COUNTIF('Data Input'!$C$8:$AZ$8,$S$2))","v":""},{"$f":"IF(ISBLANK('Data Input'!$A151),\"\",SUM('Data Input'!AX151))","v":""},{"$f":"IF(U147=\"\",\"\",U147/COUNTIF('Data Input'!$C$8:$AZ$8,$U$2))","v":""}]
[{"$f":"IF('Data Input'!A152=0,\"\",'Data Input'!A152)","v":""},{"$f":"IF(ISBLANK('Data Input'!A152),\"\",COUNTIF('Data Input'!C152:AZ152,\"\"))","v":""},{"$f":"IF(ISBLANK('Data Input'!A152),\"\",COUNTIF('Data Input'!C152:AZ152,\"0\"))","v":""},{"$f":"IF(ISBLANK('Data Input'!A152),\"\",SUM(B148,C148))","v":""},{"$f":"IF(ISBLANK('Data Input'!A152),\"\",SUM('Data Input'!C152:AZ152))","v":""},{"$f":"IF(E148=\"\",\"\",E148/(COUNTA('Data Input'!$C$8:$AZ$8)))","v":""},{"$f":"IF(ISBLANK('Data Input'!A152),\"\",SUM('Data Input'!R152,'Data Input'!AA152,'Data Input'!AB152,'Data Input'!AC152,'Data Input'!AE152,'Data Input'!AH152,'Data Input'!AQ152,'Data Input'!AR152))","v":""},{"$f":"IF(G148=\"\",\"\",G148/COUNTIF('Data Input'!$C$8:$AZ$8,$G$2))","v":""},{"$f":"IF(ISBLANK('Data Input'!A152),\"\",SUM('Data Input'!D152,'Data Input'!E152,'Data Input'!F152,'Data Input'!G152,'Data Input'!H152,'Data Input'!J152,'Data Input'!K152,'Data Input'!O152,'Data Input'!U152,'Data Input'!V152,'Data Input'!W152,'Data Input'!X152,'Data Input'!Z152,'Data Input'!AG152,'Data Input'!AI152,'Data Input'!AJ152,'Data Input'!AK152))","v":""},{"$f":"IF(I148=\"\",\"\",I148/COUNTIF('Data Input'!$C$8:$AZ$8,$I$2))","v":""},{"$f":"IF(ISBLANK('Data Input'!A152),\"\",SUM('Data Input'!AF152,'Data Input'!AV152))","v":""},{"$f":"IF(K148=\"\",\"\",K148/COUNTIF('Data Input'!$C$8:$AZ$8,$K$2))","v":""},{"$f":"IF(ISBLANK('Data Input'!A152),\"\",SUM('Data Input'!C152,'Data Input'!I152,'Data Input'!L152,'Data Input'!M152,'Data Input'!N152,'Data Input'!P152,'Data Input'!S152,'Data Input'!T152,'Data Input'!Y152,'Data Input'!AD152,'Data Input'!AL152,'Data Input'!AM152,'Data Input'!AN152,'Data Input'!AO152,'Data Input'!AP152,'Data Input'!AS152))","v":""},{"$f":"IF(M148=\"\",\"\",M148/COUNTIF('Data Input'!$C$8:$AZ$8,$M$2))","v":""},{"$f":"IF(ISBLANK('Data Input'!A152),\"\",SUM('Data Input'!AY152,'Data Input'!AZ152))","v":""},{"$f":"IF(O148=\"\",\"\",O148/COUNTIF('Data Input'!$C$8:$AZ$8,$O$2))","v":""},{"$f":"IF(ISBLANK('Data Input'!A152),\"\",SUM('Data Input'!AW152))","v":""},{"$f":"IF(Q148=\"\",\"\",Q148/COUNTIF('Data Input'!$C$8:$AZ$8,$Q$2))","v":""},{"$f":"IF(ISBLANK('Data Input'!$A152),\"\",SUM('Data Input'!Q152,'Data Input'!AT152,'Data Input'!AU152))","v":""},{"$f":"IF(S148=\"\",\"\",S148/COUNTIF('Data Input'!$C$8:$AZ$8,$S$2))","v":""},{"$f":"IF(ISBLANK('Data Input'!$A152),\"\",SUM('Data Input'!AX152))","v":""},{"$f":"IF(U148=\"\",\"\",U148/COUNTIF('Data Input'!$C$8:$AZ$8,$U$2))","v":""}]
[{"$f":"IF('Data Input'!A153=0,\"\",'Data Input'!A153)","v":""},{"$f":"IF(ISBLANK('Data Input'!A153),\"\",COUNTIF('Data Input'!C153:AZ153,\"\"))","v":""},{"$f":"IF(ISBLANK('Data Input'!A153),\"\",COUNTIF('Data Input'!C153:AZ153,\"0\"))","v":""},{"$f":"IF(ISBLANK('Data Input'!A153),\"\",SUM(B149,C149))","v":""},{"$f":"IF(ISBLANK('Data Input'!A153),\"\",SUM('Data Input'!C153:AZ153))","v":""},{"$f":"IF(E149=\"\",\"\",E149/(COUNTA('Data Input'!$C$8:$AZ$8)))","v":""},{"$f":"IF(ISBLANK('Data Input'!A153),\"\",SUM('Data Input'!R153,'Data Input'!AA153,'Data Input'!AB153,'Data Input'!AC153,'Data Input'!AE153,'Data Input'!AH153,'Data Input'!AQ153,'Data Input'!AR153))","v":""},{"$f":"IF(G149=\"\",\"\",G149/COUNTIF('Data Input'!$C$8:$AZ$8,$G$2))","v":""},{"$f":"IF(ISBLANK('Data Input'!A153),\"\",SUM('Data Input'!D153,'Data Input'!E153,'Data Input'!F153,'Data Input'!G153,'Data Input'!H153,'Data Input'!J153,'Data Input'!K153,'Data Input'!O153,'Data Input'!U153,'Data Input'!V153,'Data Input'!W153,'Data Input'!X153,'Data Input'!Z153,'Data Input'!AG153,'Data Input'!AI153,'Data Input'!AJ153,'Data Input'!AK153))","v":""},{"$f":"IF(I149=\"\",\"\",I149/COUNTIF('Data Input'!$C$8:$AZ$8,$I$2))","v":""},{"$f":"IF(ISBLANK('Data Input'!A153),\"\",SUM('Data Input'!AF153,'Data Input'!AV153))","v":""},{"$f":"IF(K149=\"\",\"\",K149/COUNTIF('Data Input'!$C$8:$AZ$8,$K$2))","v":""},{"$f":"IF(ISBLANK('Data Input'!A153),\"\",SUM('Data Input'!C153,'Data Input'!I153,'Data Input'!L153,'Data Input'!M153,'Data Input'!N153,'Data Input'!P153,'Data Input'!S153,'Data Input'!T153,'Data Input'!Y153,'Data Input'!AD153,'Data Input'!AL153,'Data Input'!AM153,'Data Input'!AN153,'Data Input'!AO153,'Data Input'!AP153,'Data Input'!AS153))","v":""},{"$f":"IF(M149=\"\",\"\",M149/COUNTIF('Data Input'!$C$8:$AZ$8,$M$2))","v":""},{"$f":"IF(ISBLANK('Data Input'!A153),\"\",SUM('Data Input'!AY153,'Data Input'!AZ153))","v":""},{"$f":"IF(O149=\"\",\"\",O149/COUNTIF('Data Input'!$C$8:$AZ$8,$O$2))","v":""},{"$f":"IF(ISBLANK('Data Input'!A153),\"\",SUM('Data Input'!AW153))","v":""},{"$f":"IF(Q149=\"\",\"\",Q149/COUNTIF('Data Input'!$C$8:$AZ$8,$Q$2))","v":""},{"$f":"IF(ISBLANK('Data Input'!$A153),\"\",SUM('Data Input'!Q153,'Data Input'!AT153,'Data Input'!AU153))","v":""},{"$f":"IF(S149=\"\",\"\",S149/COUNTIF('Data Input'!$C$8:$AZ$8,$S$2))","v":""},{"$f":"IF(ISBLANK('Data Input'!$A153),\"\",SUM('Data Input'!AX153))","v":""},{"$f":"IF(U149=\"\",\"\",U149/COUNTIF('Data Input'!$C$8:$AZ$8,$U$2))","v":""}]
[{"$f":"IF('Data Input'!A154=0,\"\",'Data Input'!A154)","v":""},{"$f":"IF(ISBLANK('Data Input'!A154),\"\",COUNTIF('Data Input'!C154:AZ154,\"\"))","v":""},{"$f":"IF(ISBLANK('Data Input'!A154),\"\",COUNTIF('Data Input'!C154:AZ154,\"0\"))","v":""},{"$f":"IF(ISBLANK('Data Input'!A154),\"\",SUM(B150,C150))","v":""},{"$f":"IF(ISBLANK('Data Input'!A154),\"\",SUM('Data Input'!C154:AZ154))","v":""},{"$f":"IF(E150=\"\",\"\",E150/(COUNTA('Data Input'!$C$8:$AZ$8)))","v":""},{"$f":"IF(ISBLANK('Data Input'!A154),\"\",SUM('Data Input'!R154,'Data Input'!AA154,'Data Input'!AB154,'Data Input'!AC154,'Data Input'!AE154,'Data Input'!AH154,'Data Input'!AQ154,'Data Input'!AR154))","v":""},{"$f":"IF(G150=\"\",\"\",G150/COUNTIF('Data Input'!$C$8:$AZ$8,$G$2))","v":""},{"$f":"IF(ISBLANK('Data Input'!A154),\"\",SUM('Data Input'!D154,'Data Input'!E154,'Data Input'!F154,'Data Input'!G154,'Data Input'!H154,'Data Input'!J154,'Data Input'!K154,'Data Input'!O154,'Data Input'!U154,'Data Input'!V154,'Data Input'!W154,'Data Input'!X154,'Data Input'!Z154,'Data Input'!AG154,'Data Input'!AI154,'Data Input'!AJ154,'Data Input'!AK154))","v":""},{"$f":"IF(I150=\"\",\"\",I150/COUNTIF('Data Input'!$C$8:$AZ$8,$I$2))","v":""},{"$f":"IF(ISBLANK('Data Input'!A154),\"\",SUM('Data Input'!AF154,'Data Input'!AV154))","v":""},{"$f":"IF(K150=\"\",\"\",K150/COUNTIF('Data Input'!$C$8:$AZ$8,$K$2))","v":""},{"$f":"IF(ISBLANK('Data Input'!A154),\"\",SUM('Data Input'!C154,'Data Input'!I154,'Data Input'!L154,'Data Input'!M154,'Data Input'!N154,'Data Input'!P154,'Data Input'!S154,'Data Input'!T154,'Data Input'!Y154,'Data Input'!AD154,'Data Input'!AL154,'Data Input'!AM154,'Data Input'!AN154,'Data Input'!AO154,'Data Input'!AP154,'Data Input'!AS154))","v":""},{"$f":"IF(M150=\"\",\"\",M150/COUNTIF('Data Input'!$C$8:$AZ$8,$M$2))","v":""},{"$f":"IF(ISBLANK('Data Input'!A154),\"\",SUM('Data Input'!AY154,'Data Input'!AZ154))","v":""},{"$f":"IF(O150=\"\",\"\",O150/COUNTIF('Data Input'!$C$8:$AZ$8,$O$2))","v":""},{"$f":"IF(ISBLANK('Data Input'!A154),\"\",SUM('Data Input'!AW154))","v":""},{"$f":"IF(Q150=\"\",\"\",Q150/COUNTIF('Data Input'!$C$8:$AZ$8,$Q$2))","v":""},{"$f":"IF(ISBLANK('Data Input'!$A154),\"\",SUM('Data Input'!Q154,'Data Input'!AT154,'Data Input'!AU154))","v":""},{"$f":"IF(S150=\"\",\"\",S150/COUNTIF('Data Input'!$C$8:$AZ$8,$S$2))","v":""},{"$f":"IF(ISBLANK('Data Input'!$A154),\"\",SUM('Data Input'!AX154))","v":""},{"$f":"IF(U150=\"\",\"\",U150/COUNTIF('Data Input'!$C$8:$AZ$8,$U$2))","v":""}]
[{"$f":"IF('Data Input'!A155=0,\"\",'Data Input'!A155)","v":""},{"$f":"IF(ISBLANK('Data Input'!A155),\"\",COUNTIF('Data Input'!C155:AZ155,\"\"))","v":""},{"$f":"IF(ISBLANK('Data Input'!A155),\"\",COUNTIF('Data Input'!C155:AZ155,\"0\"))","v":""},{"$f":"IF(ISBLANK('Data Input'!A155),\"\",SUM(B151,C151))","v":""},{"$f":"IF(ISBLANK('Data Input'!A155),\"\",SUM('Data Input'!C155:AZ155))","v":""},{"$f":"IF(E151=\"\",\"\",E151/(COUNTA('Data Input'!$C$8:$AZ$8)))","v":""},{"$f":"IF(ISBLANK('Data Input'!A155),\"\",SUM('Data Input'!R155,'Data Input'!AA155,'Data Input'!AB155,'Data Input'!AC155,'Data Input'!AE155,'Data Input'!AH155,'Data Input'!AQ155,'Data Input'!AR155))","v":""},{"$f":"IF(G151=\"\",\"\",G151/COUNTIF('Data Input'!$C$8:$AZ$8,$G$2))","v":""},{"$f":"IF(ISBLANK('Data Input'!A155),\"\",SUM('Data Input'!D155,'Data Input'!E155,'Data Input'!F155,'Data Input'!G155,'Data Input'!H155,'Data Input'!J155,'Data Input'!K155,'Data Input'!O155,'Data Input'!U155,'Data Input'!V155,'Data Input'!W155,'Data Input'!X155,'Data Input'!Z155,'Data Input'!AG155,'Data Input'!AI155,'Data Input'!AJ155,'Data Input'!AK155))","v":""},{"$f":"IF(I151=\"\",\"\",I151/COUNTIF('Data Input'!$C$8:$AZ$8,$I$2))","v":""},{"$f":"IF(ISBLANK('Data Input'!A155),\"\",SUM('Data Input'!AF155,'Data Input'!AV155))","v":""},{"$f":"IF(K151=\"\",\"\",K151/COUNTIF('Data Input'!$C$8:$AZ$8,$K$2))","v":""},{"$f":"IF(ISBLANK('Data Input'!A155),\"\",SUM('Data Input'!C155,'Data Input'!I155,'Data Input'!L155,'Data Input'!M155,'Data Input'!N155,'Data Input'!P155,'Data Input'!S155,'Data Input'!T155,'Data Input'!Y155,'Data Input'!AD155,'Data Input'!AL155,'Data Input'!AM155,'Data Input'!AN155,'Data Input'!AO155,'Data Input'!AP155,'Data Input'!AS155))","v":""},{"$f":"IF(M151=\"\",\"\",M151/COUNTIF('Data Input'!$C$8:$AZ$8,$M$2))","v":""},{"$f":"IF(ISBLANK('Data Input'!A155),\"\",SUM('Data Input'!AY155,'Data Input'!AZ155))","v":""},{"$f":"IF(O151=\"\",\"\",O151/COUNTIF('Data Input'!$C$8:$AZ$8,$O$2))","v":""},{"$f":"IF(ISBLANK('Data Input'!A155),\"\",SUM('Data Input'!AW155))","v":""},{"$f":"IF(Q151=\"\",\"\",Q151/COUNTIF('Data Input'!$C$8:$AZ$8,$Q$2))","v":""},{"$f":"IF(ISBLANK('Data Input'!$A155),\"\",SUM('Data Input'!Q155,'Data Input'!AT155,'Data Input'!AU155))","v":""},{"$f":"IF(S151=\"\",\"\",S151/COUNTIF('Data Input'!$C$8:$AZ$8,$S$2))","v":""},{"$f":"IF(ISBLANK('Data Input'!$A155),\"\",SUM('Data Input'!AX155))","v":""},{"$f":"IF(U151=\"\",\"\",U151/COUNTIF('Data Input'!$C$8:$AZ$8,$U$2))","v":""}]
[{"$f":"IF('Data Input'!A156=0,\"\",'Data Input'!A156)","v":""},{"$f":"IF(ISBLANK('Data Input'!A156),\"\",COUNTIF('Data Input'!C156:AZ156,\"\"))","v":""},{"$f":"IF(ISBLANK('Data Input'!A156),\"\",COUNTIF('Data Input'!C156:AZ156,\"0\"))","v":""},{"$f":"IF(ISBLANK('Data Input'!A156),\"\",SUM(B152,C152))","v":""},{"$f":"IF(ISBLANK('Data Input'!A156),\"\",SUM('Data Input'!C156:AZ156))","v":""},{"$f":"IF(E152=\"\",\"\",E152/(COUNTA('Data Input'!$C$8:$AZ$8)))","v":""},{"$f":"IF(ISBLANK('Data Input'!A156),\"\",SUM('Data Input'!R156,'Data Input'!AA156,'Data Input'!AB156,'Data Input'!AC156,'Data Input'!AE156,'Data Input'!AH156,'Data Input'!AQ156,'Data Input'!AR156))","v":""},{"$f":"IF(G152=\"\",\"\",G152/COUNTIF('Data Input'!$C$8:$AZ$8,$G$2))","v":""},{"$f":"IF(ISBLANK('Data Input'!A156),\"\",SUM('Data Input'!D156,'Data Input'!E156,'Data Input'!F156,'Data Input'!G156,'Data Input'!H156,'Data Input'!J156,'Data Input'!K156,'Data Input'!O156,'Data Input'!U156,'Data Input'!V156,'Data Input'!W156,'Data Input'!X156,'Data Input'!Z156,'Data Input'!AG156,'Data Input'!AI156,'Data Input'!AJ156,'Data Input'!AK156))","v":""},{"$f":"IF(I152=\"\",\"\",I152/COUNTIF('Data Input'!$C$8:$AZ$8,$I$2))","v":""},{"$f":"IF(ISBLANK('Data Input'!A156),\"\",SUM('Data Input'!AF156,'Data Input'!AV156))","v":""},{"$f":"IF(K152=\"\",\"\",K152/COUNTIF('Data Input'!$C$8:$AZ$8,$K$2))","v":""},{"$f":"IF(ISBLANK('Data Input'!A156),\"\",SUM('Data Input'!C156,'Data Input'!I156,'Data Input'!L156,'Data Input'!M156,'Data Input'!N156,'Data Input'!P156,'Data Input'!S156,'Data Input'!T156,'Data Input'!Y156,'Data Input'!AD156,'Data Input'!AL156,'Data Input'!AM156,'Data Input'!AN156,'Data Input'!AO156,'Data Input'!AP156,'Data Input'!AS156))","v":""},{"$f":"IF(M152=\"\",\"\",M152/COUNTIF('Data Input'!$C$8:$AZ$8,$M$2))","v":""},{"$f":"IF(ISBLANK('Data Input'!A156),\"\",SUM('Data Input'!AY156,'Data Input'!AZ156))","v":""},{"$f":"IF(O152=\"\",\"\",O152/COUNTIF('Data Input'!$C$8:$AZ$8,$O$2))","v":""},{"$f":"IF(ISBLANK('Data Input'!A156),\"\",SUM('Data Input'!AW156))","v":""},{"$f":"IF(Q152=\"\",\"\",Q152/COUNTIF('Data Input'!$C$8:$AZ$8,$Q$2))","v":""},{"$f":"IF(ISBLANK('Data Input'!$A156),\"\",SUM('Data Input'!Q156,'Data Input'!AT156,'Data Input'!AU156))","v":""},{"$f":"IF(S152=\"\",\"\",S152/COUNTIF('Data Input'!$C$8:$AZ$8,$S$2))","v":""},{"$f":"IF(ISBLANK('Data Input'!$A156),\"\",SUM('Data Input'!AX156))","v":""},{"$f":"IF(U152=\"\",\"\",U152/COUNTIF('Data Input'!$C$8:$AZ$8,$U$2))","v":""}]
[{"$f":"IF('Data Input'!A157=0,\"\",'Data Input'!A157)","v":""},{"$f":"IF(ISBLANK('Data Input'!A157),\"\",COUNTIF('Data Input'!C157:AZ157,\"\"))","v":""},{"$f":"IF(ISBLANK('Data Input'!A157),\"\",COUNTIF('Data Input'!C157:AZ157,\"0\"))","v":""},{"$f":"IF(ISBLANK('Data Input'!A157),\"\",SUM(B153,C153))","v":""},{"$f":"IF(ISBLANK('Data Input'!A157),\"\",SUM('Data Input'!C157:AZ157))","v":""},{"$f":"IF(E153=\"\",\"\",E153/(COUNTA('Data Input'!$C$8:$AZ$8)))","v":""},{"$f":"IF(ISBLANK('Data Input'!A157),\"\",SUM('Data Input'!R157,'Data Input'!AA157,'Data Input'!AB157,'Data Input'!AC157,'Data Input'!AE157,'Data Input'!AH157,'Data Input'!AQ157,'Data Input'!AR157))","v":""},{"$f":"IF(G153=\"\",\"\",G153/COUNTIF('Data Input'!$C$8:$AZ$8,$G$2))","v":""},{"$f":"IF(ISBLANK('Data Input'!A157),\"\",SUM('Data Input'!D157,'Data Input'!E157,'Data Input'!F157,'Data Input'!G157,'Data Input'!H157,'Data Input'!J157,'Data Input'!K157,'Data Input'!O157,'Data Input'!U157,'Data Input'!V157,'Data Input'!W157,'Data Input'!X157,'Data Input'!Z157,'Data Input'!AG157,'Data Input'!AI157,'Data Input'!AJ157,'Data Input'!AK157))","v":""},{"$f":"IF(I153=\"\",\"\",I153/COUNTIF('Data Input'!$C$8:$AZ$8,$I$2))","v":""},{"$f":"IF(ISBLANK('Data Input'!A157),\"\",SUM('Data Input'!AF157,'Data Input'!AV157))","v":""},{"$f":"IF(K153=\"\",\"\",K153/COUNTIF('Data Input'!$C$8:$AZ$8,$K$2))","v":""},{"$f":"IF(ISBLANK('Data Input'!A157),\"\",SUM('Data Input'!C157,'Data Input'!I157,'Data Input'!L157,'Data Input'!M157,'Data Input'!N157,'Data Input'!P157,'Data Input'!S157,'Data Input'!T157,'Data Input'!Y157,'Data Input'!AD157,'Data Input'!AL157,'Data Input'!AM157,'Data Input'!AN157,'Data Input'!AO157,'Data Input'!AP157,'Data Input'!AS157))","v":""},{"$f":"IF(M153=\"\",\"\",M153/COUNTIF('Data Input'!$C$8:$AZ$8,$M$2))","v":""},{"$f":"IF(ISBLANK('Data Input'!A157),\"\",SUM('Data Input'!AY157,'Data Input'!AZ157))","v":""},{"$f":"IF(O153=\"\",\"\",O153/COUNTIF('Data Input'!$C$8:$AZ$8,$O$2))","v":""},{"$f":"IF(ISBLANK('Data Input'!A157),\"\",SUM('Data Input'!AW157))","v":""},{"$f":"IF(Q153=\"\",\"\",Q153/COUNTIF('Data Input'!$C$8:$AZ$8,$Q$2))","v":""},{"$f":"IF(ISBLANK('Data Input'!$A157),\"\",SUM('Data Input'!Q157,'Data Input'!AT157,'Data Input'!AU157))","v":""},{"$f":"IF(S153=\"\",\"\",S153/COUNTIF('Data Input'!$C$8:$AZ$8,$S$2))","v":""},{"$f":"IF(ISBLANK('Data Input'!$A157),\"\",SUM('Data Input'!AX157))","v":""},{"$f":"IF(U153=\"\",\"\",U153/COUNTIF('Data Input'!$C$8:$AZ$8,$U$2))","v":""}]
[{"$f":"IF('Data Input'!A158=0,\"\",'Data Input'!A158)","v":""},{"$f":"IF(ISBLANK('Data Input'!A158),\"\",COUNTIF('Data Input'!C158:AZ158,\"\"))","v":""},{"$f":"IF(ISBLANK('Data Input'!A158),\"\",COUNTIF('Data Input'!C158:AZ158,\"0\"))","v":""},{"$f":"IF(ISBLANK('Data Input'!A158),\"\",SUM(B154,C154))","v":""},{"$f":"IF(ISBLANK('Data Input'!A158),\"\",SUM('Data Input'!C158:AZ158))","v":""},{"$f":"IF(E154=\"\",\"\",E154/(COUNTA('Data Input'!$C$8:$AZ$8)))","v":""},{"$f":"IF(ISBLANK('Data Input'!A158),\"\",SUM('Data Input'!R158,'Data Input'!AA158,'Data Input'!AB158,'Data Input'!AC158,'Data Input'!AE158,'Data Input'!AH158,'Data Input'!AQ158,'Data Input'!AR158))","v":""},{"$f":"IF(G154=\"\",\"\",G154/COUNTIF('Data Input'!$C$8:$AZ$8,$G$2))","v":""},{"$f":"IF(ISBLANK('Data Input'!A158),\"\",SUM('Data Input'!D158,'Data Input'!E158,'Data Input'!F158,'Data Input'!G158,'Data Input'!H158,'Data Input'!J158,'Data Input'!K158,'Data Input'!O158,'Data Input'!U158,'Data Input'!V158,'Data Input'!W158,'Data Input'!X158,'Data Input'!Z158,'Data Input'!AG158,'Data Input'!AI158,'Data Input'!AJ158,'Data Input'!AK158))","v":""},{"$f":"IF(I154=\"\",\"\",I154/COUNTIF('Data Input'!$C$8:$AZ$8,$I$2))","v":""},{"$f":"IF(ISBLANK('Data Input'!A158),\"\",SUM('Data Input'!AF158,'Data Input'!AV158))","v":""},{"$f":"IF(K154=\"\",\"\",K154/COUNTIF('Data Input'!$C$8:$AZ$8,$K$2))","v":""},{"$f":"IF(ISBLANK('Data Input'!A158),\"\",SUM('Data Input'!C158,'Data Input'!I158,'Data Input'!L158,'Data Input'!M158,'Data Input'!N158,'Data Input'!P158,'Data Input'!S158,'Data Input'!T158,'Data Input'!Y158,'Data Input'!AD158,'Data Input'!AL158,'Data Input'!AM158,'Data Input'!AN158,'Data Input'!AO158,'Data Input'!AP158,'Data Input'!AS158))","v":""},{"$f":"IF(M154=\"\",\"\",M154/COUNTIF('Data Input'!$C$8:$AZ$8,$M$2))","v":""},{"$f":"IF(ISBLANK('Data Input'!A158),\"\",SUM('Data Input'!AY158,'Data Input'!AZ158))","v":""},{"$f":"IF(O154=\"\",\"\",O154/COUNTIF('Data Input'!$C$8:$AZ$8,$O$2))","v":""},{"$f":"IF(ISBLANK('Data Input'!A158),\"\",SUM('Data Input'!AW158))","v":""},{"$f":"IF(Q154=\"\",\"\",Q154/COUNTIF('Data Input'!$C$8:$AZ$8,$Q$2))","v":""},{"$f":"IF(ISBLANK('Data Input'!$A158),\"\",SUM('Data Input'!Q158,'Data Input'!AT158,'Data Input'!AU158))","v":""},{"$f":"IF(S154=\"\",\"\",S154/COUNTIF('Data Input'!$C$8:$AZ$8,$S$2))","v":""},{"$f":"IF(ISBLANK('Data Input'!$A158),\"\",SUM('Data Input'!AX158))","v":""},{"$f":"IF(U154=\"\",\"\",U154/COUNTIF('Data Input'!$C$8:$AZ$8,$U$2))","v":""}]
[{"$f":"IF('Data Input'!A159=0,\"\",'Data Input'!A159)","v":""},{"$f":"IF(ISBLANK('Data Input'!A159),\"\",COUNTIF('Data Input'!C159:AZ159,\"\"))","v":""},{"$f":"IF(ISBLANK('Data Input'!A159),\"\",COUNTIF('Data Input'!C159:AZ159,\"0\"))","v":""},{"$f":"IF(ISBLANK('Data Input'!A159),\"\",SUM(B155,C155))","v":""},{"$f":"IF(ISBLANK('Data Input'!A159),\"\",SUM('Data Input'!C159:AZ159))","v":""},{"$f":"IF(E155=\"\",\"\",E155/(COUNTA('Data Input'!$C$8:$AZ$8)))","v":""},{"$f":"IF(ISBLANK('Data Input'!A159),\"\",SUM('Data Input'!R159,'Data Input'!AA159,'Data Input'!AB159,'Data Input'!AC159,'Data Input'!AE159,'Data Input'!AH159,'Data Input'!AQ159,'Data Input'!AR159))","v":""},{"$f":"IF(G155=\"\",\"\",G155/COUNTIF('Data Input'!$C$8:$AZ$8,$G$2))","v":""},{"$f":"IF(ISBLANK('Data Input'!A159),\"\",SUM('Data Input'!D159,'Data Input'!E159,'Data Input'!F159,'Data Input'!G159,'Data Input'!H159,'Data Input'!J159,'Data Input'!K159,'Data Input'!O159,'Data Input'!U159,'Data Input'!V159,'Data Input'!W159,'Data Input'!X159,'Data Input'!Z159,'Data Input'!AG159,'Data Input'!AI159,'Data Input'!AJ159,'Data Input'!AK159))","v":""},{"$f":"IF(I155=\"\",\"\",I155/COUNTIF('Data Input'!$C$8:$AZ$8,$I$2))","v":""},{"$f":"IF(ISBLANK('Data Input'!A159),\"\",SUM('Data Input'!AF159,'Data Input'!AV159))","v":""},{"$f":"IF(K155=\"\",\"\",K155/COUNTIF('Data Input'!$C$8:$AZ$8,$K$2))","v":""},{"$f":"IF(ISBLANK('Data Input'!A159),\"\",SUM('Data Input'!C159,'Data Input'!I159,'Data Input'!L159,'Data Input'!M159,'Data Input'!N159,'Data Input'!P159,'Data Input'!S159,'Data Input'!T159,'Data Input'!Y159,'Data Input'!AD159,'Data Input'!AL159,'Data Input'!AM159,'Data Input'!AN159,'Data Input'!AO159,'Data Input'!AP159,'Data Input'!AS159))","v":""},{"$f":"IF(M155=\"\",\"\",M155/COUNTIF('Data Input'!$C$8:$AZ$8,$M$2))","v":""},{"$f":"IF(ISBLANK('Data Input'!A159),\"\",SUM('Data Input'!AY159,'Data Input'!AZ159))","v":""},{"$f":"IF(O155=\"\",\"\",O155/COUNTIF('Data Input'!$C$8:$AZ$8,$O$2))","v":""},{"$f":"IF(ISBLANK('Data Input'!A159),\"\",SUM('Data Input'!AW159))","v":""},{"$f":"IF(Q155=\"\",\"\",Q155/COUNTIF('Data Input'!$C$8:$AZ$8,$Q$2))","v":""},{"$f":"IF(ISBLANK('Data Input'!$A159),\"\",SUM('Data Input'!Q159,'Data Input'!AT159,'Data Input'!AU159))","v":""},{"$f":"IF(S155=\"\",\"\",S155/COUNTIF('Data Input'!$C$8:$AZ$8,$S$2))","v":""},{"$f":"IF(ISBLANK('Data Input'!$A159),\"\",SUM('Data Input'!AX159))","v":""},{"$f":"IF(U155=\"\",\"\",U155/COUNTIF('Data Input'!$C$8:$AZ$8,$U$2))","v":""}]
[{"$f":"IF('Data Input'!A160=0,\"\",'Data Input'!A160)","v":""},{"$f":"IF(ISBLANK('Data Input'!A160),\"\",COUNTIF('Data Input'!C160:AZ160,\"\"))","v":""},{"$f":"IF(ISBLANK('Data Input'!A160),\"\",COUNTIF('Data Input'!C160:AZ160,\"0\"))","v":""},{"$f":"IF(ISBLANK('Data Input'!A160),\"\",SUM(B156,C156))","v":""},{"$f":"IF(ISBLANK('Data Input'!A160),\"\",SUM('Data Input'!C160:AZ160))","v":""},{"$f":"IF(E156=\"\",\"\",E156/(COUNTA('Data Input'!$C$8:$AZ$8)))","v":""},{"$f":"IF(ISBLANK('Data Input'!A160),\"\",SUM('Data Input'!R160,'Data Input'!AA160,'Data Input'!AB160,'Data Input'!AC160,'Data Input'!AE160,'Data Input'!AH160,'Data Input'!AQ160,'Data Input'!AR160))","v":""},{"$f":"IF(G156=\"\",\"\",G156/COUNTIF('Data Input'!$C$8:$AZ$8,$G$2))","v":""},{"$f":"IF(ISBLANK('Data Input'!A160),\"\",SUM('Data Input'!D160,'Data Input'!E160,'Data Input'!F160,'Data Input'!G160,'Data Input'!H160,'Data Input'!J160,'Data Input'!K160,'Data Input'!O160,'Data Input'!U160,'Data Input'!V160,'Data Input'!W160,'Data Input'!X160,'Data Input'!Z160,'Data Input'!AG160,'Data Input'!AI160,'Data Input'!AJ160,'Data Input'!AK160))","v":""},{"$f":"IF(I156=\"\",\"\",I156/COUNTIF('Data Input'!$C$8:$AZ$8,$I$2))","v":""},{"$f":"IF(ISBLANK('Data Input'!A160),\"\",SUM('Data Input'!AF160,'Data Input'!AV160))","v":""},{"$f":"IF(K156=\"\",\"\",K156/COUNTIF('Data Input'!$C$8:$AZ$8,$K$2))","v":""},{"$f":"IF(ISBLANK('Data Input'!A160),\"\",SUM('Data Input'!C160,'Data Input'!I160,'Data Input'!L160,'Data Input'!M160,'Data Input'!N160,'Data Input'!P160,'Data Input'!S160,'Data Input'!T160,'Data Input'!Y160,'Data Input'!AD160,'Data Input'!AL160,'Data Input'!AM160,'Data Input'!AN160,'Data Input'!AO160,'Data Input'!AP160,'Data Input'!AS160))","v":""},{"$f":"IF(M156=\"\",\"\",M156/COUNTIF('Data Input'!$C$8:$AZ$8,$M$2))","v":""},{"$f":"IF(ISBLANK('Data Input'!A160),\"\",SUM('Data Input'!AY160,'Data Input'!AZ160))","v":""},{"$f":"IF(O156=\"\",\"\",O156/COUNTIF('Data Input'!$C$8:$AZ$8,$O$2))","v":""},{"$f":"IF(ISBLANK('Data Input'!A160),\"\",SUM('Data Input'!AW160))","v":""},{"$f":"IF(Q156=\"\",\"\",Q156/COUNTIF('Data Input'!$C$8:$AZ$8,$Q$2))","v":""},{"$f":"IF(ISBLANK('Data Input'!$A160),\"\",SUM('Data Input'!Q160,'Data Input'!AT160,'Data Input'!AU160))","v":""},{"$f":"IF(S156=\"\",\"\",S156/COUNTIF('Data Input'!$C$8:$AZ$8,$S$2))","v":""},{"$f":"IF(ISBLANK('Data Input'!$A160),\"\",SUM('Data Input'!AX160))","v":""},{"$f":"IF(U156=\"\",\"\",U156/COUNTIF('Data Input'!$C$8:$AZ$8,$U$2))","v":""}]
[{"$f":"IF('Data Input'!A161=0,\"\",'Data Input'!A161)","v":""},{"$f":"IF(ISBLANK('Data Input'!A161),\"\",COUNTIF('Data Input'!C161:AZ161,\"\"))","v":""},{"$f":"IF(ISBLANK('Data Input'!A161),\"\",COUNTIF('Data Input'!C161:AZ161,\"0\"))","v":""},{"$f":"IF(ISBLANK('Data Input'!A161),\"\",SUM(B157,C157))","v":""},{"$f":"IF(ISBLANK('Data Input'!A161),\"\",SUM('Data Input'!C161:AZ161))","v":""},{"$f":"IF(E157=\"\",\"\",E157/(COUNTA('Data Input'!$C$8:$AZ$8)))","v":""},{"$f":"IF(ISBLANK('Data Input'!A161),\"\",SUM('Data Input'!R161,'Data Input'!AA161,'Data Input'!AB161,'Data Input'!AC161,'Data Input'!AE161,'Data Input'!AH161,'Data Input'!AQ161,'Data Input'!AR161))","v":""},{"$f":"IF(G157=\"\",\"\",G157/COUNTIF('Data Input'!$C$8:$AZ$8,$G$2))","v":""},{"$f":"IF(ISBLANK('Data Input'!A161),\"\",SUM('Data Input'!D161,'Data Input'!E161,'Data Input'!F161,'Data Input'!G161,'Data Input'!H161,'Data Input'!J161,'Data Input'!K161,'Data Input'!O161,'Data Input'!U161,'Data Input'!V161,'Data Input'!W161,'Data Input'!X161,'Data Input'!Z161,'Data Input'!AG161,'Data Input'!AI161,'Data Input'!AJ161,'Data Input'!AK161))","v":""},{"$f":"IF(I157=\"\",\"\",I157/COUNTIF('Data Input'!$C$8:$AZ$8,$I$2))","v":""},{"$f":"IF(ISBLANK('Data Input'!A161),\"\",SUM('Data Input'!AF161,'Data Input'!AV161))","v":""},{"$f":"IF(K157=\"\",\"\",K157/COUNTIF('Data Input'!$C$8:$AZ$8,$K$2))","v":""},{"$f":"IF(ISBLANK('Data Input'!A161),\"\",SUM('Data Input'!C161,'Data Input'!I161,'Data Input'!L161,'Data Input'!M161,'Data Input'!N161,'Data Input'!P161,'Data Input'!S161,'Data Input'!T161,'Data Input'!Y161,'Data Input'!AD161,'Data Input'!AL161,'Data Input'!AM161,'Data Input'!AN161,'Data Input'!AO161,'Data Input'!AP161,'Data Input'!AS161))","v":""},{"$f":"IF(M157=\"\",\"\",M157/COUNTIF('Data Input'!$C$8:$AZ$8,$M$2))","v":""},{"$f":"IF(ISBLANK('Data Input'!A161),\"\",SUM('Data Input'!AY161,'Data Input'!AZ161))","v":""},{"$f":"IF(O157=\"\",\"\",O157/COUNTIF('Data Input'!$C$8:$AZ$8,$O$2))","v":""},{"$f":"IF(ISBLANK('Data Input'!A161),\"\",SUM('Data Input'!AW161))","v":""},{"$f":"IF(Q157=\"\",\"\",Q157/COUNTIF('Data Input'!$C$8:$AZ$8,$Q$2))","v":""},{"$f":"IF(ISBLANK('Data Input'!$A161),\"\",SUM('Data Input'!Q161,'Data Input'!AT161,'Data Input'!AU161))","v":""},{"$f":"IF(S157=\"\",\"\",S157/COUNTIF('Data Input'!$C$8:$AZ$8,$S$2))","v":""},{"$f":"IF(ISBLANK('Data Input'!$A161),\"\",SUM('Data Input'!AX161))","v":""},{"$f":"IF(U157=\"\",\"\",U157/COUNTIF('Data Input'!$C$8:$AZ$8,$U$2))","v":""}]
[{"$f":"IF('Data Input'!A162=0,\"\",'Data Input'!A162)","v":""},{"$f":"IF(ISBLANK('Data Input'!A162),\"\",COUNTIF('Data Input'!C162:AZ162,\"\"))","v":""},{"$f":"IF(ISBLANK('Data Input'!A162),\"\",COUNTIF('Data Input'!C162:AZ162,\"0\"))","v":""},{"$f":"IF(ISBLANK('Data Input'!A162),\"\",SUM(B158,C158))","v":""},{"$f":"IF(ISBLANK('Data Input'!A162),\"\",SUM('Data Input'!C162:AZ162))","v":""},{"$f":"IF(E158=\"\",\"\",E158/(COUNTA('Data Input'!$C$8:$AZ$8)))","v":""},{"$f":"IF(ISBLANK('Data Input'!A162),\"\",SUM('Data Input'!R162,'Data Input'!AA162,'Data Input'!AB162,'Data Input'!AC162,'Data Input'!AE162,'Data Input'!AH162,'Data Input'!AQ162,'Data Input'!AR162))","v":""},{"$f":"IF(G158=\"\",\"\",G158/COUNTIF('Data Input'!$C$8:$AZ$8,$G$2))","v":""},{"$f":"IF(ISBLANK('Data Input'!A162),\"\",SUM('Data Input'!D162,'Data Input'!E162,'Data Input'!F162,'Data Input'!G162,'Data Input'!H162,'Data Input'!J162,'Data Input'!K162,'Data Input'!O162,'Data Input'!U162,'Data Input'!V162,'Data Input'!W162,'Data Input'!X162,'Data Input'!Z162,'Data Input'!AG162,'Data Input'!AI162,'Data Input'!AJ162,'Data Input'!AK162))","v":""},{"$f":"IF(I158=\"\",\"\",I158/COUNTIF('Data Input'!$C$8:$AZ$8,$I$2))","v":""},{"$f":"IF(ISBLANK('Data Input'!A162),\"\",SUM('Data Input'!AF162,'Data Input'!AV162))","v":""},{"$f":"IF(K158=\"\",\"\",K158/COUNTIF('Data Input'!$C$8:$AZ$8,$K$2))","v":""},{"$f":"IF(ISBLANK('Data Input'!A162),\"\",SUM('Data Input'!C162,'Data Input'!I162,'Data Input'!L162,'Data Input'!M162,'Data Input'!N162,'Data Input'!P162,'Data Input'!S162,'Data Input'!T162,'Data Input'!Y162,'Data Input'!AD162,'Data Input'!AL162,'Data Input'!AM162,'Data Input'!AN162,'Data Input'!AO162,'Data Input'!AP162,'Data Input'!AS162))","v":""},{"$f":"IF(M158=\"\",\"\",M158/COUNTIF('Data Input'!$C$8:$AZ$8,$M$2))","v":""},{"$f":"IF(ISBLANK('Data Input'!A162),\"\",SUM('Data Input'!AY162,'Data Input'!AZ162))","v":""},{"$f":"IF(O158=\"\",\"\",O158/COUNTIF('Data Input'!$C$8:$AZ$8,$O$2))","v":""},{"$f":"IF(ISBLANK('Data Input'!A162),\"\",SUM('Data Input'!AW162))","v":""},{"$f":"IF(Q158=\"\",\"\",Q158/COUNTIF('Data Input'!$C$8:$AZ$8,$Q$2))","v":""},{"$f":"IF(ISBLANK('Data Input'!$A162),\"\",SUM('Data Input'!Q162,'Data Input'!AT162,'Data Input'!AU162))","v":""},{"$f":"IF(S158=\"\",\"\",S158/COUNTIF('Data Input'!$C$8:$AZ$8,$S$2))","v":""},{"$f":"IF(ISBLANK('Data Input'!$A162),\"\",SUM('Data Input'!AX162))","v":""},{"$f":"IF(U158=\"\",\"\",U158/COUNTIF('Data Input'!$C$8:$AZ$8,$U$2))","v":""}]
[{"$f":"IF('Data Input'!A163=0,\"\",'Data Input'!A163)","v":""},{"$f":"IF(ISBLANK('Data Input'!A163),\"\",COUNTIF('Data Input'!C163:AZ163,\"\"))","v":""},{"$f":"IF(ISBLANK('Data Input'!A163),\"\",COUNTIF('Data Input'!C163:AZ163,\"0\"))","v":""},{"$f":"IF(ISBLANK('Data Input'!A163),\"\",SUM(B159,C159))","v":""},{"$f":"IF(ISBLANK('Data Input'!A163),\"\",SUM('Data Input'!C163:AZ163))","v":""},{"$f":"IF(E159=\"\",\"\",E159/(COUNTA('Data Input'!$C$8:$AZ$8)))","v":""},{"$f":"IF(ISBLANK('Data Input'!A163),\"\",SUM('Data Input'!R163,'Data Input'!AA163,'Data Input'!AB163,'Data Input'!AC163,'Data Input'!AE163,'Data Input'!AH163,'Data Input'!AQ163,'Data Input'!AR163))","v":""},{"$f":"IF(G159=\"\",\"\",G159/COUNTIF('Data Input'!$C$8:$AZ$8,$G$2))","v":""},{"$f":"IF(ISBLANK('Data Input'!A163),\"\",SUM('Data Input'!D163,'Data Input'!E163,'Data Input'!F163,'Data Input'!G163,'Data Input'!H163,'Data Input'!J163,'Data Input'!K163,'Data Input'!O163,'Data Input'!U163,'Data Input'!V163,'Data Input'!W163,'Data Input'!X163,'Data Input'!Z163,'Data Input'!AG163,'Data Input'!AI163,'Data Input'!AJ163,'Data Input'!AK163))","v":""},{"$f":"IF(I159=\"\",\"\",I159/COUNTIF('Data Input'!$C$8:$AZ$8,$I$2))","v":""},{"$f":"IF(ISBLANK('Data Input'!A163),\"\",SUM('Data Input'!AF163,'Data Input'!AV163))","v":""},{"$f":"IF(K159=\"\",\"\",K159/COUNTIF('Data Input'!$C$8:$AZ$8,$K$2))","v":""},{"$f":"IF(ISBLANK('Data Input'!A163),\"\",SUM('Data Input'!C163,'Data Input'!I163,'Data Input'!L163,'Data Input'!M163,'Data Input'!N163,'Data Input'!P163,'Data Input'!S163,'Data Input'!T163,'Data Input'!Y163,'Data Input'!AD163,'Data Input'!AL163,'Data Input'!AM163,'Data Input'!AN163,'Data Input'!AO163,'Data Input'!AP163,'Data Input'!AS163))","v":""},{"$f":"IF(M159=\"\",\"\",M159/COUNTIF('Data Input'!$C$8:$AZ$8,$M$2))","v":""},{"$f":"IF(ISBLANK('Data Input'!A163),\"\",SUM('Data Input'!AY163,'Data Input'!AZ163))","v":""},{"$f":"IF(O159=\"\",\"\",O159/COUNTIF('Data Input'!$C$8:$AZ$8,$O$2))","v":""},{"$f":"IF(ISBLANK('Data Input'!A163),\"\",SUM('Data Input'!AW163))","v":""},{"$f":"IF(Q159=\"\",\"\",Q159/COUNTIF('Data Input'!$C$8:$AZ$8,$Q$2))","v":""},{"$f":"IF(ISBLANK('Data Input'!$A163),\"\",SUM('Data Input'!Q163,'Data Input'!AT163,'Data Input'!AU163))","v":""},{"$f":"IF(S159=\"\",\"\",S159/COUNTIF('Data Input'!$C$8:$AZ$8,$S$2))","v":""},{"$f":"IF(ISBLANK('Data Input'!$A163),\"\",SUM('Data Input'!AX163))","v":""},{"$f":"IF(U159=\"\",\"\",U159/COUNTIF('Data Input'!$C$8:$AZ$8,$U$2))","v":""}]
[{"$f":"IF('Data Input'!A164=0,\"\",'Data Input'!A164)","v":""},{"$f":"IF(ISBLANK('Data Input'!A164),\"\",COUNTIF('Data Input'!C164:AZ164,\"\"))","v":""},{"$f":"IF(ISBLANK('Data Input'!A164),\"\",COUNTIF('Data Input'!C164:AZ164,\"0\"))","v":""},{"$f":"IF(ISBLANK('Data Input'!A164),\"\",SUM(B160,C160))","v":""},{"$f":"IF(ISBLANK('Data Input'!A164),\"\",SUM('Data Input'!C164:AZ164))","v":""},{"$f":"IF(E160=\"\",\"\",E160/(COUNTA('Data Input'!$C$8:$AZ$8)))","v":""},{"$f":"IF(ISBLANK('Data Input'!A164),\"\",SUM('Data Input'!R164,'Data Input'!AA164,'Data Input'!AB164,'Data Input'!AC164,'Data Input'!AE164,'Data Input'!AH164,'Data Input'!AQ164,'Data Input'!AR164))","v":""},{"$f":"IF(G160=\"\",\"\",G160/COUNTIF('Data Input'!$C$8:$AZ$8,$G$2))","v":""},{"$f":"IF(ISBLANK('Data Input'!A164),\"\",SUM('Data Input'!D164,'Data Input'!E164,'Data Input'!F164,'Data Input'!G164,'Data Input'!H164,'Data Input'!J164,'Data Input'!K164,'Data Input'!O164,'Data Input'!U164,'Data Input'!V164,'Data Input'!W164,'Data Input'!X164,'Data Input'!Z164,'Data Input'!AG164,'Data Input'!AI164,'Data Input'!AJ164,'Data Input'!AK164))","v":""},{"$f":"IF(I160=\"\",\"\",I160/COUNTIF('Data Input'!$C$8:$AZ$8,$I$2))","v":""},{"$f":"IF(ISBLANK('Data Input'!A164),\"\",SUM('Data Input'!AF164,'Data Input'!AV164))","v":""},{"$f":"IF(K160=\"\",\"\",K160/COUNTIF('Data Input'!$C$8:$AZ$8,$K$2))","v":""},{"$f":"IF(ISBLANK('Data Input'!A164),\"\",SUM('Data Input'!C164,'Data Input'!I164,'Data Input'!L164,'Data Input'!M164,'Data Input'!N164,'Data Input'!P164,'Data Input'!S164,'Data Input'!T164,'Data Input'!Y164,'Data Input'!AD164,'Data Input'!AL164,'Data Input'!AM164,'Data Input'!AN164,'Data Input'!AO164,'Data Input'!AP164,'Data Input'!AS164))","v":""},{"$f":"IF(M160=\"\",\"\",M160/COUNTIF('Data Input'!$C$8:$AZ$8,$M$2))","v":""},{"$f":"IF(ISBLANK('Data Input'!A164),\"\",SUM('Data Input'!AY164,'Data Input'!AZ164))","v":""},{"$f":"IF(O160=\"\",\"\",O160/COUNTIF('Data Input'!$C$8:$AZ$8,$O$2))","v":""},{"$f":"IF(ISBLANK('Data Input'!A164),\"\",SUM('Data Input'!AW164))","v":""},{"$f":"IF(Q160=\"\",\"\",Q160/COUNTIF('Data Input'!$C$8:$AZ$8,$Q$2))","v":""},{"$f":"IF(ISBLANK('Data Input'!$A164),\"\",SUM('Data Input'!Q164,'Data Input'!AT164,'Data Input'!AU164))","v":""},{"$f":"IF(S160=\"\",\"\",S160/COUNTIF('Data Input'!$C$8:$AZ$8,$S$2))","v":""},{"$f":"IF(ISBLANK('Data Input'!$A164),\"\",SUM('Data Input'!AX164))","v":""},{"$f":"IF(U160=\"\",\"\",U160/COUNTIF('Data Input'!$C$8:$AZ$8,$U$2))","v":""}]
[{"$f":"IF('Data Input'!A165=0,\"\",'Data Input'!A165)","v":""},{"$f":"IF(ISBLANK('Data Input'!A165),\"\",COUNTIF('Data Input'!C165:AZ165,\"\"))","v":""},{"$f":"IF(ISBLANK('Data Input'!A165),\"\",COUNTIF('Data Input'!C165:AZ165,\"0\"))","v":""},{"$f":"IF(ISBLANK('Data Input'!A165),\"\",SUM(B161,C161))","v":""},{"$f":"IF(ISBLANK('Data Input'!A165),\"\",SUM('Data Input'!C165:AZ165))","v":""},{"$f":"IF(E161=\"\",\"\",E161/(COUNTA('Data Input'!$C$8:$AZ$8)))","v":""},{"$f":"IF(ISBLANK('Data Input'!A165),\"\",SUM('Data Input'!R165,'Data Input'!AA165,'Data Input'!AB165,'Data Input'!AC165,'Data Input'!AE165,'Data Input'!AH165,'Data Input'!AQ165,'Data Input'!AR165))","v":""},{"$f":"IF(G161=\"\",\"\",G161/COUNTIF('Data Input'!$C$8:$AZ$8,$G$2))","v":""},{"$f":"IF(ISBLANK('Data Input'!A165),\"\",SUM('Data Input'!D165,'Data Input'!E165,'Data Input'!F165,'Data Input'!G165,'Data Input'!H165,'Data Input'!J165,'Data Input'!K165,'Data Input'!O165,'Data Input'!U165,'Data Input'!V165,'Data Input'!W165,'Data Input'!X165,'Data Input'!Z165,'Data Input'!AG165,'Data Input'!AI165,'Data Input'!AJ165,'Data Input'!AK165))","v":""},{"$f":"IF(I161=\"\",\"\",I161/COUNTIF('Data Input'!$C$8:$AZ$8,$I$2))","v":""},{"$f":"IF(ISBLANK('Data Input'!A165),\"\",SUM('Data Input'!AF165,'Data Input'!AV165))","v":""},{"$f":"IF(K161=\"\",\"\",K161/COUNTIF('Data Input'!$C$8:$AZ$8,$K$2))","v":""},{"$f":"IF(ISBLANK('Data Input'!A165),\"\",SUM('Data Input'!C165,'Data Input'!I165,'Data Input'!L165,'Data Input'!M165,'Data Input'!N165,'Data Input'!P165,'Data Input'!S165,'Data Input'!T165,'Data Input'!Y165,'Data Input'!AD165,'Data Input'!AL165,'Data Input'!AM165,'Data Input'!AN165,'Data Input'!AO165,'Data Input'!AP165,'Data Input'!AS165))","v":""},{"$f":"IF(M161=\"\",\"\",M161/COUNTIF('Data Input'!$C$8:$AZ$8,$M$2))","v":""},{"$f":"IF(ISBLANK('Data Input'!A165),\"\",SUM('Data Input'!AY165,'Data Input'!AZ165))","v":""},{"$f":"IF(O161=\"\",\"\",O161/COUNTIF('Data Input'!$C$8:$AZ$8,$O$2))","v":""},{"$f":"IF(ISBLANK('Data Input'!A165),\"\",SUM('Data Input'!AW165))","v":""},{"$f":"IF(Q161=\"\",\"\",Q161/COUNTIF('Data Input'!$C$8:$AZ$8,$Q$2))","v":""},{"$f":"IF(ISBLANK('Data Input'!$A165),\"\",SUM('Data Input'!Q165,'Data Input'!AT165,'Data Input'!AU165))","v":""},{"$f":"IF(S161=\"\",\"\",S161/COUNTIF('Data Input'!$C$8:$AZ$8,$S$2))","v":""},{"$f":"IF(ISBLANK('Data Input'!$A165),\"\",SUM('Data Input'!AX165))","v":""},{"$f":"IF(U161=\"\",\"\",U161/COUNTIF('Data Input'!$C$8:$AZ$8,$U$2))","v":""}]
[{"$f":"IF('Data Input'!A166=0,\"\",'Data Input'!A166)","v":""},{"$f":"IF(ISBLANK('Data Input'!A166),\"\",COUNTIF('Data Input'!C166:AZ166,\"\"))","v":""},{"$f":"IF(ISBLANK('Data Input'!A166),\"\",COUNTIF('Data Input'!C166:AZ166,\"0\"))","v":""},{"$f":"IF(ISBLANK('Data Input'!A166),\"\",SUM(B162,C162))","v":""},{"$f":"IF(ISBLANK('Data Input'!A166),\"\",SUM('Data Input'!C166:AZ166))","v":""},{"$f":"IF(E162=\"\",\"\",E162/(COUNTA('Data Input'!$C$8:$AZ$8)))","v":""},{"$f":"IF(ISBLANK('Data Input'!A166),\"\",SUM('Data Input'!R166,'Data Input'!AA166,'Data Input'!AB166,'Data Input'!AC166,'Data Input'!AE166,'Data Input'!AH166,'Data Input'!AQ166,'Data Input'!AR166))","v":""},{"$f":"IF(G162=\"\",\"\",G162/COUNTIF('Data Input'!$C$8:$AZ$8,$G$2))","v":""},{"$f":"IF(ISBLANK('Data Input'!A166),\"\",SUM('Data Input'!D166,'Data Input'!E166,'Data Input'!F166,'Data Input'!G166,'Data Input'!H166,'Data Input'!J166,'Data Input'!K166,'Data Input'!O166,'Data Input'!U166,'Data Input'!V166,'Data Input'!W166,'Data Input'!X166,'Data Input'!Z166,'Data Input'!AG166,'Data Input'!AI166,'Data Input'!AJ166,'Data Input'!AK166))","v":""},{"$f":"IF(I162=\"\",\"\",I162/COUNTIF('Data Input'!$C$8:$AZ$8,$I$2))","v":""},{"$f":"IF(ISBLANK('Data Input'!A166),\"\",SUM('Data Input'!AF166,'Data Input'!AV166))","v":""},{"$f":"IF(K162=\"\",\"\",K162/COUNTIF('Data Input'!$C$8:$AZ$8,$K$2))","v":""},{"$f":"IF(ISBLANK('Data Input'!A166),\"\",SUM('Data Input'!C166,'Data Input'!I166,'Data Input'!L166,'Data Input'!M166,'Data Input'!N166,'Data Input'!P166,'Data Input'!S166,'Data Input'!T166,'Data Input'!Y166,'Data Input'!AD166,'Data Input'!AL166,'Data Input'!AM166,'Data Input'!AN166,'Data Input'!AO166,'Data Input'!AP166,'Data Input'!AS166))","v":""},{"$f":"IF(M162=\"\",\"\",M162/COUNTIF('Data Input'!$C$8:$AZ$8,$M$2))","v":""},{"$f":"IF(ISBLANK('Data Input'!A166),\"\",SUM('Data Input'!AY166,'Data Input'!AZ166))","v":""},{"$f":"IF(O162=\"\",\"\",O162/COUNTIF('Data Input'!$C$8:$AZ$8,$O$2))","v":""},{"$f":"IF(ISBLANK('Data Input'!A166),\"\",SUM('Data Input'!AW166))","v":""},{"$f":"IF(Q162=\"\",\"\",Q162/COUNTIF('Data Input'!$C$8:$AZ$8,$Q$2))","v":""},{"$f":"IF(ISBLANK('Data Input'!$A166),\"\",SUM('Data Input'!Q166,'Data Input'!AT166,'Data Input'!AU166))","v":""},{"$f":"IF(S162=\"\",\"\",S162/COUNTIF('Data Input'!$C$8:$AZ$8,$S$2))","v":""},{"$f":"IF(ISBLANK('Data Input'!$A166),\"\",SUM('Data Input'!AX166))","v":""},{"$f":"IF(U162=\"\",\"\",U162/COUNTIF('Data Input'!$C$8:$AZ$8,$U$2))","v":""}]
[{"$f":"IF('Data Input'!A167=0,\"\",'Data Input'!A167)","v":""},{"$f":"IF(ISBLANK('Data Input'!A167),\"\",COUNTIF('Data Input'!C167:AZ167,\"\"))","v":""},{"$f":"IF(ISBLANK('Data Input'!A167),\"\",COUNTIF('Data Input'!C167:AZ167,\"0\"))","v":""},{"$f":"IF(ISBLANK('Data Input'!A167),\"\",SUM(B163,C163))","v":""},{"$f":"IF(ISBLANK('Data Input'!A167),\"\",SUM('Data Input'!C167:AZ167))","v":""},{"$f":"IF(E163=\"\",\"\",E163/(COUNTA('Data Input'!$C$8:$AZ$8)))","v":""},{"$f":"IF(ISBLANK('Data Input'!A167),\"\",SUM('Data Input'!R167,'Data Input'!AA167,'Data Input'!AB167,'Data Input'!AC167,'Data Input'!AE167,'Data Input'!AH167,'Data Input'!AQ167,'Data Input'!AR167))","v":""},{"$f":"IF(G163=\"\",\"\",G163/COUNTIF('Data Input'!$C$8:$AZ$8,$G$2))","v":""},{"$f":"IF(ISBLANK('Data Input'!A167),\"\",SUM('Data Input'!D167,'Data Input'!E167,'Data Input'!F167,'Data Input'!G167,'Data Input'!H167,'Data Input'!J167,'Data Input'!K167,'Data Input'!O167,'Data Input'!U167,'Data Input'!V167,'Data Input'!W167,'Data Input'!X167,'Data Input'!Z167,'Data Input'!AG167,'Data Input'!AI167,'Data Input'!AJ167,'Data Input'!AK167))","v":""},{"$f":"IF(I163=\"\",\"\",I163/COUNTIF('Data Input'!$C$8:$AZ$8,$I$2))","v":""},{"$f":"IF(ISBLANK('Data Input'!A167),\"\",SUM('Data Input'!AF167,'Data Input'!AV167))","v":""},{"$f":"IF(K163=\"\",\"\",K163/COUNTIF('Data Input'!$C$8:$AZ$8,$K$2))","v":""},{"$f":"IF(ISBLANK('Data Input'!A167),\"\",SUM('Data Input'!C167,'Data Input'!I167,'Data Input'!L167,'Data Input'!M167,'Data Input'!N167,'Data Input'!P167,'Data Input'!S167,'Data Input'!T167,'Data Input'!Y167,'Data Input'!AD167,'Data Input'!AL167,'Data Input'!AM167,'Data Input'!AN167,'Data Input'!AO167,'Data Input'!AP167,'Data Input'!AS167))","v":""},{"$f":"IF(M163=\"\",\"\",M163/COUNTIF('Data Input'!$C$8:$AZ$8,$M$2))","v":""},{"$f":"IF(ISBLANK('Data Input'!A167),\"\",SUM('Data Input'!AY167,'Data Input'!AZ167))","v":""},{"$f":"IF(O163=\"\",\"\",O163/COUNTIF('Data Input'!$C$8:$AZ$8,$O$2))","v":""},{"$f":"IF(ISBLANK('Data Input'!A167),\"\",SUM('Data Input'!AW167))","v":""},{"$f":"IF(Q163=\"\",\"\",Q163/COUNTIF('Data Input'!$C$8:$AZ$8,$Q$2))","v":""},{"$f":"IF(ISBLANK('Data Input'!$A167),\"\",SUM('Data Input'!Q167,'Data Input'!AT167,'Data Input'!AU167))","v":""},{"$f":"IF(S163=\"\",\"\",S163/COUNTIF('Data Input'!$C$8:$AZ$8,$S$2))","v":""},{"$f":"IF(ISBLANK('Data Input'!$A167),\"\",SUM('Data Input'!AX167))","v":""},{"$f":"IF(U163=\"\",\"\",U163/COUNTIF('Data Input'!$C$8:$AZ$8,$U$2))","v":""}]
[{"$f":"IF('Data Input'!A168=0,\"\",'Data Input'!A168)","v":""},{"$f":"IF(ISBLANK('Data Input'!A168),\"\",COUNTIF('Data Input'!C168:AZ168,\"\"))","v":""},{"$f":"IF(ISBLANK('Data Input'!A168),\"\",COUNTIF('Data Input'!C168:AZ168,\"0\"))","v":""},{"$f":"IF(ISBLANK('Data Input'!A168),\"\",SUM(B164,C164))","v":""},{"$f":"IF(ISBLANK('Data Input'!A168),\"\",SUM('Data Input'!C168:AZ168))","v":""},{"$f":"IF(E164=\"\",\"\",E164/(COUNTA('Data Input'!$C$8:$AZ$8)))","v":""},{"$f":"IF(ISBLANK('Data Input'!A168),\"\",SUM('Data Input'!R168,'Data Input'!AA168,'Data Input'!AB168,'Data Input'!AC168,'Data Input'!AE168,'Data Input'!AH168,'Data Input'!AQ168,'Data Input'!AR168))","v":""},{"$f":"IF(G164=\"\",\"\",G164/COUNTIF('Data Input'!$C$8:$AZ$8,$G$2))","v":""},{"$f":"IF(ISBLANK('Data Input'!A168),\"\",SUM('Data Input'!D168,'Data Input'!E168,'Data Input'!F168,'Data Input'!G168,'Data Input'!H168,'Data Input'!J168,'Data Input'!K168,'Data Input'!O168,'Data Input'!U168,'Data Input'!V168,'Data Input'!W168,'Data Input'!X168,'Data Input'!Z168,'Data Input'!AG168,'Data Input'!AI168,'Data Input'!AJ168,'Data Input'!AK168))","v":""},{"$f":"IF(I164=\"\",\"\",I164/COUNTIF('Data Input'!$C$8:$AZ$8,$I$2))","v":""},{"$f":"IF(ISBLANK('Data Input'!A168),\"\",SUM('Data Input'!AF168,'Data Input'!AV168))","v":""},{"$f":"IF(K164=\"\",\"\",K164/COUNTIF('Data Input'!$C$8:$AZ$8,$K$2))","v":""},{"$f":"IF(ISBLANK('Data Input'!A168),\"\",SUM('Data Input'!C168,'Data Input'!I168,'Data Input'!L168,'Data Input'!M168,'Data Input'!N168,'Data Input'!P168,'Data Input'!S168,'Data Input'!T168,'Data Input'!Y168,'Data Input'!AD168,'Data Input'!AL168,'Data Input'!AM168,'Data Input'!AN168,'Data Input'!AO168,'Data Input'!AP168,'Data Input'!AS168))","v":""},{"$f":"IF(M164=\"\",\"\",M164/COUNTIF('Data Input'!$C$8:$AZ$8,$M$2))","v":""},{"$f":"IF(ISBLANK('Data Input'!A168),\"\",SUM('Data Input'!AY168,'Data Input'!AZ168))","v":""},{"$f":"IF(O164=\"\",\"\",O164/COUNTIF('Data Input'!$C$8:$AZ$8,$O$2))","v":""},{"$f":"IF(ISBLANK('Data Input'!A168),\"\",SUM('Data Input'!AW168))","v":""},{"$f":"IF(Q164=\"\",\"\",Q164/COUNTIF('Data Input'!$C$8:$AZ$8,$Q$2))","v":""},{"$f":"IF(ISBLANK('Data Input'!$A168),\"\",SUM('Data Input'!Q168,'Data Input'!AT168,'Data Input'!AU168))","v":""},{"$f":"IF(S164=\"\",\"\",S164/COUNTIF('Data Input'!$C$8:$AZ$8,$S$2))","v":""},{"$f":"IF(ISBLANK('Data Input'!$A168),\"\",SUM('Data Input'!AX168))","v":""},{"$f":"IF(U164=\"\",\"\",U164/COUNTIF('Data Input'!$C$8:$AZ$8,$U$2))","v":""}]
[{"$f":"IF('Data Input'!A169=0,\"\",'Data Input'!A169)","v":""},{"$f":"IF(ISBLANK('Data Input'!A169),\"\",COUNTIF('Data Input'!C169:AZ169,\"\"))","v":""},{"$f":"IF(ISBLANK('Data Input'!A169),\"\",COUNTIF('Data Input'!C169:AZ169,\"0\"))","v":""},{"$f":"IF(ISBLANK('Data Input'!A169),\"\",SUM(B165,C165))","v":""},{"$f":"IF(ISBLANK('Data Input'!A169),\"\",SUM('Data Input'!C169:AZ169))","v":""},{"$f":"IF(E165=\"\",\"\",E165/(COUNTA('Data Input'!$C$8:$AZ$8)))","v":""},{"$f":"IF(ISBLANK('Data Input'!A169),\"\",SUM('Data Input'!R169,'Data Input'!AA169,'Data Input'!AB169,'Data Input'!AC169,'Data Input'!AE169,'Data Input'!AH169,'Data Input'!AQ169,'Data Input'!AR169))","v":""},{"$f":"IF(G165=\"\",\"\",G165/COUNTIF('Data Input'!$C$8:$AZ$8,$G$2))","v":""},{"$f":"IF(ISBLANK('Data Input'!A169),\"\",SUM('Data Input'!D169,'Data Input'!E169,'Data Input'!F169,'Data Input'!G169,'Data Input'!H169,'Data Input'!J169,'Data Input'!K169,'Data Input'!O169,'Data Input'!U169,'Data Input'!V169,'Data Input'!W169,'Data Input'!X169,'Data Input'!Z169,'Data Input'!AG169,'Data Input'!AI169,'Data Input'!AJ169,'Data Input'!AK169))","v":""},{"$f":"IF(I165=\"\",\"\",I165/COUNTIF('Data Input'!$C$8:$AZ$8,$I$2))","v":""},{"$f":"IF(ISBLANK('Data Input'!A169),\"\",SUM('Data Input'!AF169,'Data Input'!AV169))","v":""},{"$f":"IF(K165=\"\",\"\",K165/COUNTIF('Data Input'!$C$8:$AZ$8,$K$2))","v":""},{"$f":"IF(ISBLANK('Data Input'!A169),\"\",SUM('Data Input'!C169,'Data Input'!I169,'Data Input'!L169,'Data Input'!M169,'Data Input'!N169,'Data Input'!P169,'Data Input'!S169,'Data Input'!T169,'Data Input'!Y169,'Data Input'!AD169,'Data Input'!AL169,'Data Input'!AM169,'Data Input'!AN169,'Data Input'!AO169,'Data Input'!AP169,'Data Input'!AS169))","v":""},{"$f":"IF(M165=\"\",\"\",M165/COUNTIF('Data Input'!$C$8:$AZ$8,$M$2))","v":""},{"$f":"IF(ISBLANK('Data Input'!A169),\"\",SUM('Data Input'!AY169,'Data Input'!AZ169))","v":""},{"$f":"IF(O165=\"\",\"\",O165/COUNTIF('Data Input'!$C$8:$AZ$8,$O$2))","v":""},{"$f":"IF(ISBLANK('Data Input'!A169),\"\",SUM('Data Input'!AW169))","v":""},{"$f":"IF(Q165=\"\",\"\",Q165/COUNTIF('Data Input'!$C$8:$AZ$8,$Q$2))","v":""},{"$f":"IF(ISBLANK('Data Input'!$A169),\"\",SUM('Data Input'!Q169,'Data Input'!AT169,'Data Input'!AU169))","v":""},{"$f":"IF(S165=\"\",\"\",S165/COUNTIF('Data Input'!$C$8:$AZ$8,$S$2))","v":""},{"$f":"IF(ISBLANK('Data Input'!$A169),\"\",SUM('Data Input'!AX169))","v":""},{"$f":"IF(U165=\"\",\"\",U165/COUNTIF('Data Input'!$C$8:$AZ$8,$U$2))","v":""}]
[{"$f":"IF('Data Input'!A170=0,\"\",'Data Input'!A170)","v":""},{"$f":"IF(ISBLANK('Data Input'!A170),\"\",COUNTIF('Data Input'!C170:AZ170,\"\"))","v":""},{"$f":"IF(ISBLANK('Data Input'!A170),\"\",COUNTIF('Data Input'!C170:AZ170,\"0\"))","v":""},{"$f":"IF(ISBLANK('Data Input'!A170),\"\",SUM(B166,C166))","v":""},{"$f":"IF(ISBLANK('Data Input'!A170),\"\",SUM('Data Input'!C170:AZ170))","v":""},{"$f":"IF(E166=\"\",\"\",E166/(COUNTA('Data Input'!$C$8:$AZ$8)))","v":""},{"$f":"IF(ISBLANK('Data Input'!A170),\"\",SUM('Data Input'!R170,'Data Input'!AA170,'Data Input'!AB170,'Data Input'!AC170,'Data Input'!AE170,'Data Input'!AH170,'Data Input'!AQ170,'Data Input'!AR170))","v":""},{"$f":"IF(G166=\"\",\"\",G166/COUNTIF('Data Input'!$C$8:$AZ$8,$G$2))","v":""},{"$f":"IF(ISBLANK('Data Input'!A170),\"\",SUM('Data Input'!D170,'Data Input'!E170,'Data Input'!F170,'Data Input'!G170,'Data Input'!H170,'Data Input'!J170,'Data Input'!K170,'Data Input'!O170,'Data Input'!U170,'Data Input'!V170,'Data Input'!W170,'Data Input'!X170,'Data Input'!Z170,'Data Input'!AG170,'Data Input'!AI170,'Data Input'!AJ170,'Data Input'!AK170))","v":""},{"$f":"IF(I166=\"\",\"\",I166/COUNTIF('Data Input'!$C$8:$AZ$8,$I$2))","v":""},{"$f":"IF(ISBLANK('Data Input'!A170),\"\",SUM('Data Input'!AF170,'Data Input'!AV170))","v":""},{"$f":"IF(K166=\"\",\"\",K166/COUNTIF('Data Input'!$C$8:$AZ$8,$K$2))","v":""},{"$f":"IF(ISBLANK('Data Input'!A170),\"\",SUM('Data Input'!C170,'Data Input'!I170,'Data Input'!L170,'Data Input'!M170,'Data Input'!N170,'Data Input'!P170,'Data Input'!S170,'Data Input'!T170,'Data Input'!Y170,'Data Input'!AD170,'Data Input'!AL170,'Data Input'!AM170,'Data Input'!AN170,'Data Input'!AO170,'Data Input'!AP170,'Data Input'!AS170))","v":""},{"$f":"IF(M166=\"\",\"\",M166/COUNTIF('Data Input'!$C$8:$AZ$8,$M$2))","v":""},{"$f":"IF(ISBLANK('Data Input'!A170),\"\",SUM('Data Input'!AY170,'Data Input'!AZ170))","v":""},{"$f":"IF(O166=\"\",\"\",O166/COUNTIF('Data Input'!$C$8:$AZ$8,$O$2))","v":""},{"$f":"IF(ISBLANK('Data Input'!A170),\"\",SUM('Data Input'!AW170))","v":""},{"$f":"IF(Q166=\"\",\"\",Q166/COUNTIF('Data Input'!$C$8:$AZ$8,$Q$2))","v":""},{"$f":"IF(ISBLANK('Data Input'!$A170),\"\",SUM('Data Input'!Q170,'Data Input'!AT170,'Data Input'!AU170))","v":""},{"$f":"IF(S166=\"\",\"\",S166/COUNTIF('Data Input'!$C$8:$AZ$8,$S$2))","v":""},{"$f":"IF(ISBLANK('Data Input'!$A170),\"\",SUM('Data Input'!AX170))","v":""},{"$f":"IF(U166=\"\",\"\",U166/COUNTIF('Data Input'!$C$8:$AZ$8,$U$2))","v":""}]
[{"$f":"IF('Data Input'!A171=0,\"\",'Data Input'!A171)","v":""},{"$f":"IF(ISBLANK('Data Input'!A171),\"\",COUNTIF('Data Input'!C171:AZ171,\"\"))","v":""},{"$f":"IF(ISBLANK('Data Input'!A171),\"\",COUNTIF('Data Input'!C171:AZ171,\"0\"))","v":""},{"$f":"IF(ISBLANK('Data Input'!A171),\"\",SUM(B167,C167))","v":""},{"$f":"IF(ISBLANK('Data Input'!A171),\"\",SUM('Data Input'!C171:AZ171))","v":""},{"$f":"IF(E167=\"\",\"\",E167/(COUNTA('Data Input'!$C$8:$AZ$8)))","v":""},{"$f":"IF(ISBLANK('Data Input'!A171),\"\",SUM('Data Input'!R171,'Data Input'!AA171,'Data Input'!AB171,'Data Input'!AC171,'Data Input'!AE171,'Data Input'!AH171,'Data Input'!AQ171,'Data Input'!AR171))","v":""},{"$f":"IF(G167=\"\",\"\",G167/COUNTIF('Data Input'!$C$8:$AZ$8,$G$2))","v":""},{"$f":"IF(ISBLANK('Data Input'!A171),\"\",SUM('Data Input'!D171,'Data Input'!E171,'Data Input'!F171,'Data Input'!G171,'Data Input'!H171,'Data Input'!J171,'Data Input'!K171,'Data Input'!O171,'Data Input'!U171,'Data Input'!V171,'Data Input'!W171,'Data Input'!X171,'Data Input'!Z171,'Data Input'!AG171,'Data Input'!AI171,'Data Input'!AJ171,'Data Input'!AK171))","v":""},{"$f":"IF(I167=\"\",\"\",I167/COUNTIF('Data Input'!$C$8:$AZ$8,$I$2))","v":""},{"$f":"IF(ISBLANK('Data Input'!A171),\"\",SUM('Data Input'!AF171,'Data Input'!AV171))","v":""},{"$f":"IF(K167=\"\",\"\",K167/COUNTIF('Data Input'!$C$8:$AZ$8,$K$2))","v":""},{"$f":"IF(ISBLANK('Data Input'!A171),\"\",SUM('Data Input'!C171,'Data Input'!I171,'Data Input'!L171,'Data Input'!M171,'Data Input'!N171,'Data Input'!P171,'Data Input'!S171,'Data Input'!T171,'Data Input'!Y171,'Data Input'!AD171,'Data Input'!AL171,'Data Input'!AM171,'Data Input'!AN171,'Data Input'!AO171,'Data Input'!AP171,'Data Input'!AS171))","v":""},{"$f":"IF(M167=\"\",\"\",M167/COUNTIF('Data Input'!$C$8:$AZ$8,$M$2))","v":""},{"$f":"IF(ISBLANK('Data Input'!A171),\"\",SUM('Data Input'!AY171,'Data Input'!AZ171))","v":""},{"$f":"IF(O167=\"\",\"\",O167/COUNTIF('Data Input'!$C$8:$AZ$8,$O$2))","v":""},{"$f":"IF(ISBLANK('Data Input'!A171),\"\",SUM('Data Input'!AW171))","v":""},{"$f":"IF(Q167=\"\",\"\",Q167/COUNTIF('Data Input'!$C$8:$AZ$8,$Q$2))","v":""},{"$f":"IF(ISBLANK('Data Input'!$A171),\"\",SUM('Data Input'!Q171,'Data Input'!AT171,'Data Input'!AU171))","v":""},{"$f":"IF(S167=\"\",\"\",S167/COUNTIF('Data Input'!$C$8:$AZ$8,$S$2))","v":""},{"$f":"IF(ISBLANK('Data Input'!$A171),\"\",SUM('Data Input'!AX171))","v":""},{"$f":"IF(U167=\"\",\"\",U167/COUNTIF('Data Input'!$C$8:$AZ$8,$U$2))","v":""}]
[{"$f":"IF('Data Input'!A172=0,\"\",'Data Input'!A172)","v":""},{"$f":"IF(ISBLANK('Data Input'!A172),\"\",COUNTIF('Data Input'!C172:AZ172,\"\"))","v":""},{"$f":"IF(ISBLANK('Data Input'!A172),\"\",COUNTIF('Data Input'!C172:AZ172,\"0\"))","v":""},{"$f":"IF(ISBLANK('Data Input'!A172),\"\",SUM(B168,C168))","v":""},{"$f":"IF(ISBLANK('Data Input'!A172),\"\",SUM('Data Input'!C172:AZ172))","v":""},{"$f":"IF(E168=\"\",\"\",E168/(COUNTA('Data Input'!$C$8:$AZ$8)))","v":""},{"$f":"IF(ISBLANK('Data Input'!A172),\"\",SUM('Data Input'!R172,'Data Input'!AA172,'Data Input'!AB172,'Data Input'!AC172,'Data Input'!AE172,'Data Input'!AH172,'Data Input'!AQ172,'Data Input'!AR172))","v":""},{"$f":"IF(G168=\"\",\"\",G168/COUNTIF('Data Input'!$C$8:$AZ$8,$G$2))","v":""},{"$f":"IF(ISBLANK('Data Input'!A172),\"\",SUM('Data Input'!D172,'Data Input'!E172,'Data Input'!F172,'Data Input'!G172,'Data Input'!H172,'Data Input'!J172,'Data Input'!K172,'Data Input'!O172,'Data Input'!U172,'Data Input'!V172,'Data Input'!W172,'Data Input'!X172,'Data Input'!Z172,'Data Input'!AG172,'Data Input'!AI172,'Data Input'!AJ172,'Data Input'!AK172))","v":""},{"$f":"IF(I168=\"\",\"\",I168/COUNTIF('Data Input'!$C$8:$AZ$8,$I$2))","v":""},{"$f":"IF(ISBLANK('Data Input'!A172),\"\",SUM('Data Input'!AF172,'Data Input'!AV172))","v":""},{"$f":"IF(K168=\"\",\"\",K168/COUNTIF('Data Input'!$C$8:$AZ$8,$K$2))","v":""},{"$f":"IF(ISBLANK('Data Input'!A172),\"\",SUM('Data Input'!C172,'Data Input'!I172,'Data Input'!L172,'Data Input'!M172,'Data Input'!N172,'Data Input'!P172,'Data Input'!S172,'Data Input'!T172,'Data Input'!Y172,'Data Input'!AD172,'Data Input'!AL172,'Data Input'!AM172,'Data Input'!AN172,'Data Input'!AO172,'Data Input'!AP172,'Data Input'!AS172))","v":""},{"$f":"IF(M168=\"\",\"\",M168/COUNTIF('Data Input'!$C$8:$AZ$8,$M$2))","v":""},{"$f":"IF(ISBLANK('Data Input'!A172),\"\",SUM('Data Input'!AY172,'Data Input'!AZ172))","v":""},{"$f":"IF(O168=\"\",\"\",O168/COUNTIF('Data Input'!$C$8:$AZ$8,$O$2))","v":""},{"$f":"IF(ISBLANK('Data Input'!A172),\"\",SUM('Data Input'!AW172))","v":""},{"$f":"IF(Q168=\"\",\"\",Q168/COUNTIF('Data Input'!$C$8:$AZ$8,$Q$2))","v":""},{"$f":"IF(ISBLANK('Data Input'!$A172),\"\",SUM('Data Input'!Q172,'Data Input'!AT172,'Data Input'!AU172))","v":""},{"$f":"IF(S168=\"\",\"\",S168/COUNTIF('Data Input'!$C$8:$AZ$8,$S$2))","v":""},{"$f":"IF(ISBLANK('Data Input'!$A172),\"\",SUM('Data Input'!AX172))","v":""},{"$f":"IF(U168=\"\",\"\",U168/COUNTIF('Data Input'!$C$8:$AZ$8,$U$2))","v":""}]
[{"$f":"IF('Data Input'!A173=0,\"\",'Data Input'!A173)","v":""},{"$f":"IF(ISBLANK('Data Input'!A173),\"\",COUNTIF('Data Input'!C173:AZ173,\"\"))","v":""},{"$f":"IF(ISBLANK('Data Input'!A173),\"\",COUNTIF('Data Input'!C173:AZ173,\"0\"))","v":""},{"$f":"IF(ISBLANK('Data Input'!A173),\"\",SUM(B169,C169))","v":""},{"$f":"IF(ISBLANK('Data Input'!A173),\"\",SUM('Data Input'!C173:AZ173))","v":""},{"$f":"IF(E169=\"\",\"\",E169/(COUNTA('Data Input'!$C$8:$AZ$8)))","v":""},{"$f":"IF(ISBLANK('Data Input'!A173),\"\",SUM('Data Input'!R173,'Data Input'!AA173,'Data Input'!AB173,'Data Input'!AC173,'Data Input'!AE173,'Data Input'!AH173,'Data Input'!AQ173,'Data Input'!AR173))","v":""},{"$f":"IF(G169=\"\",\"\",G169/COUNTIF('Data Input'!$C$8:$AZ$8,$G$2))","v":""},{"$f":"IF(ISBLANK('Data Input'!A173),\"\",SUM('Data Input'!D173,'Data Input'!E173,'Data Input'!F173,'Data Input'!G173,'Data Input'!H173,'Data Input'!J173,'Data Input'!K173,'Data Input'!O173,'Data Input'!U173,'Data Input'!V173,'Data Input'!W173,'Data Input'!X173,'Data Input'!Z173,'Data Input'!AG173,'Data Input'!AI173,'Data Input'!AJ173,'Data Input'!AK173))","v":""},{"$f":"IF(I169=\"\",\"\",I169/COUNTIF('Data Input'!$C$8:$AZ$8,$I$2))","v":""},{"$f":"IF(ISBLANK('Data Input'!A173),\"\",SUM('Data Input'!AF173,'Data Input'!AV173))","v":""},{"$f":"IF(K169=\"\",\"\",K169/COUNTIF('Data Input'!$C$8:$AZ$8,$K$2))","v":""},{"$f":"IF(ISBLANK('Data Input'!A173),\"\",SUM('Data Input'!C173,'Data Input'!I173,'Data Input'!L173,'Data Input'!M173,'Data Input'!N173,'Data Input'!P173,'Data Input'!S173,'Data Input'!T173,'Data Input'!Y173,'Data Input'!AD173,'Data Input'!AL173,'Data Input'!AM173,'Data Input'!AN173,'Data Input'!AO173,'Data Input'!AP173,'Data Input'!AS173))","v":""},{"$f":"IF(M169=\"\",\"\",M169/COUNTIF('Data Input'!$C$8:$AZ$8,$M$2))","v":""},{"$f":"IF(ISBLANK('Data Input'!A173),\"\",SUM('Data Input'!AY173,'Data Input'!AZ173))","v":""},{"$f":"IF(O169=\"\",\"\",O169/COUNTIF('Data Input'!$C$8:$AZ$8,$O$2))","v":""},{"$f":"IF(ISBLANK('Data Input'!A173),\"\",SUM('Data Input'!AW173))","v":""},{"$f":"IF(Q169=\"\",\"\",Q169/COUNTIF('Data Input'!$C$8:$AZ$8,$Q$2))","v":""},{"$f":"IF(ISBLANK('Data Input'!$A173),\"\",SUM('Data Input'!Q173,'Data Input'!AT173,'Data Input'!AU173))","v":""},{"$f":"IF(S169=\"\",\"\",S169/COUNTIF('Data Input'!$C$8:$AZ$8,$S$2))","v":""},{"$f":"IF(ISBLANK('Data Input'!$A173),\"\",SUM('Data Input'!AX173))","v":""},{"$f":"IF(U169=\"\",\"\",U169/COUNTIF('Data Input'!$C$8:$AZ$8,$U$2))","v":""}]
[{"$f":"IF('Data Input'!A174=0,\"\",'Data Input'!A174)","v":""},{"$f":"IF(ISBLANK('Data Input'!A174),\"\",COUNTIF('Data Input'!C174:AZ174,\"\"))","v":""},{"$f":"IF(ISBLANK('Data Input'!A174),\"\",COUNTIF('Data Input'!C174:AZ174,\"0\"))","v":""},{"$f":"IF(ISBLANK('Data Input'!A174),\"\",SUM(B170,C170))","v":""},{"$f":"IF(ISBLANK('Data Input'!A174),\"\",SUM('Data Input'!C174:AZ174))","v":""},{"$f":"IF(E170=\"\",\"\",E170/(COUNTA('Data Input'!$C$8:$AZ$8)))","v":""},{"$f":"IF(ISBLANK('Data Input'!A174),\"\",SUM('Data Input'!R174,'Data Input'!AA174,'Data Input'!AB174,'Data Input'!AC174,'Data Input'!AE174,'Data Input'!AH174,'Data Input'!AQ174,'Data Input'!AR174))","v":""},{"$f":"IF(G170=\"\",\"\",G170/COUNTIF('Data Input'!$C$8:$AZ$8,$G$2))","v":""},{"$f":"IF(ISBLANK('Data Input'!A174),\"\",SUM('Data Input'!D174,'Data Input'!E174,'Data Input'!F174,'Data Input'!G174,'Data Input'!H174,'Data Input'!J174,'Data Input'!K174,'Data Input'!O174,'Data Input'!U174,'Data Input'!V174,'Data Input'!W174,'Data Input'!X174,'Data Input'!Z174,'Data Input'!AG174,'Data Input'!AI174,'Data Input'!AJ174,'Data Input'!AK174))","v":""},{"$f":"IF(I170=\"\",\"\",I170/COUNTIF('Data Input'!$C$8:$AZ$8,$I$2))","v":""},{"$f":"IF(ISBLANK('Data Input'!A174),\"\",SUM('Data Input'!AF174,'Data Input'!AV174))","v":""},{"$f":"IF(K170=\"\",\"\",K170/COUNTIF('Data Input'!$C$8:$AZ$8,$K$2))","v":""},{"$f":"IF(ISBLANK('Data Input'!A174),\"\",SUM('Data Input'!C174,'Data Input'!I174,'Data Input'!L174,'Data Input'!M174,'Data Input'!N174,'Data Input'!P174,'Data Input'!S174,'Data Input'!T174,'Data Input'!Y174,'Data Input'!AD174,'Data Input'!AL174,'Data Input'!AM174,'Data Input'!AN174,'Data Input'!AO174,'Data Input'!AP174,'Data Input'!AS174))","v":""},{"$f":"IF(M170=\"\",\"\",M170/COUNTIF('Data Input'!$C$8:$AZ$8,$M$2))","v":""},{"$f":"IF(ISBLANK('Data Input'!A174),\"\",SUM('Data Input'!AY174,'Data Input'!AZ174))","v":""},{"$f":"IF(O170=\"\",\"\",O170/COUNTIF('Data Input'!$C$8:$AZ$8,$O$2))","v":""},{"$f":"IF(ISBLANK('Data Input'!A174),\"\",SUM('Data Input'!AW174))","v":""},{"$f":"IF(Q170=\"\",\"\",Q170/COUNTIF('Data Input'!$C$8:$AZ$8,$Q$2))","v":""},{"$f":"IF(ISBLANK('Data Input'!$A174),\"\",SUM('Data Input'!Q174,'Data Input'!AT174,'Data Input'!AU174))","v":""},{"$f":"IF(S170=\"\",\"\",S170/COUNTIF('Data Input'!$C$8:$AZ$8,$S$2))","v":""},{"$f":"IF(ISBLANK('Data Input'!$A174),\"\",SUM('Data Input'!AX174))","v":""},{"$f":"IF(U170=\"\",\"\",U170/COUNTIF('Data Input'!$C$8:$AZ$8,$U$2))","v":""}]
[{"$f":"IF('Data Input'!A175=0,\"\",'Data Input'!A175)","v":""},{"$f":"IF(ISBLANK('Data Input'!A175),\"\",COUNTIF('Data Input'!C175:AZ175,\"\"))","v":""},{"$f":"IF(ISBLANK('Data Input'!A175),\"\",COUNTIF('Data Input'!C175:AZ175,\"0\"))","v":""},{"$f":"IF(ISBLANK('Data Input'!A175),\"\",SUM(B171,C171))","v":""},{"$f":"IF(ISBLANK('Data Input'!A175),\"\",SUM('Data Input'!C175:AZ175))","v":""},{"$f":"IF(E171=\"\",\"\",E171/(COUNTA('Data Input'!$C$8:$AZ$8)))","v":""},{"$f":"IF(ISBLANK('Data Input'!A175),\"\",SUM('Data Input'!R175,'Data Input'!AA175,'Data Input'!AB175,'Data Input'!AC175,'Data Input'!AE175,'Data Input'!AH175,'Data Input'!AQ175,'Data Input'!AR175))","v":""},{"$f":"IF(G171=\"\",\"\",G171/COUNTIF('Data Input'!$C$8:$AZ$8,$G$2))","v":""},{"$f":"IF(ISBLANK('Data Input'!A175),\"\",SUM('Data Input'!D175,'Data Input'!E175,'Data Input'!F175,'Data Input'!G175,'Data Input'!H175,'Data Input'!J175,'Data Input'!K175,'Data Input'!O175,'Data Input'!U175,'Data Input'!V175,'Data Input'!W175,'Data Input'!X175,'Data Input'!Z175,'Data Input'!AG175,'Data Input'!AI175,'Data Input'!AJ175,'Data Input'!AK175))","v":""},{"$f":"IF(I171=\"\",\"\",I171/COUNTIF('Data Input'!$C$8:$AZ$8,$I$2))","v":""},{"$f":"IF(ISBLANK('Data Input'!A175),\"\",SUM('Data Input'!AF175,'Data Input'!AV175))","v":""},{"$f":"IF(K171=\"\",\"\",K171/COUNTIF('Data Input'!$C$8:$AZ$8,$K$2))","v":""},{"$f":"IF(ISBLANK('Data Input'!A175),\"\",SUM('Data Input'!C175,'Data Input'!I175,'Data Input'!L175,'Data Input'!M175,'Data Input'!N175,'Data Input'!P175,'Data Input'!S175,'Data Input'!T175,'Data Input'!Y175,'Data Input'!AD175,'Data Input'!AL175,'Data Input'!AM175,'Data Input'!AN175,'Data Input'!AO175,'Data Input'!AP175,'Data Input'!AS175))","v":""},{"$f":"IF(M171=\"\",\"\",M171/COUNTIF('Data Input'!$C$8:$AZ$8,$M$2))","v":""},{"$f":"IF(ISBLANK('Data Input'!A175),\"\",SUM('Data Input'!AY175,'Data Input'!AZ175))","v":""},{"$f":"IF(O171=\"\",\"\",O171/COUNTIF('Data Input'!$C$8:$AZ$8,$O$2))","v":""},{"$f":"IF(ISBLANK('Data Input'!A175),\"\",SUM('Data Input'!AW175))","v":""},{"$f":"IF(Q171=\"\",\"\",Q171/COUNTIF('Data Input'!$C$8:$AZ$8,$Q$2))","v":""},{"$f":"IF(ISBLANK('Data Input'!$A175),\"\",SUM('Data Input'!Q175,'Data Input'!AT175,'Data Input'!AU175))","v":""},{"$f":"IF(S171=\"\",\"\",S171/COUNTIF('Data Input'!$C$8:$AZ$8,$S$2))","v":""},{"$f":"IF(ISBLANK('Data Input'!$A175),\"\",SUM('Data Input'!AX175))","v":""},{"$f":"IF(U171=\"\",\"\",U171/COUNTIF('Data Input'!$C$8:$AZ$8,$U$2))","v":""}]
[{"$f":"IF('Data Input'!A176=0,\"\",'Data Input'!A176)","v":""},{"$f":"IF(ISBLANK('Data Input'!A176),\"\",COUNTIF('Data Input'!C176:AZ176,\"\"))","v":""},{"$f":"IF(ISBLANK('Data Input'!A176),\"\",COUNTIF('Data Input'!C176:AZ176,\"0\"))","v":""},{"$f":"IF(ISBLANK('Data Input'!A176),\"\",SUM(B172,C172))","v":""},{"$f":"IF(ISBLANK('Data Input'!A176),\"\",SUM('Data Input'!C176:AZ176))","v":""},{"$f":"IF(E172=\"\",\"\",E172/(COUNTA('Data Input'!$C$8:$AZ$8)))","v":""},{"$f":"IF(ISBLANK('Data Input'!A176),\"\",SUM('Data Input'!R176,'Data Input'!AA176,'Data Input'!AB176,'Data Input'!AC176,'Data Input'!AE176,'Data Input'!AH176,'Data Input'!AQ176,'Data Input'!AR176))","v":""},{"$f":"IF(G172=\"\",\"\",G172/COUNTIF('Data Input'!$C$8:$AZ$8,$G$2))","v":""},{"$f":"IF(ISBLANK('Data Input'!A176),\"\",SUM('Data Input'!D176,'Data Input'!E176,'Data Input'!F176,'Data Input'!G176,'Data Input'!H176,'Data Input'!J176,'Data Input'!K176,'Data Input'!O176,'Data Input'!U176,'Data Input'!V176,'Data Input'!W176,'Data Input'!X176,'Data Input'!Z176,'Data Input'!AG176,'Data Input'!AI176,'Data Input'!AJ176,'Data Input'!AK176))","v":""},{"$f":"IF(I172=\"\",\"\",I172/COUNTIF('Data Input'!$C$8:$AZ$8,$I$2))","v":""},{"$f":"IF(ISBLANK('Data Input'!A176),\"\",SUM('Data Input'!AF176,'Data Input'!AV176))","v":""},{"$f":"IF(K172=\"\",\"\",K172/COUNTIF('Data Input'!$C$8:$AZ$8,$K$2))","v":""},{"$f":"IF(ISBLANK('Data Input'!A176),\"\",SUM('Data Input'!C176,'Data Input'!I176,'Data Input'!L176,'Data Input'!M176,'Data Input'!N176,'Data Input'!P176,'Data Input'!S176,'Data Input'!T176,'Data Input'!Y176,'Data Input'!AD176,'Data Input'!AL176,'Data Input'!AM176,'Data Input'!AN176,'Data Input'!AO176,'Data Input'!AP176,'Data Input'!AS176))","v":""},{"$f":"IF(M172=\"\",\"\",M172/COUNTIF('Data Input'!$C$8:$AZ$8,$M$2))","v":""},{"$f":"IF(ISBLANK('Data Input'!A176),\"\",SUM('Data Input'!AY176,'Data Input'!AZ176))","v":""},{"$f":"IF(O172=\"\",\"\",O172/COUNTIF('Data Input'!$C$8:$AZ$8,$O$2))","v":""},{"$f":"IF(ISBLANK('Data Input'!A176),\"\",SUM('Data Input'!AW176))","v":""},{"$f":"IF(Q172=\"\",\"\",Q172/COUNTIF('Data Input'!$C$8:$AZ$8,$Q$2))","v":""},{"$f":"IF(ISBLANK('Data Input'!$A176),\"\",SUM('Data Input'!Q176,'Data Input'!AT176,'Data Input'!AU176))","v":""},{"$f":"IF(S172=\"\",\"\",S172/COUNTIF('Data Input'!$C$8:$AZ$8,$S$2))","v":""},{"$f":"IF(ISBLANK('Data Input'!$A176),\"\",SUM('Data Input'!AX176))","v":""},{"$f":"IF(U172=\"\",\"\",U172/COUNTIF('Data Input'!$C$8:$AZ$8,$U$2))","v":""}]
[{"$f":"IF('Data Input'!A177=0,\"\",'Data Input'!A177)","v":""},{"$f":"IF(ISBLANK('Data Input'!A177),\"\",COUNTIF('Data Input'!C177:AZ177,\"\"))","v":""},{"$f":"IF(ISBLANK('Data Input'!A177),\"\",COUNTIF('Data Input'!C177:AZ177,\"0\"))","v":""},{"$f":"IF(ISBLANK('Data Input'!A177),\"\",SUM(B173,C173))","v":""},{"$f":"IF(ISBLANK('Data Input'!A177),\"\",SUM('Data Input'!C177:AZ177))","v":""},{"$f":"IF(E173=\"\",\"\",E173/(COUNTA('Data Input'!$C$8:$AZ$8)))","v":""},{"$f":"IF(ISBLANK('Data Input'!A177),\"\",SUM('Data Input'!R177,'Data Input'!AA177,'Data Input'!AB177,'Data Input'!AC177,'Data Input'!AE177,'Data Input'!AH177,'Data Input'!AQ177,'Data Input'!AR177))","v":""},{"$f":"IF(G173=\"\",\"\",G173/COUNTIF('Data Input'!$C$8:$AZ$8,$G$2))","v":""},{"$f":"IF(ISBLANK('Data Input'!A177),\"\",SUM('Data Input'!D177,'Data Input'!E177,'Data Input'!F177,'Data Input'!G177,'Data Input'!H177,'Data Input'!J177,'Data Input'!K177,'Data Input'!O177,'Data Input'!U177,'Data Input'!V177,'Data Input'!W177,'Data Input'!X177,'Data Input'!Z177,'Data Input'!AG177,'Data Input'!AI177,'Data Input'!AJ177,'Data Input'!AK177))","v":""},{"$f":"IF(I173=\"\",\"\",I173/COUNTIF('Data Input'!$C$8:$AZ$8,$I$2))","v":""},{"$f":"IF(ISBLANK('Data Input'!A177),\"\",SUM('Data Input'!AF177,'Data Input'!AV177))","v":""},{"$f":"IF(K173=\"\",\"\",K173/COUNTIF('Data Input'!$C$8:$AZ$8,$K$2))","v":""},{"$f":"IF(ISBLANK('Data Input'!A177),\"\",SUM('Data Input'!C177,'Data Input'!I177,'Data Input'!L177,'Data Input'!M177,'Data Input'!N177,'Data Input'!P177,'Data Input'!S177,'Data Input'!T177,'Data Input'!Y177,'Data Input'!AD177,'Data Input'!AL177,'Data Input'!AM177,'Data Input'!AN177,'Data Input'!AO177,'Data Input'!AP177,'Data Input'!AS177))","v":""},{"$f":"IF(M173=\"\",\"\",M173/COUNTIF('Data Input'!$C$8:$AZ$8,$M$2))","v":""},{"$f":"IF(ISBLANK('Data Input'!A177),\"\",SUM('Data Input'!AY177,'Data Input'!AZ177))","v":""},{"$f":"IF(O173=\"\",\"\",O173/COUNTIF('Data Input'!$C$8:$AZ$8,$O$2))","v":""},{"$f":"IF(ISBLANK('Data Input'!A177),\"\",SUM('Data Input'!AW177))","v":""},{"$f":"IF(Q173=\"\",\"\",Q173/COUNTIF('Data Input'!$C$8:$AZ$8,$Q$2))","v":""},{"$f":"IF(ISBLANK('Data Input'!$A177),\"\",SUM('Data Input'!Q177,'Data Input'!AT177,'Data Input'!AU177))","v":""},{"$f":"IF(S173=\"\",\"\",S173/COUNTIF('Data Input'!$C$8:$AZ$8,$S$2))","v":""},{"$f":"IF(ISBLANK('Data Input'!$A177),\"\",SUM('Data Input'!AX177))","v":""},{"$f":"IF(U173=\"\",\"\",U173/COUNTIF('Data Input'!$C$8:$AZ$8,$U$2))","v":""}]
[{"$f":"IF('Data Input'!A178=0,\"\",'Data Input'!A178)","v":""},{"$f":"IF(ISBLANK('Data Input'!A178),\"\",COUNTIF('Data Input'!C178:AZ178,\"\"))","v":""},{"$f":"IF(ISBLANK('Data Input'!A178),\"\",COUNTIF('Data Input'!C178:AZ178,\"0\"))","v":""},{"$f":"IF(ISBLANK('Data Input'!A178),\"\",SUM(B174,C174))","v":""},{"$f":"IF(ISBLANK('Data Input'!A178),\"\",SUM('Data Input'!C178:AZ178))","v":""},{"$f":"IF(E174=\"\",\"\",E174/(COUNTA('Data Input'!$C$8:$AZ$8)))","v":""},{"$f":"IF(ISBLANK('Data Input'!A178),\"\",SUM('Data Input'!R178,'Data Input'!AA178,'Data Input'!AB178,'Data Input'!AC178,'Data Input'!AE178,'Data Input'!AH178,'Data Input'!AQ178,'Data Input'!AR178))","v":""},{"$f":"IF(G174=\"\",\"\",G174/COUNTIF('Data Input'!$C$8:$AZ$8,$G$2))","v":""},{"$f":"IF(ISBLANK('Data Input'!A178),\"\",SUM('Data Input'!D178,'Data Input'!E178,'Data Input'!F178,'Data Input'!G178,'Data Input'!H178,'Data Input'!J178,'Data Input'!K178,'Data Input'!O178,'Data Input'!U178,'Data Input'!V178,'Data Input'!W178,'Data Input'!X178,'Data Input'!Z178,'Data Input'!AG178,'Data Input'!AI178,'Data Input'!AJ178,'Data Input'!AK178))","v":""},{"$f":"IF(I174=\"\",\"\",I174/COUNTIF('Data Input'!$C$8:$AZ$8,$I$2))","v":""},{"$f":"IF(ISBLANK('Data Input'!A178),\"\",SUM('Data Input'!AF178,'Data Input'!AV178))","v":""},{"$f":"IF(K174=\"\",\"\",K174/COUNTIF('Data Input'!$C$8:$AZ$8,$K$2))","v":""},{"$f":"IF(ISBLANK('Data Input'!A178),\"\",SUM('Data Input'!C178,'Data Input'!I178,'Data Input'!L178,'Data Input'!M178,'Data Input'!N178,'Data Input'!P178,'Data Input'!S178,'Data Input'!T178,'Data Input'!Y178,'Data Input'!AD178,'Data Input'!AL178,'Data Input'!AM178,'Data Input'!AN178,'Data Input'!AO178,'Data Input'!AP178,'Data Input'!AS178))","v":""},{"$f":"IF(M174=\"\",\"\",M174/COUNTIF('Data Input'!$C$8:$AZ$8,$M$2))","v":""},{"$f":"IF(ISBLANK('Data Input'!A178),\"\",SUM('Data Input'!AY178,'Data Input'!AZ178))","v":""},{"$f":"IF(O174=\"\",\"\",O174/COUNTIF('Data Input'!$C$8:$AZ$8,$O$2))","v":""},{"$f":"IF(ISBLANK('Data Input'!A178),\"\",SUM('Data Input'!AW178))","v":""},{"$f":"IF(Q174=\"\",\"\",Q174/COUNTIF('Data Input'!$C$8:$AZ$8,$Q$2))","v":""},{"$f":"IF(ISBLANK('Data Input'!$A178),\"\",SUM('Data Input'!Q178,'Data Input'!AT178,'Data Input'!AU178))","v":""},{"$f":"IF(S174=\"\",\"\",S174/COUNTIF('Data Input'!$C$8:$AZ$8,$S$2))","v":""},{"$f":"IF(ISBLANK('Data Input'!$A178),\"\",SUM('Data Input'!AX178))","v":""},{"$f":"IF(U174=\"\",\"\",U174/COUNTIF('Data Input'!$C$8:$AZ$8,$U$2))","v":""}]
[{"$f":"IF('Data Input'!A179=0,\"\",'Data Input'!A179)","v":""},{"$f":"IF(ISBLANK('Data Input'!A179),\"\",COUNTIF('Data Input'!C179:AZ179,\"\"))","v":""},{"$f":"IF(ISBLANK('Data Input'!A179),\"\",COUNTIF('Data Input'!C179:AZ179,\"0\"))","v":""},{"$f":"IF(ISBLANK('Data Input'!A179),\"\",SUM(B175,C175))","v":""},{"$f":"IF(ISBLANK('Data Input'!A179),\"\",SUM('Data Input'!C179:AZ179))","v":""},{"$f":"IF(E175=\"\",\"\",E175/(COUNTA('Data Input'!$C$8:$AZ$8)))","v":""},{"$f":"IF(ISBLANK('Data Input'!A179),\"\",SUM('Data Input'!R179,'Data Input'!AA179,'Data Input'!AB179,'Data Input'!AC179,'Data Input'!AE179,'Data Input'!AH179,'Data Input'!AQ179,'Data Input'!AR179))","v":""},{"$f":"IF(G175=\"\",\"\",G175/COUNTIF('Data Input'!$C$8:$AZ$8,$G$2))","v":""},{"$f":"IF(ISBLANK('Data Input'!A179),\"\",SUM('Data Input'!D179,'Data Input'!E179,'Data Input'!F179,'Data Input'!G179,'Data Input'!H179,'Data Input'!J179,'Data Input'!K179,'Data Input'!O179,'Data Input'!U179,'Data Input'!V179,'Data Input'!W179,'Data Input'!X179,'Data Input'!Z179,'Data Input'!AG179,'Data Input'!AI179,'Data Input'!AJ179,'Data Input'!AK179))","v":""},{"$f":"IF(I175=\"\",\"\",I175/COUNTIF('Data Input'!$C$8:$AZ$8,$I$2))","v":""},{"$f":"IF(ISBLANK('Data Input'!A179),\"\",SUM('Data Input'!AF179,'Data Input'!AV179))","v":""},{"$f":"IF(K175=\"\",\"\",K175/COUNTIF('Data Input'!$C$8:$AZ$8,$K$2))","v":""},{"$f":"IF(ISBLANK('Data Input'!A179),\"\",SUM('Data Input'!C179,'Data Input'!I179,'Data Input'!L179,'Data Input'!M179,'Data Input'!N179,'Data Input'!P179,'Data Input'!S179,'Data Input'!T179,'Data Input'!Y179,'Data Input'!AD179,'Data Input'!AL179,'Data Input'!AM179,'Data Input'!AN179,'Data Input'!AO179,'Data Input'!AP179,'Data Input'!AS179))","v":""},{"$f":"IF(M175=\"\",\"\",M175/COUNTIF('Data Input'!$C$8:$AZ$8,$M$2))","v":""},{"$f":"IF(ISBLANK('Data Input'!A179),\"\",SUM('Data Input'!AY179,'Data Input'!AZ179))","v":""},{"$f":"IF(O175=\"\",\"\",O175/COUNTIF('Data Input'!$C$8:$AZ$8,$O$2))","v":""},{"$f":"IF(ISBLANK('Data Input'!A179),\"\",SUM('Data Input'!AW179))","v":""},{"$f":"IF(Q175=\"\",\"\",Q175/COUNTIF('Data Input'!$C$8:$AZ$8,$Q$2))","v":""},{"$f":"IF(ISBLANK('Data Input'!$A179),\"\",SUM('Data Input'!Q179,'Data Input'!AT179,'Data Input'!AU179))","v":""},{"$f":"IF(S175=\"\",\"\",S175/COUNTIF('Data Input'!$C$8:$AZ$8,$S$2))","v":""},{"$f":"IF(ISBLANK('Data Input'!$A179),\"\",SUM('Data Input'!AX179))","v":""},{"$f":"IF(U175=\"\",\"\",U175/COUNTIF('Data Input'!$C$8:$AZ$8,$U$2))","v":""}]
[{"$f":"IF('Data Input'!A180=0,\"\",'Data Input'!A180)","v":""},{"$f":"IF(ISBLANK('Data Input'!A180),\"\",COUNTIF('Data Input'!C180:AZ180,\"\"))","v":""},{"$f":"IF(ISBLANK('Data Input'!A180),\"\",COUNTIF('Data Input'!C180:AZ180,\"0\"))","v":""},{"$f":"IF(ISBLANK('Data Input'!A180),\"\",SUM(B176,C176))","v":""},{"$f":"IF(ISBLANK('Data Input'!A180),\"\",SUM('Data Input'!C180:AZ180))","v":""},{"$f":"IF(E176=\"\",\"\",E176/(COUNTA('Data Input'!$C$8:$AZ$8)))","v":""},{"$f":"IF(ISBLANK('Data Input'!A180),\"\",SUM('Data Input'!R180,'Data Input'!AA180,'Data Input'!AB180,'Data Input'!AC180,'Data Input'!AE180,'Data Input'!AH180,'Data Input'!AQ180,'Data Input'!AR180))","v":""},{"$f":"IF(G176=\"\",\"\",G176/COUNTIF('Data Input'!$C$8:$AZ$8,$G$2))","v":""},{"$f":"IF(ISBLANK('Data Input'!A180),\"\",SUM('Data Input'!D180,'Data Input'!E180,'Data Input'!F180,'Data Input'!G180,'Data Input'!H180,'Data Input'!J180,'Data Input'!K180,'Data Input'!O180,'Data Input'!U180,'Data Input'!V180,'Data Input'!W180,'Data Input'!X180,'Data Input'!Z180,'Data Input'!AG180,'Data Input'!AI180,'Data Input'!AJ180,'Data Input'!AK180))","v":""},{"$f":"IF(I176=\"\",\"\",I176/COUNTIF('Data Input'!$C$8:$AZ$8,$I$2))","v":""},{"$f":"IF(ISBLANK('Data Input'!A180),\"\",SUM('Data Input'!AF180,'Data Input'!AV180))","v":""},{"$f":"IF(K176=\"\",\"\",K176/COUNTIF('Data Input'!$C$8:$AZ$8,$K$2))","v":""},{"$f":"IF(ISBLANK('Data Input'!A180),\"\",SUM('Data Input'!C180,'Data Input'!I180,'Data Input'!L180,'Data Input'!M180,'Data Input'!N180,'Data Input'!P180,'Data Input'!S180,'Data Input'!T180,'Data Input'!Y180,'Data Input'!AD180,'Data Input'!AL180,'Data Input'!AM180,'Data Input'!AN180,'Data Input'!AO180,'Data Input'!AP180,'Data Input'!AS180))","v":""},{"$f":"IF(M176=\"\",\"\",M176/COUNTIF('Data Input'!$C$8:$AZ$8,$M$2))","v":""},{"$f":"IF(ISBLANK('Data Input'!A180),\"\",SUM('Data Input'!AY180,'Data Input'!AZ180))","v":""},{"$f":"IF(O176=\"\",\"\",O176/COUNTIF('Data Input'!$C$8:$AZ$8,$O$2))","v":""},{"$f":"IF(ISBLANK('Data Input'!A180),\"\",SUM('Data Input'!AW180))","v":""},{"$f":"IF(Q176=\"\",\"\",Q176/COUNTIF('Data Input'!$C$8:$AZ$8,$Q$2))","v":""},{"$f":"IF(ISBLANK('Data Input'!$A180),\"\",SUM('Data Input'!Q180,'Data Input'!AT180,'Data Input'!AU180))","v":""},{"$f":"IF(S176=\"\",\"\",S176/COUNTIF('Data Input'!$C$8:$AZ$8,$S$2))","v":""},{"$f":"IF(ISBLANK('Data Input'!$A180),\"\",SUM('Data Input'!AX180))","v":""},{"$f":"IF(U176=\"\",\"\",U176/COUNTIF('Data Input'!$C$8:$AZ$8,$U$2))","v":""}]
[{"$f":"IF('Data Input'!A181=0,\"\",'Data Input'!A181)","v":""},{"$f":"IF(ISBLANK('Data Input'!A181),\"\",COUNTIF('Data Input'!C181:AZ181,\"\"))","v":""},{"$f":"IF(ISBLANK('Data Input'!A181),\"\",COUNTIF('Data Input'!C181:AZ181,\"0\"))","v":""},{"$f":"IF(ISBLANK('Data Input'!A181),\"\",SUM(B177,C177))","v":""},{"$f":"IF(ISBLANK('Data Input'!A181),\"\",SUM('Data Input'!C181:AZ181))","v":""},{"$f":"IF(E177=\"\",\"\",E177/(COUNTA('Data Input'!$C$8:$AZ$8)))","v":""},{"$f":"IF(ISBLANK('Data Input'!A181),\"\",SUM('Data Input'!R181,'Data Input'!AA181,'Data Input'!AB181,'Data Input'!AC181,'Data Input'!AE181,'Data Input'!AH181,'Data Input'!AQ181,'Data Input'!AR181))","v":""},{"$f":"IF(G177=\"\",\"\",G177/COUNTIF('Data Input'!$C$8:$AZ$8,$G$2))","v":""},{"$f":"IF(ISBLANK('Data Input'!A181),\"\",SUM('Data Input'!D181,'Data Input'!E181,'Data Input'!F181,'Data Input'!G181,'Data Input'!H181,'Data Input'!J181,'Data Input'!K181,'Data Input'!O181,'Data Input'!U181,'Data Input'!V181,'Data Input'!W181,'Data Input'!X181,'Data Input'!Z181,'Data Input'!AG181,'Data Input'!AI181,'Data Input'!AJ181,'Data Input'!AK181))","v":""},{"$f":"IF(I177=\"\",\"\",I177/COUNTIF('Data Input'!$C$8:$AZ$8,$I$2))","v":""},{"$f":"IF(ISBLANK('Data Input'!A181),\"\",SUM('Data Input'!AF181,'Data Input'!AV181))","v":""},{"$f":"IF(K177=\"\",\"\",K177/COUNTIF('Data Input'!$C$8:$AZ$8,$K$2))","v":""},{"$f":"IF(ISBLANK('Data Input'!A181),\"\",SUM('Data Input'!C181,'Data Input'!I181,'Data Input'!L181,'Data Input'!M181,'Data Input'!N181,'Data Input'!P181,'Data Input'!S181,'Data Input'!T181,'Data Input'!Y181,'Data Input'!AD181,'Data Input'!AL181,'Data Input'!AM181,'Data Input'!AN181,'Data Input'!AO181,'Data Input'!AP181,'Data Input'!AS181))","v":""},{"$f":"IF(M177=\"\",\"\",M177/COUNTIF('Data Input'!$C$8:$AZ$8,$M$2))","v":""},{"$f":"IF(ISBLANK('Data Input'!A181),\"\",SUM('Data Input'!AY181,'Data Input'!AZ181))","v":""},{"$f":"IF(O177=\"\",\"\",O177/COUNTIF('Data Input'!$C$8:$AZ$8,$O$2))","v":""},{"$f":"IF(ISBLANK('Data Input'!A181),\"\",SUM('Data Input'!AW181))","v":""},{"$f":"IF(Q177=\"\",\"\",Q177/COUNTIF('Data Input'!$C$8:$AZ$8,$Q$2))","v":""},{"$f":"IF(ISBLANK('Data Input'!$A181),\"\",SUM('Data Input'!Q181,'Data Input'!AT181,'Data Input'!AU181))","v":""},{"$f":"IF(S177=\"\",\"\",S177/COUNTIF('Data Input'!$C$8:$AZ$8,$S$2))","v":""},{"$f":"IF(ISBLANK('Data Input'!$A181),\"\",SUM('Data Input'!AX181))","v":""},{"$f":"IF(U177=\"\",\"\",U177/COUNTIF('Data Input'!$C$8:$AZ$8,$U$2))","v":""}]
[{"$f":"IF('Data Input'!A182=0,\"\",'Data Input'!A182)","v":""},{"$f":"IF(ISBLANK('Data Input'!A182),\"\",COUNTIF('Data Input'!C182:AZ182,\"\"))","v":""},{"$f":"IF(ISBLANK('Data Input'!A182),\"\",COUNTIF('Data Input'!C182:AZ182,\"0\"))","v":""},{"$f":"IF(ISBLANK('Data Input'!A182),\"\",SUM(B178,C178))","v":""},{"$f":"IF(ISBLANK('Data Input'!A182),\"\",SUM('Data Input'!C182:AZ182))","v":""},{"$f":"IF(E178=\"\",\"\",E178/(COUNTA('Data Input'!$C$8:$AZ$8)))","v":""},{"$f":"IF(ISBLANK('Data Input'!A182),\"\",SUM('Data Input'!R182,'Data Input'!AA182,'Data Input'!AB182,'Data Input'!AC182,'Data Input'!AE182,'Data Input'!AH182,'Data Input'!AQ182,'Data Input'!AR182))","v":""},{"$f":"IF(G178=\"\",\"\",G178/COUNTIF('Data Input'!$C$8:$AZ$8,$G$2))","v":""},{"$f":"IF(ISBLANK('Data Input'!A182),\"\",SUM('Data Input'!D182,'Data Input'!E182,'Data Input'!F182,'Data Input'!G182,'Data Input'!H182,'Data Input'!J182,'Data Input'!K182,'Data Input'!O182,'Data Input'!U182,'Data Input'!V182,'Data Input'!W182,'Data Input'!X182,'Data Input'!Z182,'Data Input'!AG182,'Data Input'!AI182,'Data Input'!AJ182,'Data Input'!AK182))","v":""},{"$f":"IF(I178=\"\",\"\",I178/COUNTIF('Data Input'!$C$8:$AZ$8,$I$2))","v":""},{"$f":"IF(ISBLANK('Data Input'!A182),\"\",SUM('Data Input'!AF182,'Data Input'!AV182))","v":""},{"$f":"IF(K178=\"\",\"\",K178/COUNTIF('Data Input'!$C$8:$AZ$8,$K$2))","v":""},{"$f":"IF(ISBLANK('Data Input'!A182),\"\",SUM('Data Input'!C182,'Data Input'!I182,'Data Input'!L182,'Data Input'!M182,'Data Input'!N182,'Data Input'!P182,'Data Input'!S182,'Data Input'!T182,'Data Input'!Y182,'Data Input'!AD182,'Data Input'!AL182,'Data Input'!AM182,'Data Input'!AN182,'Data Input'!AO182,'Data Input'!AP182,'Data Input'!AS182))","v":""},{"$f":"IF(M178=\"\",\"\",M178/COUNTIF('Data Input'!$C$8:$AZ$8,$M$2))","v":""},{"$f":"IF(ISBLANK('Data Input'!A182),\"\",SUM('Data Input'!AY182,'Data Input'!AZ182))","v":""},{"$f":"IF(O178=\"\",\"\",O178/COUNTIF('Data Input'!$C$8:$AZ$8,$O$2))","v":""},{"$f":"IF(ISBLANK('Data Input'!A182),\"\",SUM('Data Input'!AW182))","v":""},{"$f":"IF(Q178=\"\",\"\",Q178/COUNTIF('Data Input'!$C$8:$AZ$8,$Q$2))","v":""},{"$f":"IF(ISBLANK('Data Input'!$A182),\"\",SUM('Data Input'!Q182,'Data Input'!AT182,'Data Input'!AU182))","v":""},{"$f":"IF(S178=\"\",\"\",S178/COUNTIF('Data Input'!$C$8:$AZ$8,$S$2))","v":""},{"$f":"IF(ISBLANK('Data Input'!$A182),\"\",SUM('Data Input'!AX182))","v":""},{"$f":"IF(U178=\"\",\"\",U178/COUNTIF('Data Input'!$C$8:$AZ$8,$U$2))","v":""}]
[{"$f":"IF('Data Input'!A183=0,\"\",'Data Input'!A183)","v":""},{"$f":"IF(ISBLANK('Data Input'!A183),\"\",COUNTIF('Data Input'!C183:AZ183,\"\"))","v":""},{"$f":"IF(ISBLANK('Data Input'!A183),\"\",COUNTIF('Data Input'!C183:AZ183,\"0\"))","v":""},{"$f":"IF(ISBLANK('Data Input'!A183),\"\",SUM(B179,C179))","v":""},{"$f":"IF(ISBLANK('Data Input'!A183),\"\",SUM('Data Input'!C183:AZ183))","v":""},{"$f":"IF(E179=\"\",\"\",E179/(COUNTA('Data Input'!$C$8:$AZ$8)))","v":""},{"$f":"IF(ISBLANK('Data Input'!A183),\"\",SUM('Data Input'!R183,'Data Input'!AA183,'Data Input'!AB183,'Data Input'!AC183,'Data Input'!AE183,'Data Input'!AH183,'Data Input'!AQ183,'Data Input'!AR183))","v":""},{"$f":"IF(G179=\"\",\"\",G179/COUNTIF('Data Input'!$C$8:$AZ$8,$G$2))","v":""},{"$f":"IF(ISBLANK('Data Input'!A183),\"\",SUM('Data Input'!D183,'Data Input'!E183,'Data Input'!F183,'Data Input'!G183,'Data Input'!H183,'Data Input'!J183,'Data Input'!K183,'Data Input'!O183,'Data Input'!U183,'Data Input'!V183,'Data Input'!W183,'Data Input'!X183,'Data Input'!Z183,'Data Input'!AG183,'Data Input'!AI183,'Data Input'!AJ183,'Data Input'!AK183))","v":""},{"$f":"IF(I179=\"\",\"\",I179/COUNTIF('Data Input'!$C$8:$AZ$8,$I$2))","v":""},{"$f":"IF(ISBLANK('Data Input'!A183),\"\",SUM('Data Input'!AF183,'Data Input'!AV183))","v":""},{"$f":"IF(K179=\"\",\"\",K179/COUNTIF('Data Input'!$C$8:$AZ$8,$K$2))","v":""},{"$f":"IF(ISBLANK('Data Input'!A183),\"\",SUM('Data Input'!C183,'Data Input'!I183,'Data Input'!L183,'Data Input'!M183,'Data Input'!N183,'Data Input'!P183,'Data Input'!S183,'Data Input'!T183,'Data Input'!Y183,'Data Input'!AD183,'Data Input'!AL183,'Data Input'!AM183,'Data Input'!AN183,'Data Input'!AO183,'Data Input'!AP183,'Data Input'!AS183))","v":""},{"$f":"IF(M179=\"\",\"\",M179/COUNTIF('Data Input'!$C$8:$AZ$8,$M$2))","v":""},{"$f":"IF(ISBLANK('Data Input'!A183),\"\",SUM('Data Input'!AY183,'Data Input'!AZ183))","v":""},{"$f":"IF(O179=\"\",\"\",O179/COUNTIF('Data Input'!$C$8:$AZ$8,$O$2))","v":""},{"$f":"IF(ISBLANK('Data Input'!A183),\"\",SUM('Data Input'!AW183))","v":""},{"$f":"IF(Q179=\"\",\"\",Q179/COUNTIF('Data Input'!$C$8:$AZ$8,$Q$2))","v":""},{"$f":"IF(ISBLANK('Data Input'!$A183),\"\",SUM('Data Input'!Q183,'Data Input'!AT183,'Data Input'!AU183))","v":""},{"$f":"IF(S179=\"\",\"\",S179/COUNTIF('Data Input'!$C$8:$AZ$8,$S$2))","v":""},{"$f":"IF(ISBLANK('Data Input'!$A183),\"\",SUM('Data Input'!AX183))","v":""},{"$f":"IF(U179=\"\",\"\",U179/COUNTIF('Data Input'!$C$8:$AZ$8,$U$2))","v":""}]
[{"$f":"IF('Data Input'!A184=0,\"\",'Data Input'!A184)","v":""},{"$f":"IF(ISBLANK('Data Input'!A184),\"\",COUNTIF('Data Input'!C184:AZ184,\"\"))","v":""},{"$f":"IF(ISBLANK('Data Input'!A184),\"\",COUNTIF('Data Input'!C184:AZ184,\"0\"))","v":""},{"$f":"IF(ISBLANK('Data Input'!A184),\"\",SUM(B180,C180))","v":""},{"$f":"IF(ISBLANK('Data Input'!A184),\"\",SUM('Data Input'!C184:AZ184))","v":""},{"$f":"IF(E180=\"\",\"\",E180/(COUNTA('Data Input'!$C$8:$AZ$8)))","v":""},{"$f":"IF(ISBLANK('Data Input'!A184),\"\",SUM('Data Input'!R184,'Data Input'!AA184,'Data Input'!AB184,'Data Input'!AC184,'Data Input'!AE184,'Data Input'!AH184,'Data Input'!AQ184,'Data Input'!AR184))","v":""},{"$f":"IF(G180=\"\",\"\",G180/COUNTIF('Data Input'!$C$8:$AZ$8,$G$2))","v":""},{"$f":"IF(ISBLANK('Data Input'!A184),\"\",SUM('Data Input'!D184,'Data Input'!E184,'Data Input'!F184,'Data Input'!G184,'Data Input'!H184,'Data Input'!J184,'Data Input'!K184,'Data Input'!O184,'Data Input'!U184,'Data Input'!V184,'Data Input'!W184,'Data Input'!X184,'Data Input'!Z184,'Data Input'!AG184,'Data Input'!AI184,'Data Input'!AJ184,'Data Input'!AK184))","v":""},{"$f":"IF(I180=\"\",\"\",I180/COUNTIF('Data Input'!$C$8:$AZ$8,$I$2))","v":""},{"$f":"IF(ISBLANK('Data Input'!A184),\"\",SUM('Data Input'!AF184,'Data Input'!AV184))","v":""},{"$f":"IF(K180=\"\",\"\",K180/COUNTIF('Data Input'!$C$8:$AZ$8,$K$2))","v":""},{"$f":"IF(ISBLANK('Data Input'!A184),\"\",SUM('Data Input'!C184,'Data Input'!I184,'Data Input'!L184,'Data Input'!M184,'Data Input'!N184,'Data Input'!P184,'Data Input'!S184,'Data Input'!T184,'Data Input'!Y184,'Data Input'!AD184,'Data Input'!AL184,'Data Input'!AM184,'Data Input'!AN184,'Data Input'!AO184,'Data Input'!AP184,'Data Input'!AS184))","v":""},{"$f":"IF(M180=\"\",\"\",M180/COUNTIF('Data Input'!$C$8:$AZ$8,$M$2))","v":""},{"$f":"IF(ISBLANK('Data Input'!A184),\"\",SUM('Data Input'!AY184,'Data Input'!AZ184))","v":""},{"$f":"IF(O180=\"\",\"\",O180/COUNTIF('Data Input'!$C$8:$AZ$8,$O$2))","v":""},{"$f":"IF(ISBLANK('Data Input'!A184),\"\",SUM('Data Input'!AW184))","v":""},{"$f":"IF(Q180=\"\",\"\",Q180/COUNTIF('Data Input'!$C$8:$AZ$8,$Q$2))","v":""},{"$f":"IF(ISBLANK('Data Input'!$A184),\"\",SUM('Data Input'!Q184,'Data Input'!AT184,'Data Input'!AU184))","v":""},{"$f":"IF(S180=\"\",\"\",S180/COUNTIF('Data Input'!$C$8:$AZ$8,$S$2))","v":""},{"$f":"IF(ISBLANK('Data Input'!$A184),\"\",SUM('Data Input'!AX184))","v":""},{"$f":"IF(U180=\"\",\"\",U180/COUNTIF('Data Input'!$C$8:$AZ$8,$U$2))","v":""}]
[{"$f":"IF('Data Input'!A185=0,\"\",'Data Input'!A185)","v":""},{"$f":"IF(ISBLANK('Data Input'!A185),\"\",COUNTIF('Data Input'!C185:AZ185,\"\"))","v":""},{"$f":"IF(ISBLANK('Data Input'!A185),\"\",COUNTIF('Data Input'!C185:AZ185,\"0\"))","v":""},{"$f":"IF(ISBLANK('Data Input'!A185),\"\",SUM(B181,C181))","v":""},{"$f":"IF(ISBLANK('Data Input'!A185),\"\",SUM('Data Input'!C185:AZ185))","v":""},{"$f":"IF(E181=\"\",\"\",E181/(COUNTA('Data Input'!$C$8:$AZ$8)))","v":""},{"$f":"IF(ISBLANK('Data Input'!A185),\"\",SUM('Data Input'!R185,'Data Input'!AA185,'Data Input'!AB185,'Data Input'!AC185,'Data Input'!AE185,'Data Input'!AH185,'Data Input'!AQ185,'Data Input'!AR185))","v":""},{"$f":"IF(G181=\"\",\"\",G181/COUNTIF('Data Input'!$C$8:$AZ$8,$G$2))","v":""},{"$f":"IF(ISBLANK('Data Input'!A185),\"\",SUM('Data Input'!D185,'Data Input'!E185,'Data Input'!F185,'Data Input'!G185,'Data Input'!H185,'Data Input'!J185,'Data Input'!K185,'Data Input'!O185,'Data Input'!U185,'Data Input'!V185,'Data Input'!W185,'Data Input'!X185,'Data Input'!Z185,'Data Input'!AG185,'Data Input'!AI185,'Data Input'!AJ185,'Data Input'!AK185))","v":""},{"$f":"IF(I181=\"\",\"\",I181/COUNTIF('Data Input'!$C$8:$AZ$8,$I$2))","v":""},{"$f":"IF(ISBLANK('Data Input'!A185),\"\",SUM('Data Input'!AF185,'Data Input'!AV185))","v":""},{"$f":"IF(K181=\"\",\"\",K181/COUNTIF('Data Input'!$C$8:$AZ$8,$K$2))","v":""},{"$f":"IF(ISBLANK('Data Input'!A185),\"\",SUM('Data Input'!C185,'Data Input'!I185,'Data Input'!L185,'Data Input'!M185,'Data Input'!N185,'Data Input'!P185,'Data Input'!S185,'Data Input'!T185,'Data Input'!Y185,'Data Input'!AD185,'Data Input'!AL185,'Data Input'!AM185,'Data Input'!AN185,'Data Input'!AO185,'Data Input'!AP185,'Data Input'!AS185))","v":""},{"$f":"IF(M181=\"\",\"\",M181/COUNTIF('Data Input'!$C$8:$AZ$8,$M$2))","v":""},{"$f":"IF(ISBLANK('Data Input'!A185),\"\",SUM('Data Input'!AY185,'Data Input'!AZ185))","v":""},{"$f":"IF(O181=\"\",\"\",O181/COUNTIF('Data Input'!$C$8:$AZ$8,$O$2))","v":""},{"$f":"IF(ISBLANK('Data Input'!A185),\"\",SUM('Data Input'!AW185))","v":""},{"$f":"IF(Q181=\"\",\"\",Q181/COUNTIF('Data Input'!$C$8:$AZ$8,$Q$2))","v":""},{"$f":"IF(ISBLANK('Data Input'!$A185),\"\",SUM('Data Input'!Q185,'Data Input'!AT185,'Data Input'!AU185))","v":""},{"$f":"IF(S181=\"\",\"\",S181/COUNTIF('Data Input'!$C$8:$AZ$8,$S$2))","v":""},{"$f":"IF(ISBLANK('Data Input'!$A185),\"\",SUM('Data Input'!AX185))","v":""},{"$f":"IF(U181=\"\",\"\",U181/COUNTIF('Data Input'!$C$8:$AZ$8,$U$2))","v":""}]
[{"$f":"IF('Data Input'!A186=0,\"\",'Data Input'!A186)","v":""},{"$f":"IF(ISBLANK('Data Input'!A186),\"\",COUNTIF('Data Input'!C186:AZ186,\"\"))","v":""},{"$f":"IF(ISBLANK('Data Input'!A186),\"\",COUNTIF('Data Input'!C186:AZ186,\"0\"))","v":""},{"$f":"IF(ISBLANK('Data Input'!A186),\"\",SUM(B182,C182))","v":""},{"$f":"IF(ISBLANK('Data Input'!A186),\"\",SUM('Data Input'!C186:AZ186))","v":""},{"$f":"IF(E182=\"\",\"\",E182/(COUNTA('Data Input'!$C$8:$AZ$8)))","v":""},{"$f":"IF(ISBLANK('Data Input'!A186),\"\",SUM('Data Input'!R186,'Data Input'!AA186,'Data Input'!AB186,'Data Input'!AC186,'Data Input'!AE186,'Data Input'!AH186,'Data Input'!AQ186,'Data Input'!AR186))","v":""},{"$f":"IF(G182=\"\",\"\",G182/COUNTIF('Data Input'!$C$8:$AZ$8,$G$2))","v":""},{"$f":"IF(ISBLANK('Data Input'!A186),\"\",SUM('Data Input'!D186,'Data Input'!E186,'Data Input'!F186,'Data Input'!G186,'Data Input'!H186,'Data Input'!J186,'Data Input'!K186,'Data Input'!O186,'Data Input'!U186,'Data Input'!V186,'Data Input'!W186,'Data Input'!X186,'Data Input'!Z186,'Data Input'!AG186,'Data Input'!AI186,'Data Input'!AJ186,'Data Input'!AK186))","v":""},{"$f":"IF(I182=\"\",\"\",I182/COUNTIF('Data Input'!$C$8:$AZ$8,$I$2))","v":""},{"$f":"IF(ISBLANK('Data Input'!A186),\"\",SUM('Data Input'!AF186,'Data Input'!AV186))","v":""},{"$f":"IF(K182=\"\",\"\",K182/COUNTIF('Data Input'!$C$8:$AZ$8,$K$2))","v":""},{"$f":"IF(ISBLANK('Data Input'!A186),\"\",SUM('Data Input'!C186,'Data Input'!I186,'Data Input'!L186,'Data Input'!M186,'Data Input'!N186,'Data Input'!P186,'Data Input'!S186,'Data Input'!T186,'Data Input'!Y186,'Data Input'!AD186,'Data Input'!AL186,'Data Input'!AM186,'Data Input'!AN186,'Data Input'!AO186,'Data Input'!AP186,'Data Input'!AS186))","v":""},{"$f":"IF(M182=\"\",\"\",M182/COUNTIF('Data Input'!$C$8:$AZ$8,$M$2))","v":""},{"$f":"IF(ISBLANK('Data Input'!A186),\"\",SUM('Data Input'!AY186,'Data Input'!AZ186))","v":""},{"$f":"IF(O182=\"\",\"\",O182/COUNTIF('Data Input'!$C$8:$AZ$8,$O$2))","v":""},{"$f":"IF(ISBLANK('Data Input'!A186),\"\",SUM('Data Input'!AW186))","v":""},{"$f":"IF(Q182=\"\",\"\",Q182/COUNTIF('Data Input'!$C$8:$AZ$8,$Q$2))","v":""},{"$f":"IF(ISBLANK('Data Input'!$A186),\"\",SUM('Data Input'!Q186,'Data Input'!AT186,'Data Input'!AU186))","v":""},{"$f":"IF(S182=\"\",\"\",S182/COUNTIF('Data Input'!$C$8:$AZ$8,$S$2))","v":""},{"$f":"IF(ISBLANK('Data Input'!$A186),\"\",SUM('Data Input'!AX186))","v":""},{"$f":"IF(U182=\"\",\"\",U182/COUNTIF('Data Input'!$C$8:$AZ$8,$U$2))","v":""}]
[{"$f":"IF('Data Input'!A187=0,\"\",'Data Input'!A187)","v":""},{"$f":"IF(ISBLANK('Data Input'!A187),\"\",COUNTIF('Data Input'!C187:AZ187,\"\"))","v":""},{"$f":"IF(ISBLANK('Data Input'!A187),\"\",COUNTIF('Data Input'!C187:AZ187,\"0\"))","v":""},{"$f":"IF(ISBLANK('Data Input'!A187),\"\",SUM(B183,C183))","v":""},{"$f":"IF(ISBLANK('Data Input'!A187),\"\",SUM('Data Input'!C187:AZ187))","v":""},{"$f":"IF(E183=\"\",\"\",E183/(COUNTA('Data Input'!$C$8:$AZ$8)))","v":""},{"$f":"IF(ISBLANK('Data Input'!A187),\"\",SUM('Data Input'!R187,'Data Input'!AA187,'Data Input'!AB187,'Data Input'!AC187,'Data Input'!AE187,'Data Input'!AH187,'Data Input'!AQ187,'Data Input'!AR187))","v":""},{"$f":"IF(G183=\"\",\"\",G183/COUNTIF('Data Input'!$C$8:$AZ$8,$G$2))","v":""},{"$f":"IF(ISBLANK('Data Input'!A187),\"\",SUM('Data Input'!D187,'Data Input'!E187,'Data Input'!F187,'Data Input'!G187,'Data Input'!H187,'Data Input'!J187,'Data Input'!K187,'Data Input'!O187,'Data Input'!U187,'Data Input'!V187,'Data Input'!W187,'Data Input'!X187,'Data Input'!Z187,'Data Input'!AG187,'Data Input'!AI187,'Data Input'!AJ187,'Data Input'!AK187))","v":""},{"$f":"IF(I183=\"\",\"\",I183/COUNTIF('Data Input'!$C$8:$AZ$8,$I$2))","v":""},{"$f":"IF(ISBLANK('Data Input'!A187),\"\",SUM('Data Input'!AF187,'Data Input'!AV187))","v":""},{"$f":"IF(K183=\"\",\"\",K183/COUNTIF('Data Input'!$C$8:$AZ$8,$K$2))","v":""},{"$f":"IF(ISBLANK('Data Input'!A187),\"\",SUM('Data Input'!C187,'Data Input'!I187,'Data Input'!L187,'Data Input'!M187,'Data Input'!N187,'Data Input'!P187,'Data Input'!S187,'Data Input'!T187,'Data Input'!Y187,'Data Input'!AD187,'Data Input'!AL187,'Data Input'!AM187,'Data Input'!AN187,'Data Input'!AO187,'Data Input'!AP187,'Data Input'!AS187))","v":""},{"$f":"IF(M183=\"\",\"\",M183/COUNTIF('Data Input'!$C$8:$AZ$8,$M$2))","v":""},{"$f":"IF(ISBLANK('Data Input'!A187),\"\",SUM('Data Input'!AY187,'Data Input'!AZ187))","v":""},{"$f":"IF(O183=\"\",\"\",O183/COUNTIF('Data Input'!$C$8:$AZ$8,$O$2))","v":""},{"$f":"IF(ISBLANK('Data Input'!A187),\"\",SUM('Data Input'!AW187))","v":""},{"$f":"IF(Q183=\"\",\"\",Q183/COUNTIF('Data Input'!$C$8:$AZ$8,$Q$2))","v":""},{"$f":"IF(ISBLANK('Data Input'!$A187),\"\",SUM('Data Input'!Q187,'Data Input'!AT187,'Data Input'!AU187))","v":""},{"$f":"IF(S183=\"\",\"\",S183/COUNTIF('Data Input'!$C$8:$AZ$8,$S$2))","v":""},{"$f":"IF(ISBLANK('Data Input'!$A187),\"\",SUM('Data Input'!AX187))","v":""},{"$f":"IF(U183=\"\",\"\",U183/COUNTIF('Data Input'!$C$8:$AZ$8,$U$2))","v":""}]
[{"$f":"IF('Data Input'!A188=0,\"\",'Data Input'!A188)","v":""},{"$f":"IF(ISBLANK('Data Input'!A188),\"\",COUNTIF('Data Input'!C188:AZ188,\"\"))","v":""},{"$f":"IF(ISBLANK('Data Input'!A188),\"\",COUNTIF('Data Input'!C188:AZ188,\"0\"))","v":""},{"$f":"IF(ISBLANK('Data Input'!A188),\"\",SUM(B184,C184))","v":""},{"$f":"IF(ISBLANK('Data Input'!A188),\"\",SUM('Data Input'!C188:AZ188))","v":""},{"$f":"IF(E184=\"\",\"\",E184/(COUNTA('Data Input'!$C$8:$AZ$8)))","v":""},{"$f":"IF(ISBLANK('Data Input'!A188),\"\",SUM('Data Input'!R188,'Data Input'!AA188,'Data Input'!AB188,'Data Input'!AC188,'Data Input'!AE188,'Data Input'!AH188,'Data Input'!AQ188,'Data Input'!AR188))","v":""},{"$f":"IF(G184=\"\",\"\",G184/COUNTIF('Data Input'!$C$8:$AZ$8,$G$2))","v":""},{"$f":"IF(ISBLANK('Data Input'!A188),\"\",SUM('Data Input'!D188,'Data Input'!E188,'Data Input'!F188,'Data Input'!G188,'Data Input'!H188,'Data Input'!J188,'Data Input'!K188,'Data Input'!O188,'Data Input'!U188,'Data Input'!V188,'Data Input'!W188,'Data Input'!X188,'Data Input'!Z188,'Data Input'!AG188,'Data Input'!AI188,'Data Input'!AJ188,'Data Input'!AK188))","v":""},{"$f":"IF(I184=\"\",\"\",I184/COUNTIF('Data Input'!$C$8:$AZ$8,$I$2))","v":""},{"$f":"IF(ISBLANK('Data Input'!A188),\"\",SUM('Data Input'!AF188,'Data Input'!AV188))","v":""},{"$f":"IF(K184=\"\",\"\",K184/COUNTIF('Data Input'!$C$8:$AZ$8,$K$2))","v":""},{"$f":"IF(ISBLANK('Data Input'!A188),\"\",SUM('Data Input'!C188,'Data Input'!I188,'Data Input'!L188,'Data Input'!M188,'Data Input'!N188,'Data Input'!P188,'Data Input'!S188,'Data Input'!T188,'Data Input'!Y188,'Data Input'!AD188,'Data Input'!AL188,'Data Input'!AM188,'Data Input'!AN188,'Data Input'!AO188,'Data Input'!AP188,'Data Input'!AS188))","v":""},{"$f":"IF(M184=\"\",\"\",M184/COUNTIF('Data Input'!$C$8:$AZ$8,$M$2))","v":""},{"$f":"IF(ISBLANK('Data Input'!A188),\"\",SUM('Data Input'!AY188,'Data Input'!AZ188))","v":""},{"$f":"IF(O184=\"\",\"\",O184/COUNTIF('Data Input'!$C$8:$AZ$8,$O$2))","v":""},{"$f":"IF(ISBLANK('Data Input'!A188),\"\",SUM('Data Input'!AW188))","v":""},{"$f":"IF(Q184=\"\",\"\",Q184/COUNTIF('Data Input'!$C$8:$AZ$8,$Q$2))","v":""},{"$f":"IF(ISBLANK('Data Input'!$A188),\"\",SUM('Data Input'!Q188,'Data Input'!AT188,'Data Input'!AU188))","v":""},{"$f":"IF(S184=\"\",\"\",S184/COUNTIF('Data Input'!$C$8:$AZ$8,$S$2))","v":""},{"$f":"IF(ISBLANK('Data Input'!$A188),\"\",SUM('Data Input'!AX188))","v":""},{"$f":"IF(U184=\"\",\"\",U184/COUNTIF('Data Input'!$C$8:$AZ$8,$U$2))","v":""}]
[{"$f":"IF('Data Input'!A189=0,\"\",'Data Input'!A189)","v":""},{"$f":"IF(ISBLANK('Data Input'!A189),\"\",COUNTIF('Data Input'!C189:AZ189,\"\"))","v":""},{"$f":"IF(ISBLANK('Data Input'!A189),\"\",COUNTIF('Data Input'!C189:AZ189,\"0\"))","v":""},{"$f":"IF(ISBLANK('Data Input'!A189),\"\",SUM(B185,C185))","v":""},{"$f":"IF(ISBLANK('Data Input'!A189),\"\",SUM('Data Input'!C189:AZ189))","v":""},{"$f":"IF(E185=\"\",\"\",E185/(COUNTA('Data Input'!$C$8:$AZ$8)))","v":""},{"$f":"IF(ISBLANK('Data Input'!A189),\"\",SUM('Data Input'!R189,'Data Input'!AA189,'Data Input'!AB189,'Data Input'!AC189,'Data Input'!AE189,'Data Input'!AH189,'Data Input'!AQ189,'Data Input'!AR189))","v":""},{"$f":"IF(G185=\"\",\"\",G185/COUNTIF('Data Input'!$C$8:$AZ$8,$G$2))","v":""},{"$f":"IF(ISBLANK('Data Input'!A189),\"\",SUM('Data Input'!D189,'Data Input'!E189,'Data Input'!F189,'Data Input'!G189,'Data Input'!H189,'Data Input'!J189,'Data Input'!K189,'Data Input'!O189,'Data Input'!U189,'Data Input'!V189,'Data Input'!W189,'Data Input'!X189,'Data Input'!Z189,'Data Input'!AG189,'Data Input'!AI189,'Data Input'!AJ189,'Data Input'!AK189))","v":""},{"$f":"IF(I185=\"\",\"\",I185/COUNTIF('Data Input'!$C$8:$AZ$8,$I$2))","v":""},{"$f":"IF(ISBLANK('Data Input'!A189),\"\",SUM('Data Input'!AF189,'Data Input'!AV189))","v":""},{"$f":"IF(K185=\"\",\"\",K185/COUNTIF('Data Input'!$C$8:$AZ$8,$K$2))","v":""},{"$f":"IF(ISBLANK('Data Input'!A189),\"\",SUM('Data Input'!C189,'Data Input'!I189,'Data Input'!L189,'Data Input'!M189,'Data Input'!N189,'Data Input'!P189,'Data Input'!S189,'Data Input'!T189,'Data Input'!Y189,'Data Input'!AD189,'Data Input'!AL189,'Data Input'!AM189,'Data Input'!AN189,'Data Input'!AO189,'Data Input'!AP189,'Data Input'!AS189))","v":""},{"$f":"IF(M185=\"\",\"\",M185/COUNTIF('Data Input'!$C$8:$AZ$8,$M$2))","v":""},{"$f":"IF(ISBLANK('Data Input'!A189),\"\",SUM('Data Input'!AY189,'Data Input'!AZ189))","v":""},{"$f":"IF(O185=\"\",\"\",O185/COUNTIF('Data Input'!$C$8:$AZ$8,$O$2))","v":""},{"$f":"IF(ISBLANK('Data Input'!A189),\"\",SUM('Data Input'!AW189))","v":""},{"$f":"IF(Q185=\"\",\"\",Q185/COUNTIF('Data Input'!$C$8:$AZ$8,$Q$2))","v":""},{"$f":"IF(ISBLANK('Data Input'!$A189),\"\",SUM('Data Input'!Q189,'Data Input'!AT189,'Data Input'!AU189))","v":""},{"$f":"IF(S185=\"\",\"\",S185/COUNTIF('Data Input'!$C$8:$AZ$8,$S$2))","v":""},{"$f":"IF(ISBLANK('Data Input'!$A189),\"\",SUM('Data Input'!AX189))","v":""},{"$f":"IF(U185=\"\",\"\",U185/COUNTIF('Data Input'!$C$8:$AZ$8,$U$2))","v":""}]
[{"$f":"IF('Data Input'!A190=0,\"\",'Data Input'!A190)","v":""},{"$f":"IF(ISBLANK('Data Input'!A190),\"\",COUNTIF('Data Input'!C190:AZ190,\"\"))","v":""},{"$f":"IF(ISBLANK('Data Input'!A190),\"\",COUNTIF('Data Input'!C190:AZ190,\"0\"))","v":""},{"$f":"IF(ISBLANK('Data Input'!A190),\"\",SUM(B186,C186))","v":""},{"$f":"IF(ISBLANK('Data Input'!A190),\"\",SUM('Data Input'!C190:AZ190))","v":""},{"$f":"IF(E186=\"\",\"\",E186/(COUNTA('Data Input'!$C$8:$AZ$8)))","v":""},{"$f":"IF(ISBLANK('Data Input'!A190),\"\",SUM('Data Input'!R190,'Data Input'!AA190,'Data Input'!AB190,'Data Input'!AC190,'Data Input'!AE190,'Data Input'!AH190,'Data Input'!AQ190,'Data Input'!AR190))","v":""},{"$f":"IF(G186=\"\",\"\",G186/COUNTIF('Data Input'!$C$8:$AZ$8,$G$2))","v":""},{"$f":"IF(ISBLANK('Data Input'!A190),\"\",SUM('Data Input'!D190,'Data Input'!E190,'Data Input'!F190,'Data Input'!G190,'Data Input'!H190,'Data Input'!J190,'Data Input'!K190,'Data Input'!O190,'Data Input'!U190,'Data Input'!V190,'Data Input'!W190,'Data Input'!X190,'Data Input'!Z190,'Data Input'!AG190,'Data Input'!AI190,'Data Input'!AJ190,'Data Input'!AK190))","v":""},{"$f":"IF(I186=\"\",\"\",I186/COUNTIF('Data Input'!$C$8:$AZ$8,$I$2))","v":""},{"$f":"IF(ISBLANK('Data Input'!A190),\"\",SUM('Data Input'!AF190,'Data Input'!AV190))","v":""},{"$f":"IF(K186=\"\",\"\",K186/COUNTIF('Data Input'!$C$8:$AZ$8,$K$2))","v":""},{"$f":"IF(ISBLANK('Data Input'!A190),\"\",SUM('Data Input'!C190,'Data Input'!I190,'Data Input'!L190,'Data Input'!M190,'Data Input'!N190,'Data Input'!P190,'Data Input'!S190,'Data Input'!T190,'Data Input'!Y190,'Data Input'!AD190,'Data Input'!AL190,'Data Input'!AM190,'Data Input'!AN190,'Data Input'!AO190,'Data Input'!AP190,'Data Input'!AS190))","v":""},{"$f":"IF(M186=\"\",\"\",M186/COUNTIF('Data Input'!$C$8:$AZ$8,$M$2))","v":""},{"$f":"IF(ISBLANK('Data Input'!A190),\"\",SUM('Data Input'!AY190,'Data Input'!AZ190))","v":""},{"$f":"IF(O186=\"\",\"\",O186/COUNTIF('Data Input'!$C$8:$AZ$8,$O$2))","v":""},{"$f":"IF(ISBLANK('Data Input'!A190),\"\",SUM('Data Input'!AW190))","v":""},{"$f":"IF(Q186=\"\",\"\",Q186/COUNTIF('Data Input'!$C$8:$AZ$8,$Q$2))","v":""},{"$f":"IF(ISBLANK('Data Input'!$A190),\"\",SUM('Data Input'!Q190,'Data Input'!AT190,'Data Input'!AU190))","v":""},{"$f":"IF(S186=\"\",\"\",S186/COUNTIF('Data Input'!$C$8:$AZ$8,$S$2))","v":""},{"$f":"IF(ISBLANK('Data Input'!$A190),\"\",SUM('Data Input'!AX190))","v":""},{"$f":"IF(U186=\"\",\"\",U186/COUNTIF('Data Input'!$C$8:$AZ$8,$U$2))","v":""}]
[{"$f":"IF('Data Input'!A191=0,\"\",'Data Input'!A191)","v":""},{"$f":"IF(ISBLANK('Data Input'!A191),\"\",COUNTIF('Data Input'!C191:AZ191,\"\"))","v":""},{"$f":"IF(ISBLANK('Data Input'!A191),\"\",COUNTIF('Data Input'!C191:AZ191,\"0\"))","v":""},{"$f":"IF(ISBLANK('Data Input'!A191),\"\",SUM(B187,C187))","v":""},{"$f":"IF(ISBLANK('Data Input'!A191),\"\",SUM('Data Input'!C191:AZ191))","v":""},{"$f":"IF(E187=\"\",\"\",E187/(COUNTA('Data Input'!$C$8:$AZ$8)))","v":""},{"$f":"IF(ISBLANK('Data Input'!A191),\"\",SUM('Data Input'!R191,'Data Input'!AA191,'Data Input'!AB191,'Data Input'!AC191,'Data Input'!AE191,'Data Input'!AH191,'Data Input'!AQ191,'Data Input'!AR191))","v":""},{"$f":"IF(G187=\"\",\"\",G187/COUNTIF('Data Input'!$C$8:$AZ$8,$G$2))","v":""},{"$f":"IF(ISBLANK('Data Input'!A191),\"\",SUM('Data Input'!D191,'Data Input'!E191,'Data Input'!F191,'Data Input'!G191,'Data Input'!H191,'Data Input'!J191,'Data Input'!K191,'Data Input'!O191,'Data Input'!U191,'Data Input'!V191,'Data Input'!W191,'Data Input'!X191,'Data Input'!Z191,'Data Input'!AG191,'Data Input'!AI191,'Data Input'!AJ191,'Data Input'!AK191))","v":""},{"$f":"IF(I187=\"\",\"\",I187/COUNTIF('Data Input'!$C$8:$AZ$8,$I$2))","v":""},{"$f":"IF(ISBLANK('Data Input'!A191),\"\",SUM('Data Input'!AF191,'Data Input'!AV191))","v":""},{"$f":"IF(K187=\"\",\"\",K187/COUNTIF('Data Input'!$C$8:$AZ$8,$K$2))","v":""},{"$f":"IF(ISBLANK('Data Input'!A191),\"\",SUM('Data Input'!C191,'Data Input'!I191,'Data Input'!L191,'Data Input'!M191,'Data Input'!N191,'Data Input'!P191,'Data Input'!S191,'Data Input'!T191,'Data Input'!Y191,'Data Input'!AD191,'Data Input'!AL191,'Data Input'!AM191,'Data Input'!AN191,'Data Input'!AO191,'Data Input'!AP191,'Data Input'!AS191))","v":""},{"$f":"IF(M187=\"\",\"\",M187/COUNTIF('Data Input'!$C$8:$AZ$8,$M$2))","v":""},{"$f":"IF(ISBLANK('Data Input'!A191),\"\",SUM('Data Input'!AY191,'Data Input'!AZ191))","v":""},{"$f":"IF(O187=\"\",\"\",O187/COUNTIF('Data Input'!$C$8:$AZ$8,$O$2))","v":""},{"$f":"IF(ISBLANK('Data Input'!A191),\"\",SUM('Data Input'!AW191))","v":""},{"$f":"IF(Q187=\"\",\"\",Q187/COUNTIF('Data Input'!$C$8:$AZ$8,$Q$2))","v":""},{"$f":"IF(ISBLANK('Data Input'!$A191),\"\",SUM('Data Input'!Q191,'Data Input'!AT191,'Data Input'!AU191))","v":""},{"$f":"IF(S187=\"\",\"\",S187/COUNTIF('Data Input'!$C$8:$AZ$8,$S$2))","v":""},{"$f":"IF(ISBLANK('Data Input'!$A191),\"\",SUM('Data Input'!AX191))","v":""},{"$f":"IF(U187=\"\",\"\",U187/COUNTIF('Data Input'!$C$8:$AZ$8,$U$2))","v":""}]
[{"$f":"IF('Data Input'!A192=0,\"\",'Data Input'!A192)","v":""},{"$f":"IF(ISBLANK('Data Input'!A192),\"\",COUNTIF('Data Input'!C192:AZ192,\"\"))","v":""},{"$f":"IF(ISBLANK('Data Input'!A192),\"\",COUNTIF('Data Input'!C192:AZ192,\"0\"))","v":""},{"$f":"IF(ISBLANK('Data Input'!A192),\"\",SUM(B188,C188))","v":""},{"$f":"IF(ISBLANK('Data Input'!A192),\"\",SUM('Data Input'!C192:AZ192))","v":""},{"$f":"IF(E188=\"\",\"\",E188/(COUNTA('Data Input'!$C$8:$AZ$8)))","v":""},{"$f":"IF(ISBLANK('Data Input'!A192),\"\",SUM('Data Input'!R192,'Data Input'!AA192,'Data Input'!AB192,'Data Input'!AC192,'Data Input'!AE192,'Data Input'!AH192,'Data Input'!AQ192,'Data Input'!AR192))","v":""},{"$f":"IF(G188=\"\",\"\",G188/COUNTIF('Data Input'!$C$8:$AZ$8,$G$2))","v":""},{"$f":"IF(ISBLANK('Data Input'!A192),\"\",SUM('Data Input'!D192,'Data Input'!E192,'Data Input'!F192,'Data Input'!G192,'Data Input'!H192,'Data Input'!J192,'Data Input'!K192,'Data Input'!O192,'Data Input'!U192,'Data Input'!V192,'Data Input'!W192,'Data Input'!X192,'Data Input'!Z192,'Data Input'!AG192,'Data Input'!AI192,'Data Input'!AJ192,'Data Input'!AK192))","v":""},{"$f":"IF(I188=\"\",\"\",I188/COUNTIF('Data Input'!$C$8:$AZ$8,$I$2))","v":""},{"$f":"IF(ISBLANK('Data Input'!A192),\"\",SUM('Data Input'!AF192,'Data Input'!AV192))","v":""},{"$f":"IF(K188=\"\",\"\",K188/COUNTIF('Data Input'!$C$8:$AZ$8,$K$2))","v":""},{"$f":"IF(ISBLANK('Data Input'!A192),\"\",SUM('Data Input'!C192,'Data Input'!I192,'Data Input'!L192,'Data Input'!M192,'Data Input'!N192,'Data Input'!P192,'Data Input'!S192,'Data Input'!T192,'Data Input'!Y192,'Data Input'!AD192,'Data Input'!AL192,'Data Input'!AM192,'Data Input'!AN192,'Data Input'!AO192,'Data Input'!AP192,'Data Input'!AS192))","v":""},{"$f":"IF(M188=\"\",\"\",M188/COUNTIF('Data Input'!$C$8:$AZ$8,$M$2))","v":""},{"$f":"IF(ISBLANK('Data Input'!A192),\"\",SUM('Data Input'!AY192,'Data Input'!AZ192))","v":""},{"$f":"IF(O188=\"\",\"\",O188/COUNTIF('Data Input'!$C$8:$AZ$8,$O$2))","v":""},{"$f":"IF(ISBLANK('Data Input'!A192),\"\",SUM('Data Input'!AW192))","v":""},{"$f":"IF(Q188=\"\",\"\",Q188/COUNTIF('Data Input'!$C$8:$AZ$8,$Q$2))","v":""},{"$f":"IF(ISBLANK('Data Input'!$A192),\"\",SUM('Data Input'!Q192,'Data Input'!AT192,'Data Input'!AU192))","v":""},{"$f":"IF(S188=\"\",\"\",S188/COUNTIF('Data Input'!$C$8:$AZ$8,$S$2))","v":""},{"$f":"IF(ISBLANK('Data Input'!$A192),\"\",SUM('Data Input'!AX192))","v":""},{"$f":"IF(U188=\"\",\"\",U188/COUNTIF('Data Input'!$C$8:$AZ$8,$U$2))","v":""}]
[{"$f":"IF('Data Input'!A193=0,\"\",'Data Input'!A193)","v":""},{"$f":"IF(ISBLANK('Data Input'!A193),\"\",COUNTIF('Data Input'!C193:AZ193,\"\"))","v":""},{"$f":"IF(ISBLANK('Data Input'!A193),\"\",COUNTIF('Data Input'!C193:AZ193,\"0\"))","v":""},{"$f":"IF(ISBLANK('Data Input'!A193),\"\",SUM(B189,C189))","v":""},{"$f":"IF(ISBLANK('Data Input'!A193),\"\",SUM('Data Input'!C193:AZ193))","v":""},{"$f":"IF(E189=\"\",\"\",E189/(COUNTA('Data Input'!$C$8:$AZ$8)))","v":""},{"$f":"IF(ISBLANK('Data Input'!A193),\"\",SUM('Data Input'!R193,'Data Input'!AA193,'Data Input'!AB193,'Data Input'!AC193,'Data Input'!AE193,'Data Input'!AH193,'Data Input'!AQ193,'Data Input'!AR193))","v":""},{"$f":"IF(G189=\"\",\"\",G189/COUNTIF('Data Input'!$C$8:$AZ$8,$G$2))","v":""},{"$f":"IF(ISBLANK('Data Input'!A193),\"\",SUM('Data Input'!D193,'Data Input'!E193,'Data Input'!F193,'Data Input'!G193,'Data Input'!H193,'Data Input'!J193,'Data Input'!K193,'Data Input'!O193,'Data Input'!U193,'Data Input'!V193,'Data Input'!W193,'Data Input'!X193,'Data Input'!Z193,'Data Input'!AG193,'Data Input'!AI193,'Data Input'!AJ193,'Data Input'!AK193))","v":""},{"$f":"IF(I189=\"\",\"\",I189/COUNTIF('Data Input'!$C$8:$AZ$8,$I$2))","v":""},{"$f":"IF(ISBLANK('Data Input'!A193),\"\",SUM('Data Input'!AF193,'Data Input'!AV193))","v":""},{"$f":"IF(K189=\"\",\"\",K189/COUNTIF('Data Input'!$C$8:$AZ$8,$K$2))","v":""},{"$f":"IF(ISBLANK('Data Input'!A193),\"\",SUM('Data Input'!C193,'Data Input'!I193,'Data Input'!L193,'Data Input'!M193,'Data Input'!N193,'Data Input'!P193,'Data Input'!S193,'Data Input'!T193,'Data Input'!Y193,'Data Input'!AD193,'Data Input'!AL193,'Data Input'!AM193,'Data Input'!AN193,'Data Input'!AO193,'Data Input'!AP193,'Data Input'!AS193))","v":""},{"$f":"IF(M189=\"\",\"\",M189/COUNTIF('Data Input'!$C$8:$AZ$8,$M$2))","v":""},{"$f":"IF(ISBLANK('Data Input'!A193),\"\",SUM('Data Input'!AY193,'Data Input'!AZ193))","v":""},{"$f":"IF(O189=\"\",\"\",O189/COUNTIF('Data Input'!$C$8:$AZ$8,$O$2))","v":""},{"$f":"IF(ISBLANK('Data Input'!A193),\"\",SUM('Data Input'!AW193))","v":""},{"$f":"IF(Q189=\"\",\"\",Q189/COUNTIF('Data Input'!$C$8:$AZ$8,$Q$2))","v":""},{"$f":"IF(ISBLANK('Data Input'!$A193),\"\",SUM('Data Input'!Q193,'Data Input'!AT193,'Data Input'!AU193))","v":""},{"$f":"IF(S189=\"\",\"\",S189/COUNTIF('Data Input'!$C$8:$AZ$8,$S$2))","v":""},{"$f":"IF(ISBLANK('Data Input'!$A193),\"\",SUM('Data Input'!AX193))","v":""},{"$f":"IF(U189=\"\",\"\",U189/COUNTIF('Data Input'!$C$8:$AZ$8,$U$2))","v":""}]
[{"$f":"IF('Data Input'!A194=0,\"\",'Data Input'!A194)","v":""},{"$f":"IF(ISBLANK('Data Input'!A194),\"\",COUNTIF('Data Input'!C194:AZ194,\"\"))","v":""},{"$f":"IF(ISBLANK('Data Input'!A194),\"\",COUNTIF('Data Input'!C194:AZ194,\"0\"))","v":""},{"$f":"IF(ISBLANK('Data Input'!A194),\"\",SUM(B190,C190))","v":""},{"$f":"IF(ISBLANK('Data Input'!A194),\"\",SUM('Data Input'!C194:AZ194))","v":""},{"$f":"IF(E190=\"\",\"\",E190/(COUNTA('Data Input'!$C$8:$AZ$8)))","v":""},{"$f":"IF(ISBLANK('Data Input'!A194),\"\",SUM('Data Input'!R194,'Data Input'!AA194,'Data Input'!AB194,'Data Input'!AC194,'Data Input'!AE194,'Data Input'!AH194,'Data Input'!AQ194,'Data Input'!AR194))","v":""},{"$f":"IF(G190=\"\",\"\",G190/COUNTIF('Data Input'!$C$8:$AZ$8,$G$2))","v":""},{"$f":"IF(ISBLANK('Data Input'!A194),\"\",SUM('Data Input'!D194,'Data Input'!E194,'Data Input'!F194,'Data Input'!G194,'Data Input'!H194,'Data Input'!J194,'Data Input'!K194,'Data Input'!O194,'Data Input'!U194,'Data Input'!V194,'Data Input'!W194,'Data Input'!X194,'Data Input'!Z194,'Data Input'!AG194,'Data Input'!AI194,'Data Input'!AJ194,'Data Input'!AK194))","v":""},{"$f":"IF(I190=\"\",\"\",I190/COUNTIF('Data Input'!$C$8:$AZ$8,$I$2))","v":""},{"$f":"IF(ISBLANK('Data Input'!A194),\"\",SUM('Data Input'!AF194,'Data Input'!AV194))","v":""},{"$f":"IF(K190=\"\",\"\",K190/COUNTIF('Data Input'!$C$8:$AZ$8,$K$2))","v":""},{"$f":"IF(ISBLANK('Data Input'!A194),\"\",SUM('Data Input'!C194,'Data Input'!I194,'Data Input'!L194,'Data Input'!M194,'Data Input'!N194,'Data Input'!P194,'Data Input'!S194,'Data Input'!T194,'Data Input'!Y194,'Data Input'!AD194,'Data Input'!AL194,'Data Input'!AM194,'Data Input'!AN194,'Data Input'!AO194,'Data Input'!AP194,'Data Input'!AS194))","v":""},{"$f":"IF(M190=\"\",\"\",M190/COUNTIF('Data Input'!$C$8:$AZ$8,$M$2))","v":""},{"$f":"IF(ISBLANK('Data Input'!A194),\"\",SUM('Data Input'!AY194,'Data Input'!AZ194))","v":""},{"$f":"IF(O190=\"\",\"\",O190/COUNTIF('Data Input'!$C$8:$AZ$8,$O$2))","v":""},{"$f":"IF(ISBLANK('Data Input'!A194),\"\",SUM('Data Input'!AW194))","v":""},{"$f":"IF(Q190=\"\",\"\",Q190/COUNTIF('Data Input'!$C$8:$AZ$8,$Q$2))","v":""},{"$f":"IF(ISBLANK('Data Input'!$A194),\"\",SUM('Data Input'!Q194,'Data Input'!AT194,'Data Input'!AU194))","v":""},{"$f":"IF(S190=\"\",\"\",S190/COUNTIF('Data Input'!$C$8:$AZ$8,$S$2))","v":""},{"$f":"IF(ISBLANK('Data Input'!$A194),\"\",SUM('Data Input'!AX194))","v":""},{"$f":"IF(U190=\"\",\"\",U190/COUNTIF('Data Input'!$C$8:$AZ$8,$U$2))","v":""}]
[{"$f":"IF('Data Input'!A195=0,\"\",'Data Input'!A195)","v":""},{"$f":"IF(ISBLANK('Data Input'!A195),\"\",COUNTIF('Data Input'!C195:AZ195,\"\"))","v":""},{"$f":"IF(ISBLANK('Data Input'!A195),\"\",COUNTIF('Data Input'!C195:AZ195,\"0\"))","v":""},{"$f":"IF(ISBLANK('Data Input'!A195),\"\",SUM(B191,C191))","v":""},{"$f":"IF(ISBLANK('Data Input'!A195),\"\",SUM('Data Input'!C195:AZ195))","v":""},{"$f":"IF(E191=\"\",\"\",E191/(COUNTA('Data Input'!$C$8:$AZ$8)))","v":""},{"$f":"IF(ISBLANK('Data Input'!A195),\"\",SUM('Data Input'!R195,'Data Input'!AA195,'Data Input'!AB195,'Data Input'!AC195,'Data Input'!AE195,'Data Input'!AH195,'Data Input'!AQ195,'Data Input'!AR195))","v":""},{"$f":"IF(G191=\"\",\"\",G191/COUNTIF('Data Input'!$C$8:$AZ$8,$G$2))","v":""},{"$f":"IF(ISBLANK('Data Input'!A195),\"\",SUM('Data Input'!D195,'Data Input'!E195,'Data Input'!F195,'Data Input'!G195,'Data Input'!H195,'Data Input'!J195,'Data Input'!K195,'Data Input'!O195,'Data Input'!U195,'Data Input'!V195,'Data Input'!W195,'Data Input'!X195,'Data Input'!Z195,'Data Input'!AG195,'Data Input'!AI195,'Data Input'!AJ195,'Data Input'!AK195))","v":""},{"$f":"IF(I191=\"\",\"\",I191/COUNTIF('Data Input'!$C$8:$AZ$8,$I$2))","v":""},{"$f":"IF(ISBLANK('Data Input'!A195),\"\",SUM('Data Input'!AF195,'Data Input'!AV195))","v":""},{"$f":"IF(K191=\"\",\"\",K191/COUNTIF('Data Input'!$C$8:$AZ$8,$K$2))","v":""},{"$f":"IF(ISBLANK('Data Input'!A195),\"\",SUM('Data Input'!C195,'Data Input'!I195,'Data Input'!L195,'Data Input'!M195,'Data Input'!N195,'Data Input'!P195,'Data Input'!S195,'Data Input'!T195,'Data Input'!Y195,'Data Input'!AD195,'Data Input'!AL195,'Data Input'!AM195,'Data Input'!AN195,'Data Input'!AO195,'Data Input'!AP195,'Data Input'!AS195))","v":""},{"$f":"IF(M191=\"\",\"\",M191/COUNTIF('Data Input'!$C$8:$AZ$8,$M$2))","v":""},{"$f":"IF(ISBLANK('Data Input'!A195),\"\",SUM('Data Input'!AY195,'Data Input'!AZ195))","v":""},{"$f":"IF(O191=\"\",\"\",O191/COUNTIF('Data Input'!$C$8:$AZ$8,$O$2))","v":""},{"$f":"IF(ISBLANK('Data Input'!A195),\"\",SUM('Data Input'!AW195))","v":""},{"$f":"IF(Q191=\"\",\"\",Q191/COUNTIF('Data Input'!$C$8:$AZ$8,$Q$2))","v":""},{"$f":"IF(ISBLANK('Data Input'!$A195),\"\",SUM('Data Input'!Q195,'Data Input'!AT195,'Data Input'!AU195))","v":""},{"$f":"IF(S191=\"\",\"\",S191/COUNTIF('Data Input'!$C$8:$AZ$8,$S$2))","v":""},{"$f":"IF(ISBLANK('Data Input'!$A195),\"\",SUM('Data Input'!AX195))","v":""},{"$f":"IF(U191=\"\",\"\",U191/COUNTIF('Data Input'!$C$8:$AZ$8,$U$2))","v":""}]
[{"$f":"IF('Data Input'!A196=0,\"\",'Data Input'!A196)","v":""},{"$f":"IF(ISBLANK('Data Input'!A196),\"\",COUNTIF('Data Input'!C196:AZ196,\"\"))","v":""},{"$f":"IF(ISBLANK('Data Input'!A196),\"\",COUNTIF('Data Input'!C196:AZ196,\"0\"))","v":""},{"$f":"IF(ISBLANK('Data Input'!A196),\"\",SUM(B192,C192))","v":""},{"$f":"IF(ISBLANK('Data Input'!A196),\"\",SUM('Data Input'!C196:AZ196))","v":""},{"$f":"IF(E192=\"\",\"\",E192/(COUNTA('Data Input'!$C$8:$AZ$8)))","v":""},{"$f":"IF(ISBLANK('Data Input'!A196),\"\",SUM('Data Input'!R196,'Data Input'!AA196,'Data Input'!AB196,'Data Input'!AC196,'Data Input'!AE196,'Data Input'!AH196,'Data Input'!AQ196,'Data Input'!AR196))","v":""},{"$f":"IF(G192=\"\",\"\",G192/COUNTIF('Data Input'!$C$8:$AZ$8,$G$2))","v":""},{"$f":"IF(ISBLANK('Data Input'!A196),\"\",SUM('Data Input'!D196,'Data Input'!E196,'Data Input'!F196,'Data Input'!G196,'Data Input'!H196,'Data Input'!J196,'Data Input'!K196,'Data Input'!O196,'Data Input'!U196,'Data Input'!V196,'Data Input'!W196,'Data Input'!X196,'Data Input'!Z196,'Data Input'!AG196,'Data Input'!AI196,'Data Input'!AJ196,'Data Input'!AK196))","v":""},{"$f":"IF(I192=\"\",\"\",I192/COUNTIF('Data Input'!$C$8:$AZ$8,$I$2))","v":""},{"$f":"IF(ISBLANK('Data Input'!A196),\"\",SUM('Data Input'!AF196,'Data Input'!AV196))","v":""},{"$f":"IF(K192=\"\",\"\",K192/COUNTIF('Data Input'!$C$8:$AZ$8,$K$2))","v":""},{"$f":"IF(ISBLANK('Data Input'!A196),\"\",SUM('Data Input'!C196,'Data Input'!I196,'Data Input'!L196,'Data Input'!M196,'Data Input'!N196,'Data Input'!P196,'Data Input'!S196,'Data Input'!T196,'Data Input'!Y196,'Data Input'!AD196,'Data Input'!AL196,'Data Input'!AM196,'Data Input'!AN196,'Data Input'!AO196,'Data Input'!AP196,'Data Input'!AS196))","v":""},{"$f":"IF(M192=\"\",\"\",M192/COUNTIF('Data Input'!$C$8:$AZ$8,$M$2))","v":""},{"$f":"IF(ISBLANK('Data Input'!A196),\"\",SUM('Data Input'!AY196,'Data Input'!AZ196))","v":""},{"$f":"IF(O192=\"\",\"\",O192/COUNTIF('Data Input'!$C$8:$AZ$8,$O$2))","v":""},{"$f":"IF(ISBLANK('Data Input'!A196),\"\",SUM('Data Input'!AW196))","v":""},{"$f":"IF(Q192=\"\",\"\",Q192/COUNTIF('Data Input'!$C$8:$AZ$8,$Q$2))","v":""},{"$f":"IF(ISBLANK('Data Input'!$A196),\"\",SUM('Data Input'!Q196,'Data Input'!AT196,'Data Input'!AU196))","v":""},{"$f":"IF(S192=\"\",\"\",S192/COUNTIF('Data Input'!$C$8:$AZ$8,$S$2))","v":""},{"$f":"IF(ISBLANK('Data Input'!$A196),\"\",SUM('Data Input'!AX196))","v":""},{"$f":"IF(U192=\"\",\"\",U192/COUNTIF('Data Input'!$C$8:$AZ$8,$U$2))","v":""}]
[{"$f":"IF('Data Input'!A197=0,\"\",'Data Input'!A197)","v":""},{"$f":"IF(ISBLANK('Data Input'!A197),\"\",COUNTIF('Data Input'!C197:AZ197,\"\"))","v":""},{"$f":"IF(ISBLANK('Data Input'!A197),\"\",COUNTIF('Data Input'!C197:AZ197,\"0\"))","v":""},{"$f":"IF(ISBLANK('Data Input'!A197),\"\",SUM(B193,C193))","v":""},{"$f":"IF(ISBLANK('Data Input'!A197),\"\",SUM('Data Input'!C197:AZ197))","v":""},{"$f":"IF(E193=\"\",\"\",E193/(COUNTA('Data Input'!$C$8:$AZ$8)))","v":""},{"$f":"IF(ISBLANK('Data Input'!A197),\"\",SUM('Data Input'!R197,'Data Input'!AA197,'Data Input'!AB197,'Data Input'!AC197,'Data Input'!AE197,'Data Input'!AH197,'Data Input'!AQ197,'Data Input'!AR197))","v":""},{"$f":"IF(G193=\"\",\"\",G193/COUNTIF('Data Input'!$C$8:$AZ$8,$G$2))","v":""},{"$f":"IF(ISBLANK('Data Input'!A197),\"\",SUM('Data Input'!D197,'Data Input'!E197,'Data Input'!F197,'Data Input'!G197,'Data Input'!H197,'Data Input'!J197,'Data Input'!K197,'Data Input'!O197,'Data Input'!U197,'Data Input'!V197,'Data Input'!W197,'Data Input'!X197,'Data Input'!Z197,'Data Input'!AG197,'Data Input'!AI197,'Data Input'!AJ197,'Data Input'!AK197))","v":""},{"$f":"IF(I193=\"\",\"\",I193/COUNTIF('Data Input'!$C$8:$AZ$8,$I$2))","v":""},{"$f":"IF(ISBLANK('Data Input'!A197),\"\",SUM('Data Input'!AF197,'Data Input'!AV197))","v":""},{"$f":"IF(K193=\"\",\"\",K193/COUNTIF('Data Input'!$C$8:$AZ$8,$K$2))","v":""},{"$f":"IF(ISBLANK('Data Input'!A197),\"\",SUM('Data Input'!C197,'Data Input'!I197,'Data Input'!L197,'Data Input'!M197,'Data Input'!N197,'Data Input'!P197,'Data Input'!S197,'Data Input'!T197,'Data Input'!Y197,'Data Input'!AD197,'Data Input'!AL197,'Data Input'!AM197,'Data Input'!AN197,'Data Input'!AO197,'Data Input'!AP197,'Data Input'!AS197))","v":""},{"$f":"IF(M193=\"\",\"\",M193/COUNTIF('Data Input'!$C$8:$AZ$8,$M$2))","v":""},{"$f":"IF(ISBLANK('Data Input'!A197),\"\",SUM('Data Input'!AY197,'Data Input'!AZ197))","v":""},{"$f":"IF(O193=\"\",\"\",O193/COUNTIF('Data Input'!$C$8:$AZ$8,$O$2))","v":""},{"$f":"IF(ISBLANK('Data Input'!A197),\"\",SUM('Data Input'!AW197))","v":""},{"$f":"IF(Q193=\"\",\"\",Q193/COUNTIF('Data Input'!$C$8:$AZ$8,$Q$2))","v":""},{"$f":"IF(ISBLANK('Data Input'!$A197),\"\",SUM('Data Input'!Q197,'Data Input'!AT197,'Data Input'!AU197))","v":""},{"$f":"IF(S193=\"\",\"\",S193/COUNTIF('Data Input'!$C$8:$AZ$8,$S$2))","v":""},{"$f":"IF(ISBLANK('Data Input'!$A197),\"\",SUM('Data Input'!AX197))","v":""},{"$f":"IF(U193=\"\",\"\",U193/COUNTIF('Data Input'!$C$8:$AZ$8,$U$2))","v":""}]
[{"$f":"IF('Data Input'!A198=0,\"\",'Data Input'!A198)","v":""},{"$f":"IF(ISBLANK('Data Input'!A198),\"\",COUNTIF('Data Input'!C198:AZ198,\"\"))","v":""},{"$f":"IF(ISBLANK('Data Input'!A198),\"\",COUNTIF('Data Input'!C198:AZ198,\"0\"))","v":""},{"$f":"IF(ISBLANK('Data Input'!A198),\"\",SUM(B194,C194))","v":""},{"$f":"IF(ISBLANK('Data Input'!A198),\"\",SUM('Data Input'!C198:AZ198))","v":""},{"$f":"IF(E194=\"\",\"\",E194/(COUNTA('Data Input'!$C$8:$AZ$8)))","v":""},{"$f":"IF(ISBLANK('Data Input'!A198),\"\",SUM('Data Input'!R198,'Data Input'!AA198,'Data Input'!AB198,'Data Input'!AC198,'Data Input'!AE198,'Data Input'!AH198,'Data Input'!AQ198,'Data Input'!AR198))","v":""},{"$f":"IF(G194=\"\",\"\",G194/COUNTIF('Data Input'!$C$8:$AZ$8,$G$2))","v":""},{"$f":"IF(ISBLANK('Data Input'!A198),\"\",SUM('Data Input'!D198,'Data Input'!E198,'Data Input'!F198,'Data Input'!G198,'Data Input'!H198,'Data Input'!J198,'Data Input'!K198,'Data Input'!O198,'Data Input'!U198,'Data Input'!V198,'Data Input'!W198,'Data Input'!X198,'Data Input'!Z198,'Data Input'!AG198,'Data Input'!AI198,'Data Input'!AJ198,'Data Input'!AK198))","v":""},{"$f":"IF(I194=\"\",\"\",I194/COUNTIF('Data Input'!$C$8:$AZ$8,$I$2))","v":""},{"$f":"IF(ISBLANK('Data Input'!A198),\"\",SUM('Data Input'!AF198,'Data Input'!AV198))","v":""},{"$f":"IF(K194=\"\",\"\",K194/COUNTIF('Data Input'!$C$8:$AZ$8,$K$2))","v":""},{"$f":"IF(ISBLANK('Data Input'!A198),\"\",SUM('Data Input'!C198,'Data Input'!I198,'Data Input'!L198,'Data Input'!M198,'Data Input'!N198,'Data Input'!P198,'Data Input'!S198,'Data Input'!T198,'Data Input'!Y198,'Data Input'!AD198,'Data Input'!AL198,'Data Input'!AM198,'Data Input'!AN198,'Data Input'!AO198,'Data Input'!AP198,'Data Input'!AS198))","v":""},{"$f":"IF(M194=\"\",\"\",M194/COUNTIF('Data Input'!$C$8:$AZ$8,$M$2))","v":""},{"$f":"IF(ISBLANK('Data Input'!A198),\"\",SUM('Data Input'!AY198,'Data Input'!AZ198))","v":""},{"$f":"IF(O194=\"\",\"\",O194/COUNTIF('Data Input'!$C$8:$AZ$8,$O$2))","v":""},{"$f":"IF(ISBLANK('Data Input'!A198),\"\",SUM('Data Input'!AW198))","v":""},{"$f":"IF(Q194=\"\",\"\",Q194/COUNTIF('Data Input'!$C$8:$AZ$8,$Q$2))","v":""},{"$f":"IF(ISBLANK('Data Input'!$A198),\"\",SUM('Data Input'!Q198,'Data Input'!AT198,'Data Input'!AU198))","v":""},{"$f":"IF(S194=\"\",\"\",S194/COUNTIF('Data Input'!$C$8:$AZ$8,$S$2))","v":""},{"$f":"IF(ISBLANK('Data Input'!$A198),\"\",SUM('Data Input'!AX198))","v":""},{"$f":"IF(U194=\"\",\"\",U194/COUNTIF('Data Input'!$C$8:$AZ$8,$U$2))","v":""}]
[{"$f":"IF('Data Input'!A199=0,\"\",'Data Input'!A199)","v":""},{"$f":"IF(ISBLANK('Data Input'!A199),\"\",COUNTIF('Data Input'!C199:AZ199,\"\"))","v":""},{"$f":"IF(ISBLANK('Data Input'!A199),\"\",COUNTIF('Data Input'!C199:AZ199,\"0\"))","v":""},{"$f":"IF(ISBLANK('Data Input'!A199),\"\",SUM(B195,C195))","v":""},{"$f":"IF(ISBLANK('Data Input'!A199),\"\",SUM('Data Input'!C199:AZ199))","v":""},{"$f":"IF(E195=\"\",\"\",E195/(COUNTA('Data Input'!$C$8:$AZ$8)))","v":""},{"$f":"IF(ISBLANK('Data Input'!A199),\"\",SUM('Data Input'!R199,'Data Input'!AA199,'Data Input'!AB199,'Data Input'!AC199,'Data Input'!AE199,'Data Input'!AH199,'Data Input'!AQ199,'Data Input'!AR199))","v":""},{"$f":"IF(G195=\"\",\"\",G195/COUNTIF('Data Input'!$C$8:$AZ$8,$G$2))","v":""},{"$f":"IF(ISBLANK('Data Input'!A199),\"\",SUM('Data Input'!D199,'Data Input'!E199,'Data Input'!F199,'Data Input'!G199,'Data Input'!H199,'Data Input'!J199,'Data Input'!K199,'Data Input'!O199,'Data Input'!U199,'Data Input'!V199,'Data Input'!W199,'Data Input'!X199,'Data Input'!Z199,'Data Input'!AG199,'Data Input'!AI199,'Data Input'!AJ199,'Data Input'!AK199))","v":""},{"$f":"IF(I195=\"\",\"\",I195/COUNTIF('Data Input'!$C$8:$AZ$8,$I$2))","v":""},{"$f":"IF(ISBLANK('Data Input'!A199),\"\",SUM('Data Input'!AF199,'Data Input'!AV199))","v":""},{"$f":"IF(K195=\"\",\"\",K195/COUNTIF('Data Input'!$C$8:$AZ$8,$K$2))","v":""},{"$f":"IF(ISBLANK('Data Input'!A199),\"\",SUM('Data Input'!C199,'Data Input'!I199,'Data Input'!L199,'Data Input'!M199,'Data Input'!N199,'Data Input'!P199,'Data Input'!S199,'Data Input'!T199,'Data Input'!Y199,'Data Input'!AD199,'Data Input'!AL199,'Data Input'!AM199,'Data Input'!AN199,'Data Input'!AO199,'Data Input'!AP199,'Data Input'!AS199))","v":""},{"$f":"IF(M195=\"\",\"\",M195/COUNTIF('Data Input'!$C$8:$AZ$8,$M$2))","v":""},{"$f":"IF(ISBLANK('Data Input'!A199),\"\",SUM('Data Input'!AY199,'Data Input'!AZ199))","v":""},{"$f":"IF(O195=\"\",\"\",O195/COUNTIF('Data Input'!$C$8:$AZ$8,$O$2))","v":""},{"$f":"IF(ISBLANK('Data Input'!A199),\"\",SUM('Data Input'!AW199))","v":""},{"$f":"IF(Q195=\"\",\"\",Q195/COUNTIF('Data Input'!$C$8:$AZ$8,$Q$2))","v":""},{"$f":"IF(ISBLANK('Data Input'!$A199),\"\",SUM('Data Input'!Q199,'Data Input'!AT199,'Data Input'!AU199))","v":""},{"$f":"IF(S195=\"\",\"\",S195/COUNTIF('Data Input'!$C$8:$AZ$8,$S$2))","v":""},{"$f":"IF(ISBLANK('Data Input'!$A199),\"\",SUM('Data Input'!AX199))","v":""},{"$f":"IF(U195=\"\",\"\",U195/COUNTIF('Data Input'!$C$8:$AZ$8,$U$2))","v":""}]
[{"$f":"IF('Data Input'!A200=0,\"\",'Data Input'!A200)","v":""},{"$f":"IF(ISBLANK('Data Input'!A200),\"\",COUNTIF('Data Input'!C200:AZ200,\"\"))","v":""},{"$f":"IF(ISBLANK('Data Input'!A200),\"\",COUNTIF('Data Input'!C200:AZ200,\"0\"))","v":""},{"$f":"IF(ISBLANK('Data Input'!A200),\"\",SUM(B196,C196))","v":""},{"$f":"IF(ISBLANK('Data Input'!A200),\"\",SUM('Data Input'!C200:AZ200))","v":""},{"$f":"IF(E196=\"\",\"\",E196/(COUNTA('Data Input'!$C$8:$AZ$8)))","v":""},{"$f":"IF(ISBLANK('Data Input'!A200),\"\",SUM('Data Input'!R200,'Data Input'!AA200,'Data Input'!AB200,'Data Input'!AC200,'Data Input'!AE200,'Data Input'!AH200,'Data Input'!AQ200,'Data Input'!AR200))","v":""},{"$f":"IF(G196=\"\",\"\",G196/COUNTIF('Data Input'!$C$8:$AZ$8,$G$2))","v":""},{"$f":"IF(ISBLANK('Data Input'!A200),\"\",SUM('Data Input'!D200,'Data Input'!E200,'Data Input'!F200,'Data Input'!G200,'Data Input'!H200,'Data Input'!J200,'Data Input'!K200,'Data Input'!O200,'Data Input'!U200,'Data Input'!V200,'Data Input'!W200,'Data Input'!X200,'Data Input'!Z200,'Data Input'!AG200,'Data Input'!AI200,'Data Input'!AJ200,'Data Input'!AK200))","v":""},{"$f":"IF(I196=\"\",\"\",I196/COUNTIF('Data Input'!$C$8:$AZ$8,$I$2))","v":""},{"$f":"IF(ISBLANK('Data Input'!A200),\"\",SUM('Data Input'!AF200,'Data Input'!AV200))","v":""},{"$f":"IF(K196=\"\",\"\",K196/COUNTIF('Data Input'!$C$8:$AZ$8,$K$2))","v":""},{"$f":"IF(ISBLANK('Data Input'!A200),\"\",SUM('Data Input'!C200,'Data Input'!I200,'Data Input'!L200,'Data Input'!M200,'Data Input'!N200,'Data Input'!P200,'Data Input'!S200,'Data Input'!T200,'Data Input'!Y200,'Data Input'!AD200,'Data Input'!AL200,'Data Input'!AM200,'Data Input'!AN200,'Data Input'!AO200,'Data Input'!AP200,'Data Input'!AS200))","v":""},{"$f":"IF(M196=\"\",\"\",M196/COUNTIF('Data Input'!$C$8:$AZ$8,$M$2))","v":""},{"$f":"IF(ISBLANK('Data Input'!A200),\"\",SUM('Data Input'!AY200,'Data Input'!AZ200))","v":""},{"$f":"IF(O196=\"\",\"\",O196/COUNTIF('Data Input'!$C$8:$AZ$8,$O$2))","v":""},{"$f":"IF(ISBLANK('Data Input'!A200),\"\",SUM('Data Input'!AW200))","v":""},{"$f":"IF(Q196=\"\",\"\",Q196/COUNTIF('Data Input'!$C$8:$AZ$8,$Q$2))","v":""},{"$f":"IF(ISBLANK('Data Input'!$A200),\"\",SUM('Data Input'!Q200,'Data Input'!AT200,'Data Input'!AU200))","v":""},{"$f":"IF(S196=\"\",\"\",S196/COUNTIF('Data Input'!$C$8:$AZ$8,$S$2))","v":""},{"$f":"IF(ISBLANK('Data Input'!$A200),\"\",SUM('Data Input'!AX200))","v":""},{"$f":"IF(U196=\"\",\"\",U196/COUNTIF('Data Input'!$C$8:$AZ$8,$U$2))","v":""}]
[{"$f":"IF('Data Input'!A201=0,\"\",'Data Input'!A201)","v":""},{"$f":"IF(ISBLANK('Data Input'!A201),\"\",COUNTIF('Data Input'!C201:AZ201,\"\"))","v":""},{"$f":"IF(ISBLANK('Data Input'!A201),\"\",COUNTIF('Data Input'!C201:AZ201,\"0\"))","v":""},{"$f":"IF(ISBLANK('Data Input'!A201),\"\",SUM(B197,C197))","v":""},{"$f":"IF(ISBLANK('Data Input'!A201),\"\",SUM('Data Input'!C201:AZ201))","v":""},{"$f":"IF(E197=\"\",\"\",E197/(COUNTA('Data Input'!$C$8:$AZ$8)))","v":""},{"$f":"IF(ISBLANK('Data Input'!A201),\"\",SUM('Data Input'!R201,'Data Input'!AA201,'Data Input'!AB201,'Data Input'!AC201,'Data Input'!AE201,'Data Input'!AH201,'Data Input'!AQ201,'Data Input'!AR201))","v":""},{"$f":"IF(G197=\"\",\"\",G197/COUNTIF('Data Input'!$C$8:$AZ$8,$G$2))","v":""},{"$f":"IF(ISBLANK('Data Input'!A201),\"\",SUM('Data Input'!D201,'Data Input'!E201,'Data Input'!F201,'Data Input'!G201,'Data Input'!H201,'Data Input'!J201,'Data Input'!K201,'Data Input'!O201,'Data Input'!U201,'Data Input'!V201,'Data Input'!W201,'Data Input'!X201,'Data Input'!Z201,'Data Input'!AG201,'Data Input'!AI201,'Data Input'!AJ201,'Data Input'!AK201))","v":""},{"$f":"IF(I197=\"\",\"\",I197/COUNTIF('Data Input'!$C$8:$AZ$8,$I$2))","v":""},{"$f":"IF(ISBLANK('Data Input'!A201),\"\",SUM('Data Input'!AF201,'Data Input'!AV201))","v":""},{"$f":"IF(K197=\"\",\"\",K197/COUNTIF('Data Input'!$C$8:$AZ$8,$K$2))","v":""},{"$f":"IF(ISBLANK('Data Input'!A201),\"\",SUM('Data Input'!C201,'Data Input'!I201,'Data Input'!L201,'Data Input'!M201,'Data Input'!N201,'Data Input'!P201,'Data Input'!S201,'Data Input'!T201,'Data Input'!Y201,'Data Input'!AD201,'Data Input'!AL201,'Data Input'!AM201,'Data Input'!AN201,'Data Input'!AO201,'Data Input'!AP201,'Data Input'!AS201))","v":""},{"$f":"IF(M197=\"\",\"\",M197/COUNTIF('Data Input'!$C$8:$AZ$8,$M$2))","v":""},{"$f":"IF(ISBLANK('Data Input'!A201),\"\",SUM('Data Input'!AY201,'Data Input'!AZ201))","v":""},{"$f":"IF(O197=\"\",\"\",O197/COUNTIF('Data Input'!$C$8:$AZ$8,$O$2))","v":""},{"$f":"IF(ISBLANK('Data Input'!A201),\"\",SUM('Data Input'!AW201))","v":""},{"$f":"IF(Q197=\"\",\"\",Q197/COUNTIF('Data Input'!$C$8:$AZ$8,$Q$2))","v":""},{"$f":"IF(ISBLANK('Data Input'!$A201),\"\",SUM('Data Input'!Q201,'Data Input'!AT201,'Data Input'!AU201))","v":""},{"$f":"IF(S197=\"\",\"\",S197/COUNTIF('Data Input'!$C$8:$AZ$8,$S$2))","v":""},{"$f":"IF(ISBLANK('Data Input'!$A201),\"\",SUM('Data Input'!AX201))","v":""},{"$f":"IF(U197=\"\",\"\",U197/COUNTIF('Data Input'!$C$8:$AZ$8,$U$2))","v":""}]
[{"$f":"IF('Data Input'!A202=0,\"\",'Data Input'!A202)","v":""},{"$f":"IF(ISBLANK('Data Input'!A202),\"\",COUNTIF('Data Input'!C202:AZ202,\"\"))","v":""},{"$f":"IF(ISBLANK('Data Input'!A202),\"\",COUNTIF('Data Input'!C202:AZ202,\"0\"))","v":""},{"$f":"IF(ISBLANK('Data Input'!A202),\"\",SUM(B198,C198))","v":""},{"$f":"IF(ISBLANK('Data Input'!A202),\"\",SUM('Data Input'!C202:AZ202))","v":""},{"$f":"IF(E198=\"\",\"\",E198/(COUNTA('Data Input'!$C$8:$AZ$8)))","v":""},{"$f":"IF(ISBLANK('Data Input'!A202),\"\",SUM('Data Input'!R202,'Data Input'!AA202,'Data Input'!AB202,'Data Input'!AC202,'Data Input'!AE202,'Data Input'!AH202,'Data Input'!AQ202,'Data Input'!AR202))","v":""},{"$f":"IF(G198=\"\",\"\",G198/COUNTIF('Data Input'!$C$8:$AZ$8,$G$2))","v":""},{"$f":"IF(ISBLANK('Data Input'!A202),\"\",SUM('Data Input'!D202,'Data Input'!E202,'Data Input'!F202,'Data Input'!G202,'Data Input'!H202,'Data Input'!J202,'Data Input'!K202,'Data Input'!O202,'Data Input'!U202,'Data Input'!V202,'Data Input'!W202,'Data Input'!X202,'Data Input'!Z202,'Data Input'!AG202,'Data Input'!AI202,'Data Input'!AJ202,'Data Input'!AK202))","v":""},{"$f":"IF(I198=\"\",\"\",I198/COUNTIF('Data Input'!$C$8:$AZ$8,$I$2))","v":""},{"$f":"IF(ISBLANK('Data Input'!A202),\"\",SUM('Data Input'!AF202,'Data Input'!AV202))","v":""},{"$f":"IF(K198=\"\",\"\",K198/COUNTIF('Data Input'!$C$8:$AZ$8,$K$2))","v":""},{"$f":"IF(ISBLANK('Data Input'!A202),\"\",SUM('Data Input'!C202,'Data Input'!I202,'Data Input'!L202,'Data Input'!M202,'Data Input'!N202,'Data Input'!P202,'Data Input'!S202,'Data Input'!T202,'Data Input'!Y202,'Data Input'!AD202,'Data Input'!AL202,'Data Input'!AM202,'Data Input'!AN202,'Data Input'!AO202,'Data Input'!AP202,'Data Input'!AS202))","v":""},{"$f":"IF(M198=\"\",\"\",M198/COUNTIF('Data Input'!$C$8:$AZ$8,$M$2))","v":""},{"$f":"IF(ISBLANK('Data Input'!A202),\"\",SUM('Data Input'!AY202,'Data Input'!AZ202))","v":""},{"$f":"IF(O198=\"\",\"\",O198/COUNTIF('Data Input'!$C$8:$AZ$8,$O$2))","v":""},{"$f":"IF(ISBLANK('Data Input'!A202),\"\",SUM('Data Input'!AW202))","v":""},{"$f":"IF(Q198=\"\",\"\",Q198/COUNTIF('Data Input'!$C$8:$AZ$8,$Q$2))","v":""},{"$f":"IF(ISBLANK('Data Input'!$A202),\"\",SUM('Data Input'!Q202,'Data Input'!AT202,'Data Input'!AU202))","v":""},{"$f":"IF(S198=\"\",\"\",S198/COUNTIF('Data Input'!$C$8:$AZ$8,$S$2))","v":""},{"$f":"IF(ISBLANK('Data Input'!$A202),\"\",SUM('Data Input'!AX202))","v":""},{"$f":"IF(U198=\"\",\"\",U198/COUNTIF('Data Input'!$C$8:$AZ$8,$U$2))","v":""}]
[{"$f":"IF('Data Input'!A203=0,\"\",'Data Input'!A203)","v":""},{"$f":"IF(ISBLANK('Data Input'!A203),\"\",COUNTIF('Data Input'!C203:AZ203,\"\"))","v":""},{"$f":"IF(ISBLANK('Data Input'!A203),\"\",COUNTIF('Data Input'!C203:AZ203,\"0\"))","v":""},{"$f":"IF(ISBLANK('Data Input'!A203),\"\",SUM(B199,C199))","v":""},{"$f":"IF(ISBLANK('Data Input'!A203),\"\",SUM('Data Input'!C203:AZ203))","v":""},{"$f":"IF(E199=\"\",\"\",E199/(COUNTA('Data Input'!$C$8:$AZ$8)))","v":""},{"$f":"IF(ISBLANK('Data Input'!A203),\"\",SUM('Data Input'!R203,'Data Input'!AA203,'Data Input'!AB203,'Data Input'!AC203,'Data Input'!AE203,'Data Input'!AH203,'Data Input'!AQ203,'Data Input'!AR203))","v":""},{"$f":"IF(G199=\"\",\"\",G199/COUNTIF('Data Input'!$C$8:$AZ$8,$G$2))","v":""},{"$f":"IF(ISBLANK('Data Input'!A203),\"\",SUM('Data Input'!D203,'Data Input'!E203,'Data Input'!F203,'Data Input'!G203,'Data Input'!H203,'Data Input'!J203,'Data Input'!K203,'Data Input'!O203,'Data Input'!U203,'Data Input'!V203,'Data Input'!W203,'Data Input'!X203,'Data Input'!Z203,'Data Input'!AG203,'Data Input'!AI203,'Data Input'!AJ203,'Data Input'!AK203))","v":""},{"$f":"IF(I199=\"\",\"\",I199/COUNTIF('Data Input'!$C$8:$AZ$8,$I$2))","v":""},{"$f":"IF(ISBLANK('Data Input'!A203),\"\",SUM('Data Input'!AF203,'Data Input'!AV203))","v":""},{"$f":"IF(K199=\"\",\"\",K199/COUNTIF('Data Input'!$C$8:$AZ$8,$K$2))","v":""},{"$f":"IF(ISBLANK('Data Input'!A203),\"\",SUM('Data Input'!C203,'Data Input'!I203,'Data Input'!L203,'Data Input'!M203,'Data Input'!N203,'Data Input'!P203,'Data Input'!S203,'Data Input'!T203,'Data Input'!Y203,'Data Input'!AD203,'Data Input'!AL203,'Data Input'!AM203,'Data Input'!AN203,'Data Input'!AO203,'Data Input'!AP203,'Data Input'!AS203))","v":""},{"$f":"IF(M199=\"\",\"\",M199/COUNTIF('Data Input'!$C$8:$AZ$8,$M$2))","v":""},{"$f":"IF(ISBLANK('Data Input'!A203),\"\",SUM('Data Input'!AY203,'Data Input'!AZ203))","v":""},{"$f":"IF(O199=\"\",\"\",O199/COUNTIF('Data Input'!$C$8:$AZ$8,$O$2))","v":""},{"$f":"IF(ISBLANK('Data Input'!A203),\"\",SUM('Data Input'!AW203))","v":""},{"$f":"IF(Q199=\"\",\"\",Q199/COUNTIF('Data Input'!$C$8:$AZ$8,$Q$2))","v":""},{"$f":"IF(ISBLANK('Data Input'!$A203),\"\",SUM('Data Input'!Q203,'Data Input'!AT203,'Data Input'!AU203))","v":""},{"$f":"IF(S199=\"\",\"\",S199/COUNTIF('Data Input'!$C$8:$AZ$8,$S$2))","v":""},{"$f":"IF(ISBLANK('Data Input'!$A203),\"\",SUM('Data Input'!AX203))","v":""},{"$f":"IF(U199=\"\",\"\",U199/COUNTIF('Data Input'!$C$8:$AZ$8,$U$2))","v":""}]
[{"$f":"IF('Data Input'!A204=0,\"\",'Data Input'!A204)","v":""},{"$f":"IF(ISBLANK('Data Input'!A204),\"\",COUNTIF('Data Input'!C204:AZ204,\"\"))","v":""},{"$f":"IF(ISBLANK('Data Input'!A204),\"\",COUNTIF('Data Input'!C204:AZ204,\"0\"))","v":""},{"$f":"IF(ISBLANK('Data Input'!A204),\"\",SUM(B200,C200))","v":""},{"$f":"IF(ISBLANK('Data Input'!A204),\"\",SUM('Data Input'!C204:AZ204))","v":""},{"$f":"IF(E200=\"\",\"\",E200/(COUNTA('Data Input'!$C$8:$AZ$8)))","v":""},{"$f":"IF(ISBLANK('Data Input'!A204),\"\",SUM('Data Input'!R204,'Data Input'!AA204,'Data Input'!AB204,'Data Input'!AC204,'Data Input'!AE204,'Data Input'!AH204,'Data Input'!AQ204,'Data Input'!AR204))","v":""},{"$f":"IF(G200=\"\",\"\",G200/COUNTIF('Data Input'!$C$8:$AZ$8,$G$2))","v":""},{"$f":"IF(ISBLANK('Data Input'!A204),\"\",SUM('Data Input'!D204,'Data Input'!E204,'Data Input'!F204,'Data Input'!G204,'Data Input'!H204,'Data Input'!J204,'Data Input'!K204,'Data Input'!O204,'Data Input'!U204,'Data Input'!V204,'Data Input'!W204,'Data Input'!X204,'Data Input'!Z204,'Data Input'!AG204,'Data Input'!AI204,'Data Input'!AJ204,'Data Input'!AK204))","v":""},{"$f":"IF(I200=\"\",\"\",I200/COUNTIF('Data Input'!$C$8:$AZ$8,$I$2))","v":""},{"$f":"IF(ISBLANK('Data Input'!A204),\"\",SUM('Data Input'!AF204,'Data Input'!AV204))","v":""},{"$f":"IF(K200=\"\",\"\",K200/COUNTIF('Data Input'!$C$8:$AZ$8,$K$2))","v":""},{"$f":"IF(ISBLANK('Data Input'!A204),\"\",SUM('Data Input'!C204,'Data Input'!I204,'Data Input'!L204,'Data Input'!M204,'Data Input'!N204,'Data Input'!P204,'Data Input'!S204,'Data Input'!T204,'Data Input'!Y204,'Data Input'!AD204,'Data Input'!AL204,'Data Input'!AM204,'Data Input'!AN204,'Data Input'!AO204,'Data Input'!AP204,'Data Input'!AS204))","v":""},{"$f":"IF(M200=\"\",\"\",M200/COUNTIF('Data Input'!$C$8:$AZ$8,$M$2))","v":""},{"$f":"IF(ISBLANK('Data Input'!A204),\"\",SUM('Data Input'!AY204,'Data Input'!AZ204))","v":""},{"$f":"IF(O200=\"\",\"\",O200/COUNTIF('Data Input'!$C$8:$AZ$8,$O$2))","v":""},{"$f":"IF(ISBLANK('Data Input'!A204),\"\",SUM('Data Input'!AW204))","v":""},{"$f":"IF(Q200=\"\",\"\",Q200/COUNTIF('Data Input'!$C$8:$AZ$8,$Q$2))","v":""},{"$f":"IF(ISBLANK('Data Input'!$A204),\"\",SUM('Data Input'!Q204,'Data Input'!AT204,'Data Input'!AU204))","v":""},{"$f":"IF(S200=\"\",\"\",S200/COUNTIF('Data Input'!$C$8:$AZ$8,$S$2))","v":""},{"$f":"IF(ISBLANK('Data Input'!$A204),\"\",SUM('Data Input'!AX204))","v":""},{"$f":"IF(U200=\"\",\"\",U200/COUNTIF('Data Input'!$C$8:$AZ$8,$U$2))","v":""}]
[{"$f":"IF('Data Input'!A205=0,\"\",'Data Input'!A205)","v":""},{"$f":"IF(ISBLANK('Data Input'!A205),\"\",COUNTIF('Data Input'!C205:AZ205,\"\"))","v":""},{"$f":"IF(ISBLANK('Data Input'!A205),\"\",COUNTIF('Data Input'!C205:AZ205,\"0\"))","v":""},{"$f":"IF(ISBLANK('Data Input'!A205),\"\",SUM(B201,C201))","v":""},{"$f":"IF(ISBLANK('Data Input'!A205),\"\",SUM('Data Input'!C205:AZ205))","v":""},{"$f":"IF(E201=\"\",\"\",E201/(COUNTA('Data Input'!$C$8:$AZ$8)))","v":""},{"$f":"IF(ISBLANK('Data Input'!A205),\"\",SUM('Data Input'!R205,'Data Input'!AA205,'Data Input'!AB205,'Data Input'!AC205,'Data Input'!AE205,'Data Input'!AH205,'Data Input'!AQ205,'Data Input'!AR205))","v":""},{"$f":"IF(G201=\"\",\"\",G201/COUNTIF('Data Input'!$C$8:$AZ$8,$G$2))","v":""},{"$f":"IF(ISBLANK('Data Input'!A205),\"\",SUM('Data Input'!D205,'Data Input'!E205,'Data Input'!F205,'Data Input'!G205,'Data Input'!H205,'Data Input'!J205,'Data Input'!K205,'Data Input'!O205,'Data Input'!U205,'Data Input'!V205,'Data Input'!W205,'Data Input'!X205,'Data Input'!Z205,'Data Input'!AG205,'Data Input'!AI205,'Data Input'!AJ205,'Data Input'!AK205))","v":""},{"$f":"IF(I201=\"\",\"\",I201/COUNTIF('Data Input'!$C$8:$AZ$8,$I$2))","v":""},{"$f":"IF(ISBLANK('Data Input'!A205),\"\",SUM('Data Input'!AF205,'Data Input'!AV205))","v":""},{"$f":"IF(K201=\"\",\"\",K201/COUNTIF('Data Input'!$C$8:$AZ$8,$K$2))","v":""},{"$f":"IF(ISBLANK('Data Input'!A205),\"\",SUM('Data Input'!C205,'Data Input'!I205,'Data Input'!L205,'Data Input'!M205,'Data Input'!N205,'Data Input'!P205,'Data Input'!S205,'Data Input'!T205,'Data Input'!Y205,'Data Input'!AD205,'Data Input'!AL205,'Data Input'!AM205,'Data Input'!AN205,'Data Input'!AO205,'Data Input'!AP205,'Data Input'!AS205))","v":""},{"$f":"IF(M201=\"\",\"\",M201/COUNTIF('Data Input'!$C$8:$AZ$8,$M$2))","v":""},{"$f":"IF(ISBLANK('Data Input'!A205),\"\",SUM('Data Input'!AY205,'Data Input'!AZ205))","v":""},{"$f":"IF(O201=\"\",\"\",O201/COUNTIF('Data Input'!$C$8:$AZ$8,$O$2))","v":""},{"$f":"IF(ISBLANK('Data Input'!A205),\"\",SUM('Data Input'!AW205))","v":""},{"$f":"IF(Q201=\"\",\"\",Q201/COUNTIF('Data Input'!$C$8:$AZ$8,$Q$2))","v":""},{"$f":"IF(ISBLANK('Data Input'!$A205),\"\",SUM('Data Input'!Q205,'Data Input'!AT205,'Data Input'!AU205))","v":""},{"$f":"IF(S201=\"\",\"\",S201/COUNTIF('Data Input'!$C$8:$AZ$8,$S$2))","v":""},{"$f":"IF(ISBLANK('Data Input'!$A205),\"\",SUM('Data Input'!AX205))","v":""},{"$f":"IF(U201=\"\",\"\",U201/COUNTIF('Data Input'!$C$8:$AZ$8,$U$2))","v":""}]
[{"$f":"IF('Data Input'!A206=0,\"\",'Data Input'!A206)","v":""},{"$f":"IF(ISBLANK('Data Input'!A206),\"\",COUNTIF('Data Input'!C206:AZ206,\"\"))","v":""},{"$f":"IF(ISBLANK('Data Input'!A206),\"\",COUNTIF('Data Input'!C206:AZ206,\"0\"))","v":""},{"$f":"IF(ISBLANK('Data Input'!A206),\"\",SUM(B202,C202))","v":""},{"$f":"IF(ISBLANK('Data Input'!A206),\"\",SUM('Data Input'!C206:AZ206))","v":""},{"$f":"IF(E202=\"\",\"\",E202/(COUNTA('Data Input'!$C$8:$AZ$8)))","v":""},{"$f":"IF(ISBLANK('Data Input'!A206),\"\",SUM('Data Input'!R206,'Data Input'!AA206,'Data Input'!AB206,'Data Input'!AC206,'Data Input'!AE206,'Data Input'!AH206,'Data Input'!AQ206,'Data Input'!AR206))","v":""},{"$f":"IF(G202=\"\",\"\",G202/COUNTIF('Data Input'!$C$8:$AZ$8,$G$2))","v":""},{"$f":"IF(ISBLANK('Data Input'!A206),\"\",SUM('Data Input'!D206,'Data Input'!E206,'Data Input'!F206,'Data Input'!G206,'Data Input'!H206,'Data Input'!J206,'Data Input'!K206,'Data Input'!O206,'Data Input'!U206,'Data Input'!V206,'Data Input'!W206,'Data Input'!X206,'Data Input'!Z206,'Data Input'!AG206,'Data Input'!AI206,'Data Input'!AJ206,'Data Input'!AK206))","v":""},{"$f":"IF(I202=\"\",\"\",I202/COUNTIF('Data Input'!$C$8:$AZ$8,$I$2))","v":""},{"$f":"IF(ISBLANK('Data Input'!A206),\"\",SUM('Data Input'!AF206,'Data Input'!AV206))","v":""},{"$f":"IF(K202=\"\",\"\",K202/COUNTIF('Data Input'!$C$8:$AZ$8,$K$2))","v":""},{"$f":"IF(ISBLANK('Data Input'!A206),\"\",SUM('Data Input'!C206,'Data Input'!I206,'Data Input'!L206,'Data Input'!M206,'Data Input'!N206,'Data Input'!P206,'Data Input'!S206,'Data Input'!T206,'Data Input'!Y206,'Data Input'!AD206,'Data Input'!AL206,'Data Input'!AM206,'Data Input'!AN206,'Data Input'!AO206,'Data Input'!AP206,'Data Input'!AS206))","v":""},{"$f":"IF(M202=\"\",\"\",M202/COUNTIF('Data Input'!$C$8:$AZ$8,$M$2))","v":""},{"$f":"IF(ISBLANK('Data Input'!A206),\"\",SUM('Data Input'!AY206,'Data Input'!AZ206))","v":""},{"$f":"IF(O202=\"\",\"\",O202/COUNTIF('Data Input'!$C$8:$AZ$8,$O$2))","v":""},{"$f":"IF(ISBLANK('Data Input'!A206),\"\",SUM('Data Input'!AW206))","v":""},{"$f":"IF(Q202=\"\",\"\",Q202/COUNTIF('Data Input'!$C$8:$AZ$8,$Q$2))","v":""},{"$f":"IF(ISBLANK('Data Input'!$A206),\"\",SUM('Data Input'!Q206,'Data Input'!AT206,'Data Input'!AU206))","v":""},{"$f":"IF(S202=\"\",\"\",S202/COUNTIF('Data Input'!$C$8:$AZ$8,$S$2))","v":""},{"$f":"IF(ISBLANK('Data Input'!$A206),\"\",SUM('Data Input'!AX206))","v":""},{"$f":"IF(U202=\"\",\"\",U202/COUNTIF('Data Input'!$C$8:$AZ$8,$U$2))","v":""}]
[{"$f":"IF('Data Input'!A207=0,\"\",'Data Input'!A207)","v":""},{"$f":"IF(ISBLANK('Data Input'!A207),\"\",COUNTIF('Data Input'!C207:AZ207,\"\"))","v":""},{"$f":"IF(ISBLANK('Data Input'!A207),\"\",COUNTIF('Data Input'!C207:AZ207,\"0\"))","v":""},{"$f":"IF(ISBLANK('Data Input'!A207),\"\",SUM(B203,C203))","v":""},{"$f":"IF(ISBLANK('Data Input'!A207),\"\",SUM('Data Input'!C207:AZ207))","v":""},{"$f":"IF(E203=\"\",\"\",E203/(COUNTA('Data Input'!$C$8:$AZ$8)))","v":""},{"$f":"IF(ISBLANK('Data Input'!A207),\"\",SUM('Data Input'!R207,'Data Input'!AA207,'Data Input'!AB207,'Data Input'!AC207,'Data Input'!AE207,'Data Input'!AH207,'Data Input'!AQ207,'Data Input'!AR207))","v":""},{"$f":"IF(G203=\"\",\"\",G203/COUNTIF('Data Input'!$C$8:$AZ$8,$G$2))","v":""},{"$f":"IF(ISBLANK('Data Input'!A207),\"\",SUM('Data Input'!D207,'Data Input'!E207,'Data Input'!F207,'Data Input'!G207,'Data Input'!H207,'Data Input'!J207,'Data Input'!K207,'Data Input'!O207,'Data Input'!U207,'Data Input'!V207,'Data Input'!W207,'Data Input'!X207,'Data Input'!Z207,'Data Input'!AG207,'Data Input'!AI207,'Data Input'!AJ207,'Data Input'!AK207))","v":""},{"$f":"IF(I203=\"\",\"\",I203/COUNTIF('Data Input'!$C$8:$AZ$8,$I$2))","v":""},{"$f":"IF(ISBLANK('Data Input'!A207),\"\",SUM('Data Input'!AF207,'Data Input'!AV207))","v":""},{"$f":"IF(K203=\"\",\"\",K203/COUNTIF('Data Input'!$C$8:$AZ$8,$K$2))","v":""},{"$f":"IF(ISBLANK('Data Input'!A207),\"\",SUM('Data Input'!C207,'Data Input'!I207,'Data Input'!L207,'Data Input'!M207,'Data Input'!N207,'Data Input'!P207,'Data Input'!S207,'Data Input'!T207,'Data Input'!Y207,'Data Input'!AD207,'Data Input'!AL207,'Data Input'!AM207,'Data Input'!AN207,'Data Input'!AO207,'Data Input'!AP207,'Data Input'!AS207))","v":""},{"$f":"IF(M203=\"\",\"\",M203/COUNTIF('Data Input'!$C$8:$AZ$8,$M$2))","v":""},{"$f":"IF(ISBLANK('Data Input'!A207),\"\",SUM('Data Input'!AY207,'Data Input'!AZ207))","v":""},{"$f":"IF(O203=\"\",\"\",O203/COUNTIF('Data Input'!$C$8:$AZ$8,$O$2))","v":""},{"$f":"IF(ISBLANK('Data Input'!A207),\"\",SUM('Data Input'!AW207))","v":""},{"$f":"IF(Q203=\"\",\"\",Q203/COUNTIF('Data Input'!$C$8:$AZ$8,$Q$2))","v":""},{"$f":"IF(ISBLANK('Data Input'!$A207),\"\",SUM('Data Input'!Q207,'Data Input'!AT207,'Data Input'!AU207))","v":""},{"$f":"IF(S203=\"\",\"\",S203/COUNTIF('Data Input'!$C$8:$AZ$8,$S$2))","v":""},{"$f":"IF(ISBLANK('Data Input'!$A207),\"\",SUM('Data Input'!AX207))","v":""},{"$f":"IF(U203=\"\",\"\",U203/COUNTIF('Data Input'!$C$8:$AZ$8,$U$2))","v":""}]
[{"$f":"IF('Data Input'!A208=0,\"\",'Data Input'!A208)","v":""},{"$f":"IF(ISBLANK('Data Input'!A208),\"\",COUNTIF('Data Input'!C208:AZ208,\"\"))","v":""},{"$f":"IF(ISBLANK('Data Input'!A208),\"\",COUNTIF('Data Input'!C208:AZ208,\"0\"))","v":""},{"$f":"IF(ISBLANK('Data Input'!A208),\"\",SUM(B204,C204))","v":""},{"$f":"IF(ISBLANK('Data Input'!A208),\"\",SUM('Data Input'!C208:AZ208))","v":""},{"$f":"IF(E204=\"\",\"\",E204/(COUNTA('Data Input'!$C$8:$AZ$8)))","v":""},{"$f":"IF(ISBLANK('Data Input'!A208),\"\",SUM('Data Input'!R208,'Data Input'!AA208,'Data Input'!AB208,'Data Input'!AC208,'Data Input'!AE208,'Data Input'!AH208,'Data Input'!AQ208,'Data Input'!AR208))","v":""},{"$f":"IF(G204=\"\",\"\",G204/COUNTIF('Data Input'!$C$8:$AZ$8,$G$2))","v":""},{"$f":"IF(ISBLANK('Data Input'!A208),\"\",SUM('Data Input'!D208,'Data Input'!E208,'Data Input'!F208,'Data Input'!G208,'Data Input'!H208,'Data Input'!J208,'Data Input'!K208,'Data Input'!O208,'Data Input'!U208,'Data Input'!V208,'Data Input'!W208,'Data Input'!X208,'Data Input'!Z208,'Data Input'!AG208,'Data Input'!AI208,'Data Input'!AJ208,'Data Input'!AK208))","v":""},{"$f":"IF(I204=\"\",\"\",I204/COUNTIF('Data Input'!$C$8:$AZ$8,$I$2))","v":""},{"$f":"IF(ISBLANK('Data Input'!A208),\"\",SUM('Data Input'!AF208,'Data Input'!AV208))","v":""},{"$f":"IF(K204=\"\",\"\",K204/COUNTIF('Data Input'!$C$8:$AZ$8,$K$2))","v":""},{"$f":"IF(ISBLANK('Data Input'!A208),\"\",SUM('Data Input'!C208,'Data Input'!I208,'Data Input'!L208,'Data Input'!M208,'Data Input'!N208,'Data Input'!P208,'Data Input'!S208,'Data Input'!T208,'Data Input'!Y208,'Data Input'!AD208,'Data Input'!AL208,'Data Input'!AM208,'Data Input'!AN208,'Data Input'!AO208,'Data Input'!AP208,'Data Input'!AS208))","v":""},{"$f":"IF(M204=\"\",\"\",M204/COUNTIF('Data Input'!$C$8:$AZ$8,$M$2))","v":""},{"$f":"IF(ISBLANK('Data Input'!A208),\"\",SUM('Data Input'!AY208,'Data Input'!AZ208))","v":""},{"$f":"IF(O204=\"\",\"\",O204/COUNTIF('Data Input'!$C$8:$AZ$8,$O$2))","v":""},{"$f":"IF(ISBLANK('Data Input'!A208),\"\",SUM('Data Input'!AW208))","v":""},{"$f":"IF(Q204=\"\",\"\",Q204/COUNTIF('Data Input'!$C$8:$AZ$8,$Q$2))","v":""},{"$f":"IF(ISBLANK('Data Input'!$A208),\"\",SUM('Data Input'!Q208,'Data Input'!AT208,'Data Input'!AU208))","v":""},{"$f":"IF(S204=\"\",\"\",S204/COUNTIF('Data Input'!$C$8:$AZ$8,$S$2))","v":""},{"$f":"IF(ISBLANK('Data Input'!$A208),\"\",SUM('Data Input'!AX208))","v":""},{"$f":"IF(U204=\"\",\"\",U204/COUNTIF('Data Input'!$C$8:$AZ$8,$U$2))","v":""}]
[{"$f":"IF('Data Input'!A209=0,\"\",'Data Input'!A209)","v":""},{"$f":"IF(ISBLANK('Data Input'!A209),\"\",COUNTIF('Data Input'!C209:AZ209,\"\"))","v":""},{"$f":"IF(ISBLANK('Data Input'!A209),\"\",COUNTIF('Data Input'!C209:AZ209,\"0\"))","v":""},{"$f":"IF(ISBLANK('Data Input'!A209),\"\",SUM(B205,C205))","v":""},{"$f":"IF(ISBLANK('Data Input'!A209),\"\",SUM('Data Input'!C209:AZ209))","v":""},{"$f":"IF(E205=\"\",\"\",E205/(COUNTA('Data Input'!$C$8:$AZ$8)))","v":""},{"$f":"IF(ISBLANK('Data Input'!A209),\"\",SUM('Data Input'!R209,'Data Input'!AA209,'Data Input'!AB209,'Data Input'!AC209,'Data Input'!AE209,'Data Input'!AH209,'Data Input'!AQ209,'Data Input'!AR209))","v":""},{"$f":"IF(G205=\"\",\"\",G205/COUNTIF('Data Input'!$C$8:$AZ$8,$G$2))","v":""},{"$f":"IF(ISBLANK('Data Input'!A209),\"\",SUM('Data Input'!D209,'Data Input'!E209,'Data Input'!F209,'Data Input'!G209,'Data Input'!H209,'Data Input'!J209,'Data Input'!K209,'Data Input'!O209,'Data Input'!U209,'Data Input'!V209,'Data Input'!W209,'Data Input'!X209,'Data Input'!Z209,'Data Input'!AG209,'Data Input'!AI209,'Data Input'!AJ209,'Data Input'!AK209))","v":""},{"$f":"IF(I205=\"\",\"\",I205/COUNTIF('Data Input'!$C$8:$AZ$8,$I$2))","v":""},{"$f":"IF(ISBLANK('Data Input'!A209),\"\",SUM('Data Input'!AF209,'Data Input'!AV209))","v":""},{"$f":"IF(K205=\"\",\"\",K205/COUNTIF('Data Input'!$C$8:$AZ$8,$K$2))","v":""},{"$f":"IF(ISBLANK('Data Input'!A209),\"\",SUM('Data Input'!C209,'Data Input'!I209,'Data Input'!L209,'Data Input'!M209,'Data Input'!N209,'Data Input'!P209,'Data Input'!S209,'Data Input'!T209,'Data Input'!Y209,'Data Input'!AD209,'Data Input'!AL209,'Data Input'!AM209,'Data Input'!AN209,'Data Input'!AO209,'Data Input'!AP209,'Data Input'!AS209))","v":""},{"$f":"IF(M205=\"\",\"\",M205/COUNTIF('Data Input'!$C$8:$AZ$8,$M$2))","v":""},{"$f":"IF(ISBLANK('Data Input'!A209),\"\",SUM('Data Input'!AY209,'Data Input'!AZ209))","v":""},{"$f":"IF(O205=\"\",\"\",O205/COUNTIF('Data Input'!$C$8:$AZ$8,$O$2))","v":""},{"$f":"IF(ISBLANK('Data Input'!A209),\"\",SUM('Data Input'!AW209))","v":""},{"$f":"IF(Q205=\"\",\"\",Q205/COUNTIF('Data Input'!$C$8:$AZ$8,$Q$2))","v":""},{"$f":"IF(ISBLANK('Data Input'!$A209),\"\",SUM('Data Input'!Q209,'Data Input'!AT209,'Data Input'!AU209))","v":""},{"$f":"IF(S205=\"\",\"\",S205/COUNTIF('Data Input'!$C$8:$AZ$8,$S$2))","v":""},{"$f":"IF(ISBLANK('Data Input'!$A209),\"\",SUM('Data Input'!AX209))","v":""},{"$f":"IF(U205=\"\",\"\",U205/COUNTIF('Data Input'!$C$8:$AZ$8,$U$2))","v":""}]
[{"$f":"IF('Data Input'!A210=0,\"\",'Data Input'!A210)","v":""},{"$f":"IF(ISBLANK('Data Input'!A210),\"\",COUNTIF('Data Input'!C210:AZ210,\"\"))","v":""},{"$f":"IF(ISBLANK('Data Input'!A210),\"\",COUNTIF('Data Input'!C210:AZ210,\"0\"))","v":""},{"$f":"IF(ISBLANK('Data Input'!A210),\"\",SUM(B206,C206))","v":""},{"$f":"IF(ISBLANK('Data Input'!A210),\"\",SUM('Data Input'!C210:AZ210))","v":""},{"$f":"IF(E206=\"\",\"\",E206/(COUNTA('Data Input'!$C$8:$AZ$8)))","v":""},{"$f":"IF(ISBLANK('Data Input'!A210),\"\",SUM('Data Input'!R210,'Data Input'!AA210,'Data Input'!AB210,'Data Input'!AC210,'Data Input'!AE210,'Data Input'!AH210,'Data Input'!AQ210,'Data Input'!AR210))","v":""},{"$f":"IF(G206=\"\",\"\",G206/COUNTIF('Data Input'!$C$8:$AZ$8,$G$2))","v":""},{"$f":"IF(ISBLANK('Data Input'!A210),\"\",SUM('Data Input'!D210,'Data Input'!E210,'Data Input'!F210,'Data Input'!G210,'Data Input'!H210,'Data Input'!J210,'Data Input'!K210,'Data Input'!O210,'Data Input'!U210,'Data Input'!V210,'Data Input'!W210,'Data Input'!X210,'Data Input'!Z210,'Data Input'!AG210,'Data Input'!AI210,'Data Input'!AJ210,'Data Input'!AK210))","v":""},{"$f":"IF(I206=\"\",\"\",I206/COUNTIF('Data Input'!$C$8:$AZ$8,$I$2))","v":""},{"$f":"IF(ISBLANK('Data Input'!A210),\"\",SUM('Data Input'!AF210,'Data Input'!AV210))","v":""},{"$f":"IF(K206=\"\",\"\",K206/COUNTIF('Data Input'!$C$8:$AZ$8,$K$2))","v":""},{"$f":"IF(ISBLANK('Data Input'!A210),\"\",SUM('Data Input'!C210,'Data Input'!I210,'Data Input'!L210,'Data Input'!M210,'Data Input'!N210,'Data Input'!P210,'Data Input'!S210,'Data Input'!T210,'Data Input'!Y210,'Data Input'!AD210,'Data Input'!AL210,'Data Input'!AM210,'Data Input'!AN210,'Data Input'!AO210,'Data Input'!AP210,'Data Input'!AS210))","v":""},{"$f":"IF(M206=\"\",\"\",M206/COUNTIF('Data Input'!$C$8:$AZ$8,$M$2))","v":""},{"$f":"IF(ISBLANK('Data Input'!A210),\"\",SUM('Data Input'!AY210,'Data Input'!AZ210))","v":""},{"$f":"IF(O206=\"\",\"\",O206/COUNTIF('Data Input'!$C$8:$AZ$8,$O$2))","v":""},{"$f":"IF(ISBLANK('Data Input'!A210),\"\",SUM('Data Input'!AW210))","v":""},{"$f":"IF(Q206=\"\",\"\",Q206/COUNTIF('Data Input'!$C$8:$AZ$8,$Q$2))","v":""},{"$f":"IF(ISBLANK('Data Input'!$A210),\"\",SUM('Data Input'!Q210,'Data Input'!AT210,'Data Input'!AU210))","v":""},{"$f":"IF(S206=\"\",\"\",S206/COUNTIF('Data Input'!$C$8:$AZ$8,$S$2))","v":""},{"$f":"IF(ISBLANK('Data Input'!$A210),\"\",SUM('Data Input'!AX210))","v":""},{"$f":"IF(U206=\"\",\"\",U206/COUNTIF('Data Input'!$C$8:$AZ$8,$U$2))","v":""}]
[{"$f":"IF('Data Input'!A211=0,\"\",'Data Input'!A211)","v":""},{"$f":"IF(ISBLANK('Data Input'!A211),\"\",COUNTIF('Data Input'!C211:AZ211,\"\"))","v":""},{"$f":"IF(ISBLANK('Data Input'!A211),\"\",COUNTIF('Data Input'!C211:AZ211,\"0\"))","v":""},{"$f":"IF(ISBLANK('Data Input'!A211),\"\",SUM(B207,C207))","v":""},{"$f":"IF(ISBLANK('Data Input'!A211),\"\",SUM('Data Input'!C211:AZ211))","v":""},{"$f":"IF(E207=\"\",\"\",E207/(COUNTA('Data Input'!$C$8:$AZ$8)))","v":""},{"$f":"IF(ISBLANK('Data Input'!A211),\"\",SUM('Data Input'!R211,'Data Input'!AA211,'Data Input'!AB211,'Data Input'!AC211,'Data Input'!AE211,'Data Input'!AH211,'Data Input'!AQ211,'Data Input'!AR211))","v":""},{"$f":"IF(G207=\"\",\"\",G207/COUNTIF('Data Input'!$C$8:$AZ$8,$G$2))","v":""},{"$f":"IF(ISBLANK('Data Input'!A211),\"\",SUM('Data Input'!D211,'Data Input'!E211,'Data Input'!F211,'Data Input'!G211,'Data Input'!H211,'Data Input'!J211,'Data Input'!K211,'Data Input'!O211,'Data Input'!U211,'Data Input'!V211,'Data Input'!W211,'Data Input'!X211,'Data Input'!Z211,'Data Input'!AG211,'Data Input'!AI211,'Data Input'!AJ211,'Data Input'!AK211))","v":""},{"$f":"IF(I207=\"\",\"\",I207/COUNTIF('Data Input'!$C$8:$AZ$8,$I$2))","v":""},{"$f":"IF(ISBLANK('Data Input'!A211),\"\",SUM('Data Input'!AF211,'Data Input'!AV211))","v":""},{"$f":"IF(K207=\"\",\"\",K207/COUNTIF('Data Input'!$C$8:$AZ$8,$K$2))","v":""},{"$f":"IF(ISBLANK('Data Input'!A211),\"\",SUM('Data Input'!C211,'Data Input'!I211,'Data Input'!L211,'Data Input'!M211,'Data Input'!N211,'Data Input'!P211,'Data Input'!S211,'Data Input'!T211,'Data Input'!Y211,'Data Input'!AD211,'Data Input'!AL211,'Data Input'!AM211,'Data Input'!AN211,'Data Input'!AO211,'Data Input'!AP211,'Data Input'!AS211))","v":""},{"$f":"IF(M207=\"\",\"\",M207/COUNTIF('Data Input'!$C$8:$AZ$8,$M$2))","v":""},{"$f":"IF(ISBLANK('Data Input'!A211),\"\",SUM('Data Input'!AY211,'Data Input'!AZ211))","v":""},{"$f":"IF(O207=\"\",\"\",O207/COUNTIF('Data Input'!$C$8:$AZ$8,$O$2))","v":""},{"$f":"IF(ISBLANK('Data Input'!A211),\"\",SUM('Data Input'!AW211))","v":""},{"$f":"IF(Q207=\"\",\"\",Q207/COUNTIF('Data Input'!$C$8:$AZ$8,$Q$2))","v":""},{"$f":"IF(ISBLANK('Data Input'!$A211),\"\",SUM('Data Input'!Q211,'Data Input'!AT211,'Data Input'!AU211))","v":""},{"$f":"IF(S207=\"\",\"\",S207/COUNTIF('Data Input'!$C$8:$AZ$8,$S$2))","v":""},{"$f":"IF(ISBLANK('Data Input'!$A211),\"\",SUM('Data Input'!AX211))","v":""},{"$f":"IF(U207=\"\",\"\",U207/COUNTIF('Data Input'!$C$8:$AZ$8,$U$2))","v":""}]
[{"$f":"IF('Data Input'!A212=0,\"\",'Data Input'!A212)","v":""},{"$f":"IF(ISBLANK('Data Input'!A212),\"\",COUNTIF('Data Input'!C212:AZ212,\"\"))","v":""},{"$f":"IF(ISBLANK('Data Input'!A212),\"\",COUNTIF('Data Input'!C212:AZ212,\"0\"))","v":""},{"$f":"IF(ISBLANK('Data Input'!A212),\"\",SUM(B208,C208))","v":""},{"$f":"IF(ISBLANK('Data Input'!A212),\"\",SUM('Data Input'!C212:AZ212))","v":""},{"$f":"IF(E208=\"\",\"\",E208/(COUNTA('Data Input'!$C$8:$AZ$8)))","v":""},{"$f":"IF(ISBLANK('Data Input'!A212),\"\",SUM('Data Input'!R212,'Data Input'!AA212,'Data Input'!AB212,'Data Input'!AC212,'Data Input'!AE212,'Data Input'!AH212,'Data Input'!AQ212,'Data Input'!AR212))","v":""},{"$f":"IF(G208=\"\",\"\",G208/COUNTIF('Data Input'!$C$8:$AZ$8,$G$2))","v":""},{"$f":"IF(ISBLANK('Data Input'!A212),\"\",SUM('Data Input'!D212,'Data Input'!E212,'Data Input'!F212,'Data Input'!G212,'Data Input'!H212,'Data Input'!J212,'Data Input'!K212,'Data Input'!O212,'Data Input'!U212,'Data Input'!V212,'Data Input'!W212,'Data Input'!X212,'Data Input'!Z212,'Data Input'!AG212,'Data Input'!AI212,'Data Input'!AJ212,'Data Input'!AK212))","v":""},{"$f":"IF(I208=\"\",\"\",I208/COUNTIF('Data Input'!$C$8:$AZ$8,$I$2))","v":""},{"$f":"IF(ISBLANK('Data Input'!A212),\"\",SUM('Data Input'!AF212,'Data Input'!AV212))","v":""},{"$f":"IF(K208=\"\",\"\",K208/COUNTIF('Data Input'!$C$8:$AZ$8,$K$2))","v":""},{"$f":"IF(ISBLANK('Data Input'!A212),\"\",SUM('Data Input'!C212,'Data Input'!I212,'Data Input'!L212,'Data Input'!M212,'Data Input'!N212,'Data Input'!P212,'Data Input'!S212,'Data Input'!T212,'Data Input'!Y212,'Data Input'!AD212,'Data Input'!AL212,'Data Input'!AM212,'Data Input'!AN212,'Data Input'!AO212,'Data Input'!AP212,'Data Input'!AS212))","v":""},{"$f":"IF(M208=\"\",\"\",M208/COUNTIF('Data Input'!$C$8:$AZ$8,$M$2))","v":""},{"$f":"IF(ISBLANK('Data Input'!A212),\"\",SUM('Data Input'!AY212,'Data Input'!AZ212))","v":""},{"$f":"IF(O208=\"\",\"\",O208/COUNTIF('Data Input'!$C$8:$AZ$8,$O$2))","v":""},{"$f":"IF(ISBLANK('Data Input'!A212),\"\",SUM('Data Input'!AW212))","v":""},{"$f":"IF(Q208=\"\",\"\",Q208/COUNTIF('Data Input'!$C$8:$AZ$8,$Q$2))","v":""},{"$f":"IF(ISBLANK('Data Input'!$A212),\"\",SUM('Data Input'!Q212,'Data Input'!AT212,'Data Input'!AU212))","v":""},{"$f":"IF(S208=\"\",\"\",S208/COUNTIF('Data Input'!$C$8:$AZ$8,$S$2))","v":""},{"$f":"IF(ISBLANK('Data Input'!$A212),\"\",SUM('Data Input'!AX212))","v":""},{"$f":"IF(U208=\"\",\"\",U208/COUNTIF('Data Input'!$C$8:$AZ$8,$U$2))","v":""}]
[{"$f":"IF('Data Input'!A213=0,\"\",'Data Input'!A213)","v":""},{"$f":"IF(ISBLANK('Data Input'!A213),\"\",COUNTIF('Data Input'!C213:AZ213,\"\"))","v":""},{"$f":"IF(ISBLANK('Data Input'!A213),\"\",COUNTIF('Data Input'!C213:AZ213,\"0\"))","v":""},{"$f":"IF(ISBLANK('Data Input'!A213),\"\",SUM(B209,C209))","v":""},{"$f":"IF(ISBLANK('Data Input'!A213),\"\",SUM('Data Input'!C213:AZ213))","v":""},{"$f":"IF(E209=\"\",\"\",E209/(COUNTA('Data Input'!$C$8:$AZ$8)))","v":""},{"$f":"IF(ISBLANK('Data Input'!A213),\"\",SUM('Data Input'!R213,'Data Input'!AA213,'Data Input'!AB213,'Data Input'!AC213,'Data Input'!AE213,'Data Input'!AH213,'Data Input'!AQ213,'Data Input'!AR213))","v":""},{"$f":"IF(G209=\"\",\"\",G209/COUNTIF('Data Input'!$C$8:$AZ$8,$G$2))","v":""},{"$f":"IF(ISBLANK('Data Input'!A213),\"\",SUM('Data Input'!D213,'Data Input'!E213,'Data Input'!F213,'Data Input'!G213,'Data Input'!H213,'Data Input'!J213,'Data Input'!K213,'Data Input'!O213,'Data Input'!U213,'Data Input'!V213,'Data Input'!W213,'Data Input'!X213,'Data Input'!Z213,'Data Input'!AG213,'Data Input'!AI213,'Data Input'!AJ213,'Data Input'!AK213))","v":""},{"$f":"IF(I209=\"\",\"\",I209/COUNTIF('Data Input'!$C$8:$AZ$8,$I$2))","v":""},{"$f":"IF(ISBLANK('Data Input'!A213),\"\",SUM('Data Input'!AF213,'Data Input'!AV213))","v":""},{"$f":"IF(K209=\"\",\"\",K209/COUNTIF('Data Input'!$C$8:$AZ$8,$K$2))","v":""},{"$f":"IF(ISBLANK('Data Input'!A213),\"\",SUM('Data Input'!C213,'Data Input'!I213,'Data Input'!L213,'Data Input'!M213,'Data Input'!N213,'Data Input'!P213,'Data Input'!S213,'Data Input'!T213,'Data Input'!Y213,'Data Input'!AD213,'Data Input'!AL213,'Data Input'!AM213,'Data Input'!AN213,'Data Input'!AO213,'Data Input'!AP213,'Data Input'!AS213))","v":""},{"$f":"IF(M209=\"\",\"\",M209/COUNTIF('Data Input'!$C$8:$AZ$8,$M$2))","v":""},{"$f":"IF(ISBLANK('Data Input'!A213),\"\",SUM('Data Input'!AY213,'Data Input'!AZ213))","v":""},{"$f":"IF(O209=\"\",\"\",O209/COUNTIF('Data Input'!$C$8:$AZ$8,$O$2))","v":""},{"$f":"IF(ISBLANK('Data Input'!A213),\"\",SUM('Data Input'!AW213))","v":""},{"$f":"IF(Q209=\"\",\"\",Q209/COUNTIF('Data Input'!$C$8:$AZ$8,$Q$2))","v":""},{"$f":"IF(ISBLANK('Data Input'!$A213),\"\",SUM('Data Input'!Q213,'Data Input'!AT213,'Data Input'!AU213))","v":""},{"$f":"IF(S209=\"\",\"\",S209/COUNTIF('Data Input'!$C$8:$AZ$8,$S$2))","v":""},{"$f":"IF(ISBLANK('Data Input'!$A213),\"\",SUM('Data Input'!AX213))","v":""},{"$f":"IF(U209=\"\",\"\",U209/COUNTIF('Data Input'!$C$8:$AZ$8,$U$2))","v":""}]
[{"$f":"IF('Data Input'!A214=0,\"\",'Data Input'!A214)","v":""},{"$f":"IF(ISBLANK('Data Input'!A214),\"\",COUNTIF('Data Input'!C214:AZ214,\"\"))","v":""},{"$f":"IF(ISBLANK('Data Input'!A214),\"\",COUNTIF('Data Input'!C214:AZ214,\"0\"))","v":""},{"$f":"IF(ISBLANK('Data Input'!A214),\"\",SUM(B210,C210))","v":""},{"$f":"IF(ISBLANK('Data Input'!A214),\"\",SUM('Data Input'!C214:AZ214))","v":""},{"$f":"IF(E210=\"\",\"\",E210/(COUNTA('Data Input'!$C$8:$AZ$8)))","v":""},{"$f":"IF(ISBLANK('Data Input'!A214),\"\",SUM('Data Input'!R214,'Data Input'!AA214,'Data Input'!AB214,'Data Input'!AC214,'Data Input'!AE214,'Data Input'!AH214,'Data Input'!AQ214,'Data Input'!AR214))","v":""},{"$f":"IF(G210=\"\",\"\",G210/COUNTIF('Data Input'!$C$8:$AZ$8,$G$2))","v":""},{"$f":"IF(ISBLANK('Data Input'!A214),\"\",SUM('Data Input'!D214,'Data Input'!E214,'Data Input'!F214,'Data Input'!G214,'Data Input'!H214,'Data Input'!J214,'Data Input'!K214,'Data Input'!O214,'Data Input'!U214,'Data Input'!V214,'Data Input'!W214,'Data Input'!X214,'Data Input'!Z214,'Data Input'!AG214,'Data Input'!AI214,'Data Input'!AJ214,'Data Input'!AK214))","v":""},{"$f":"IF(I210=\"\",\"\",I210/COUNTIF('Data Input'!$C$8:$AZ$8,$I$2))","v":""},{"$f":"IF(ISBLANK('Data Input'!A214),\"\",SUM('Data Input'!AF214,'Data Input'!AV214))","v":""},{"$f":"IF(K210=\"\",\"\",K210/COUNTIF('Data Input'!$C$8:$AZ$8,$K$2))","v":""},{"$f":"IF(ISBLANK('Data Input'!A214),\"\",SUM('Data Input'!C214,'Data Input'!I214,'Data Input'!L214,'Data Input'!M214,'Data Input'!N214,'Data Input'!P214,'Data Input'!S214,'Data Input'!T214,'Data Input'!Y214,'Data Input'!AD214,'Data Input'!AL214,'Data Input'!AM214,'Data Input'!AN214,'Data Input'!AO214,'Data Input'!AP214,'Data Input'!AS214))","v":""},{"$f":"IF(M210=\"\",\"\",M210/COUNTIF('Data Input'!$C$8:$AZ$8,$M$2))","v":""},{"$f":"IF(ISBLANK('Data Input'!A214),\"\",SUM('Data Input'!AY214,'Data Input'!AZ214))","v":""},{"$f":"IF(O210=\"\",\"\",O210/COUNTIF('Data Input'!$C$8:$AZ$8,$O$2))","v":""},{"$f":"IF(ISBLANK('Data Input'!A214),\"\",SUM('Data Input'!AW214))","v":""},{"$f":"IF(Q210=\"\",\"\",Q210/COUNTIF('Data Input'!$C$8:$AZ$8,$Q$2))","v":""},{"$f":"IF(ISBLANK('Data Input'!$A214),\"\",SUM('Data Input'!Q214,'Data Input'!AT214,'Data Input'!AU214))","v":""},{"$f":"IF(S210=\"\",\"\",S210/COUNTIF('Data Input'!$C$8:$AZ$8,$S$2))","v":""},{"$f":"IF(ISBLANK('Data Input'!$A214),\"\",SUM('Data Input'!AX214))","v":""},{"$f":"IF(U210=\"\",\"\",U210/COUNTIF('Data Input'!$C$8:$AZ$8,$U$2))","v":""}]
[{"$f":"IF('Data Input'!A215=0,\"\",'Data Input'!A215)","v":""},{"$f":"IF(ISBLANK('Data Input'!A215),\"\",COUNTIF('Data Input'!C215:AZ215,\"\"))","v":""},{"$f":"IF(ISBLANK('Data Input'!A215),\"\",COUNTIF('Data Input'!C215:AZ215,\"0\"))","v":""},{"$f":"IF(ISBLANK('Data Input'!A215),\"\",SUM(B211,C211))","v":""},{"$f":"IF(ISBLANK('Data Input'!A215),\"\",SUM('Data Input'!C215:AZ215))","v":""},{"$f":"IF(E211=\"\",\"\",E211/(COUNTA('Data Input'!$C$8:$AZ$8)))","v":""},{"$f":"IF(ISBLANK('Data Input'!A215),\"\",SUM('Data Input'!R215,'Data Input'!AA215,'Data Input'!AB215,'Data Input'!AC215,'Data Input'!AE215,'Data Input'!AH215,'Data Input'!AQ215,'Data Input'!AR215))","v":""},{"$f":"IF(G211=\"\",\"\",G211/COUNTIF('Data Input'!$C$8:$AZ$8,$G$2))","v":""},{"$f":"IF(ISBLANK('Data Input'!A215),\"\",SUM('Data Input'!D215,'Data Input'!E215,'Data Input'!F215,'Data Input'!G215,'Data Input'!H215,'Data Input'!J215,'Data Input'!K215,'Data Input'!O215,'Data Input'!U215,'Data Input'!V215,'Data Input'!W215,'Data Input'!X215,'Data Input'!Z215,'Data Input'!AG215,'Data Input'!AI215,'Data Input'!AJ215,'Data Input'!AK215))","v":""},{"$f":"IF(I211=\"\",\"\",I211/COUNTIF('Data Input'!$C$8:$AZ$8,$I$2))","v":""},{"$f":"IF(ISBLANK('Data Input'!A215),\"\",SUM('Data Input'!AF215,'Data Input'!AV215))","v":""},{"$f":"IF(K211=\"\",\"\",K211/COUNTIF('Data Input'!$C$8:$AZ$8,$K$2))","v":""},{"$f":"IF(ISBLANK('Data Input'!A215),\"\",SUM('Data Input'!C215,'Data Input'!I215,'Data Input'!L215,'Data Input'!M215,'Data Input'!N215,'Data Input'!P215,'Data Input'!S215,'Data Input'!T215,'Data Input'!Y215,'Data Input'!AD215,'Data Input'!AL215,'Data Input'!AM215,'Data Input'!AN215,'Data Input'!AO215,'Data Input'!AP215,'Data Input'!AS215))","v":""},{"$f":"IF(M211=\"\",\"\",M211/COUNTIF('Data Input'!$C$8:$AZ$8,$M$2))","v":""},{"$f":"IF(ISBLANK('Data Input'!A215),\"\",SUM('Data Input'!AY215,'Data Input'!AZ215))","v":""},{"$f":"IF(O211=\"\",\"\",O211/COUNTIF('Data Input'!$C$8:$AZ$8,$O$2))","v":""},{"$f":"IF(ISBLANK('Data Input'!A215),\"\",SUM('Data Input'!AW215))","v":""},{"$f":"IF(Q211=\"\",\"\",Q211/COUNTIF('Data Input'!$C$8:$AZ$8,$Q$2))","v":""},{"$f":"IF(ISBLANK('Data Input'!$A215),\"\",SUM('Data Input'!Q215,'Data Input'!AT215,'Data Input'!AU215))","v":""},{"$f":"IF(S211=\"\",\"\",S211/COUNTIF('Data Input'!$C$8:$AZ$8,$S$2))","v":""},{"$f":"IF(ISBLANK('Data Input'!$A215),\"\",SUM('Data Input'!AX215))","v":""},{"$f":"IF(U211=\"\",\"\",U211/COUNTIF('Data Input'!$C$8:$AZ$8,$U$2))","v":""}]
[{"$f":"IF('Data Input'!A216=0,\"\",'Data Input'!A216)","v":""},{"$f":"IF(ISBLANK('Data Input'!A216),\"\",COUNTIF('Data Input'!C216:AZ216,\"\"))","v":""},{"$f":"IF(ISBLANK('Data Input'!A216),\"\",COUNTIF('Data Input'!C216:AZ216,\"0\"))","v":""},{"$f":"IF(ISBLANK('Data Input'!A216),\"\",SUM(B212,C212))","v":""},{"$f":"IF(ISBLANK('Data Input'!A216),\"\",SUM('Data Input'!C216:AZ216))","v":""},{"$f":"IF(E212=\"\",\"\",E212/(COUNTA('Data Input'!$C$8:$AZ$8)))","v":""},{"$f":"IF(ISBLANK('Data Input'!A216),\"\",SUM('Data Input'!R216,'Data Input'!AA216,'Data Input'!AB216,'Data Input'!AC216,'Data Input'!AE216,'Data Input'!AH216,'Data Input'!AQ216,'Data Input'!AR216))","v":""},{"$f":"IF(G212=\"\",\"\",G212/COUNTIF('Data Input'!$C$8:$AZ$8,$G$2))","v":""},{"$f":"IF(ISBLANK('Data Input'!A216),\"\",SUM('Data Input'!D216,'Data Input'!E216,'Data Input'!F216,'Data Input'!G216,'Data Input'!H216,'Data Input'!J216,'Data Input'!K216,'Data Input'!O216,'Data Input'!U216,'Data Input'!V216,'Data Input'!W216,'Data Input'!X216,'Data Input'!Z216,'Data Input'!AG216,'Data Input'!AI216,'Data Input'!AJ216,'Data Input'!AK216))","v":""},{"$f":"IF(I212=\"\",\"\",I212/COUNTIF('Data Input'!$C$8:$AZ$8,$I$2))","v":""},{"$f":"IF(ISBLANK('Data Input'!A216),\"\",SUM('Data Input'!AF216,'Data Input'!AV216))","v":""},{"$f":"IF(K212=\"\",\"\",K212/COUNTIF('Data Input'!$C$8:$AZ$8,$K$2))","v":""},{"$f":"IF(ISBLANK('Data Input'!A216),\"\",SUM('Data Input'!C216,'Data Input'!I216,'Data Input'!L216,'Data Input'!M216,'Data Input'!N216,'Data Input'!P216,'Data Input'!S216,'Data Input'!T216,'Data Input'!Y216,'Data Input'!AD216,'Data Input'!AL216,'Data Input'!AM216,'Data Input'!AN216,'Data Input'!AO216,'Data Input'!AP216,'Data Input'!AS216))","v":""},{"$f":"IF(M212=\"\",\"\",M212/COUNTIF('Data Input'!$C$8:$AZ$8,$M$2))","v":""},{"$f":"IF(ISBLANK('Data Input'!A216),\"\",SUM('Data Input'!AY216,'Data Input'!AZ216))","v":""},{"$f":"IF(O212=\"\",\"\",O212/COUNTIF('Data Input'!$C$8:$AZ$8,$O$2))","v":""},{"$f":"IF(ISBLANK('Data Input'!A216),\"\",SUM('Data Input'!AW216))","v":""},{"$f":"IF(Q212=\"\",\"\",Q212/COUNTIF('Data Input'!$C$8:$AZ$8,$Q$2))","v":""},{"$f":"IF(ISBLANK('Data Input'!$A216),\"\",SUM('Data Input'!Q216,'Data Input'!AT216,'Data Input'!AU216))","v":""},{"$f":"IF(S212=\"\",\"\",S212/COUNTIF('Data Input'!$C$8:$AZ$8,$S$2))","v":""},{"$f":"IF(ISBLANK('Data Input'!$A216),\"\",SUM('Data Input'!AX216))","v":""},{"$f":"IF(U212=\"\",\"\",U212/COUNTIF('Data Input'!$C$8:$AZ$8,$U$2))","v":""}]
[{"$f":"IF('Data Input'!A217=0,\"\",'Data Input'!A217)","v":""},{"$f":"IF(ISBLANK('Data Input'!A217),\"\",COUNTIF('Data Input'!C217:AZ217,\"\"))","v":""},{"$f":"IF(ISBLANK('Data Input'!A217),\"\",COUNTIF('Data Input'!C217:AZ217,\"0\"))","v":""},{"$f":"IF(ISBLANK('Data Input'!A217),\"\",SUM(B213,C213))","v":""},{"$f":"IF(ISBLANK('Data Input'!A217),\"\",SUM('Data Input'!C217:AZ217))","v":""},{"$f":"IF(E213=\"\",\"\",E213/(COUNTA('Data Input'!$C$8:$AZ$8)))","v":""},{"$f":"IF(ISBLANK('Data Input'!A217),\"\",SUM('Data Input'!R217,'Data Input'!AA217,'Data Input'!AB217,'Data Input'!AC217,'Data Input'!AE217,'Data Input'!AH217,'Data Input'!AQ217,'Data Input'!AR217))","v":""},{"$f":"IF(G213=\"\",\"\",G213/COUNTIF('Data Input'!$C$8:$AZ$8,$G$2))","v":""},{"$f":"IF(ISBLANK('Data Input'!A217),\"\",SUM('Data Input'!D217,'Data Input'!E217,'Data Input'!F217,'Data Input'!G217,'Data Input'!H217,'Data Input'!J217,'Data Input'!K217,'Data Input'!O217,'Data Input'!U217,'Data Input'!V217,'Data Input'!W217,'Data Input'!X217,'Data Input'!Z217,'Data Input'!AG217,'Data Input'!AI217,'Data Input'!AJ217,'Data Input'!AK217))","v":""},{"$f":"IF(I213=\"\",\"\",I213/COUNTIF('Data Input'!$C$8:$AZ$8,$I$2))","v":""},{"$f":"IF(ISBLANK('Data Input'!A217),\"\",SUM('Data Input'!AF217,'Data Input'!AV217))","v":""},{"$f":"IF(K213=\"\",\"\",K213/COUNTIF('Data Input'!$C$8:$AZ$8,$K$2))","v":""},{"$f":"IF(ISBLANK('Data Input'!A217),\"\",SUM('Data Input'!C217,'Data Input'!I217,'Data Input'!L217,'Data Input'!M217,'Data Input'!N217,'Data Input'!P217,'Data Input'!S217,'Data Input'!T217,'Data Input'!Y217,'Data Input'!AD217,'Data Input'!AL217,'Data Input'!AM217,'Data Input'!AN217,'Data Input'!AO217,'Data Input'!AP217,'Data Input'!AS217))","v":""},{"$f":"IF(M213=\"\",\"\",M213/COUNTIF('Data Input'!$C$8:$AZ$8,$M$2))","v":""},{"$f":"IF(ISBLANK('Data Input'!A217),\"\",SUM('Data Input'!AY217,'Data Input'!AZ217))","v":""},{"$f":"IF(O213=\"\",\"\",O213/COUNTIF('Data Input'!$C$8:$AZ$8,$O$2))","v":""},{"$f":"IF(ISBLANK('Data Input'!A217),\"\",SUM('Data Input'!AW217))","v":""},{"$f":"IF(Q213=\"\",\"\",Q213/COUNTIF('Data Input'!$C$8:$AZ$8,$Q$2))","v":""},{"$f":"IF(ISBLANK('Data Input'!$A217),\"\",SUM('Data Input'!Q217,'Data Input'!AT217,'Data Input'!AU217))","v":""},{"$f":"IF(S213=\"\",\"\",S213/COUNTIF('Data Input'!$C$8:$AZ$8,$S$2))","v":""},{"$f":"IF(ISBLANK('Data Input'!$A217),\"\",SUM('Data Input'!AX217))","v":""},{"$f":"IF(U213=\"\",\"\",U213/COUNTIF('Data Input'!$C$8:$AZ$8,$U$2))","v":""}]
[{"$f":"IF('Data Input'!A218=0,\"\",'Data Input'!A218)","v":""},{"$f":"IF(ISBLANK('Data Input'!A218),\"\",COUNTIF('Data Input'!C218:AZ218,\"\"))","v":""},{"$f":"IF(ISBLANK('Data Input'!A218),\"\",COUNTIF('Data Input'!C218:AZ218,\"0\"))","v":""},{"$f":"IF(ISBLANK('Data Input'!A218),\"\",SUM(B214,C214))","v":""},{"$f":"IF(ISBLANK('Data Input'!A218),\"\",SUM('Data Input'!C218:AZ218))","v":""},{"$f":"IF(E214=\"\",\"\",E214/(COUNTA('Data Input'!$C$8:$AZ$8)))","v":""},{"$f":"IF(ISBLANK('Data Input'!A218),\"\",SUM('Data Input'!R218,'Data Input'!AA218,'Data Input'!AB218,'Data Input'!AC218,'Data Input'!AE218,'Data Input'!AH218,'Data Input'!AQ218,'Data Input'!AR218))","v":""},{"$f":"IF(G214=\"\",\"\",G214/COUNTIF('Data Input'!$C$8:$AZ$8,$G$2))","v":""},{"$f":"IF(ISBLANK('Data Input'!A218),\"\",SUM('Data Input'!D218,'Data Input'!E218,'Data Input'!F218,'Data Input'!G218,'Data Input'!H218,'Data Input'!J218,'Data Input'!K218,'Data Input'!O218,'Data Input'!U218,'Data Input'!V218,'Data Input'!W218,'Data Input'!X218,'Data Input'!Z218,'Data Input'!AG218,'Data Input'!AI218,'Data Input'!AJ218,'Data Input'!AK218))","v":""},{"$f":"IF(I214=\"\",\"\",I214/COUNTIF('Data Input'!$C$8:$AZ$8,$I$2))","v":""},{"$f":"IF(ISBLANK('Data Input'!A218),\"\",SUM('Data Input'!AF218,'Data Input'!AV218))","v":""},{"$f":"IF(K214=\"\",\"\",K214/COUNTIF('Data Input'!$C$8:$AZ$8,$K$2))","v":""},{"$f":"IF(ISBLANK('Data Input'!A218),\"\",SUM('Data Input'!C218,'Data Input'!I218,'Data Input'!L218,'Data Input'!M218,'Data Input'!N218,'Data Input'!P218,'Data Input'!S218,'Data Input'!T218,'Data Input'!Y218,'Data Input'!AD218,'Data Input'!AL218,'Data Input'!AM218,'Data Input'!AN218,'Data Input'!AO218,'Data Input'!AP218,'Data Input'!AS218))","v":""},{"$f":"IF(M214=\"\",\"\",M214/COUNTIF('Data Input'!$C$8:$AZ$8,$M$2))","v":""},{"$f":"IF(ISBLANK('Data Input'!A218),\"\",SUM('Data Input'!AY218,'Data Input'!AZ218))","v":""},{"$f":"IF(O214=\"\",\"\",O214/COUNTIF('Data Input'!$C$8:$AZ$8,$O$2))","v":""},{"$f":"IF(ISBLANK('Data Input'!A218),\"\",SUM('Data Input'!AW218))","v":""},{"$f":"IF(Q214=\"\",\"\",Q214/COUNTIF('Data Input'!$C$8:$AZ$8,$Q$2))","v":""},{"$f":"IF(ISBLANK('Data Input'!$A218),\"\",SUM('Data Input'!Q218,'Data Input'!AT218,'Data Input'!AU218))","v":""},{"$f":"IF(S214=\"\",\"\",S214/COUNTIF('Data Input'!$C$8:$AZ$8,$S$2))","v":""},{"$f":"IF(ISBLANK('Data Input'!$A218),\"\",SUM('Data Input'!AX218))","v":""},{"$f":"IF(U214=\"\",\"\",U214/COUNTIF('Data Input'!$C$8:$AZ$8,$U$2))","v":""}]
[{"$f":"IF('Data Input'!A219=0,\"\",'Data Input'!A219)","v":""},{"$f":"IF(ISBLANK('Data Input'!A219),\"\",COUNTIF('Data Input'!C219:AZ219,\"\"))","v":""},{"$f":"IF(ISBLANK('Data Input'!A219),\"\",COUNTIF('Data Input'!C219:AZ219,\"0\"))","v":""},{"$f":"IF(ISBLANK('Data Input'!A219),\"\",SUM(B215,C215))","v":""},{"$f":"IF(ISBLANK('Data Input'!A219),\"\",SUM('Data Input'!C219:AZ219))","v":""},{"$f":"IF(E215=\"\",\"\",E215/(COUNTA('Data Input'!$C$8:$AZ$8)))","v":""},{"$f":"IF(ISBLANK('Data Input'!A219),\"\",SUM('Data Input'!R219,'Data Input'!AA219,'Data Input'!AB219,'Data Input'!AC219,'Data Input'!AE219,'Data Input'!AH219,'Data Input'!AQ219,'Data Input'!AR219))","v":""},{"$f":"IF(G215=\"\",\"\",G215/COUNTIF('Data Input'!$C$8:$AZ$8,$G$2))","v":""},{"$f":"IF(ISBLANK('Data Input'!A219),\"\",SUM('Data Input'!D219,'Data Input'!E219,'Data Input'!F219,'Data Input'!G219,'Data Input'!H219,'Data Input'!J219,'Data Input'!K219,'Data Input'!O219,'Data Input'!U219,'Data Input'!V219,'Data Input'!W219,'Data Input'!X219,'Data Input'!Z219,'Data Input'!AG219,'Data Input'!AI219,'Data Input'!AJ219,'Data Input'!AK219))","v":""},{"$f":"IF(I215=\"\",\"\",I215/COUNTIF('Data Input'!$C$8:$AZ$8,$I$2))","v":""},{"$f":"IF(ISBLANK('Data Input'!A219),\"\",SUM('Data Input'!AF219,'Data Input'!AV219))","v":""},{"$f":"IF(K215=\"\",\"\",K215/COUNTIF('Data Input'!$C$8:$AZ$8,$K$2))","v":""},{"$f":"IF(ISBLANK('Data Input'!A219),\"\",SUM('Data Input'!C219,'Data Input'!I219,'Data Input'!L219,'Data Input'!M219,'Data Input'!N219,'Data Input'!P219,'Data Input'!S219,'Data Input'!T219,'Data Input'!Y219,'Data Input'!AD219,'Data Input'!AL219,'Data Input'!AM219,'Data Input'!AN219,'Data Input'!AO219,'Data Input'!AP219,'Data Input'!AS219))","v":""},{"$f":"IF(M215=\"\",\"\",M215/COUNTIF('Data Input'!$C$8:$AZ$8,$M$2))","v":""},{"$f":"IF(ISBLANK('Data Input'!A219),\"\",SUM('Data Input'!AY219,'Data Input'!AZ219))","v":""},{"$f":"IF(O215=\"\",\"\",O215/COUNTIF('Data Input'!$C$8:$AZ$8,$O$2))","v":""},{"$f":"IF(ISBLANK('Data Input'!A219),\"\",SUM('Data Input'!AW219))","v":""},{"$f":"IF(Q215=\"\",\"\",Q215/COUNTIF('Data Input'!$C$8:$AZ$8,$Q$2))","v":""},{"$f":"IF(ISBLANK('Data Input'!$A219),\"\",SUM('Data Input'!Q219,'Data Input'!AT219,'Data Input'!AU219))","v":""},{"$f":"IF(S215=\"\",\"\",S215/COUNTIF('Data Input'!$C$8:$AZ$8,$S$2))","v":""},{"$f":"IF(ISBLANK('Data Input'!$A219),\"\",SUM('Data Input'!AX219))","v":""},{"$f":"IF(U215=\"\",\"\",U215/COUNTIF('Data Input'!$C$8:$AZ$8,$U$2))","v":""}]
[{"$f":"IF('Data Input'!A220=0,\"\",'Data Input'!A220)","v":""},{"$f":"IF(ISBLANK('Data Input'!A220),\"\",COUNTIF('Data Input'!C220:AZ220,\"\"))","v":""},{"$f":"IF(ISBLANK('Data Input'!A220),\"\",COUNTIF('Data Input'!C220:AZ220,\"0\"))","v":""},{"$f":"IF(ISBLANK('Data Input'!A220),\"\",SUM(B216,C216))","v":""},{"$f":"IF(ISBLANK('Data Input'!A220),\"\",SUM('Data Input'!C220:AZ220))","v":""},{"$f":"IF(E216=\"\",\"\",E216/(COUNTA('Data Input'!$C$8:$AZ$8)))","v":""},{"$f":"IF(ISBLANK('Data Input'!A220),\"\",SUM('Data Input'!R220,'Data Input'!AA220,'Data Input'!AB220,'Data Input'!AC220,'Data Input'!AE220,'Data Input'!AH220,'Data Input'!AQ220,'Data Input'!AR220))","v":""},{"$f":"IF(G216=\"\",\"\",G216/COUNTIF('Data Input'!$C$8:$AZ$8,$G$2))","v":""},{"$f":"IF(ISBLANK('Data Input'!A220),\"\",SUM('Data Input'!D220,'Data Input'!E220,'Data Input'!F220,'Data Input'!G220,'Data Input'!H220,'Data Input'!J220,'Data Input'!K220,'Data Input'!O220,'Data Input'!U220,'Data Input'!V220,'Data Input'!W220,'Data Input'!X220,'Data Input'!Z220,'Data Input'!AG220,'Data Input'!AI220,'Data Input'!AJ220,'Data Input'!AK220))","v":""},{"$f":"IF(I216=\"\",\"\",I216/COUNTIF('Data Input'!$C$8:$AZ$8,$I$2))","v":""},{"$f":"IF(ISBLANK('Data Input'!A220),\"\",SUM('Data Input'!AF220,'Data Input'!AV220))","v":""},{"$f":"IF(K216=\"\",\"\",K216/COUNTIF('Data Input'!$C$8:$AZ$8,$K$2))","v":""},{"$f":"IF(ISBLANK('Data Input'!A220),\"\",SUM('Data Input'!C220,'Data Input'!I220,'Data Input'!L220,'Data Input'!M220,'Data Input'!N220,'Data Input'!P220,'Data Input'!S220,'Data Input'!T220,'Data Input'!Y220,'Data Input'!AD220,'Data Input'!AL220,'Data Input'!AM220,'Data Input'!AN220,'Data Input'!AO220,'Data Input'!AP220,'Data Input'!AS220))","v":""},{"$f":"IF(M216=\"\",\"\",M216/COUNTIF('Data Input'!$C$8:$AZ$8,$M$2))","v":""},{"$f":"IF(ISBLANK('Data Input'!A220),\"\",SUM('Data Input'!AY220,'Data Input'!AZ220))","v":""},{"$f":"IF(O216=\"\",\"\",O216/COUNTIF('Data Input'!$C$8:$AZ$8,$O$2))","v":""},{"$f":"IF(ISBLANK('Data Input'!A220),\"\",SUM('Data Input'!AW220))","v":""},{"$f":"IF(Q216=\"\",\"\",Q216/COUNTIF('Data Input'!$C$8:$AZ$8,$Q$2))","v":""},{"$f":"IF(ISBLANK('Data Input'!$A220),\"\",SUM('Data Input'!Q220,'Data Input'!AT220,'Data Input'!AU220))","v":""},{"$f":"IF(S216=\"\",\"\",S216/COUNTIF('Data Input'!$C$8:$AZ$8,$S$2))","v":""},{"$f":"IF(ISBLANK('Data Input'!$A220),\"\",SUM('Data Input'!AX220))","v":""},{"$f":"IF(U216=\"\",\"\",U216/COUNTIF('Data Input'!$C$8:$AZ$8,$U$2))","v":""}]
[{"$f":"IF('Data Input'!A221=0,\"\",'Data Input'!A221)","v":""},{"$f":"IF(ISBLANK('Data Input'!A221),\"\",COUNTIF('Data Input'!C221:AZ221,\"\"))","v":""},{"$f":"IF(ISBLANK('Data Input'!A221),\"\",COUNTIF('Data Input'!C221:AZ221,\"0\"))","v":""},{"$f":"IF(ISBLANK('Data Input'!A221),\"\",SUM(B217,C217))","v":""},{"$f":"IF(ISBLANK('Data Input'!A221),\"\",SUM('Data Input'!C221:AZ221))","v":""},{"$f":"IF(E217=\"\",\"\",E217/(COUNTA('Data Input'!$C$8:$AZ$8)))","v":""},{"$f":"IF(ISBLANK('Data Input'!A221),\"\",SUM('Data Input'!R221,'Data Input'!AA221,'Data Input'!AB221,'Data Input'!AC221,'Data Input'!AE221,'Data Input'!AH221,'Data Input'!AQ221,'Data Input'!AR221))","v":""},{"$f":"IF(G217=\"\",\"\",G217/COUNTIF('Data Input'!$C$8:$AZ$8,$G$2))","v":""},{"$f":"IF(ISBLANK('Data Input'!A221),\"\",SUM('Data Input'!D221,'Data Input'!E221,'Data Input'!F221,'Data Input'!G221,'Data Input'!H221,'Data Input'!J221,'Data Input'!K221,'Data Input'!O221,'Data Input'!U221,'Data Input'!V221,'Data Input'!W221,'Data Input'!X221,'Data Input'!Z221,'Data Input'!AG221,'Data Input'!AI221,'Data Input'!AJ221,'Data Input'!AK221))","v":""},{"$f":"IF(I217=\"\",\"\",I217/COUNTIF('Data Input'!$C$8:$AZ$8,$I$2))","v":""},{"$f":"IF(ISBLANK('Data Input'!A221),\"\",SUM('Data Input'!AF221,'Data Input'!AV221))","v":""},{"$f":"IF(K217=\"\",\"\",K217/COUNTIF('Data Input'!$C$8:$AZ$8,$K$2))","v":""},{"$f":"IF(ISBLANK('Data Input'!A221),\"\",SUM('Data Input'!C221,'Data Input'!I221,'Data Input'!L221,'Data Input'!M221,'Data Input'!N221,'Data Input'!P221,'Data Input'!S221,'Data Input'!T221,'Data Input'!Y221,'Data Input'!AD221,'Data Input'!AL221,'Data Input'!AM221,'Data Input'!AN221,'Data Input'!AO221,'Data Input'!AP221,'Data Input'!AS221))","v":""},{"$f":"IF(M217=\"\",\"\",M217/COUNTIF('Data Input'!$C$8:$AZ$8,$M$2))","v":""},{"$f":"IF(ISBLANK('Data Input'!A221),\"\",SUM('Data Input'!AY221,'Data Input'!AZ221))","v":""},{"$f":"IF(O217=\"\",\"\",O217/COUNTIF('Data Input'!$C$8:$AZ$8,$O$2))","v":""},{"$f":"IF(ISBLANK('Data Input'!A221),\"\",SUM('Data Input'!AW221))","v":""},{"$f":"IF(Q217=\"\",\"\",Q217/COUNTIF('Data Input'!$C$8:$AZ$8,$Q$2))","v":""},{"$f":"IF(ISBLANK('Data Input'!$A221),\"\",SUM('Data Input'!Q221,'Data Input'!AT221,'Data Input'!AU221))","v":""},{"$f":"IF(S217=\"\",\"\",S217/COUNTIF('Data Input'!$C$8:$AZ$8,$S$2))","v":""},{"$f":"IF(ISBLANK('Data Input'!$A221),\"\",SUM('Data Input'!AX221))","v":""},{"$f":"IF(U217=\"\",\"\",U217/COUNTIF('Data Input'!$C$8:$AZ$8,$U$2))","v":""}]
[{"$f":"IF('Data Input'!A222=0,\"\",'Data Input'!A222)","v":""},{"$f":"IF(ISBLANK('Data Input'!A222),\"\",COUNTIF('Data Input'!C222:AZ222,\"\"))","v":""},{"$f":"IF(ISBLANK('Data Input'!A222),\"\",COUNTIF('Data Input'!C222:AZ222,\"0\"))","v":""},{"$f":"IF(ISBLANK('Data Input'!A222),\"\",SUM(B218,C218))","v":""},{"$f":"IF(ISBLANK('Data Input'!A222),\"\",SUM('Data Input'!C222:AZ222))","v":""},{"$f":"IF(E218=\"\",\"\",E218/(COUNTA('Data Input'!$C$8:$AZ$8)))","v":""},{"$f":"IF(ISBLANK('Data Input'!A222),\"\",SUM('Data Input'!R222,'Data Input'!AA222,'Data Input'!AB222,'Data Input'!AC222,'Data Input'!AE222,'Data Input'!AH222,'Data Input'!AQ222,'Data Input'!AR222))","v":""},{"$f":"IF(G218=\"\",\"\",G218/COUNTIF('Data Input'!$C$8:$AZ$8,$G$2))","v":""},{"$f":"IF(ISBLANK('Data Input'!A222),\"\",SUM('Data Input'!D222,'Data Input'!E222,'Data Input'!F222,'Data Input'!G222,'Data Input'!H222,'Data Input'!J222,'Data Input'!K222,'Data Input'!O222,'Data Input'!U222,'Data Input'!V222,'Data Input'!W222,'Data Input'!X222,'Data Input'!Z222,'Data Input'!AG222,'Data Input'!AI222,'Data Input'!AJ222,'Data Input'!AK222))","v":""},{"$f":"IF(I218=\"\",\"\",I218/COUNTIF('Data Input'!$C$8:$AZ$8,$I$2))","v":""},{"$f":"IF(ISBLANK('Data Input'!A222),\"\",SUM('Data Input'!AF222,'Data Input'!AV222))","v":""},{"$f":"IF(K218=\"\",\"\",K218/COUNTIF('Data Input'!$C$8:$AZ$8,$K$2))","v":""},{"$f":"IF(ISBLANK('Data Input'!A222),\"\",SUM('Data Input'!C222,'Data Input'!I222,'Data Input'!L222,'Data Input'!M222,'Data Input'!N222,'Data Input'!P222,'Data Input'!S222,'Data Input'!T222,'Data Input'!Y222,'Data Input'!AD222,'Data Input'!AL222,'Data Input'!AM222,'Data Input'!AN222,'Data Input'!AO222,'Data Input'!AP222,'Data Input'!AS222))","v":""},{"$f":"IF(M218=\"\",\"\",M218/COUNTIF('Data Input'!$C$8:$AZ$8,$M$2))","v":""},{"$f":"IF(ISBLANK('Data Input'!A222),\"\",SUM('Data Input'!AY222,'Data Input'!AZ222))","v":""},{"$f":"IF(O218=\"\",\"\",O218/COUNTIF('Data Input'!$C$8:$AZ$8,$O$2))","v":""},{"$f":"IF(ISBLANK('Data Input'!A222),\"\",SUM('Data Input'!AW222))","v":""},{"$f":"IF(Q218=\"\",\"\",Q218/COUNTIF('Data Input'!$C$8:$AZ$8,$Q$2))","v":""},{"$f":"IF(ISBLANK('Data Input'!$A222),\"\",SUM('Data Input'!Q222,'Data Input'!AT222,'Data Input'!AU222))","v":""},{"$f":"IF(S218=\"\",\"\",S218/COUNTIF('Data Input'!$C$8:$AZ$8,$S$2))","v":""},{"$f":"IF(ISBLANK('Data Input'!$A222),\"\",SUM('Data Input'!AX222))","v":""},{"$f":"IF(U218=\"\",\"\",U218/COUNTIF('Data Input'!$C$8:$AZ$8,$U$2))","v":""}]
[{"$f":"IF('Data Input'!A223=0,\"\",'Data Input'!A223)","v":""},{"$f":"IF(ISBLANK('Data Input'!A223),\"\",COUNTIF('Data Input'!C223:AZ223,\"\"))","v":""},{"$f":"IF(ISBLANK('Data Input'!A223),\"\",COUNTIF('Data Input'!C223:AZ223,\"0\"))","v":""},{"$f":"IF(ISBLANK('Data Input'!A223),\"\",SUM(B219,C219))","v":""},{"$f":"IF(ISBLANK('Data Input'!A223),\"\",SUM('Data Input'!C223:AZ223))","v":""},{"$f":"IF(E219=\"\",\"\",E219/(COUNTA('Data Input'!$C$8:$AZ$8)))","v":""},{"$f":"IF(ISBLANK('Data Input'!A223),\"\",SUM('Data Input'!R223,'Data Input'!AA223,'Data Input'!AB223,'Data Input'!AC223,'Data Input'!AE223,'Data Input'!AH223,'Data Input'!AQ223,'Data Input'!AR223))","v":""},{"$f":"IF(G219=\"\",\"\",G219/COUNTIF('Data Input'!$C$8:$AZ$8,$G$2))","v":""},{"$f":"IF(ISBLANK('Data Input'!A223),\"\",SUM('Data Input'!D223,'Data Input'!E223,'Data Input'!F223,'Data Input'!G223,'Data Input'!H223,'Data Input'!J223,'Data Input'!K223,'Data Input'!O223,'Data Input'!U223,'Data Input'!V223,'Data Input'!W223,'Data Input'!X223,'Data Input'!Z223,'Data Input'!AG223,'Data Input'!AI223,'Data Input'!AJ223,'Data Input'!AK223))","v":""},{"$f":"IF(I219=\"\",\"\",I219/COUNTIF('Data Input'!$C$8:$AZ$8,$I$2))","v":""},{"$f":"IF(ISBLANK('Data Input'!A223),\"\",SUM('Data Input'!AF223,'Data Input'!AV223))","v":""},{"$f":"IF(K219=\"\",\"\",K219/COUNTIF('Data Input'!$C$8:$AZ$8,$K$2))","v":""},{"$f":"IF(ISBLANK('Data Input'!A223),\"\",SUM('Data Input'!C223,'Data Input'!I223,'Data Input'!L223,'Data Input'!M223,'Data Input'!N223,'Data Input'!P223,'Data Input'!S223,'Data Input'!T223,'Data Input'!Y223,'Data Input'!AD223,'Data Input'!AL223,'Data Input'!AM223,'Data Input'!AN223,'Data Input'!AO223,'Data Input'!AP223,'Data Input'!AS223))","v":""},{"$f":"IF(M219=\"\",\"\",M219/COUNTIF('Data Input'!$C$8:$AZ$8,$M$2))","v":""},{"$f":"IF(ISBLANK('Data Input'!A223),\"\",SUM('Data Input'!AY223,'Data Input'!AZ223))","v":""},{"$f":"IF(O219=\"\",\"\",O219/COUNTIF('Data Input'!$C$8:$AZ$8,$O$2))","v":""},{"$f":"IF(ISBLANK('Data Input'!A223),\"\",SUM('Data Input'!AW223))","v":""},{"$f":"IF(Q219=\"\",\"\",Q219/COUNTIF('Data Input'!$C$8:$AZ$8,$Q$2))","v":""},{"$f":"IF(ISBLANK('Data Input'!$A223),\"\",SUM('Data Input'!Q223,'Data Input'!AT223,'Data Input'!AU223))","v":""},{"$f":"IF(S219=\"\",\"\",S219/COUNTIF('Data Input'!$C$8:$AZ$8,$S$2))","v":""},{"$f":"IF(ISBLANK('Data Input'!$A223),\"\",SUM('Data Input'!AX223))","v":""},{"$f":"IF(U219=\"\",\"\",U219/COUNTIF('Data Input'!$C$8:$AZ$8,$U$2))","v":""}]
[{"$f":"IF('Data Input'!A224=0,\"\",'Data Input'!A224)","v":""},{"$f":"IF(ISBLANK('Data Input'!A224),\"\",COUNTIF('Data Input'!C224:AZ224,\"\"))","v":""},{"$f":"IF(ISBLANK('Data Input'!A224),\"\",COUNTIF('Data Input'!C224:AZ224,\"0\"))","v":""},{"$f":"IF(ISBLANK('Data Input'!A224),\"\",SUM(B220,C220))","v":""},{"$f":"IF(ISBLANK('Data Input'!A224),\"\",SUM('Data Input'!C224:AZ224))","v":""},{"$f":"IF(E220=\"\",\"\",E220/(COUNTA('Data Input'!$C$8:$AZ$8)))","v":""},{"$f":"IF(ISBLANK('Data Input'!A224),\"\",SUM('Data Input'!R224,'Data Input'!AA224,'Data Input'!AB224,'Data Input'!AC224,'Data Input'!AE224,'Data Input'!AH224,'Data Input'!AQ224,'Data Input'!AR224))","v":""},{"$f":"IF(G220=\"\",\"\",G220/COUNTIF('Data Input'!$C$8:$AZ$8,$G$2))","v":""},{"$f":"IF(ISBLANK('Data Input'!A224),\"\",SUM('Data Input'!D224,'Data Input'!E224,'Data Input'!F224,'Data Input'!G224,'Data Input'!H224,'Data Input'!J224,'Data Input'!K224,'Data Input'!O224,'Data Input'!U224,'Data Input'!V224,'Data Input'!W224,'Data Input'!X224,'Data Input'!Z224,'Data Input'!AG224,'Data Input'!AI224,'Data Input'!AJ224,'Data Input'!AK224))","v":""},{"$f":"IF(I220=\"\",\"\",I220/COUNTIF('Data Input'!$C$8:$AZ$8,$I$2))","v":""},{"$f":"IF(ISBLANK('Data Input'!A224),\"\",SUM('Data Input'!AF224,'Data Input'!AV224))","v":""},{"$f":"IF(K220=\"\",\"\",K220/COUNTIF('Data Input'!$C$8:$AZ$8,$K$2))","v":""},{"$f":"IF(ISBLANK('Data Input'!A224),\"\",SUM('Data Input'!C224,'Data Input'!I224,'Data Input'!L224,'Data Input'!M224,'Data Input'!N224,'Data Input'!P224,'Data Input'!S224,'Data Input'!T224,'Data Input'!Y224,'Data Input'!AD224,'Data Input'!AL224,'Data Input'!AM224,'Data Input'!AN224,'Data Input'!AO224,'Data Input'!AP224,'Data Input'!AS224))","v":""},{"$f":"IF(M220=\"\",\"\",M220/COUNTIF('Data Input'!$C$8:$AZ$8,$M$2))","v":""},{"$f":"IF(ISBLANK('Data Input'!A224),\"\",SUM('Data Input'!AY224,'Data Input'!AZ224))","v":""},{"$f":"IF(O220=\"\",\"\",O220/COUNTIF('Data Input'!$C$8:$AZ$8,$O$2))","v":""},{"$f":"IF(ISBLANK('Data Input'!A224),\"\",SUM('Data Input'!AW224))","v":""},{"$f":"IF(Q220=\"\",\"\",Q220/COUNTIF('Data Input'!$C$8:$AZ$8,$Q$2))","v":""},{"$f":"IF(ISBLANK('Data Input'!$A224),\"\",SUM('Data Input'!Q224,'Data Input'!AT224,'Data Input'!AU224))","v":""},{"$f":"IF(S220=\"\",\"\",S220/COUNTIF('Data Input'!$C$8:$AZ$8,$S$2))","v":""},{"$f":"IF(ISBLANK('Data Input'!$A224),\"\",SUM('Data Input'!AX224))","v":""},{"$f":"IF(U220=\"\",\"\",U220/COUNTIF('Data Input'!$C$8:$AZ$8,$U$2))","v":""}]
[{"$f":"IF('Data Input'!A225=0,\"\",'Data Input'!A225)","v":""},{"$f":"IF(ISBLANK('Data Input'!A225),\"\",COUNTIF('Data Input'!C225:AZ225,\"\"))","v":""},{"$f":"IF(ISBLANK('Data Input'!A225),\"\",COUNTIF('Data Input'!C225:AZ225,\"0\"))","v":""},{"$f":"IF(ISBLANK('Data Input'!A225),\"\",SUM(B221,C221))","v":""},{"$f":"IF(ISBLANK('Data Input'!A225),\"\",SUM('Data Input'!C225:AZ225))","v":""},{"$f":"IF(E221=\"\",\"\",E221/(COUNTA('Data Input'!$C$8:$AZ$8)))","v":""},{"$f":"IF(ISBLANK('Data Input'!A225),\"\",SUM('Data Input'!R225,'Data Input'!AA225,'Data Input'!AB225,'Data Input'!AC225,'Data Input'!AE225,'Data Input'!AH225,'Data Input'!AQ225,'Data Input'!AR225))","v":""},{"$f":"IF(G221=\"\",\"\",G221/COUNTIF('Data Input'!$C$8:$AZ$8,$G$2))","v":""},{"$f":"IF(ISBLANK('Data Input'!A225),\"\",SUM('Data Input'!D225,'Data Input'!E225,'Data Input'!F225,'Data Input'!G225,'Data Input'!H225,'Data Input'!J225,'Data Input'!K225,'Data Input'!O225,'Data Input'!U225,'Data Input'!V225,'Data Input'!W225,'Data Input'!X225,'Data Input'!Z225,'Data Input'!AG225,'Data Input'!AI225,'Data Input'!AJ225,'Data Input'!AK225))","v":""},{"$f":"IF(I221=\"\",\"\",I221/COUNTIF('Data Input'!$C$8:$AZ$8,$I$2))","v":""},{"$f":"IF(ISBLANK('Data Input'!A225),\"\",SUM('Data Input'!AF225,'Data Input'!AV225))","v":""},{"$f":"IF(K221=\"\",\"\",K221/COUNTIF('Data Input'!$C$8:$AZ$8,$K$2))","v":""},{"$f":"IF(ISBLANK('Data Input'!A225),\"\",SUM('Data Input'!C225,'Data Input'!I225,'Data Input'!L225,'Data Input'!M225,'Data Input'!N225,'Data Input'!P225,'Data Input'!S225,'Data Input'!T225,'Data Input'!Y225,'Data Input'!AD225,'Data Input'!AL225,'Data Input'!AM225,'Data Input'!AN225,'Data Input'!AO225,'Data Input'!AP225,'Data Input'!AS225))","v":""},{"$f":"IF(M221=\"\",\"\",M221/COUNTIF('Data Input'!$C$8:$AZ$8,$M$2))","v":""},{"$f":"IF(ISBLANK('Data Input'!A225),\"\",SUM('Data Input'!AY225,'Data Input'!AZ225))","v":""},{"$f":"IF(O221=\"\",\"\",O221/COUNTIF('Data Input'!$C$8:$AZ$8,$O$2))","v":""},{"$f":"IF(ISBLANK('Data Input'!A225),\"\",SUM('Data Input'!AW225))","v":""},{"$f":"IF(Q221=\"\",\"\",Q221/COUNTIF('Data Input'!$C$8:$AZ$8,$Q$2))","v":""},{"$f":"IF(ISBLANK('Data Input'!$A225),\"\",SUM('Data Input'!Q225,'Data Input'!AT225,'Data Input'!AU225))","v":""},{"$f":"IF(S221=\"\",\"\",S221/COUNTIF('Data Input'!$C$8:$AZ$8,$S$2))","v":""},{"$f":"IF(ISBLANK('Data Input'!$A225),\"\",SUM('Data Input'!AX225))","v":""},{"$f":"IF(U221=\"\",\"\",U221/COUNTIF('Data Input'!$C$8:$AZ$8,$U$2))","v":""}]
[{"$f":"IF('Data Input'!A226=0,\"\",'Data Input'!A226)","v":""},{"$f":"IF(ISBLANK('Data Input'!A226),\"\",COUNTIF('Data Input'!C226:AZ226,\"\"))","v":""},{"$f":"IF(ISBLANK('Data Input'!A226),\"\",COUNTIF('Data Input'!C226:AZ226,\"0\"))","v":""},{"$f":"IF(ISBLANK('Data Input'!A226),\"\",SUM(B222,C222))","v":""},{"$f":"IF(ISBLANK('Data Input'!A226),\"\",SUM('Data Input'!C226:AZ226))","v":""},{"$f":"IF(E222=\"\",\"\",E222/(COUNTA('Data Input'!$C$8:$AZ$8)))","v":""},{"$f":"IF(ISBLANK('Data Input'!A226),\"\",SUM('Data Input'!R226,'Data Input'!AA226,'Data Input'!AB226,'Data Input'!AC226,'Data Input'!AE226,'Data Input'!AH226,'Data Input'!AQ226,'Data Input'!AR226))","v":""},{"$f":"IF(G222=\"\",\"\",G222/COUNTIF('Data Input'!$C$8:$AZ$8,$G$2))","v":""},{"$f":"IF(ISBLANK('Data Input'!A226),\"\",SUM('Data Input'!D226,'Data Input'!E226,'Data Input'!F226,'Data Input'!G226,'Data Input'!H226,'Data Input'!J226,'Data Input'!K226,'Data Input'!O226,'Data Input'!U226,'Data Input'!V226,'Data Input'!W226,'Data Input'!X226,'Data Input'!Z226,'Data Input'!AG226,'Data Input'!AI226,'Data Input'!AJ226,'Data Input'!AK226))","v":""},{"$f":"IF(I222=\"\",\"\",I222/COUNTIF('Data Input'!$C$8:$AZ$8,$I$2))","v":""},{"$f":"IF(ISBLANK('Data Input'!A226),\"\",SUM('Data Input'!AF226,'Data Input'!AV226))","v":""},{"$f":"IF(K222=\"\",\"\",K222/COUNTIF('Data Input'!$C$8:$AZ$8,$K$2))","v":""},{"$f":"IF(ISBLANK('Data Input'!A226),\"\",SUM('Data Input'!C226,'Data Input'!I226,'Data Input'!L226,'Data Input'!M226,'Data Input'!N226,'Data Input'!P226,'Data Input'!S226,'Data Input'!T226,'Data Input'!Y226,'Data Input'!AD226,'Data Input'!AL226,'Data Input'!AM226,'Data Input'!AN226,'Data Input'!AO226,'Data Input'!AP226,'Data Input'!AS226))","v":""},{"$f":"IF(M222=\"\",\"\",M222/COUNTIF('Data Input'!$C$8:$AZ$8,$M$2))","v":""},{"$f":"IF(ISBLANK('Data Input'!A226),\"\",SUM('Data Input'!AY226,'Data Input'!AZ226))","v":""},{"$f":"IF(O222=\"\",\"\",O222/COUNTIF('Data Input'!$C$8:$AZ$8,$O$2))","v":""},{"$f":"IF(ISBLANK('Data Input'!A226),\"\",SUM('Data Input'!AW226))","v":""},{"$f":"IF(Q222=\"\",\"\",Q222/COUNTIF('Data Input'!$C$8:$AZ$8,$Q$2))","v":""},{"$f":"IF(ISBLANK('Data Input'!$A226),\"\",SUM('Data Input'!Q226,'Data Input'!AT226,'Data Input'!AU226))","v":""},{"$f":"IF(S222=\"\",\"\",S222/COUNTIF('Data Input'!$C$8:$AZ$8,$S$2))","v":""},{"$f":"IF(ISBLANK('Data Input'!$A226),\"\",SUM('Data Input'!AX226))","v":""},{"$f":"IF(U222=\"\",\"\",U222/COUNTIF('Data Input'!$C$8:$AZ$8,$U$2))","v":""}]
[{"$f":"IF('Data Input'!A227=0,\"\",'Data Input'!A227)","v":""},{"$f":"IF(ISBLANK('Data Input'!A227),\"\",COUNTIF('Data Input'!C227:AZ227,\"\"))","v":""},{"$f":"IF(ISBLANK('Data Input'!A227),\"\",COUNTIF('Data Input'!C227:AZ227,\"0\"))","v":""},{"$f":"IF(ISBLANK('Data Input'!A227),\"\",SUM(B223,C223))","v":""},{"$f":"IF(ISBLANK('Data Input'!A227),\"\",SUM('Data Input'!C227:AZ227))","v":""},{"$f":"IF(E223=\"\",\"\",E223/(COUNTA('Data Input'!$C$8:$AZ$8)))","v":""},{"$f":"IF(ISBLANK('Data Input'!A227),\"\",SUM('Data Input'!R227,'Data Input'!AA227,'Data Input'!AB227,'Data Input'!AC227,'Data Input'!AE227,'Data Input'!AH227,'Data Input'!AQ227,'Data Input'!AR227))","v":""},{"$f":"IF(G223=\"\",\"\",G223/COUNTIF('Data Input'!$C$8:$AZ$8,$G$2))","v":""},{"$f":"IF(ISBLANK('Data Input'!A227),\"\",SUM('Data Input'!D227,'Data Input'!E227,'Data Input'!F227,'Data Input'!G227,'Data Input'!H227,'Data Input'!J227,'Data Input'!K227,'Data Input'!O227,'Data Input'!U227,'Data Input'!V227,'Data Input'!W227,'Data Input'!X227,'Data Input'!Z227,'Data Input'!AG227,'Data Input'!AI227,'Data Input'!AJ227,'Data Input'!AK227))","v":""},{"$f":"IF(I223=\"\",\"\",I223/COUNTIF('Data Input'!$C$8:$AZ$8,$I$2))","v":""},{"$f":"IF(ISBLANK('Data Input'!A227),\"\",SUM('Data Input'!AF227,'Data Input'!AV227))","v":""},{"$f":"IF(K223=\"\",\"\",K223/COUNTIF('Data Input'!$C$8:$AZ$8,$K$2))","v":""},{"$f":"IF(ISBLANK('Data Input'!A227),\"\",SUM('Data Input'!C227,'Data Input'!I227,'Data Input'!L227,'Data Input'!M227,'Data Input'!N227,'Data Input'!P227,'Data Input'!S227,'Data Input'!T227,'Data Input'!Y227,'Data Input'!AD227,'Data Input'!AL227,'Data Input'!AM227,'Data Input'!AN227,'Data Input'!AO227,'Data Input'!AP227,'Data Input'!AS227))","v":""},{"$f":"IF(M223=\"\",\"\",M223/COUNTIF('Data Input'!$C$8:$AZ$8,$M$2))","v":""},{"$f":"IF(ISBLANK('Data Input'!A227),\"\",SUM('Data Input'!AY227,'Data Input'!AZ227))","v":""},{"$f":"IF(O223=\"\",\"\",O223/COUNTIF('Data Input'!$C$8:$AZ$8,$O$2))","v":""},{"$f":"IF(ISBLANK('Data Input'!A227),\"\",SUM('Data Input'!AW227))","v":""},{"$f":"IF(Q223=\"\",\"\",Q223/COUNTIF('Data Input'!$C$8:$AZ$8,$Q$2))","v":""},{"$f":"IF(ISBLANK('Data Input'!$A227),\"\",SUM('Data Input'!Q227,'Data Input'!AT227,'Data Input'!AU227))","v":""},{"$f":"IF(S223=\"\",\"\",S223/COUNTIF('Data Input'!$C$8:$AZ$8,$S$2))","v":""},{"$f":"IF(ISBLANK('Data Input'!$A227),\"\",SUM('Data Input'!AX227))","v":""},{"$f":"IF(U223=\"\",\"\",U223/COUNTIF('Data Input'!$C$8:$AZ$8,$U$2))","v":""}]
[{"$f":"IF('Data Input'!A228=0,\"\",'Data Input'!A228)","v":""},{"$f":"IF(ISBLANK('Data Input'!A228),\"\",COUNTIF('Data Input'!C228:AZ228,\"\"))","v":""},{"$f":"IF(ISBLANK('Data Input'!A228),\"\",COUNTIF('Data Input'!C228:AZ228,\"0\"))","v":""},{"$f":"IF(ISBLANK('Data Input'!A228),\"\",SUM(B224,C224))","v":""},{"$f":"IF(ISBLANK('Data Input'!A228),\"\",SUM('Data Input'!C228:AZ228))","v":""},{"$f":"IF(E224=\"\",\"\",E224/(COUNTA('Data Input'!$C$8:$AZ$8)))","v":""},{"$f":"IF(ISBLANK('Data Input'!A228),\"\",SUM('Data Input'!R228,'Data Input'!AA228,'Data Input'!AB228,'Data Input'!AC228,'Data Input'!AE228,'Data Input'!AH228,'Data Input'!AQ228,'Data Input'!AR228))","v":""},{"$f":"IF(G224=\"\",\"\",G224/COUNTIF('Data Input'!$C$8:$AZ$8,$G$2))","v":""},{"$f":"IF(ISBLANK('Data Input'!A228),\"\",SUM('Data Input'!D228,'Data Input'!E228,'Data Input'!F228,'Data Input'!G228,'Data Input'!H228,'Data Input'!J228,'Data Input'!K228,'Data Input'!O228,'Data Input'!U228,'Data Input'!V228,'Data Input'!W228,'Data Input'!X228,'Data Input'!Z228,'Data Input'!AG228,'Data Input'!AI228,'Data Input'!AJ228,'Data Input'!AK228))","v":""},{"$f":"IF(I224=\"\",\"\",I224/COUNTIF('Data Input'!$C$8:$AZ$8,$I$2))","v":""},{"$f":"IF(ISBLANK('Data Input'!A228),\"\",SUM('Data Input'!AF228,'Data Input'!AV228))","v":""},{"$f":"IF(K224=\"\",\"\",K224/COUNTIF('Data Input'!$C$8:$AZ$8,$K$2))","v":""},{"$f":"IF(ISBLANK('Data Input'!A228),\"\",SUM('Data Input'!C228,'Data Input'!I228,'Data Input'!L228,'Data Input'!M228,'Data Input'!N228,'Data Input'!P228,'Data Input'!S228,'Data Input'!T228,'Data Input'!Y228,'Data Input'!AD228,'Data Input'!AL228,'Data Input'!AM228,'Data Input'!AN228,'Data Input'!AO228,'Data Input'!AP228,'Data Input'!AS228))","v":""},{"$f":"IF(M224=\"\",\"\",M224/COUNTIF('Data Input'!$C$8:$AZ$8,$M$2))","v":""},{"$f":"IF(ISBLANK('Data Input'!A228),\"\",SUM('Data Input'!AY228,'Data Input'!AZ228))","v":""},{"$f":"IF(O224=\"\",\"\",O224/COUNTIF('Data Input'!$C$8:$AZ$8,$O$2))","v":""},{"$f":"IF(ISBLANK('Data Input'!A228),\"\",SUM('Data Input'!AW228))","v":""},{"$f":"IF(Q224=\"\",\"\",Q224/COUNTIF('Data Input'!$C$8:$AZ$8,$Q$2))","v":""},{"$f":"IF(ISBLANK('Data Input'!$A228),\"\",SUM('Data Input'!Q228,'Data Input'!AT228,'Data Input'!AU228))","v":""},{"$f":"IF(S224=\"\",\"\",S224/COUNTIF('Data Input'!$C$8:$AZ$8,$S$2))","v":""},{"$f":"IF(ISBLANK('Data Input'!$A228),\"\",SUM('Data Input'!AX228))","v":""},{"$f":"IF(U224=\"\",\"\",U224/COUNTIF('Data Input'!$C$8:$AZ$8,$U$2))","v":""}]
[{"$f":"IF('Data Input'!A229=0,\"\",'Data Input'!A229)","v":""},{"$f":"IF(ISBLANK('Data Input'!A229),\"\",COUNTIF('Data Input'!C229:AZ229,\"\"))","v":""},{"$f":"IF(ISBLANK('Data Input'!A229),\"\",COUNTIF('Data Input'!C229:AZ229,\"0\"))","v":""},{"$f":"IF(ISBLANK('Data Input'!A229),\"\",SUM(B225,C225))","v":""},{"$f":"IF(ISBLANK('Data Input'!A229),\"\",SUM('Data Input'!C229:AZ229))","v":""},{"$f":"IF(E225=\"\",\"\",E225/(COUNTA('Data Input'!$C$8:$AZ$8)))","v":""},{"$f":"IF(ISBLANK('Data Input'!A229),\"\",SUM('Data Input'!R229,'Data Input'!AA229,'Data Input'!AB229,'Data Input'!AC229,'Data Input'!AE229,'Data Input'!AH229,'Data Input'!AQ229,'Data Input'!AR229))","v":""},{"$f":"IF(G225=\"\",\"\",G225/COUNTIF('Data Input'!$C$8:$AZ$8,$G$2))","v":""},{"$f":"IF(ISBLANK('Data Input'!A229),\"\",SUM('Data Input'!D229,'Data Input'!E229,'Data Input'!F229,'Data Input'!G229,'Data Input'!H229,'Data Input'!J229,'Data Input'!K229,'Data Input'!O229,'Data Input'!U229,'Data Input'!V229,'Data Input'!W229,'Data Input'!X229,'Data Input'!Z229,'Data Input'!AG229,'Data Input'!AI229,'Data Input'!AJ229,'Data Input'!AK229))","v":""},{"$f":"IF(I225=\"\",\"\",I225/COUNTIF('Data Input'!$C$8:$AZ$8,$I$2))","v":""},{"$f":"IF(ISBLANK('Data Input'!A229),\"\",SUM('Data Input'!AF229,'Data Input'!AV229))","v":""},{"$f":"IF(K225=\"\",\"\",K225/COUNTIF('Data Input'!$C$8:$AZ$8,$K$2))","v":""},{"$f":"IF(ISBLANK('Data Input'!A229),\"\",SUM('Data Input'!C229,'Data Input'!I229,'Data Input'!L229,'Data Input'!M229,'Data Input'!N229,'Data Input'!P229,'Data Input'!S229,'Data Input'!T229,'Data Input'!Y229,'Data Input'!AD229,'Data Input'!AL229,'Data Input'!AM229,'Data Input'!AN229,'Data Input'!AO229,'Data Input'!AP229,'Data Input'!AS229))","v":""},{"$f":"IF(M225=\"\",\"\",M225/COUNTIF('Data Input'!$C$8:$AZ$8,$M$2))","v":""},{"$f":"IF(ISBLANK('Data Input'!A229),\"\",SUM('Data Input'!AY229,'Data Input'!AZ229))","v":""},{"$f":"IF(O225=\"\",\"\",O225/COUNTIF('Data Input'!$C$8:$AZ$8,$O$2))","v":""},{"$f":"IF(ISBLANK('Data Input'!A229),\"\",SUM('Data Input'!AW229))","v":""},{"$f":"IF(Q225=\"\",\"\",Q225/COUNTIF('Data Input'!$C$8:$AZ$8,$Q$2))","v":""},{"$f":"IF(ISBLANK('Data Input'!$A229),\"\",SUM('Data Input'!Q229,'Data Input'!AT229,'Data Input'!AU229))","v":""},{"$f":"IF(S225=\"\",\"\",S225/COUNTIF('Data Input'!$C$8:$AZ$8,$S$2))","v":""},{"$f":"IF(ISBLANK('Data Input'!$A229),\"\",SUM('Data Input'!AX229))","v":""},{"$f":"IF(U225=\"\",\"\",U225/COUNTIF('Data Input'!$C$8:$AZ$8,$U$2))","v":""}]
[{"$f":"IF('Data Input'!A230=0,\"\",'Data Input'!A230)","v":""},{"$f":"IF(ISBLANK('Data Input'!A230),\"\",COUNTIF('Data Input'!C230:AZ230,\"\"))","v":""},{"$f":"IF(ISBLANK('Data Input'!A230),\"\",COUNTIF('Data Input'!C230:AZ230,\"0\"))","v":""},{"$f":"IF(ISBLANK('Data Input'!A230),\"\",SUM(B226,C226))","v":""},{"$f":"IF(ISBLANK('Data Input'!A230),\"\",SUM('Data Input'!C230:AZ230))","v":""},{"$f":"IF(E226=\"\",\"\",E226/(COUNTA('Data Input'!$C$8:$AZ$8)))","v":""},{"$f":"IF(ISBLANK('Data Input'!A230),\"\",SUM('Data Input'!R230,'Data Input'!AA230,'Data Input'!AB230,'Data Input'!AC230,'Data Input'!AE230,'Data Input'!AH230,'Data Input'!AQ230,'Data Input'!AR230))","v":""},{"$f":"IF(G226=\"\",\"\",G226/COUNTIF('Data Input'!$C$8:$AZ$8,$G$2))","v":""},{"$f":"IF(ISBLANK('Data Input'!A230),\"\",SUM('Data Input'!D230,'Data Input'!E230,'Data Input'!F230,'Data Input'!G230,'Data Input'!H230,'Data Input'!J230,'Data Input'!K230,'Data Input'!O230,'Data Input'!U230,'Data Input'!V230,'Data Input'!W230,'Data Input'!X230,'Data Input'!Z230,'Data Input'!AG230,'Data Input'!AI230,'Data Input'!AJ230,'Data Input'!AK230))","v":""},{"$f":"IF(I226=\"\",\"\",I226/COUNTIF('Data Input'!$C$8:$AZ$8,$I$2))","v":""},{"$f":"IF(ISBLANK('Data Input'!A230),\"\",SUM('Data Input'!AF230,'Data Input'!AV230))","v":""},{"$f":"IF(K226=\"\",\"\",K226/COUNTIF('Data Input'!$C$8:$AZ$8,$K$2))","v":""},{"$f":"IF(ISBLANK('Data Input'!A230),\"\",SUM('Data Input'!C230,'Data Input'!I230,'Data Input'!L230,'Data Input'!M230,'Data Input'!N230,'Data Input'!P230,'Data Input'!S230,'Data Input'!T230,'Data Input'!Y230,'Data Input'!AD230,'Data Input'!AL230,'Data Input'!AM230,'Data Input'!AN230,'Data Input'!AO230,'Data Input'!AP230,'Data Input'!AS230))","v":""},{"$f":"IF(M226=\"\",\"\",M226/COUNTIF('Data Input'!$C$8:$AZ$8,$M$2))","v":""},{"$f":"IF(ISBLANK('Data Input'!A230),\"\",SUM('Data Input'!AY230,'Data Input'!AZ230))","v":""},{"$f":"IF(O226=\"\",\"\",O226/COUNTIF('Data Input'!$C$8:$AZ$8,$O$2))","v":""},{"$f":"IF(ISBLANK('Data Input'!A230),\"\",SUM('Data Input'!AW230))","v":""},{"$f":"IF(Q226=\"\",\"\",Q226/COUNTIF('Data Input'!$C$8:$AZ$8,$Q$2))","v":""},{"$f":"IF(ISBLANK('Data Input'!$A230),\"\",SUM('Data Input'!Q230,'Data Input'!AT230,'Data Input'!AU230))","v":""},{"$f":"IF(S226=\"\",\"\",S226/COUNTIF('Data Input'!$C$8:$AZ$8,$S$2))","v":""},{"$f":"IF(ISBLANK('Data Input'!$A230),\"\",SUM('Data Input'!AX230))","v":""},{"$f":"IF(U226=\"\",\"\",U226/COUNTIF('Data Input'!$C$8:$AZ$8,$U$2))","v":""}]
[{"$f":"IF('Data Input'!A231=0,\"\",'Data Input'!A231)","v":""},{"$f":"IF(ISBLANK('Data Input'!A231),\"\",COUNTIF('Data Input'!C231:AZ231,\"\"))","v":""},{"$f":"IF(ISBLANK('Data Input'!A231),\"\",COUNTIF('Data Input'!C231:AZ231,\"0\"))","v":""},{"$f":"IF(ISBLANK('Data Input'!A231),\"\",SUM(B227,C227))","v":""},{"$f":"IF(ISBLANK('Data Input'!A231),\"\",SUM('Data Input'!C231:AZ231))","v":""},{"$f":"IF(E227=\"\",\"\",E227/(COUNTA('Data Input'!$C$8:$AZ$8)))","v":""},{"$f":"IF(ISBLANK('Data Input'!A231),\"\",SUM('Data Input'!R231,'Data Input'!AA231,'Data Input'!AB231,'Data Input'!AC231,'Data Input'!AE231,'Data Input'!AH231,'Data Input'!AQ231,'Data Input'!AR231))","v":""},{"$f":"IF(G227=\"\",\"\",G227/COUNTIF('Data Input'!$C$8:$AZ$8,$G$2))","v":""},{"$f":"IF(ISBLANK('Data Input'!A231),\"\",SUM('Data Input'!D231,'Data Input'!E231,'Data Input'!F231,'Data Input'!G231,'Data Input'!H231,'Data Input'!J231,'Data Input'!K231,'Data Input'!O231,'Data Input'!U231,'Data Input'!V231,'Data Input'!W231,'Data Input'!X231,'Data Input'!Z231,'Data Input'!AG231,'Data Input'!AI231,'Data Input'!AJ231,'Data Input'!AK231))","v":""},{"$f":"IF(I227=\"\",\"\",I227/COUNTIF('Data Input'!$C$8:$AZ$8,$I$2))","v":""},{"$f":"IF(ISBLANK('Data Input'!A231),\"\",SUM('Data Input'!AF231,'Data Input'!AV231))","v":""},{"$f":"IF(K227=\"\",\"\",K227/COUNTIF('Data Input'!$C$8:$AZ$8,$K$2))","v":""},{"$f":"IF(ISBLANK('Data Input'!A231),\"\",SUM('Data Input'!C231,'Data Input'!I231,'Data Input'!L231,'Data Input'!M231,'Data Input'!N231,'Data Input'!P231,'Data Input'!S231,'Data Input'!T231,'Data Input'!Y231,'Data Input'!AD231,'Data Input'!AL231,'Data Input'!AM231,'Data Input'!AN231,'Data Input'!AO231,'Data Input'!AP231,'Data Input'!AS231))","v":""},{"$f":"IF(M227=\"\",\"\",M227/COUNTIF('Data Input'!$C$8:$AZ$8,$M$2))","v":""},{"$f":"IF(ISBLANK('Data Input'!A231),\"\",SUM('Data Input'!AY231,'Data Input'!AZ231))","v":""},{"$f":"IF(O227=\"\",\"\",O227/COUNTIF('Data Input'!$C$8:$AZ$8,$O$2))","v":""},{"$f":"IF(ISBLANK('Data Input'!A231),\"\",SUM('Data Input'!AW231))","v":""},{"$f":"IF(Q227=\"\",\"\",Q227/COUNTIF('Data Input'!$C$8:$AZ$8,$Q$2))","v":""},{"$f":"IF(ISBLANK('Data Input'!$A231),\"\",SUM('Data Input'!Q231,'Data Input'!AT231,'Data Input'!AU231))","v":""},{"$f":"IF(S227=\"\",\"\",S227/COUNTIF('Data Input'!$C$8:$AZ$8,$S$2))","v":""},{"$f":"IF(ISBLANK('Data Input'!$A231),\"\",SUM('Data Input'!AX231))","v":""},{"$f":"IF(U227=\"\",\"\",U227/COUNTIF('Data Input'!$C$8:$AZ$8,$U$2))","v":""}]
[{"$f":"IF('Data Input'!A232=0,\"\",'Data Input'!A232)","v":""},{"$f":"IF(ISBLANK('Data Input'!A232),\"\",COUNTIF('Data Input'!C232:AZ232,\"\"))","v":""},{"$f":"IF(ISBLANK('Data Input'!A232),\"\",COUNTIF('Data Input'!C232:AZ232,\"0\"))","v":""},{"$f":"IF(ISBLANK('Data Input'!A232),\"\",SUM(B228,C228))","v":""},{"$f":"IF(ISBLANK('Data Input'!A232),\"\",SUM('Data Input'!C232:AZ232))","v":""},{"$f":"IF(E228=\"\",\"\",E228/(COUNTA('Data Input'!$C$8:$AZ$8)))","v":""},{"$f":"IF(ISBLANK('Data Input'!A232),\"\",SUM('Data Input'!R232,'Data Input'!AA232,'Data Input'!AB232,'Data Input'!AC232,'Data Input'!AE232,'Data Input'!AH232,'Data Input'!AQ232,'Data Input'!AR232))","v":""},{"$f":"IF(G228=\"\",\"\",G228/COUNTIF('Data Input'!$C$8:$AZ$8,$G$2))","v":""},{"$f":"IF(ISBLANK('Data Input'!A232),\"\",SUM('Data Input'!D232,'Data Input'!E232,'Data Input'!F232,'Data Input'!G232,'Data Input'!H232,'Data Input'!J232,'Data Input'!K232,'Data Input'!O232,'Data Input'!U232,'Data Input'!V232,'Data Input'!W232,'Data Input'!X232,'Data Input'!Z232,'Data Input'!AG232,'Data Input'!AI232,'Data Input'!AJ232,'Data Input'!AK232))","v":""},{"$f":"IF(I228=\"\",\"\",I228/COUNTIF('Data Input'!$C$8:$AZ$8,$I$2))","v":""},{"$f":"IF(ISBLANK('Data Input'!A232),\"\",SUM('Data Input'!AF232,'Data Input'!AV232))","v":""},{"$f":"IF(K228=\"\",\"\",K228/COUNTIF('Data Input'!$C$8:$AZ$8,$K$2))","v":""},{"$f":"IF(ISBLANK('Data Input'!A232),\"\",SUM('Data Input'!C232,'Data Input'!I232,'Data Input'!L232,'Data Input'!M232,'Data Input'!N232,'Data Input'!P232,'Data Input'!S232,'Data Input'!T232,'Data Input'!Y232,'Data Input'!AD232,'Data Input'!AL232,'Data Input'!AM232,'Data Input'!AN232,'Data Input'!AO232,'Data Input'!AP232,'Data Input'!AS232))","v":""},{"$f":"IF(M228=\"\",\"\",M228/COUNTIF('Data Input'!$C$8:$AZ$8,$M$2))","v":""},{"$f":"IF(ISBLANK('Data Input'!A232),\"\",SUM('Data Input'!AY232,'Data Input'!AZ232))","v":""},{"$f":"IF(O228=\"\",\"\",O228/COUNTIF('Data Input'!$C$8:$AZ$8,$O$2))","v":""},{"$f":"IF(ISBLANK('Data Input'!A232),\"\",SUM('Data Input'!AW232))","v":""},{"$f":"IF(Q228=\"\",\"\",Q228/COUNTIF('Data Input'!$C$8:$AZ$8,$Q$2))","v":""},{"$f":"IF(ISBLANK('Data Input'!$A232),\"\",SUM('Data Input'!Q232,'Data Input'!AT232,'Data Input'!AU232))","v":""},{"$f":"IF(S228=\"\",\"\",S228/COUNTIF('Data Input'!$C$8:$AZ$8,$S$2))","v":""},{"$f":"IF(ISBLANK('Data Input'!$A232),\"\",SUM('Data Input'!AX232))","v":""},{"$f":"IF(U228=\"\",\"\",U228/COUNTIF('Data Input'!$C$8:$AZ$8,$U$2))","v":""}]
[{"$f":"IF('Data Input'!A233=0,\"\",'Data Input'!A233)","v":""},{"$f":"IF(ISBLANK('Data Input'!A233),\"\",COUNTIF('Data Input'!C233:AZ233,\"\"))","v":""},{"$f":"IF(ISBLANK('Data Input'!A233),\"\",COUNTIF('Data Input'!C233:AZ233,\"0\"))","v":""},{"$f":"IF(ISBLANK('Data Input'!A233),\"\",SUM(B229,C229))","v":""},{"$f":"IF(ISBLANK('Data Input'!A233),\"\",SUM('Data Input'!C233:AZ233))","v":""},{"$f":"IF(E229=\"\",\"\",E229/(COUNTA('Data Input'!$C$8:$AZ$8)))","v":""},{"$f":"IF(ISBLANK('Data Input'!A233),\"\",SUM('Data Input'!R233,'Data Input'!AA233,'Data Input'!AB233,'Data Input'!AC233,'Data Input'!AE233,'Data Input'!AH233,'Data Input'!AQ233,'Data Input'!AR233))","v":""},{"$f":"IF(G229=\"\",\"\",G229/COUNTIF('Data Input'!$C$8:$AZ$8,$G$2))","v":""},{"$f":"IF(ISBLANK('Data Input'!A233),\"\",SUM('Data Input'!D233,'Data Input'!E233,'Data Input'!F233,'Data Input'!G233,'Data Input'!H233,'Data Input'!J233,'Data Input'!K233,'Data Input'!O233,'Data Input'!U233,'Data Input'!V233,'Data Input'!W233,'Data Input'!X233,'Data Input'!Z233,'Data Input'!AG233,'Data Input'!AI233,'Data Input'!AJ233,'Data Input'!AK233))","v":""},{"$f":"IF(I229=\"\",\"\",I229/COUNTIF('Data Input'!$C$8:$AZ$8,$I$2))","v":""},{"$f":"IF(ISBLANK('Data Input'!A233),\"\",SUM('Data Input'!AF233,'Data Input'!AV233))","v":""},{"$f":"IF(K229=\"\",\"\",K229/COUNTIF('Data Input'!$C$8:$AZ$8,$K$2))","v":""},{"$f":"IF(ISBLANK('Data Input'!A233),\"\",SUM('Data Input'!C233,'Data Input'!I233,'Data Input'!L233,'Data Input'!M233,'Data Input'!N233,'Data Input'!P233,'Data Input'!S233,'Data Input'!T233,'Data Input'!Y233,'Data Input'!AD233,'Data Input'!AL233,'Data Input'!AM233,'Data Input'!AN233,'Data Input'!AO233,'Data Input'!AP233,'Data Input'!AS233))","v":""},{"$f":"IF(M229=\"\",\"\",M229/COUNTIF('Data Input'!$C$8:$AZ$8,$M$2))","v":""},{"$f":"IF(ISBLANK('Data Input'!A233),\"\",SUM('Data Input'!AY233,'Data Input'!AZ233))","v":""},{"$f":"IF(O229=\"\",\"\",O229/COUNTIF('Data Input'!$C$8:$AZ$8,$O$2))","v":""},{"$f":"IF(ISBLANK('Data Input'!A233),\"\",SUM('Data Input'!AW233))","v":""},{"$f":"IF(Q229=\"\",\"\",Q229/COUNTIF('Data Input'!$C$8:$AZ$8,$Q$2))","v":""},{"$f":"IF(ISBLANK('Data Input'!$A233),\"\",SUM('Data Input'!Q233,'Data Input'!AT233,'Data Input'!AU233))","v":""},{"$f":"IF(S229=\"\",\"\",S229/COUNTIF('Data Input'!$C$8:$AZ$8,$S$2))","v":""},{"$f":"IF(ISBLANK('Data Input'!$A233),\"\",SUM('Data Input'!AX233))","v":""},{"$f":"IF(U229=\"\",\"\",U229/COUNTIF('Data Input'!$C$8:$AZ$8,$U$2))","v":""}]
[{"$f":"IF('Data Input'!A234=0,\"\",'Data Input'!A234)","v":""},{"$f":"IF(ISBLANK('Data Input'!A234),\"\",COUNTIF('Data Input'!C234:AZ234,\"\"))","v":""},{"$f":"IF(ISBLANK('Data Input'!A234),\"\",COUNTIF('Data Input'!C234:AZ234,\"0\"))","v":""},{"$f":"IF(ISBLANK('Data Input'!A234),\"\",SUM(B230,C230))","v":""},{"$f":"IF(ISBLANK('Data Input'!A234),\"\",SUM('Data Input'!C234:AZ234))","v":""},{"$f":"IF(E230=\"\",\"\",E230/(COUNTA('Data Input'!$C$8:$AZ$8)))","v":""},{"$f":"IF(ISBLANK('Data Input'!A234),\"\",SUM('Data Input'!R234,'Data Input'!AA234,'Data Input'!AB234,'Data Input'!AC234,'Data Input'!AE234,'Data Input'!AH234,'Data Input'!AQ234,'Data Input'!AR234))","v":""},{"$f":"IF(G230=\"\",\"\",G230/COUNTIF('Data Input'!$C$8:$AZ$8,$G$2))","v":""},{"$f":"IF(ISBLANK('Data Input'!A234),\"\",SUM('Data Input'!D234,'Data Input'!E234,'Data Input'!F234,'Data Input'!G234,'Data Input'!H234,'Data Input'!J234,'Data Input'!K234,'Data Input'!O234,'Data Input'!U234,'Data Input'!V234,'Data Input'!W234,'Data Input'!X234,'Data Input'!Z234,'Data Input'!AG234,'Data Input'!AI234,'Data Input'!AJ234,'Data Input'!AK234))","v":""},{"$f":"IF(I230=\"\",\"\",I230/COUNTIF('Data Input'!$C$8:$AZ$8,$I$2))","v":""},{"$f":"IF(ISBLANK('Data Input'!A234),\"\",SUM('Data Input'!AF234,'Data Input'!AV234))","v":""},{"$f":"IF(K230=\"\",\"\",K230/COUNTIF('Data Input'!$C$8:$AZ$8,$K$2))","v":""},{"$f":"IF(ISBLANK('Data Input'!A234),\"\",SUM('Data Input'!C234,'Data Input'!I234,'Data Input'!L234,'Data Input'!M234,'Data Input'!N234,'Data Input'!P234,'Data Input'!S234,'Data Input'!T234,'Data Input'!Y234,'Data Input'!AD234,'Data Input'!AL234,'Data Input'!AM234,'Data Input'!AN234,'Data Input'!AO234,'Data Input'!AP234,'Data Input'!AS234))","v":""},{"$f":"IF(M230=\"\",\"\",M230/COUNTIF('Data Input'!$C$8:$AZ$8,$M$2))","v":""},{"$f":"IF(ISBLANK('Data Input'!A234),\"\",SUM('Data Input'!AY234,'Data Input'!AZ234))","v":""},{"$f":"IF(O230=\"\",\"\",O230/COUNTIF('Data Input'!$C$8:$AZ$8,$O$2))","v":""},{"$f":"IF(ISBLANK('Data Input'!A234),\"\",SUM('Data Input'!AW234))","v":""},{"$f":"IF(Q230=\"\",\"\",Q230/COUNTIF('Data Input'!$C$8:$AZ$8,$Q$2))","v":""},{"$f":"IF(ISBLANK('Data Input'!$A234),\"\",SUM('Data Input'!Q234,'Data Input'!AT234,'Data Input'!AU234))","v":""},{"$f":"IF(S230=\"\",\"\",S230/COUNTIF('Data Input'!$C$8:$AZ$8,$S$2))","v":""},{"$f":"IF(ISBLANK('Data Input'!$A234),\"\",SUM('Data Input'!AX234))","v":""},{"$f":"IF(U230=\"\",\"\",U230/COUNTIF('Data Input'!$C$8:$AZ$8,$U$2))","v":""}]
[{"$f":"IF('Data Input'!A235=0,\"\",'Data Input'!A235)","v":""},{"$f":"IF(ISBLANK('Data Input'!A235),\"\",COUNTIF('Data Input'!C235:AZ235,\"\"))","v":""},{"$f":"IF(ISBLANK('Data Input'!A235),\"\",COUNTIF('Data Input'!C235:AZ235,\"0\"))","v":""},{"$f":"IF(ISBLANK('Data Input'!A235),\"\",SUM(B231,C231))","v":""},{"$f":"IF(ISBLANK('Data Input'!A235),\"\",SUM('Data Input'!C235:AZ235))","v":""},{"$f":"IF(E231=\"\",\"\",E231/(COUNTA('Data Input'!$C$8:$AZ$8)))","v":""},{"$f":"IF(ISBLANK('Data Input'!A235),\"\",SUM('Data Input'!R235,'Data Input'!AA235,'Data Input'!AB235,'Data Input'!AC235,'Data Input'!AE235,'Data Input'!AH235,'Data Input'!AQ235,'Data Input'!AR235))","v":""},{"$f":"IF(G231=\"\",\"\",G231/COUNTIF('Data Input'!$C$8:$AZ$8,$G$2))","v":""},{"$f":"IF(ISBLANK('Data Input'!A235),\"\",SUM('Data Input'!D235,'Data Input'!E235,'Data Input'!F235,'Data Input'!G235,'Data Input'!H235,'Data Input'!J235,'Data Input'!K235,'Data Input'!O235,'Data Input'!U235,'Data Input'!V235,'Data Input'!W235,'Data Input'!X235,'Data Input'!Z235,'Data Input'!AG235,'Data Input'!AI235,'Data Input'!AJ235,'Data Input'!AK235))","v":""},{"$f":"IF(I231=\"\",\"\",I231/COUNTIF('Data Input'!$C$8:$AZ$8,$I$2))","v":""},{"$f":"IF(ISBLANK('Data Input'!A235),\"\",SUM('Data Input'!AF235,'Data Input'!AV235))","v":""},{"$f":"IF(K231=\"\",\"\",K231/COUNTIF('Data Input'!$C$8:$AZ$8,$K$2))","v":""},{"$f":"IF(ISBLANK('Data Input'!A235),\"\",SUM('Data Input'!C235,'Data Input'!I235,'Data Input'!L235,'Data Input'!M235,'Data Input'!N235,'Data Input'!P235,'Data Input'!S235,'Data Input'!T235,'Data Input'!Y235,'Data Input'!AD235,'Data Input'!AL235,'Data Input'!AM235,'Data Input'!AN235,'Data Input'!AO235,'Data Input'!AP235,'Data Input'!AS235))","v":""},{"$f":"IF(M231=\"\",\"\",M231/COUNTIF('Data Input'!$C$8:$AZ$8,$M$2))","v":""},{"$f":"IF(ISBLANK('Data Input'!A235),\"\",SUM('Data Input'!AY235,'Data Input'!AZ235))","v":""},{"$f":"IF(O231=\"\",\"\",O231/COUNTIF('Data Input'!$C$8:$AZ$8,$O$2))","v":""},{"$f":"IF(ISBLANK('Data Input'!A235),\"\",SUM('Data Input'!AW235))","v":""},{"$f":"IF(Q231=\"\",\"\",Q231/COUNTIF('Data Input'!$C$8:$AZ$8,$Q$2))","v":""},{"$f":"IF(ISBLANK('Data Input'!$A235),\"\",SUM('Data Input'!Q235,'Data Input'!AT235,'Data Input'!AU235))","v":""},{"$f":"IF(S231=\"\",\"\",S231/COUNTIF('Data Input'!$C$8:$AZ$8,$S$2))","v":""},{"$f":"IF(ISBLANK('Data Input'!$A235),\"\",SUM('Data Input'!AX235))","v":""},{"$f":"IF(U231=\"\",\"\",U231/COUNTIF('Data Input'!$C$8:$AZ$8,$U$2))","v":""}]
[{"$f":"IF('Data Input'!A236=0,\"\",'Data Input'!A236)","v":""},{"$f":"IF(ISBLANK('Data Input'!A236),\"\",COUNTIF('Data Input'!C236:AZ236,\"\"))","v":""},{"$f":"IF(ISBLANK('Data Input'!A236),\"\",COUNTIF('Data Input'!C236:AZ236,\"0\"))","v":""},{"$f":"IF(ISBLANK('Data Input'!A236),\"\",SUM(B232,C232))","v":""},{"$f":"IF(ISBLANK('Data Input'!A236),\"\",SUM('Data Input'!C236:AZ236))","v":""},{"$f":"IF(E232=\"\",\"\",E232/(COUNTA('Data Input'!$C$8:$AZ$8)))","v":""},{"$f":"IF(ISBLANK('Data Input'!A236),\"\",SUM('Data Input'!R236,'Data Input'!AA236,'Data Input'!AB236,'Data Input'!AC236,'Data Input'!AE236,'Data Input'!AH236,'Data Input'!AQ236,'Data Input'!AR236))","v":""},{"$f":"IF(G232=\"\",\"\",G232/COUNTIF('Data Input'!$C$8:$AZ$8,$G$2))","v":""},{"$f":"IF(ISBLANK('Data Input'!A236),\"\",SUM('Data Input'!D236,'Data Input'!E236,'Data Input'!F236,'Data Input'!G236,'Data Input'!H236,'Data Input'!J236,'Data Input'!K236,'Data Input'!O236,'Data Input'!U236,'Data Input'!V236,'Data Input'!W236,'Data Input'!X236,'Data Input'!Z236,'Data Input'!AG236,'Data Input'!AI236,'Data Input'!AJ236,'Data Input'!AK236))","v":""},{"$f":"IF(I232=\"\",\"\",I232/COUNTIF('Data Input'!$C$8:$AZ$8,$I$2))","v":""},{"$f":"IF(ISBLANK('Data Input'!A236),\"\",SUM('Data Input'!AF236,'Data Input'!AV236))","v":""},{"$f":"IF(K232=\"\",\"\",K232/COUNTIF('Data Input'!$C$8:$AZ$8,$K$2))","v":""},{"$f":"IF(ISBLANK('Data Input'!A236),\"\",SUM('Data Input'!C236,'Data Input'!I236,'Data Input'!L236,'Data Input'!M236,'Data Input'!N236,'Data Input'!P236,'Data Input'!S236,'Data Input'!T236,'Data Input'!Y236,'Data Input'!AD236,'Data Input'!AL236,'Data Input'!AM236,'Data Input'!AN236,'Data Input'!AO236,'Data Input'!AP236,'Data Input'!AS236))","v":""},{"$f":"IF(M232=\"\",\"\",M232/COUNTIF('Data Input'!$C$8:$AZ$8,$M$2))","v":""},{"$f":"IF(ISBLANK('Data Input'!A236),\"\",SUM('Data Input'!AY236,'Data Input'!AZ236))","v":""},{"$f":"IF(O232=\"\",\"\",O232/COUNTIF('Data Input'!$C$8:$AZ$8,$O$2))","v":""},{"$f":"IF(ISBLANK('Data Input'!A236),\"\",SUM('Data Input'!AW236))","v":""},{"$f":"IF(Q232=\"\",\"\",Q232/COUNTIF('Data Input'!$C$8:$AZ$8,$Q$2))","v":""},{"$f":"IF(ISBLANK('Data Input'!$A236),\"\",SUM('Data Input'!Q236,'Data Input'!AT236,'Data Input'!AU236))","v":""},{"$f":"IF(S232=\"\",\"\",S232/COUNTIF('Data Input'!$C$8:$AZ$8,$S$2))","v":""},{"$f":"IF(ISBLANK('Data Input'!$A236),\"\",SUM('Data Input'!AX236))","v":""},{"$f":"IF(U232=\"\",\"\",U232/COUNTIF('Data Input'!$C$8:$AZ$8,$U$2))","v":""}]
[{"$f":"IF('Data Input'!A237=0,\"\",'Data Input'!A237)","v":""},{"$f":"IF(ISBLANK('Data Input'!A237),\"\",COUNTIF('Data Input'!C237:AZ237,\"\"))","v":""},{"$f":"IF(ISBLANK('Data Input'!A237),\"\",COUNTIF('Data Input'!C237:AZ237,\"0\"))","v":""},{"$f":"IF(ISBLANK('Data Input'!A237),\"\",SUM(B233,C233))","v":""},{"$f":"IF(ISBLANK('Data Input'!A237),\"\",SUM('Data Input'!C237:AZ237))","v":""},{"$f":"IF(E233=\"\",\"\",E233/(COUNTA('Data Input'!$C$8:$AZ$8)))","v":""},{"$f":"IF(ISBLANK('Data Input'!A237),\"\",SUM('Data Input'!R237,'Data Input'!AA237,'Data Input'!AB237,'Data Input'!AC237,'Data Input'!AE237,'Data Input'!AH237,'Data Input'!AQ237,'Data Input'!AR237))","v":""},{"$f":"IF(G233=\"\",\"\",G233/COUNTIF('Data Input'!$C$8:$AZ$8,$G$2))","v":""},{"$f":"IF(ISBLANK('Data Input'!A237),\"\",SUM('Data Input'!D237,'Data Input'!E237,'Data Input'!F237,'Data Input'!G237,'Data Input'!H237,'Data Input'!J237,'Data Input'!K237,'Data Input'!O237,'Data Input'!U237,'Data Input'!V237,'Data Input'!W237,'Data Input'!X237,'Data Input'!Z237,'Data Input'!AG237,'Data Input'!AI237,'Data Input'!AJ237,'Data Input'!AK237))","v":""},{"$f":"IF(I233=\"\",\"\",I233/COUNTIF('Data Input'!$C$8:$AZ$8,$I$2))","v":""},{"$f":"IF(ISBLANK('Data Input'!A237),\"\",SUM('Data Input'!AF237,'Data Input'!AV237))","v":""},{"$f":"IF(K233=\"\",\"\",K233/COUNTIF('Data Input'!$C$8:$AZ$8,$K$2))","v":""},{"$f":"IF(ISBLANK('Data Input'!A237),\"\",SUM('Data Input'!C237,'Data Input'!I237,'Data Input'!L237,'Data Input'!M237,'Data Input'!N237,'Data Input'!P237,'Data Input'!S237,'Data Input'!T237,'Data Input'!Y237,'Data Input'!AD237,'Data Input'!AL237,'Data Input'!AM237,'Data Input'!AN237,'Data Input'!AO237,'Data Input'!AP237,'Data Input'!AS237))","v":""},{"$f":"IF(M233=\"\",\"\",M233/COUNTIF('Data Input'!$C$8:$AZ$8,$M$2))","v":""},{"$f":"IF(ISBLANK('Data Input'!A237),\"\",SUM('Data Input'!AY237,'Data Input'!AZ237))","v":""},{"$f":"IF(O233=\"\",\"\",O233/COUNTIF('Data Input'!$C$8:$AZ$8,$O$2))","v":""},{"$f":"IF(ISBLANK('Data Input'!A237),\"\",SUM('Data Input'!AW237))","v":""},{"$f":"IF(Q233=\"\",\"\",Q233/COUNTIF('Data Input'!$C$8:$AZ$8,$Q$2))","v":""},{"$f":"IF(ISBLANK('Data Input'!$A237),\"\",SUM('Data Input'!Q237,'Data Input'!AT237,'Data Input'!AU237))","v":""},{"$f":"IF(S233=\"\",\"\",S233/COUNTIF('Data Input'!$C$8:$AZ$8,$S$2))","v":""},{"$f":"IF(ISBLANK('Data Input'!$A237),\"\",SUM('Data Input'!AX237))","v":""},{"$f":"IF(U233=\"\",\"\",U233/COUNTIF('Data Input'!$C$8:$AZ$8,$U$2))","v":""}]
[{"$f":"IF('Data Input'!A238=0,\"\",'Data Input'!A238)","v":""},{"$f":"IF(ISBLANK('Data Input'!A238),\"\",COUNTIF('Data Input'!C238:AZ238,\"\"))","v":""},{"$f":"IF(ISBLANK('Data Input'!A238),\"\",COUNTIF('Data Input'!C238:AZ238,\"0\"))","v":""},{"$f":"IF(ISBLANK('Data Input'!A238),\"\",SUM(B234,C234))","v":""},{"$f":"IF(ISBLANK('Data Input'!A238),\"\",SUM('Data Input'!C238:AZ238))","v":""},{"$f":"IF(E234=\"\",\"\",E234/(COUNTA('Data Input'!$C$8:$AZ$8)))","v":""},{"$f":"IF(ISBLANK('Data Input'!A238),\"\",SUM('Data Input'!R238,'Data Input'!AA238,'Data Input'!AB238,'Data Input'!AC238,'Data Input'!AE238,'Data Input'!AH238,'Data Input'!AQ238,'Data Input'!AR238))","v":""},{"$f":"IF(G234=\"\",\"\",G234/COUNTIF('Data Input'!$C$8:$AZ$8,$G$2))","v":""},{"$f":"IF(ISBLANK('Data Input'!A238),\"\",SUM('Data Input'!D238,'Data Input'!E238,'Data Input'!F238,'Data Input'!G238,'Data Input'!H238,'Data Input'!J238,'Data Input'!K238,'Data Input'!O238,'Data Input'!U238,'Data Input'!V238,'Data Input'!W238,'Data Input'!X238,'Data Input'!Z238,'Data Input'!AG238,'Data Input'!AI238,'Data Input'!AJ238,'Data Input'!AK238))","v":""},{"$f":"IF(I234=\"\",\"\",I234/COUNTIF('Data Input'!$C$8:$AZ$8,$I$2))","v":""},{"$f":"IF(ISBLANK('Data Input'!A238),\"\",SUM('Data Input'!AF238,'Data Input'!AV238))","v":""},{"$f":"IF(K234=\"\",\"\",K234/COUNTIF('Data Input'!$C$8:$AZ$8,$K$2))","v":""},{"$f":"IF(ISBLANK('Data Input'!A238),\"\",SUM('Data Input'!C238,'Data Input'!I238,'Data Input'!L238,'Data Input'!M238,'Data Input'!N238,'Data Input'!P238,'Data Input'!S238,'Data Input'!T238,'Data Input'!Y238,'Data Input'!AD238,'Data Input'!AL238,'Data Input'!AM238,'Data Input'!AN238,'Data Input'!AO238,'Data Input'!AP238,'Data Input'!AS238))","v":""},{"$f":"IF(M234=\"\",\"\",M234/COUNTIF('Data Input'!$C$8:$AZ$8,$M$2))","v":""},{"$f":"IF(ISBLANK('Data Input'!A238),\"\",SUM('Data Input'!AY238,'Data Input'!AZ238))","v":""},{"$f":"IF(O234=\"\",\"\",O234/COUNTIF('Data Input'!$C$8:$AZ$8,$O$2))","v":""},{"$f":"IF(ISBLANK('Data Input'!A238),\"\",SUM('Data Input'!AW238))","v":""},{"$f":"IF(Q234=\"\",\"\",Q234/COUNTIF('Data Input'!$C$8:$AZ$8,$Q$2))","v":""},{"$f":"IF(ISBLANK('Data Input'!$A238),\"\",SUM('Data Input'!Q238,'Data Input'!AT238,'Data Input'!AU238))","v":""},{"$f":"IF(S234=\"\",\"\",S234/COUNTIF('Data Input'!$C$8:$AZ$8,$S$2))","v":""},{"$f":"IF(ISBLANK('Data Input'!$A238),\"\",SUM('Data Input'!AX238))","v":""},{"$f":"IF(U234=\"\",\"\",U234/COUNTIF('Data Input'!$C$8:$AZ$8,$U$2))","v":""}]
[{"$f":"IF('Data Input'!A239=0,\"\",'Data Input'!A239)","v":""},{"$f":"IF(ISBLANK('Data Input'!A239),\"\",COUNTIF('Data Input'!C239:AZ239,\"\"))","v":""},{"$f":"IF(ISBLANK('Data Input'!A239),\"\",COUNTIF('Data Input'!C239:AZ239,\"0\"))","v":""},{"$f":"IF(ISBLANK('Data Input'!A239),\"\",SUM(B235,C235))","v":""},{"$f":"IF(ISBLANK('Data Input'!A239),\"\",SUM('Data Input'!C239:AZ239))","v":""},{"$f":"IF(E235=\"\",\"\",E235/(COUNTA('Data Input'!$C$8:$AZ$8)))","v":""},{"$f":"IF(ISBLANK('Data Input'!A239),\"\",SUM('Data Input'!R239,'Data Input'!AA239,'Data Input'!AB239,'Data Input'!AC239,'Data Input'!AE239,'Data Input'!AH239,'Data Input'!AQ239,'Data Input'!AR239))","v":""},{"$f":"IF(G235=\"\",\"\",G235/COUNTIF('Data Input'!$C$8:$AZ$8,$G$2))","v":""},{"$f":"IF(ISBLANK('Data Input'!A239),\"\",SUM('Data Input'!D239,'Data Input'!E239,'Data Input'!F239,'Data Input'!G239,'Data Input'!H239,'Data Input'!J239,'Data Input'!K239,'Data Input'!O239,'Data Input'!U239,'Data Input'!V239,'Data Input'!W239,'Data Input'!X239,'Data Input'!Z239,'Data Input'!AG239,'Data Input'!AI239,'Data Input'!AJ239,'Data Input'!AK239))","v":""},{"$f":"IF(I235=\"\",\"\",I235/COUNTIF('Data Input'!$C$8:$AZ$8,$I$2))","v":""},{"$f":"IF(ISBLANK('Data Input'!A239),\"\",SUM('Data Input'!AF239,'Data Input'!AV239))","v":""},{"$f":"IF(K235=\"\",\"\",K235/COUNTIF('Data Input'!$C$8:$AZ$8,$K$2))","v":""},{"$f":"IF(ISBLANK('Data Input'!A239),\"\",SUM('Data Input'!C239,'Data Input'!I239,'Data Input'!L239,'Data Input'!M239,'Data Input'!N239,'Data Input'!P239,'Data Input'!S239,'Data Input'!T239,'Data Input'!Y239,'Data Input'!AD239,'Data Input'!AL239,'Data Input'!AM239,'Data Input'!AN239,'Data Input'!AO239,'Data Input'!AP239,'Data Input'!AS239))","v":""},{"$f":"IF(M235=\"\",\"\",M235/COUNTIF('Data Input'!$C$8:$AZ$8,$M$2))","v":""},{"$f":"IF(ISBLANK('Data Input'!A239),\"\",SUM('Data Input'!AY239,'Data Input'!AZ239))","v":""},{"$f":"IF(O235=\"\",\"\",O235/COUNTIF('Data Input'!$C$8:$AZ$8,$O$2))","v":""},{"$f":"IF(ISBLANK('Data Input'!A239),\"\",SUM('Data Input'!AW239))","v":""},{"$f":"IF(Q235=\"\",\"\",Q235/COUNTIF('Data Input'!$C$8:$AZ$8,$Q$2))","v":""},{"$f":"IF(ISBLANK('Data Input'!$A239),\"\",SUM('Data Input'!Q239,'Data Input'!AT239,'Data Input'!AU239))","v":""},{"$f":"IF(S235=\"\",\"\",S235/COUNTIF('Data Input'!$C$8:$AZ$8,$S$2))","v":""},{"$f":"IF(ISBLANK('Data Input'!$A239),\"\",SUM('Data Input'!AX239))","v":""},{"$f":"IF(U235=\"\",\"\",U235/COUNTIF('Data Input'!$C$8:$AZ$8,$U$2))","v":""}]
[{"$f":"IF('Data Input'!A240=0,\"\",'Data Input'!A240)","v":""},{"$f":"IF(ISBLANK('Data Input'!A240),\"\",COUNTIF('Data Input'!C240:AZ240,\"\"))","v":""},{"$f":"IF(ISBLANK('Data Input'!A240),\"\",COUNTIF('Data Input'!C240:AZ240,\"0\"))","v":""},{"$f":"IF(ISBLANK('Data Input'!A240),\"\",SUM(B236,C236))","v":""},{"$f":"IF(ISBLANK('Data Input'!A240),\"\",SUM('Data Input'!C240:AZ240))","v":""},{"$f":"IF(E236=\"\",\"\",E236/(COUNTA('Data Input'!$C$8:$AZ$8)))","v":""},{"$f":"IF(ISBLANK('Data Input'!A240),\"\",SUM('Data Input'!R240,'Data Input'!AA240,'Data Input'!AB240,'Data Input'!AC240,'Data Input'!AE240,'Data Input'!AH240,'Data Input'!AQ240,'Data Input'!AR240))","v":""},{"$f":"IF(G236=\"\",\"\",G236/COUNTIF('Data Input'!$C$8:$AZ$8,$G$2))","v":""},{"$f":"IF(ISBLANK('Data Input'!A240),\"\",SUM('Data Input'!D240,'Data Input'!E240,'Data Input'!F240,'Data Input'!G240,'Data Input'!H240,'Data Input'!J240,'Data Input'!K240,'Data Input'!O240,'Data Input'!U240,'Data Input'!V240,'Data Input'!W240,'Data Input'!X240,'Data Input'!Z240,'Data Input'!AG240,'Data Input'!AI240,'Data Input'!AJ240,'Data Input'!AK240))","v":""},{"$f":"IF(I236=\"\",\"\",I236/COUNTIF('Data Input'!$C$8:$AZ$8,$I$2))","v":""},{"$f":"IF(ISBLANK('Data Input'!A240),\"\",SUM('Data Input'!AF240,'Data Input'!AV240))","v":""},{"$f":"IF(K236=\"\",\"\",K236/COUNTIF('Data Input'!$C$8:$AZ$8,$K$2))","v":""},{"$f":"IF(ISBLANK('Data Input'!A240),\"\",SUM('Data Input'!C240,'Data Input'!I240,'Data Input'!L240,'Data Input'!M240,'Data Input'!N240,'Data Input'!P240,'Data Input'!S240,'Data Input'!T240,'Data Input'!Y240,'Data Input'!AD240,'Data Input'!AL240,'Data Input'!AM240,'Data Input'!AN240,'Data Input'!AO240,'Data Input'!AP240,'Data Input'!AS240))","v":""},{"$f":"IF(M236=\"\",\"\",M236/COUNTIF('Data Input'!$C$8:$AZ$8,$M$2))","v":""},{"$f":"IF(ISBLANK('Data Input'!A240),\"\",SUM('Data Input'!AY240,'Data Input'!AZ240))","v":""},{"$f":"IF(O236=\"\",\"\",O236/COUNTIF('Data Input'!$C$8:$AZ$8,$O$2))","v":""},{"$f":"IF(ISBLANK('Data Input'!A240),\"\",SUM('Data Input'!AW240))","v":""},{"$f":"IF(Q236=\"\",\"\",Q236/COUNTIF('Data Input'!$C$8:$AZ$8,$Q$2))","v":""},{"$f":"IF(ISBLANK('Data Input'!$A240),\"\",SUM('Data Input'!Q240,'Data Input'!AT240,'Data Input'!AU240))","v":""},{"$f":"IF(S236=\"\",\"\",S236/COUNTIF('Data Input'!$C$8:$AZ$8,$S$2))","v":""},{"$f":"IF(ISBLANK('Data Input'!$A240),\"\",SUM('Data Input'!AX240))","v":""},{"$f":"IF(U236=\"\",\"\",U236/COUNTIF('Data Input'!$C$8:$AZ$8,$U$2))","v":""}]
[{"$f":"IF('Data Input'!A241=0,\"\",'Data Input'!A241)","v":""},{"$f":"IF(ISBLANK('Data Input'!A241),\"\",COUNTIF('Data Input'!C241:AZ241,\"\"))","v":""},{"$f":"IF(ISBLANK('Data Input'!A241),\"\",COUNTIF('Data Input'!C241:AZ241,\"0\"))","v":""},{"$f":"IF(ISBLANK('Data Input'!A241),\"\",SUM(B237,C237))","v":""},{"$f":"IF(ISBLANK('Data Input'!A241),\"\",SUM('Data Input'!C241:AZ241))","v":""},{"$f":"IF(E237=\"\",\"\",E237/(COUNTA('Data Input'!$C$8:$AZ$8)))","v":""},{"$f":"IF(ISBLANK('Data Input'!A241),\"\",SUM('Data Input'!R241,'Data Input'!AA241,'Data Input'!AB241,'Data Input'!AC241,'Data Input'!AE241,'Data Input'!AH241,'Data Input'!AQ241,'Data Input'!AR241))","v":""},{"$f":"IF(G237=\"\",\"\",G237/COUNTIF('Data Input'!$C$8:$AZ$8,$G$2))","v":""},{"$f":"IF(ISBLANK('Data Input'!A241),\"\",SUM('Data Input'!D241,'Data Input'!E241,'Data Input'!F241,'Data Input'!G241,'Data Input'!H241,'Data Input'!J241,'Data Input'!K241,'Data Input'!O241,'Data Input'!U241,'Data Input'!V241,'Data Input'!W241,'Data Input'!X241,'Data Input'!Z241,'Data Input'!AG241,'Data Input'!AI241,'Data Input'!AJ241,'Data Input'!AK241))","v":""},{"$f":"IF(I237=\"\",\"\",I237/COUNTIF('Data Input'!$C$8:$AZ$8,$I$2))","v":""},{"$f":"IF(ISBLANK('Data Input'!A241),\"\",SUM('Data Input'!AF241,'Data Input'!AV241))","v":""},{"$f":"IF(K237=\"\",\"\",K237/COUNTIF('Data Input'!$C$8:$AZ$8,$K$2))","v":""},{"$f":"IF(ISBLANK('Data Input'!A241),\"\",SUM('Data Input'!C241,'Data Input'!I241,'Data Input'!L241,'Data Input'!M241,'Data Input'!N241,'Data Input'!P241,'Data Input'!S241,'Data Input'!T241,'Data Input'!Y241,'Data Input'!AD241,'Data Input'!AL241,'Data Input'!AM241,'Data Input'!AN241,'Data Input'!AO241,'Data Input'!AP241,'Data Input'!AS241))","v":""},{"$f":"IF(M237=\"\",\"\",M237/COUNTIF('Data Input'!$C$8:$AZ$8,$M$2))","v":""},{"$f":"IF(ISBLANK('Data Input'!A241),\"\",SUM('Data Input'!AY241,'Data Input'!AZ241))","v":""},{"$f":"IF(O237=\"\",\"\",O237/COUNTIF('Data Input'!$C$8:$AZ$8,$O$2))","v":""},{"$f":"IF(ISBLANK('Data Input'!A241),\"\",SUM('Data Input'!AW241))","v":""},{"$f":"IF(Q237=\"\",\"\",Q237/COUNTIF('Data Input'!$C$8:$AZ$8,$Q$2))","v":""},{"$f":"IF(ISBLANK('Data Input'!$A241),\"\",SUM('Data Input'!Q241,'Data Input'!AT241,'Data Input'!AU241))","v":""},{"$f":"IF(S237=\"\",\"\",S237/COUNTIF('Data Input'!$C$8:$AZ$8,$S$2))","v":""},{"$f":"IF(ISBLANK('Data Input'!$A241),\"\",SUM('Data Input'!AX241))","v":""},{"$f":"IF(U237=\"\",\"\",U237/COUNTIF('Data Input'!$C$8:$AZ$8,$U$2))","v":""}]
[{"$f":"IF('Data Input'!A242=0,\"\",'Data Input'!A242)","v":""},{"$f":"IF(ISBLANK('Data Input'!A242),\"\",COUNTIF('Data Input'!C242:AZ242,\"\"))","v":""},{"$f":"IF(ISBLANK('Data Input'!A242),\"\",COUNTIF('Data Input'!C242:AZ242,\"0\"))","v":""},{"$f":"IF(ISBLANK('Data Input'!A242),\"\",SUM(B238,C238))","v":""},{"$f":"IF(ISBLANK('Data Input'!A242),\"\",SUM('Data Input'!C242:AZ242))","v":""},{"$f":"IF(E238=\"\",\"\",E238/(COUNTA('Data Input'!$C$8:$AZ$8)))","v":""},{"$f":"IF(ISBLANK('Data Input'!A242),\"\",SUM('Data Input'!R242,'Data Input'!AA242,'Data Input'!AB242,'Data Input'!AC242,'Data Input'!AE242,'Data Input'!AH242,'Data Input'!AQ242,'Data Input'!AR242))","v":""},{"$f":"IF(G238=\"\",\"\",G238/COUNTIF('Data Input'!$C$8:$AZ$8,$G$2))","v":""},{"$f":"IF(ISBLANK('Data Input'!A242),\"\",SUM('Data Input'!D242,'Data Input'!E242,'Data Input'!F242,'Data Input'!G242,'Data Input'!H242,'Data Input'!J242,'Data Input'!K242,'Data Input'!O242,'Data Input'!U242,'Data Input'!V242,'Data Input'!W242,'Data Input'!X242,'Data Input'!Z242,'Data Input'!AG242,'Data Input'!AI242,'Data Input'!AJ242,'Data Input'!AK242))","v":""},{"$f":"IF(I238=\"\",\"\",I238/COUNTIF('Data Input'!$C$8:$AZ$8,$I$2))","v":""},{"$f":"IF(ISBLANK('Data Input'!A242),\"\",SUM('Data Input'!AF242,'Data Input'!AV242))","v":""},{"$f":"IF(K238=\"\",\"\",K238/COUNTIF('Data Input'!$C$8:$AZ$8,$K$2))","v":""},{"$f":"IF(ISBLANK('Data Input'!A242),\"\",SUM('Data Input'!C242,'Data Input'!I242,'Data Input'!L242,'Data Input'!M242,'Data Input'!N242,'Data Input'!P242,'Data Input'!S242,'Data Input'!T242,'Data Input'!Y242,'Data Input'!AD242,'Data Input'!AL242,'Data Input'!AM242,'Data Input'!AN242,'Data Input'!AO242,'Data Input'!AP242,'Data Input'!AS242))","v":""},{"$f":"IF(M238=\"\",\"\",M238/COUNTIF('Data Input'!$C$8:$AZ$8,$M$2))","v":""},{"$f":"IF(ISBLANK('Data Input'!A242),\"\",SUM('Data Input'!AY242,'Data Input'!AZ242))","v":""},{"$f":"IF(O238=\"\",\"\",O238/COUNTIF('Data Input'!$C$8:$AZ$8,$O$2))","v":""},{"$f":"IF(ISBLANK('Data Input'!A242),\"\",SUM('Data Input'!AW242))","v":""},{"$f":"IF(Q238=\"\",\"\",Q238/COUNTIF('Data Input'!$C$8:$AZ$8,$Q$2))","v":""},{"$f":"IF(ISBLANK('Data Input'!$A242),\"\",SUM('Data Input'!Q242,'Data Input'!AT242,'Data Input'!AU242))","v":""},{"$f":"IF(S238=\"\",\"\",S238/COUNTIF('Data Input'!$C$8:$AZ$8,$S$2))","v":""},{"$f":"IF(ISBLANK('Data Input'!$A242),\"\",SUM('Data Input'!AX242))","v":""},{"$f":"IF(U238=\"\",\"\",U238/COUNTIF('Data Input'!$C$8:$AZ$8,$U$2))","v":""}]
[{"$f":"IF('Data Input'!A243=0,\"\",'Data Input'!A243)","v":""},{"$f":"IF(ISBLANK('Data Input'!A243),\"\",COUNTIF('Data Input'!C243:AZ243,\"\"))","v":""},{"$f":"IF(ISBLANK('Data Input'!A243),\"\",COUNTIF('Data Input'!C243:AZ243,\"0\"))","v":""},{"$f":"IF(ISBLANK('Data Input'!A243),\"\",SUM(B239,C239))","v":""},{"$f":"IF(ISBLANK('Data Input'!A243),\"\",SUM('Data Input'!C243:AZ243))","v":""},{"$f":"IF(E239=\"\",\"\",E239/(COUNTA('Data Input'!$C$8:$AZ$8)))","v":""},{"$f":"IF(ISBLANK('Data Input'!A243),\"\",SUM('Data Input'!R243,'Data Input'!AA243,'Data Input'!AB243,'Data Input'!AC243,'Data Input'!AE243,'Data Input'!AH243,'Data Input'!AQ243,'Data Input'!AR243))","v":""},{"$f":"IF(G239=\"\",\"\",G239/COUNTIF('Data Input'!$C$8:$AZ$8,$G$2))","v":""},{"$f":"IF(ISBLANK('Data Input'!A243),\"\",SUM('Data Input'!D243,'Data Input'!E243,'Data Input'!F243,'Data Input'!G243,'Data Input'!H243,'Data Input'!J243,'Data Input'!K243,'Data Input'!O243,'Data Input'!U243,'Data Input'!V243,'Data Input'!W243,'Data Input'!X243,'Data Input'!Z243,'Data Input'!AG243,'Data Input'!AI243,'Data Input'!AJ243,'Data Input'!AK243))","v":""},{"$f":"IF(I239=\"\",\"\",I239/COUNTIF('Data Input'!$C$8:$AZ$8,$I$2))","v":""},{"$f":"IF(ISBLANK('Data Input'!A243),\"\",SUM('Data Input'!AF243,'Data Input'!AV243))","v":""},{"$f":"IF(K239=\"\",\"\",K239/COUNTIF('Data Input'!$C$8:$AZ$8,$K$2))","v":""},{"$f":"IF(ISBLANK('Data Input'!A243),\"\",SUM('Data Input'!C243,'Data Input'!I243,'Data Input'!L243,'Data Input'!M243,'Data Input'!N243,'Data Input'!P243,'Data Input'!S243,'Data Input'!T243,'Data Input'!Y243,'Data Input'!AD243,'Data Input'!AL243,'Data Input'!AM243,'Data Input'!AN243,'Data Input'!AO243,'Data Input'!AP243,'Data Input'!AS243))","v":""},{"$f":"IF(M239=\"\",\"\",M239/COUNTIF('Data Input'!$C$8:$AZ$8,$M$2))","v":""},{"$f":"IF(ISBLANK('Data Input'!A243),\"\",SUM('Data Input'!AY243,'Data Input'!AZ243))","v":""},{"$f":"IF(O239=\"\",\"\",O239/COUNTIF('Data Input'!$C$8:$AZ$8,$O$2))","v":""},{"$f":"IF(ISBLANK('Data Input'!A243),\"\",SUM('Data Input'!AW243))","v":""},{"$f":"IF(Q239=\"\",\"\",Q239/COUNTIF('Data Input'!$C$8:$AZ$8,$Q$2))","v":""},{"$f":"IF(ISBLANK('Data Input'!$A243),\"\",SUM('Data Input'!Q243,'Data Input'!AT243,'Data Input'!AU243))","v":""},{"$f":"IF(S239=\"\",\"\",S239/COUNTIF('Data Input'!$C$8:$AZ$8,$S$2))","v":""},{"$f":"IF(ISBLANK('Data Input'!$A243),\"\",SUM('Data Input'!AX243))","v":""},{"$f":"IF(U239=\"\",\"\",U239/COUNTIF('Data Input'!$C$8:$AZ$8,$U$2))","v":""}]
[{"$f":"IF('Data Input'!A244=0,\"\",'Data Input'!A244)","v":""},{"$f":"IF(ISBLANK('Data Input'!A244),\"\",COUNTIF('Data Input'!C244:AZ244,\"\"))","v":""},{"$f":"IF(ISBLANK('Data Input'!A244),\"\",COUNTIF('Data Input'!C244:AZ244,\"0\"))","v":""},{"$f":"IF(ISBLANK('Data Input'!A244),\"\",SUM(B240,C240))","v":""},{"$f":"IF(ISBLANK('Data Input'!A244),\"\",SUM('Data Input'!C244:AZ244))","v":""},{"$f":"IF(E240=\"\",\"\",E240/(COUNTA('Data Input'!$C$8:$AZ$8)))","v":""},{"$f":"IF(ISBLANK('Data Input'!A244),\"\",SUM('Data Input'!R244,'Data Input'!AA244,'Data Input'!AB244,'Data Input'!AC244,'Data Input'!AE244,'Data Input'!AH244,'Data Input'!AQ244,'Data Input'!AR244))","v":""},{"$f":"IF(G240=\"\",\"\",G240/COUNTIF('Data Input'!$C$8:$AZ$8,$G$2))","v":""},{"$f":"IF(ISBLANK('Data Input'!A244),\"\",SUM('Data Input'!D244,'Data Input'!E244,'Data Input'!F244,'Data Input'!G244,'Data Input'!H244,'Data Input'!J244,'Data Input'!K244,'Data Input'!O244,'Data Input'!U244,'Data Input'!V244,'Data Input'!W244,'Data Input'!X244,'Data Input'!Z244,'Data Input'!AG244,'Data Input'!AI244,'Data Input'!AJ244,'Data Input'!AK244))","v":""},{"$f":"IF(I240=\"\",\"\",I240/COUNTIF('Data Input'!$C$8:$AZ$8,$I$2))","v":""},{"$f":"IF(ISBLANK('Data Input'!A244),\"\",SUM('Data Input'!AF244,'Data Input'!AV244))","v":""},{"$f":"IF(K240=\"\",\"\",K240/COUNTIF('Data Input'!$C$8:$AZ$8,$K$2))","v":""},{"$f":"IF(ISBLANK('Data Input'!A244),\"\",SUM('Data Input'!C244,'Data Input'!I244,'Data Input'!L244,'Data Input'!M244,'Data Input'!N244,'Data Input'!P244,'Data Input'!S244,'Data Input'!T244,'Data Input'!Y244,'Data Input'!AD244,'Data Input'!AL244,'Data Input'!AM244,'Data Input'!AN244,'Data Input'!AO244,'Data Input'!AP244,'Data Input'!AS244))","v":""},{"$f":"IF(M240=\"\",\"\",M240/COUNTIF('Data Input'!$C$8:$AZ$8,$M$2))","v":""},{"$f":"IF(ISBLANK('Data Input'!A244),\"\",SUM('Data Input'!AY244,'Data Input'!AZ244))","v":""},{"$f":"IF(O240=\"\",\"\",O240/COUNTIF('Data Input'!$C$8:$AZ$8,$O$2))","v":""},{"$f":"IF(ISBLANK('Data Input'!A244),\"\",SUM('Data Input'!AW244))","v":""},{"$f":"IF(Q240=\"\",\"\",Q240/COUNTIF('Data Input'!$C$8:$AZ$8,$Q$2))","v":""},{"$f":"IF(ISBLANK('Data Input'!$A244),\"\",SUM('Data Input'!Q244,'Data Input'!AT244,'Data Input'!AU244))","v":""},{"$f":"IF(S240=\"\",\"\",S240/COUNTIF('Data Input'!$C$8:$AZ$8,$S$2))","v":""},{"$f":"IF(ISBLANK('Data Input'!$A244),\"\",SUM('Data Input'!AX244))","v":""},{"$f":"IF(U240=\"\",\"\",U240/COUNTIF('Data Input'!$C$8:$AZ$8,$U$2))","v":""}]
[{"$f":"IF('Data Input'!A245=0,\"\",'Data Input'!A245)","v":""},{"$f":"IF(ISBLANK('Data Input'!A245),\"\",COUNTIF('Data Input'!C245:AZ245,\"\"))","v":""},{"$f":"IF(ISBLANK('Data Input'!A245),\"\",COUNTIF('Data Input'!C245:AZ245,\"0\"))","v":""},{"$f":"IF(ISBLANK('Data Input'!A245),\"\",SUM(B241,C241))","v":""},{"$f":"IF(ISBLANK('Data Input'!A245),\"\",SUM('Data Input'!C245:AZ245))","v":""},{"$f":"IF(E241=\"\",\"\",E241/(COUNTA('Data Input'!$C$8:$AZ$8)))","v":""},{"$f":"IF(ISBLANK('Data Input'!A245),\"\",SUM('Data Input'!R245,'Data Input'!AA245,'Data Input'!AB245,'Data Input'!AC245,'Data Input'!AE245,'Data Input'!AH245,'Data Input'!AQ245,'Data Input'!AR245))","v":""},{"$f":"IF(G241=\"\",\"\",G241/COUNTIF('Data Input'!$C$8:$AZ$8,$G$2))","v":""},{"$f":"IF(ISBLANK('Data Input'!A245),\"\",SUM('Data Input'!D245,'Data Input'!E245,'Data Input'!F245,'Data Input'!G245,'Data Input'!H245,'Data Input'!J245,'Data Input'!K245,'Data Input'!O245,'Data Input'!U245,'Data Input'!V245,'Data Input'!W245,'Data Input'!X245,'Data Input'!Z245,'Data Input'!AG245,'Data Input'!AI245,'Data Input'!AJ245,'Data Input'!AK245))","v":""},{"$f":"IF(I241=\"\",\"\",I241/COUNTIF('Data Input'!$C$8:$AZ$8,$I$2))","v":""},{"$f":"IF(ISBLANK('Data Input'!A245),\"\",SUM('Data Input'!AF245,'Data Input'!AV245))","v":""},{"$f":"IF(K241=\"\",\"\",K241/COUNTIF('Data Input'!$C$8:$AZ$8,$K$2))","v":""},{"$f":"IF(ISBLANK('Data Input'!A245),\"\",SUM('Data Input'!C245,'Data Input'!I245,'Data Input'!L245,'Data Input'!M245,'Data Input'!N245,'Data Input'!P245,'Data Input'!S245,'Data Input'!T245,'Data Input'!Y245,'Data Input'!AD245,'Data Input'!AL245,'Data Input'!AM245,'Data Input'!AN245,'Data Input'!AO245,'Data Input'!AP245,'Data Input'!AS245))","v":""},{"$f":"IF(M241=\"\",\"\",M241/COUNTIF('Data Input'!$C$8:$AZ$8,$M$2))","v":""},{"$f":"IF(ISBLANK('Data Input'!A245),\"\",SUM('Data Input'!AY245,'Data Input'!AZ245))","v":""},{"$f":"IF(O241=\"\",\"\",O241/COUNTIF('Data Input'!$C$8:$AZ$8,$O$2))","v":""},{"$f":"IF(ISBLANK('Data Input'!A245),\"\",SUM('Data Input'!AW245))","v":""},{"$f":"IF(Q241=\"\",\"\",Q241/COUNTIF('Data Input'!$C$8:$AZ$8,$Q$2))","v":""},{"$f":"IF(ISBLANK('Data Input'!$A245),\"\",SUM('Data Input'!Q245,'Data Input'!AT245,'Data Input'!AU245))","v":""},{"$f":"IF(S241=\"\",\"\",S241/COUNTIF('Data Input'!$C$8:$AZ$8,$S$2))","v":""},{"$f":"IF(ISBLANK('Data Input'!$A245),\"\",SUM('Data Input'!AX245))","v":""},{"$f":"IF(U241=\"\",\"\",U241/COUNTIF('Data Input'!$C$8:$AZ$8,$U$2))","v":""}]
[{"$f":"IF('Data Input'!A246=0,\"\",'Data Input'!A246)","v":""},{"$f":"IF(ISBLANK('Data Input'!A246),\"\",COUNTIF('Data Input'!C246:AZ246,\"\"))","v":""},{"$f":"IF(ISBLANK('Data Input'!A246),\"\",COUNTIF('Data Input'!C246:AZ246,\"0\"))","v":""},{"$f":"IF(ISBLANK('Data Input'!A246),\"\",SUM(B242,C242))","v":""},{"$f":"IF(ISBLANK('Data Input'!A246),\"\",SUM('Data Input'!C246:AZ246))","v":""},{"$f":"IF(E242=\"\",\"\",E242/(COUNTA('Data Input'!$C$8:$AZ$8)))","v":""},{"$f":"IF(ISBLANK('Data Input'!A246),\"\",SUM('Data Input'!R246,'Data Input'!AA246,'Data Input'!AB246,'Data Input'!AC246,'Data Input'!AE246,'Data Input'!AH246,'Data Input'!AQ246,'Data Input'!AR246))","v":""},{"$f":"IF(G242=\"\",\"\",G242/COUNTIF('Data Input'!$C$8:$AZ$8,$G$2))","v":""},{"$f":"IF(ISBLANK('Data Input'!A246),\"\",SUM('Data Input'!D246,'Data Input'!E246,'Data Input'!F246,'Data Input'!G246,'Data Input'!H246,'Data Input'!J246,'Data Input'!K246,'Data Input'!O246,'Data Input'!U246,'Data Input'!V246,'Data Input'!W246,'Data Input'!X246,'Data Input'!Z246,'Data Input'!AG246,'Data Input'!AI246,'Data Input'!AJ246,'Data Input'!AK246))","v":""},{"$f":"IF(I242=\"\",\"\",I242/COUNTIF('Data Input'!$C$8:$AZ$8,$I$2))","v":""},{"$f":"IF(ISBLANK('Data Input'!A246),\"\",SUM('Data Input'!AF246,'Data Input'!AV246))","v":""},{"$f":"IF(K242=\"\",\"\",K242/COUNTIF('Data Input'!$C$8:$AZ$8,$K$2))","v":""},{"$f":"IF(ISBLANK('Data Input'!A246),\"\",SUM('Data Input'!C246,'Data Input'!I246,'Data Input'!L246,'Data Input'!M246,'Data Input'!N246,'Data Input'!P246,'Data Input'!S246,'Data Input'!T246,'Data Input'!Y246,'Data Input'!AD246,'Data Input'!AL246,'Data Input'!AM246,'Data Input'!AN246,'Data Input'!AO246,'Data Input'!AP246,'Data Input'!AS246))","v":""},{"$f":"IF(M242=\"\",\"\",M242/COUNTIF('Data Input'!$C$8:$AZ$8,$M$2))","v":""},{"$f":"IF(ISBLANK('Data Input'!A246),\"\",SUM('Data Input'!AY246,'Data Input'!AZ246))","v":""},{"$f":"IF(O242=\"\",\"\",O242/COUNTIF('Data Input'!$C$8:$AZ$8,$O$2))","v":""},{"$f":"IF(ISBLANK('Data Input'!A246),\"\",SUM('Data Input'!AW246))","v":""},{"$f":"IF(Q242=\"\",\"\",Q242/COUNTIF('Data Input'!$C$8:$AZ$8,$Q$2))","v":""},{"$f":"IF(ISBLANK('Data Input'!$A246),\"\",SUM('Data Input'!Q246,'Data Input'!AT246,'Data Input'!AU246))","v":""},{"$f":"IF(S242=\"\",\"\",S242/COUNTIF('Data Input'!$C$8:$AZ$8,$S$2))","v":""},{"$f":"IF(ISBLANK('Data Input'!$A246),\"\",SUM('Data Input'!AX246))","v":""},{"$f":"IF(U242=\"\",\"\",U242/COUNTIF('Data Input'!$C$8:$AZ$8,$U$2))","v":""}]
[{"$f":"IF('Data Input'!A247=0,\"\",'Data Input'!A247)","v":""},{"$f":"IF(ISBLANK('Data Input'!A247),\"\",COUNTIF('Data Input'!C247:AZ247,\"\"))","v":""},{"$f":"IF(ISBLANK('Data Input'!A247),\"\",COUNTIF('Data Input'!C247:AZ247,\"0\"))","v":""},{"$f":"IF(ISBLANK('Data Input'!A247),\"\",SUM(B243,C243))","v":""},{"$f":"IF(ISBLANK('Data Input'!A247),\"\",SUM('Data Input'!C247:AZ247))","v":""},{"$f":"IF(E243=\"\",\"\",E243/(COUNTA('Data Input'!$C$8:$AZ$8)))","v":""},{"$f":"IF(ISBLANK('Data Input'!A247),\"\",SUM('Data Input'!R247,'Data Input'!AA247,'Data Input'!AB247,'Data Input'!AC247,'Data Input'!AE247,'Data Input'!AH247,'Data Input'!AQ247,'Data Input'!AR247))","v":""},{"$f":"IF(G243=\"\",\"\",G243/COUNTIF('Data Input'!$C$8:$AZ$8,$G$2))","v":""},{"$f":"IF(ISBLANK('Data Input'!A247),\"\",SUM('Data Input'!D247,'Data Input'!E247,'Data Input'!F247,'Data Input'!G247,'Data Input'!H247,'Data Input'!J247,'Data Input'!K247,'Data Input'!O247,'Data Input'!U247,'Data Input'!V247,'Data Input'!W247,'Data Input'!X247,'Data Input'!Z247,'Data Input'!AG247,'Data Input'!AI247,'Data Input'!AJ247,'Data Input'!AK247))","v":""},{"$f":"IF(I243=\"\",\"\",I243/COUNTIF('Data Input'!$C$8:$AZ$8,$I$2))","v":""},{"$f":"IF(ISBLANK('Data Input'!A247),\"\",SUM('Data Input'!AF247,'Data Input'!AV247))","v":""},{"$f":"IF(K243=\"\",\"\",K243/COUNTIF('Data Input'!$C$8:$AZ$8,$K$2))","v":""},{"$f":"IF(ISBLANK('Data Input'!A247),\"\",SUM('Data Input'!C247,'Data Input'!I247,'Data Input'!L247,'Data Input'!M247,'Data Input'!N247,'Data Input'!P247,'Data Input'!S247,'Data Input'!T247,'Data Input'!Y247,'Data Input'!AD247,'Data Input'!AL247,'Data Input'!AM247,'Data Input'!AN247,'Data Input'!AO247,'Data Input'!AP247,'Data Input'!AS247))","v":""},{"$f":"IF(M243=\"\",\"\",M243/COUNTIF('Data Input'!$C$8:$AZ$8,$M$2))","v":""},{"$f":"IF(ISBLANK('Data Input'!A247),\"\",SUM('Data Input'!AY247,'Data Input'!AZ247))","v":""},{"$f":"IF(O243=\"\",\"\",O243/COUNTIF('Data Input'!$C$8:$AZ$8,$O$2))","v":""},{"$f":"IF(ISBLANK('Data Input'!A247),\"\",SUM('Data Input'!AW247))","v":""},{"$f":"IF(Q243=\"\",\"\",Q243/COUNTIF('Data Input'!$C$8:$AZ$8,$Q$2))","v":""},{"$f":"IF(ISBLANK('Data Input'!$A247),\"\",SUM('Data Input'!Q247,'Data Input'!AT247,'Data Input'!AU247))","v":""},{"$f":"IF(S243=\"\",\"\",S243/COUNTIF('Data Input'!$C$8:$AZ$8,$S$2))","v":""},{"$f":"IF(ISBLANK('Data Input'!$A247),\"\",SUM('Data Input'!AX247))","v":""},{"$f":"IF(U243=\"\",\"\",U243/COUNTIF('Data Input'!$C$8:$AZ$8,$U$2))","v":""}]
[{"$f":"IF('Data Input'!A248=0,\"\",'Data Input'!A248)","v":""},{"$f":"IF(ISBLANK('Data Input'!A248),\"\",COUNTIF('Data Input'!C248:AZ248,\"\"))","v":""},{"$f":"IF(ISBLANK('Data Input'!A248),\"\",COUNTIF('Data Input'!C248:AZ248,\"0\"))","v":""},{"$f":"IF(ISBLANK('Data Input'!A248),\"\",SUM(B244,C244))","v":""},{"$f":"IF(ISBLANK('Data Input'!A248),\"\",SUM('Data Input'!C248:AZ248))","v":""},{"$f":"IF(E244=\"\",\"\",E244/(COUNTA('Data Input'!$C$8:$AZ$8)))","v":""},{"$f":"IF(ISBLANK('Data Input'!A248),\"\",SUM('Data Input'!R248,'Data Input'!AA248,'Data Input'!AB248,'Data Input'!AC248,'Data Input'!AE248,'Data Input'!AH248,'Data Input'!AQ248,'Data Input'!AR248))","v":""},{"$f":"IF(G244=\"\",\"\",G244/COUNTIF('Data Input'!$C$8:$AZ$8,$G$2))","v":""},{"$f":"IF(ISBLANK('Data Input'!A248),\"\",SUM('Data Input'!D248,'Data Input'!E248,'Data Input'!F248,'Data Input'!G248,'Data Input'!H248,'Data Input'!J248,'Data Input'!K248,'Data Input'!O248,'Data Input'!U248,'Data Input'!V248,'Data Input'!W248,'Data Input'!X248,'Data Input'!Z248,'Data Input'!AG248,'Data Input'!AI248,'Data Input'!AJ248,'Data Input'!AK248))","v":""},{"$f":"IF(I244=\"\",\"\",I244/COUNTIF('Data Input'!$C$8:$AZ$8,$I$2))","v":""},{"$f":"IF(ISBLANK('Data Input'!A248),\"\",SUM('Data Input'!AF248,'Data Input'!AV248))","v":""},{"$f":"IF(K244=\"\",\"\",K244/COUNTIF('Data Input'!$C$8:$AZ$8,$K$2))","v":""},{"$f":"IF(ISBLANK('Data Input'!A248),\"\",SUM('Data Input'!C248,'Data Input'!I248,'Data Input'!L248,'Data Input'!M248,'Data Input'!N248,'Data Input'!P248,'Data Input'!S248,'Data Input'!T248,'Data Input'!Y248,'Data Input'!AD248,'Data Input'!AL248,'Data Input'!AM248,'Data Input'!AN248,'Data Input'!AO248,'Data Input'!AP248,'Data Input'!AS248))","v":""},{"$f":"IF(M244=\"\",\"\",M244/COUNTIF('Data Input'!$C$8:$AZ$8,$M$2))","v":""},{"$f":"IF(ISBLANK('Data Input'!A248),\"\",SUM('Data Input'!AY248,'Data Input'!AZ248))","v":""},{"$f":"IF(O244=\"\",\"\",O244/COUNTIF('Data Input'!$C$8:$AZ$8,$O$2))","v":""},{"$f":"IF(ISBLANK('Data Input'!A248),\"\",SUM('Data Input'!AW248))","v":""},{"$f":"IF(Q244=\"\",\"\",Q244/COUNTIF('Data Input'!$C$8:$AZ$8,$Q$2))","v":""},{"$f":"IF(ISBLANK('Data Input'!$A248),\"\",SUM('Data Input'!Q248,'Data Input'!AT248,'Data Input'!AU248))","v":""},{"$f":"IF(S244=\"\",\"\",S244/COUNTIF('Data Input'!$C$8:$AZ$8,$S$2))","v":""},{"$f":"IF(ISBLANK('Data Input'!$A248),\"\",SUM('Data Input'!AX248))","v":""},{"$f":"IF(U244=\"\",\"\",U244/COUNTIF('Data Input'!$C$8:$AZ$8,$U$2))","v":""}]
[{"$f":"IF('Data Input'!A249=0,\"\",'Data Input'!A249)","v":""},{"$f":"IF(ISBLANK('Data Input'!A249),\"\",COUNTIF('Data Input'!C249:AZ249,\"\"))","v":""},{"$f":"IF(ISBLANK('Data Input'!A249),\"\",COUNTIF('Data Input'!C249:AZ249,\"0\"))","v":""},{"$f":"IF(ISBLANK('Data Input'!A249),\"\",SUM(B245,C245))","v":""},{"$f":"IF(ISBLANK('Data Input'!A249),\"\",SUM('Data Input'!C249:AZ249))","v":""},{"$f":"IF(E245=\"\",\"\",E245/(COUNTA('Data Input'!$C$8:$AZ$8)))","v":""},{"$f":"IF(ISBLANK('Data Input'!A249),\"\",SUM('Data Input'!R249,'Data Input'!AA249,'Data Input'!AB249,'Data Input'!AC249,'Data Input'!AE249,'Data Input'!AH249,'Data Input'!AQ249,'Data Input'!AR249))","v":""},{"$f":"IF(G245=\"\",\"\",G245/COUNTIF('Data Input'!$C$8:$AZ$8,$G$2))","v":""},{"$f":"IF(ISBLANK('Data Input'!A249),\"\",SUM('Data Input'!D249,'Data Input'!E249,'Data Input'!F249,'Data Input'!G249,'Data Input'!H249,'Data Input'!J249,'Data Input'!K249,'Data Input'!O249,'Data Input'!U249,'Data Input'!V249,'Data Input'!W249,'Data Input'!X249,'Data Input'!Z249,'Data Input'!AG249,'Data Input'!AI249,'Data Input'!AJ249,'Data Input'!AK249))","v":""},{"$f":"IF(I245=\"\",\"\",I245/COUNTIF('Data Input'!$C$8:$AZ$8,$I$2))","v":""},{"$f":"IF(ISBLANK('Data Input'!A249),\"\",SUM('Data Input'!AF249,'Data Input'!AV249))","v":""},{"$f":"IF(K245=\"\",\"\",K245/COUNTIF('Data Input'!$C$8:$AZ$8,$K$2))","v":""},{"$f":"IF(ISBLANK('Data Input'!A249),\"\",SUM('Data Input'!C249,'Data Input'!I249,'Data Input'!L249,'Data Input'!M249,'Data Input'!N249,'Data Input'!P249,'Data Input'!S249,'Data Input'!T249,'Data Input'!Y249,'Data Input'!AD249,'Data Input'!AL249,'Data Input'!AM249,'Data Input'!AN249,'Data Input'!AO249,'Data Input'!AP249,'Data Input'!AS249))","v":""},{"$f":"IF(M245=\"\",\"\",M245/COUNTIF('Data Input'!$C$8:$AZ$8,$M$2))","v":""},{"$f":"IF(ISBLANK('Data Input'!A249),\"\",SUM('Data Input'!AY249,'Data Input'!AZ249))","v":""},{"$f":"IF(O245=\"\",\"\",O245/COUNTIF('Data Input'!$C$8:$AZ$8,$O$2))","v":""},{"$f":"IF(ISBLANK('Data Input'!A249),\"\",SUM('Data Input'!AW249))","v":""},{"$f":"IF(Q245=\"\",\"\",Q245/COUNTIF('Data Input'!$C$8:$AZ$8,$Q$2))","v":""},{"$f":"IF(ISBLANK('Data Input'!$A249),\"\",SUM('Data Input'!Q249,'Data Input'!AT249,'Data Input'!AU249))","v":""},{"$f":"IF(S245=\"\",\"\",S245/COUNTIF('Data Input'!$C$8:$AZ$8,$S$2))","v":""},{"$f":"IF(ISBLANK('Data Input'!$A249),\"\",SUM('Data Input'!AX249))","v":""},{"$f":"IF(U245=\"\",\"\",U245/COUNTIF('Data Input'!$C$8:$AZ$8,$U$2))","v":""}]
[{"$f":"IF('Data Input'!A250=0,\"\",'Data Input'!A250)","v":""},{"$f":"IF(ISBLANK('Data Input'!A250),\"\",COUNTIF('Data Input'!C250:AZ250,\"\"))","v":""},{"$f":"IF(ISBLANK('Data Input'!A250),\"\",COUNTIF('Data Input'!C250:AZ250,\"0\"))","v":""},{"$f":"IF(ISBLANK('Data Input'!A250),\"\",SUM(B246,C246))","v":""},{"$f":"IF(ISBLANK('Data Input'!A250),\"\",SUM('Data Input'!C250:AZ250))","v":""},{"$f":"IF(E246=\"\",\"\",E246/(COUNTA('Data Input'!$C$8:$AZ$8)))","v":""},{"$f":"IF(ISBLANK('Data Input'!A250),\"\",SUM('Data Input'!R250,'Data Input'!AA250,'Data Input'!AB250,'Data Input'!AC250,'Data Input'!AE250,'Data Input'!AH250,'Data Input'!AQ250,'Data Input'!AR250))","v":""},{"$f":"IF(G246=\"\",\"\",G246/COUNTIF('Data Input'!$C$8:$AZ$8,$G$2))","v":""},{"$f":"IF(ISBLANK('Data Input'!A250),\"\",SUM('Data Input'!D250,'Data Input'!E250,'Data Input'!F250,'Data Input'!G250,'Data Input'!H250,'Data Input'!J250,'Data Input'!K250,'Data Input'!O250,'Data Input'!U250,'Data Input'!V250,'Data Input'!W250,'Data Input'!X250,'Data Input'!Z250,'Data Input'!AG250,'Data Input'!AI250,'Data Input'!AJ250,'Data Input'!AK250))","v":""},{"$f":"IF(I246=\"\",\"\",I246/COUNTIF('Data Input'!$C$8:$AZ$8,$I$2))","v":""},{"$f":"IF(ISBLANK('Data Input'!A250),\"\",SUM('Data Input'!AF250,'Data Input'!AV250))","v":""},{"$f":"IF(K246=\"\",\"\",K246/COUNTIF('Data Input'!$C$8:$AZ$8,$K$2))","v":""},{"$f":"IF(ISBLANK('Data Input'!A250),\"\",SUM('Data Input'!C250,'Data Input'!I250,'Data Input'!L250,'Data Input'!M250,'Data Input'!N250,'Data Input'!P250,'Data Input'!S250,'Data Input'!T250,'Data Input'!Y250,'Data Input'!AD250,'Data Input'!AL250,'Data Input'!AM250,'Data Input'!AN250,'Data Input'!AO250,'Data Input'!AP250,'Data Input'!AS250))","v":""},{"$f":"IF(M246=\"\",\"\",M246/COUNTIF('Data Input'!$C$8:$AZ$8,$M$2))","v":""},{"$f":"IF(ISBLANK('Data Input'!A250),\"\",SUM('Data Input'!AY250,'Data Input'!AZ250))","v":""},{"$f":"IF(O246=\"\",\"\",O246/COUNTIF('Data Input'!$C$8:$AZ$8,$O$2))","v":""},{"$f":"IF(ISBLANK('Data Input'!A250),\"\",SUM('Data Input'!AW250))","v":""},{"$f":"IF(Q246=\"\",\"\",Q246/COUNTIF('Data Input'!$C$8:$AZ$8,$Q$2))","v":""},{"$f":"IF(ISBLANK('Data Input'!$A250),\"\",SUM('Data Input'!Q250,'Data Input'!AT250,'Data Input'!AU250))","v":""},{"$f":"IF(S246=\"\",\"\",S246/COUNTIF('Data Input'!$C$8:$AZ$8,$S$2))","v":""},{"$f":"IF(ISBLANK('Data Input'!$A250),\"\",SUM('Data Input'!AX250))","v":""},{"$f":"IF(U246=\"\",\"\",U246/COUNTIF('Data Input'!$C$8:$AZ$8,$U$2))","v":""}]
[{"$f":"IF('Data Input'!A251=0,\"\",'Data Input'!A251)","v":""},{"$f":"IF(ISBLANK('Data Input'!A251),\"\",COUNTIF('Data Input'!C251:AZ251,\"\"))","v":""},{"$f":"IF(ISBLANK('Data Input'!A251),\"\",COUNTIF('Data Input'!C251:AZ251,\"0\"))","v":""},{"$f":"IF(ISBLANK('Data Input'!A251),\"\",SUM(B247,C247))","v":""},{"$f":"IF(ISBLANK('Data Input'!A251),\"\",SUM('Data Input'!C251:AZ251))","v":""},{"$f":"IF(E247=\"\",\"\",E247/(COUNTA('Data Input'!$C$8:$AZ$8)))","v":""},{"$f":"IF(ISBLANK('Data Input'!A251),\"\",SUM('Data Input'!R251,'Data Input'!AA251,'Data Input'!AB251,'Data Input'!AC251,'Data Input'!AE251,'Data Input'!AH251,'Data Input'!AQ251,'Data Input'!AR251))","v":""},{"$f":"IF(G247=\"\",\"\",G247/COUNTIF('Data Input'!$C$8:$AZ$8,$G$2))","v":""},{"$f":"IF(ISBLANK('Data Input'!A251),\"\",SUM('Data Input'!D251,'Data Input'!E251,'Data Input'!F251,'Data Input'!G251,'Data Input'!H251,'Data Input'!J251,'Data Input'!K251,'Data Input'!O251,'Data Input'!U251,'Data Input'!V251,'Data Input'!W251,'Data Input'!X251,'Data Input'!Z251,'Data Input'!AG251,'Data Input'!AI251,'Data Input'!AJ251,'Data Input'!AK251))","v":""},{"$f":"IF(I247=\"\",\"\",I247/COUNTIF('Data Input'!$C$8:$AZ$8,$I$2))","v":""},{"$f":"IF(ISBLANK('Data Input'!A251),\"\",SUM('Data Input'!AF251,'Data Input'!AV251))","v":""},{"$f":"IF(K247=\"\",\"\",K247/COUNTIF('Data Input'!$C$8:$AZ$8,$K$2))","v":""},{"$f":"IF(ISBLANK('Data Input'!A251),\"\",SUM('Data Input'!C251,'Data Input'!I251,'Data Input'!L251,'Data Input'!M251,'Data Input'!N251,'Data Input'!P251,'Data Input'!S251,'Data Input'!T251,'Data Input'!Y251,'Data Input'!AD251,'Data Input'!AL251,'Data Input'!AM251,'Data Input'!AN251,'Data Input'!AO251,'Data Input'!AP251,'Data Input'!AS251))","v":""},{"$f":"IF(M247=\"\",\"\",M247/COUNTIF('Data Input'!$C$8:$AZ$8,$M$2))","v":""},{"$f":"IF(ISBLANK('Data Input'!A251),\"\",SUM('Data Input'!AY251,'Data Input'!AZ251))","v":""},{"$f":"IF(O247=\"\",\"\",O247/COUNTIF('Data Input'!$C$8:$AZ$8,$O$2))","v":""},{"$f":"IF(ISBLANK('Data Input'!A251),\"\",SUM('Data Input'!AW251))","v":""},{"$f":"IF(Q247=\"\",\"\",Q247/COUNTIF('Data Input'!$C$8:$AZ$8,$Q$2))","v":""},{"$f":"IF(ISBLANK('Data Input'!$A251),\"\",SUM('Data Input'!Q251,'Data Input'!AT251,'Data Input'!AU251))","v":""},{"$f":"IF(S247=\"\",\"\",S247/COUNTIF('Data Input'!$C$8:$AZ$8,$S$2))","v":""},{"$f":"IF(ISBLANK('Data Input'!$A251),\"\",SUM('Data Input'!AX251))","v":""},{"$f":"IF(U247=\"\",\"\",U247/COUNTIF('Data Input'!$C$8:$AZ$8,$U$2))","v":""}]
[{"$f":"IF('Data Input'!A252=0,\"\",'Data Input'!A252)","v":""},{"$f":"IF(ISBLANK('Data Input'!A252),\"\",COUNTIF('Data Input'!C252:AZ252,\"\"))","v":""},{"$f":"IF(ISBLANK('Data Input'!A252),\"\",COUNTIF('Data Input'!C252:AZ252,\"0\"))","v":""},{"$f":"IF(ISBLANK('Data Input'!A252),\"\",SUM(B248,C248))","v":""},{"$f":"IF(ISBLANK('Data Input'!A252),\"\",SUM('Data Input'!C252:AZ252))","v":""},{"$f":"IF(E248=\"\",\"\",E248/(COUNTA('Data Input'!$C$8:$AZ$8)))","v":""},{"$f":"IF(ISBLANK('Data Input'!A252),\"\",SUM('Data Input'!R252,'Data Input'!AA252,'Data Input'!AB252,'Data Input'!AC252,'Data Input'!AE252,'Data Input'!AH252,'Data Input'!AQ252,'Data Input'!AR252))","v":""},{"$f":"IF(G248=\"\",\"\",G248/COUNTIF('Data Input'!$C$8:$AZ$8,$G$2))","v":""},{"$f":"IF(ISBLANK('Data Input'!A252),\"\",SUM('Data Input'!D252,'Data Input'!E252,'Data Input'!F252,'Data Input'!G252,'Data Input'!H252,'Data Input'!J252,'Data Input'!K252,'Data Input'!O252,'Data Input'!U252,'Data Input'!V252,'Data Input'!W252,'Data Input'!X252,'Data Input'!Z252,'Data Input'!AG252,'Data Input'!AI252,'Data Input'!AJ252,'Data Input'!AK252))","v":""},{"$f":"IF(I248=\"\",\"\",I248/COUNTIF('Data Input'!$C$8:$AZ$8,$I$2))","v":""},{"$f":"IF(ISBLANK('Data Input'!A252),\"\",SUM('Data Input'!AF252,'Data Input'!AV252))","v":""},{"$f":"IF(K248=\"\",\"\",K248/COUNTIF('Data Input'!$C$8:$AZ$8,$K$2))","v":""},{"$f":"IF(ISBLANK('Data Input'!A252),\"\",SUM('Data Input'!C252,'Data Input'!I252,'Data Input'!L252,'Data Input'!M252,'Data Input'!N252,'Data Input'!P252,'Data Input'!S252,'Data Input'!T252,'Data Input'!Y252,'Data Input'!AD252,'Data Input'!AL252,'Data Input'!AM252,'Data Input'!AN252,'Data Input'!AO252,'Data Input'!AP252,'Data Input'!AS252))","v":""},{"$f":"IF(M248=\"\",\"\",M248/COUNTIF('Data Input'!$C$8:$AZ$8,$M$2))","v":""},{"$f":"IF(ISBLANK('Data Input'!A252),\"\",SUM('Data Input'!AY252,'Data Input'!AZ252))","v":""},{"$f":"IF(O248=\"\",\"\",O248/COUNTIF('Data Input'!$C$8:$AZ$8,$O$2))","v":""},{"$f":"IF(ISBLANK('Data Input'!A252),\"\",SUM('Data Input'!AW252))","v":""},{"$f":"IF(Q248=\"\",\"\",Q248/COUNTIF('Data Input'!$C$8:$AZ$8,$Q$2))","v":""},{"$f":"IF(ISBLANK('Data Input'!$A252),\"\",SUM('Data Input'!Q252,'Data Input'!AT252,'Data Input'!AU252))","v":""},{"$f":"IF(S248=\"\",\"\",S248/COUNTIF('Data Input'!$C$8:$AZ$8,$S$2))","v":""},{"$f":"IF(ISBLANK('Data Input'!$A252),\"\",SUM('Data Input'!AX252))","v":""},{"$f":"IF(U248=\"\",\"\",U248/COUNTIF('Data Input'!$C$8:$AZ$8,$U$2))","v":""}]
[{"$f":"IF('Data Input'!A253=0,\"\",'Data Input'!A253)","v":""},{"$f":"IF(ISBLANK('Data Input'!A253),\"\",COUNTIF('Data Input'!C253:AZ253,\"\"))","v":""},{"$f":"IF(ISBLANK('Data Input'!A253),\"\",COUNTIF('Data Input'!C253:AZ253,\"0\"))","v":""},{"$f":"IF(ISBLANK('Data Input'!A253),\"\",SUM(B249,C249))","v":""},{"$f":"IF(ISBLANK('Data Input'!A253),\"\",SUM('Data Input'!C253:AZ253))","v":""},{"$f":"IF(E249=\"\",\"\",E249/(COUNTA('Data Input'!$C$8:$AZ$8)))","v":""},{"$f":"IF(ISBLANK('Data Input'!A253),\"\",SUM('Data Input'!R253,'Data Input'!AA253,'Data Input'!AB253,'Data Input'!AC253,'Data Input'!AE253,'Data Input'!AH253,'Data Input'!AQ253,'Data Input'!AR253))","v":""},{"$f":"IF(G249=\"\",\"\",G249/COUNTIF('Data Input'!$C$8:$AZ$8,$G$2))","v":""},{"$f":"IF(ISBLANK('Data Input'!A253),\"\",SUM('Data Input'!D253,'Data Input'!E253,'Data Input'!F253,'Data Input'!G253,'Data Input'!H253,'Data Input'!J253,'Data Input'!K253,'Data Input'!O253,'Data Input'!U253,'Data Input'!V253,'Data Input'!W253,'Data Input'!X253,'Data Input'!Z253,'Data Input'!AG253,'Data Input'!AI253,'Data Input'!AJ253,'Data Input'!AK253))","v":""},{"$f":"IF(I249=\"\",\"\",I249/COUNTIF('Data Input'!$C$8:$AZ$8,$I$2))","v":""},{"$f":"IF(ISBLANK('Data Input'!A253),\"\",SUM('Data Input'!AF253,'Data Input'!AV253))","v":""},{"$f":"IF(K249=\"\",\"\",K249/COUNTIF('Data Input'!$C$8:$AZ$8,$K$2))","v":""},{"$f":"IF(ISBLANK('Data Input'!A253),\"\",SUM('Data Input'!C253,'Data Input'!I253,'Data Input'!L253,'Data Input'!M253,'Data Input'!N253,'Data Input'!P253,'Data Input'!S253,'Data Input'!T253,'Data Input'!Y253,'Data Input'!AD253,'Data Input'!AL253,'Data Input'!AM253,'Data Input'!AN253,'Data Input'!AO253,'Data Input'!AP253,'Data Input'!AS253))","v":""},{"$f":"IF(M249=\"\",\"\",M249/COUNTIF('Data Input'!$C$8:$AZ$8,$M$2))","v":""},{"$f":"IF(ISBLANK('Data Input'!A253),\"\",SUM('Data Input'!AY253,'Data Input'!AZ253))","v":""},{"$f":"IF(O249=\"\",\"\",O249/COUNTIF('Data Input'!$C$8:$AZ$8,$O$2))","v":""},{"$f":"IF(ISBLANK('Data Input'!A253),\"\",SUM('Data Input'!AW253))","v":""},{"$f":"IF(Q249=\"\",\"\",Q249/COUNTIF('Data Input'!$C$8:$AZ$8,$Q$2))","v":""},{"$f":"IF(ISBLANK('Data Input'!$A253),\"\",SUM('Data Input'!Q253,'Data Input'!AT253,'Data Input'!AU253))","v":""},{"$f":"IF(S249=\"\",\"\",S249/COUNTIF('Data Input'!$C$8:$AZ$8,$S$2))","v":""},{"$f":"IF(ISBLANK('Data Input'!$A253),\"\",SUM('Data Input'!AX253))","v":""},{"$f":"IF(U249=\"\",\"\",U249/COUNTIF('Data Input'!$C$8:$AZ$8,$U$2))","v":""}]
[{"$f":"IF('Data Input'!A254=0,\"\",'Data Input'!A254)","v":""},{"$f":"IF(ISBLANK('Data Input'!A254),\"\",COUNTIF('Data Input'!C254:AZ254,\"\"))","v":""},{"$f":"IF(ISBLANK('Data Input'!A254),\"\",COUNTIF('Data Input'!C254:AZ254,\"0\"))","v":""},{"$f":"IF(ISBLANK('Data Input'!A254),\"\",SUM(B250,C250))","v":""},{"$f":"IF(ISBLANK('Data Input'!A254),\"\",SUM('Data Input'!C254:AZ254))","v":""},{"$f":"IF(E250=\"\",\"\",E250/(COUNTA('Data Input'!$C$8:$AZ$8)))","v":""},{"$f":"IF(ISBLANK('Data Input'!A254),\"\",SUM('Data Input'!R254,'Data Input'!AA254,'Data Input'!AB254,'Data Input'!AC254,'Data Input'!AE254,'Data Input'!AH254,'Data Input'!AQ254,'Data Input'!AR254))","v":""},{"$f":"IF(G250=\"\",\"\",G250/COUNTIF('Data Input'!$C$8:$AZ$8,$G$2))","v":""},{"$f":"IF(ISBLANK('Data Input'!A254),\"\",SUM('Data Input'!D254,'Data Input'!E254,'Data Input'!F254,'Data Input'!G254,'Data Input'!H254,'Data Input'!J254,'Data Input'!K254,'Data Input'!O254,'Data Input'!U254,'Data Input'!V254,'Data Input'!W254,'Data Input'!X254,'Data Input'!Z254,'Data Input'!AG254,'Data Input'!AI254,'Data Input'!AJ254,'Data Input'!AK254))","v":""},{"$f":"IF(I250=\"\",\"\",I250/COUNTIF('Data Input'!$C$8:$AZ$8,$I$2))","v":""},{"$f":"IF(ISBLANK('Data Input'!A254),\"\",SUM('Data Input'!AF254,'Data Input'!AV254))","v":""},{"$f":"IF(K250=\"\",\"\",K250/COUNTIF('Data Input'!$C$8:$AZ$8,$K$2))","v":""},{"$f":"IF(ISBLANK('Data Input'!A254),\"\",SUM('Data Input'!C254,'Data Input'!I254,'Data Input'!L254,'Data Input'!M254,'Data Input'!N254,'Data Input'!P254,'Data Input'!S254,'Data Input'!T254,'Data Input'!Y254,'Data Input'!AD254,'Data Input'!AL254,'Data Input'!AM254,'Data Input'!AN254,'Data Input'!AO254,'Data Input'!AP254,'Data Input'!AS254))","v":""},{"$f":"IF(M250=\"\",\"\",M250/COUNTIF('Data Input'!$C$8:$AZ$8,$M$2))","v":""},{"$f":"IF(ISBLANK('Data Input'!A254),\"\",SUM('Data Input'!AY254,'Data Input'!AZ254))","v":""},{"$f":"IF(O250=\"\",\"\",O250/COUNTIF('Data Input'!$C$8:$AZ$8,$O$2))","v":""},{"$f":"IF(ISBLANK('Data Input'!A254),\"\",SUM('Data Input'!AW254))","v":""},{"$f":"IF(Q250=\"\",\"\",Q250/COUNTIF('Data Input'!$C$8:$AZ$8,$Q$2))","v":""},{"$f":"IF(ISBLANK('Data Input'!$A254),\"\",SUM('Data Input'!Q254,'Data Input'!AT254,'Data Input'!AU254))","v":""},{"$f":"IF(S250=\"\",\"\",S250/COUNTIF('Data Input'!$C$8:$AZ$8,$S$2))","v":""},{"$f":"IF(ISBLANK('Data Input'!$A254),\"\",SUM('Data Input'!AX254))","v":""},{"$f":"IF(U250=\"\",\"\",U250/COUNTIF('Data Input'!$C$8:$AZ$8,$U$2))","v":""}]
[{"$f":"IF('Data Input'!A255=0,\"\",'Data Input'!A255)","v":""},{"$f":"IF(ISBLANK('Data Input'!A255),\"\",COUNTIF('Data Input'!C255:AZ255,\"\"))","v":""},{"$f":"IF(ISBLANK('Data Input'!A255),\"\",COUNTIF('Data Input'!C255:AZ255,\"0\"))","v":""},{"$f":"IF(ISBLANK('Data Input'!A255),\"\",SUM(B251,C251))","v":""},{"$f":"IF(ISBLANK('Data Input'!A255),\"\",SUM('Data Input'!C255:AZ255))","v":""},{"$f":"IF(E251=\"\",\"\",E251/(COUNTA('Data Input'!$C$8:$AZ$8)))","v":""},{"$f":"IF(ISBLANK('Data Input'!A255),\"\",SUM('Data Input'!R255,'Data Input'!AA255,'Data Input'!AB255,'Data Input'!AC255,'Data Input'!AE255,'Data Input'!AH255,'Data Input'!AQ255,'Data Input'!AR255))","v":""},{"$f":"IF(G251=\"\",\"\",G251/COUNTIF('Data Input'!$C$8:$AZ$8,$G$2))","v":""},{"$f":"IF(ISBLANK('Data Input'!A255),\"\",SUM('Data Input'!D255,'Data Input'!E255,'Data Input'!F255,'Data Input'!G255,'Data Input'!H255,'Data Input'!J255,'Data Input'!K255,'Data Input'!O255,'Data Input'!U255,'Data Input'!V255,'Data Input'!W255,'Data Input'!X255,'Data Input'!Z255,'Data Input'!AG255,'Data Input'!AI255,'Data Input'!AJ255,'Data Input'!AK255))","v":""},{"$f":"IF(I251=\"\",\"\",I251/COUNTIF('Data Input'!$C$8:$AZ$8,$I$2))","v":""},{"$f":"IF(ISBLANK('Data Input'!A255),\"\",SUM('Data Input'!AF255,'Data Input'!AV255))","v":""},{"$f":"IF(K251=\"\",\"\",K251/COUNTIF('Data Input'!$C$8:$AZ$8,$K$2))","v":""},{"$f":"IF(ISBLANK('Data Input'!A255),\"\",SUM('Data Input'!C255,'Data Input'!I255,'Data Input'!L255,'Data Input'!M255,'Data Input'!N255,'Data Input'!P255,'Data Input'!S255,'Data Input'!T255,'Data Input'!Y255,'Data Input'!AD255,'Data Input'!AL255,'Data Input'!AM255,'Data Input'!AN255,'Data Input'!AO255,'Data Input'!AP255,'Data Input'!AS255))","v":""},{"$f":"IF(M251=\"\",\"\",M251/COUNTIF('Data Input'!$C$8:$AZ$8,$M$2))","v":""},{"$f":"IF(ISBLANK('Data Input'!A255),\"\",SUM('Data Input'!AY255,'Data Input'!AZ255))","v":""},{"$f":"IF(O251=\"\",\"\",O251/COUNTIF('Data Input'!$C$8:$AZ$8,$O$2))","v":""},{"$f":"IF(ISBLANK('Data Input'!A255),\"\",SUM('Data Input'!AW255))","v":""},{"$f":"IF(Q251=\"\",\"\",Q251/COUNTIF('Data Input'!$C$8:$AZ$8,$Q$2))","v":""},{"$f":"IF(ISBLANK('Data Input'!$A255),\"\",SUM('Data Input'!Q255,'Data Input'!AT255,'Data Input'!AU255))","v":""},{"$f":"IF(S251=\"\",\"\",S251/COUNTIF('Data Input'!$C$8:$AZ$8,$S$2))","v":""},{"$f":"IF(ISBLANK('Data Input'!$A255),\"\",SUM('Data Input'!AX255))","v":""},{"$f":"IF(U251=\"\",\"\",U251/COUNTIF('Data Input'!$C$8:$AZ$8,$U$2))","v":""}]
[{"$f":"IF('Data Input'!A256=0,\"\",'Data Input'!A256)","v":""},{"$f":"IF(ISBLANK('Data Input'!A256),\"\",COUNTIF('Data Input'!C256:AZ256,\"\"))","v":""},{"$f":"IF(ISBLANK('Data Input'!A256),\"\",COUNTIF('Data Input'!C256:AZ256,\"0\"))","v":""},{"$f":"IF(ISBLANK('Data Input'!A256),\"\",SUM(B252,C252))","v":""},{"$f":"IF(ISBLANK('Data Input'!A256),\"\",SUM('Data Input'!C256:AZ256))","v":""},{"$f":"IF(E252=\"\",\"\",E252/(COUNTA('Data Input'!$C$8:$AZ$8)))","v":""},{"$f":"IF(ISBLANK('Data Input'!A256),\"\",SUM('Data Input'!R256,'Data Input'!AA256,'Data Input'!AB256,'Data Input'!AC256,'Data Input'!AE256,'Data Input'!AH256,'Data Input'!AQ256,'Data Input'!AR256))","v":""},{"$f":"IF(G252=\"\",\"\",G252/COUNTIF('Data Input'!$C$8:$AZ$8,$G$2))","v":""},{"$f":"IF(ISBLANK('Data Input'!A256),\"\",SUM('Data Input'!D256,'Data Input'!E256,'Data Input'!F256,'Data Input'!G256,'Data Input'!H256,'Data Input'!J256,'Data Input'!K256,'Data Input'!O256,'Data Input'!U256,'Data Input'!V256,'Data Input'!W256,'Data Input'!X256,'Data Input'!Z256,'Data Input'!AG256,'Data Input'!AI256,'Data Input'!AJ256,'Data Input'!AK256))","v":""},{"$f":"IF(I252=\"\",\"\",I252/COUNTIF('Data Input'!$C$8:$AZ$8,$I$2))","v":""},{"$f":"IF(ISBLANK('Data Input'!A256),\"\",SUM('Data Input'!AF256,'Data Input'!AV256))","v":""},{"$f":"IF(K252=\"\",\"\",K252/COUNTIF('Data Input'!$C$8:$AZ$8,$K$2))","v":""},{"$f":"IF(ISBLANK('Data Input'!A256),\"\",SUM('Data Input'!C256,'Data Input'!I256,'Data Input'!L256,'Data Input'!M256,'Data Input'!N256,'Data Input'!P256,'Data Input'!S256,'Data Input'!T256,'Data Input'!Y256,'Data Input'!AD256,'Data Input'!AL256,'Data Input'!AM256,'Data Input'!AN256,'Data Input'!AO256,'Data Input'!AP256,'Data Input'!AS256))","v":""},{"$f":"IF(M252=\"\",\"\",M252/COUNTIF('Data Input'!$C$8:$AZ$8,$M$2))","v":""},{"$f":"IF(ISBLANK('Data Input'!A256),\"\",SUM('Data Input'!AY256,'Data Input'!AZ256))","v":""},{"$f":"IF(O252=\"\",\"\",O252/COUNTIF('Data Input'!$C$8:$AZ$8,$O$2))","v":""},{"$f":"IF(ISBLANK('Data Input'!A256),\"\",SUM('Data Input'!AW256))","v":""},{"$f":"IF(Q252=\"\",\"\",Q252/COUNTIF('Data Input'!$C$8:$AZ$8,$Q$2))","v":""},{"$f":"IF(ISBLANK('Data Input'!$A256),\"\",SUM('Data Input'!Q256,'Data Input'!AT256,'Data Input'!AU256))","v":""},{"$f":"IF(S252=\"\",\"\",S252/COUNTIF('Data Input'!$C$8:$AZ$8,$S$2))","v":""},{"$f":"IF(ISBLANK('Data Input'!$A256),\"\",SUM('Data Input'!AX256))","v":""},{"$f":"IF(U252=\"\",\"\",U252/COUNTIF('Data Input'!$C$8:$AZ$8,$U$2))","v":""}]
[{"$f":"IF('Data Input'!A257=0,\"\",'Data Input'!A257)","v":""},{"$f":"IF(ISBLANK('Data Input'!A257),\"\",COUNTIF('Data Input'!C257:AZ257,\"\"))","v":""},{"$f":"IF(ISBLANK('Data Input'!A257),\"\",COUNTIF('Data Input'!C257:AZ257,\"0\"))","v":""},{"$f":"IF(ISBLANK('Data Input'!A257),\"\",SUM(B253,C253))","v":""},{"$f":"IF(ISBLANK('Data Input'!A257),\"\",SUM('Data Input'!C257:AZ257))","v":""},{"$f":"IF(E253=\"\",\"\",E253/(COUNTA('Data Input'!$C$8:$AZ$8)))","v":""},{"$f":"IF(ISBLANK('Data Input'!A257),\"\",SUM('Data Input'!R257,'Data Input'!AA257,'Data Input'!AB257,'Data Input'!AC257,'Data Input'!AE257,'Data Input'!AH257,'Data Input'!AQ257,'Data Input'!AR257))","v":""},{"$f":"IF(G253=\"\",\"\",G253/COUNTIF('Data Input'!$C$8:$AZ$8,$G$2))","v":""},{"$f":"IF(ISBLANK('Data Input'!A257),\"\",SUM('Data Input'!D257,'Data Input'!E257,'Data Input'!F257,'Data Input'!G257,'Data Input'!H257,'Data Input'!J257,'Data Input'!K257,'Data Input'!O257,'Data Input'!U257,'Data Input'!V257,'Data Input'!W257,'Data Input'!X257,'Data Input'!Z257,'Data Input'!AG257,'Data Input'!AI257,'Data Input'!AJ257,'Data Input'!AK257))","v":""},{"$f":"IF(I253=\"\",\"\",I253/COUNTIF('Data Input'!$C$8:$AZ$8,$I$2))","v":""},{"$f":"IF(ISBLANK('Data Input'!A257),\"\",SUM('Data Input'!AF257,'Data Input'!AV257))","v":""},{"$f":"IF(K253=\"\",\"\",K253/COUNTIF('Data Input'!$C$8:$AZ$8,$K$2))","v":""},{"$f":"IF(ISBLANK('Data Input'!A257),\"\",SUM('Data Input'!C257,'Data Input'!I257,'Data Input'!L257,'Data Input'!M257,'Data Input'!N257,'Data Input'!P257,'Data Input'!S257,'Data Input'!T257,'Data Input'!Y257,'Data Input'!AD257,'Data Input'!AL257,'Data Input'!AM257,'Data Input'!AN257,'Data Input'!AO257,'Data Input'!AP257,'Data Input'!AS257))","v":""},{"$f":"IF(M253=\"\",\"\",M253/COUNTIF('Data Input'!$C$8:$AZ$8,$M$2))","v":""},{"$f":"IF(ISBLANK('Data Input'!A257),\"\",SUM('Data Input'!AY257,'Data Input'!AZ257))","v":""},{"$f":"IF(O253=\"\",\"\",O253/COUNTIF('Data Input'!$C$8:$AZ$8,$O$2))","v":""},{"$f":"IF(ISBLANK('Data Input'!A257),\"\",SUM('Data Input'!AW257))","v":""},{"$f":"IF(Q253=\"\",\"\",Q253/COUNTIF('Data Input'!$C$8:$AZ$8,$Q$2))","v":""},{"$f":"IF(ISBLANK('Data Input'!$A257),\"\",SUM('Data Input'!Q257,'Data Input'!AT257,'Data Input'!AU257))","v":""},{"$f":"IF(S253=\"\",\"\",S253/COUNTIF('Data Input'!$C$8:$AZ$8,$S$2))","v":""},{"$f":"IF(ISBLANK('Data Input'!$A257),\"\",SUM('Data Input'!AX257))","v":""},{"$f":"IF(U253=\"\",\"\",U253/COUNTIF('Data Input'!$C$8:$AZ$8,$U$2))","v":""}]
[{"$f":"IF('Data Input'!A258=0,\"\",'Data Input'!A258)","v":""},{"$f":"IF(ISBLANK('Data Input'!A258),\"\",COUNTIF('Data Input'!C258:AZ258,\"\"))","v":""},{"$f":"IF(ISBLANK('Data Input'!A258),\"\",COUNTIF('Data Input'!C258:AZ258,\"0\"))","v":""},{"$f":"IF(ISBLANK('Data Input'!A258),\"\",SUM(B254,C254))","v":""},{"$f":"IF(ISBLANK('Data Input'!A258),\"\",SUM('Data Input'!C258:AZ258))","v":""},{"$f":"IF(E254=\"\",\"\",E254/(COUNTA('Data Input'!$C$8:$AZ$8)))","v":""},{"$f":"IF(ISBLANK('Data Input'!A258),\"\",SUM('Data Input'!R258,'Data Input'!AA258,'Data Input'!AB258,'Data Input'!AC258,'Data Input'!AE258,'Data Input'!AH258,'Data Input'!AQ258,'Data Input'!AR258))","v":""},{"$f":"IF(G254=\"\",\"\",G254/COUNTIF('Data Input'!$C$8:$AZ$8,$G$2))","v":""},{"$f":"IF(ISBLANK('Data Input'!A258),\"\",SUM('Data Input'!D258,'Data Input'!E258,'Data Input'!F258,'Data Input'!G258,'Data Input'!H258,'Data Input'!J258,'Data Input'!K258,'Data Input'!O258,'Data Input'!U258,'Data Input'!V258,'Data Input'!W258,'Data Input'!X258,'Data Input'!Z258,'Data Input'!AG258,'Data Input'!AI258,'Data Input'!AJ258,'Data Input'!AK258))","v":""},{"$f":"IF(I254=\"\",\"\",I254/COUNTIF('Data Input'!$C$8:$AZ$8,$I$2))","v":""},{"$f":"IF(ISBLANK('Data Input'!A258),\"\",SUM('Data Input'!AF258,'Data Input'!AV258))","v":""},{"$f":"IF(K254=\"\",\"\",K254/COUNTIF('Data Input'!$C$8:$AZ$8,$K$2))","v":""},{"$f":"IF(ISBLANK('Data Input'!A258),\"\",SUM('Data Input'!C258,'Data Input'!I258,'Data Input'!L258,'Data Input'!M258,'Data Input'!N258,'Data Input'!P258,'Data Input'!S258,'Data Input'!T258,'Data Input'!Y258,'Data Input'!AD258,'Data Input'!AL258,'Data Input'!AM258,'Data Input'!AN258,'Data Input'!AO258,'Data Input'!AP258,'Data Input'!AS258))","v":""},{"$f":"IF(M254=\"\",\"\",M254/COUNTIF('Data Input'!$C$8:$AZ$8,$M$2))","v":""},{"$f":"IF(ISBLANK('Data Input'!A258),\"\",SUM('Data Input'!AY258,'Data Input'!AZ258))","v":""},{"$f":"IF(O254=\"\",\"\",O254/COUNTIF('Data Input'!$C$8:$AZ$8,$O$2))","v":""},{"$f":"IF(ISBLANK('Data Input'!A258),\"\",SUM('Data Input'!AW258))","v":""},{"$f":"IF(Q254=\"\",\"\",Q254/COUNTIF('Data Input'!$C$8:$AZ$8,$Q$2))","v":""},{"$f":"IF(ISBLANK('Data Input'!$A258),\"\",SUM('Data Input'!Q258,'Data Input'!AT258,'Data Input'!AU258))","v":""},{"$f":"IF(S254=\"\",\"\",S254/COUNTIF('Data Input'!$C$8:$AZ$8,$S$2))","v":""},{"$f":"IF(ISBLANK('Data Input'!$A258),\"\",SUM('Data Input'!AX258))","v":""},{"$f":"IF(U254=\"\",\"\",U254/COUNTIF('Data Input'!$C$8:$AZ$8,$U$2))","v":""}]
[{"$f":"IF('Data Input'!A259=0,\"\",'Data Input'!A259)","v":""},{"$f":"IF(ISBLANK('Data Input'!A259),\"\",COUNTIF('Data Input'!C259:AZ259,\"\"))","v":""},{"$f":"IF(ISBLANK('Data Input'!A259),\"\",COUNTIF('Data Input'!C259:AZ259,\"0\"))","v":""},{"$f":"IF(ISBLANK('Data Input'!A259),\"\",SUM(B255,C255))","v":""},{"$f":"IF(ISBLANK('Data Input'!A259),\"\",SUM('Data Input'!C259:AZ259))","v":""},{"$f":"IF(E255=\"\",\"\",E255/(COUNTA('Data Input'!$C$8:$AZ$8)))","v":""},{"$f":"IF(ISBLANK('Data Input'!A259),\"\",SUM('Data Input'!R259,'Data Input'!AA259,'Data Input'!AB259,'Data Input'!AC259,'Data Input'!AE259,'Data Input'!AH259,'Data Input'!AQ259,'Data Input'!AR259))","v":""},{"$f":"IF(G255=\"\",\"\",G255/COUNTIF('Data Input'!$C$8:$AZ$8,$G$2))","v":""},{"$f":"IF(ISBLANK('Data Input'!A259),\"\",SUM('Data Input'!D259,'Data Input'!E259,'Data Input'!F259,'Data Input'!G259,'Data Input'!H259,'Data Input'!J259,'Data Input'!K259,'Data Input'!O259,'Data Input'!U259,'Data Input'!V259,'Data Input'!W259,'Data Input'!X259,'Data Input'!Z259,'Data Input'!AG259,'Data Input'!AI259,'Data Input'!AJ259,'Data Input'!AK259))","v":""},{"$f":"IF(I255=\"\",\"\",I255/COUNTIF('Data Input'!$C$8:$AZ$8,$I$2))","v":""},{"$f":"IF(ISBLANK('Data Input'!A259),\"\",SUM('Data Input'!AF259,'Data Input'!AV259))","v":""},{"$f":"IF(K255=\"\",\"\",K255/COUNTIF('Data Input'!$C$8:$AZ$8,$K$2))","v":""},{"$f":"IF(ISBLANK('Data Input'!A259),\"\",SUM('Data Input'!C259,'Data Input'!I259,'Data Input'!L259,'Data Input'!M259,'Data Input'!N259,'Data Input'!P259,'Data Input'!S259,'Data Input'!T259,'Data Input'!Y259,'Data Input'!AD259,'Data Input'!AL259,'Data Input'!AM259,'Data Input'!AN259,'Data Input'!AO259,'Data Input'!AP259,'Data Input'!AS259))","v":""},{"$f":"IF(M255=\"\",\"\",M255/COUNTIF('Data Input'!$C$8:$AZ$8,$M$2))","v":""},{"$f":"IF(ISBLANK('Data Input'!A259),\"\",SUM('Data Input'!AY259,'Data Input'!AZ259))","v":""},{"$f":"IF(O255=\"\",\"\",O255/COUNTIF('Data Input'!$C$8:$AZ$8,$O$2))","v":""},{"$f":"IF(ISBLANK('Data Input'!A259),\"\",SUM('Data Input'!AW259))","v":""},{"$f":"IF(Q255=\"\",\"\",Q255/COUNTIF('Data Input'!$C$8:$AZ$8,$Q$2))","v":""},{"$f":"IF(ISBLANK('Data Input'!$A259),\"\",SUM('Data Input'!Q259,'Data Input'!AT259,'Data Input'!AU259))","v":""},{"$f":"IF(S255=\"\",\"\",S255/COUNTIF('Data Input'!$C$8:$AZ$8,$S$2))","v":""},{"$f":"IF(ISBLANK('Data Input'!$A259),\"\",SUM('Data Input'!AX259))","v":""},{"$f":"IF(U255=\"\",\"\",U255/COUNTIF('Data Input'!$C$8:$AZ$8,$U$2))","v":""}]
[{"$f":"IF('Data Input'!A260=0,\"\",'Data Input'!A260)","v":""},{"$f":"IF(ISBLANK('Data Input'!A260),\"\",COUNTIF('Data Input'!C260:AZ260,\"\"))","v":""},{"$f":"IF(ISBLANK('Data Input'!A260),\"\",COUNTIF('Data Input'!C260:AZ260,\"0\"))","v":""},{"$f":"IF(ISBLANK('Data Input'!A260),\"\",SUM(B256,C256))","v":""},{"$f":"IF(ISBLANK('Data Input'!A260),\"\",SUM('Data Input'!C260:AZ260))","v":""},{"$f":"IF(E256=\"\",\"\",E256/(COUNTA('Data Input'!$C$8:$AZ$8)))","v":""},{"$f":"IF(ISBLANK('Data Input'!A260),\"\",SUM('Data Input'!R260,'Data Input'!AA260,'Data Input'!AB260,'Data Input'!AC260,'Data Input'!AE260,'Data Input'!AH260,'Data Input'!AQ260,'Data Input'!AR260))","v":""},{"$f":"IF(G256=\"\",\"\",G256/COUNTIF('Data Input'!$C$8:$AZ$8,$G$2))","v":""},{"$f":"IF(ISBLANK('Data Input'!A260),\"\",SUM('Data Input'!D260,'Data Input'!E260,'Data Input'!F260,'Data Input'!G260,'Data Input'!H260,'Data Input'!J260,'Data Input'!K260,'Data Input'!O260,'Data Input'!U260,'Data Input'!V260,'Data Input'!W260,'Data Input'!X260,'Data Input'!Z260,'Data Input'!AG260,'Data Input'!AI260,'Data Input'!AJ260,'Data Input'!AK260))","v":""},{"$f":"IF(I256=\"\",\"\",I256/COUNTIF('Data Input'!$C$8:$AZ$8,$I$2))","v":""},{"$f":"IF(ISBLANK('Data Input'!A260),\"\",SUM('Data Input'!AF260,'Data Input'!AV260))","v":""},{"$f":"IF(K256=\"\",\"\",K256/COUNTIF('Data Input'!$C$8:$AZ$8,$K$2))","v":""},{"$f":"IF(ISBLANK('Data Input'!A260),\"\",SUM('Data Input'!C260,'Data Input'!I260,'Data Input'!L260,'Data Input'!M260,'Data Input'!N260,'Data Input'!P260,'Data Input'!S260,'Data Input'!T260,'Data Input'!Y260,'Data Input'!AD260,'Data Input'!AL260,'Data Input'!AM260,'Data Input'!AN260,'Data Input'!AO260,'Data Input'!AP260,'Data Input'!AS260))","v":""},{"$f":"IF(M256=\"\",\"\",M256/COUNTIF('Data Input'!$C$8:$AZ$8,$M$2))","v":""},{"$f":"IF(ISBLANK('Data Input'!A260),\"\",SUM('Data Input'!AY260,'Data Input'!AZ260))","v":""},{"$f":"IF(O256=\"\",\"\",O256/COUNTIF('Data Input'!$C$8:$AZ$8,$O$2))","v":""},{"$f":"IF(ISBLANK('Data Input'!A260),\"\",SUM('Data Input'!AW260))","v":""},{"$f":"IF(Q256=\"\",\"\",Q256/COUNTIF('Data Input'!$C$8:$AZ$8,$Q$2))","v":""},{"$f":"IF(ISBLANK('Data Input'!$A260),\"\",SUM('Data Input'!Q260,'Data Input'!AT260,'Data Input'!AU260))","v":""},{"$f":"IF(S256=\"\",\"\",S256/COUNTIF('Data Input'!$C$8:$AZ$8,$S$2))","v":""},{"$f":"IF(ISBLANK('Data Input'!$A260),\"\",SUM('Data Input'!AX260))","v":""},{"$f":"IF(U256=\"\",\"\",U256/COUNTIF('Data Input'!$C$8:$AZ$8,$U$2))","v":""}]
[{"$f":"IF('Data Input'!A261=0,\"\",'Data Input'!A261)","v":""},{"$f":"IF(ISBLANK('Data Input'!A261),\"\",COUNTIF('Data Input'!C261:AZ261,\"\"))","v":""},{"$f":"IF(ISBLANK('Data Input'!A261),\"\",COUNTIF('Data Input'!C261:AZ261,\"0\"))","v":""},{"$f":"IF(ISBLANK('Data Input'!A261),\"\",SUM(B257,C257))","v":""},{"$f":"IF(ISBLANK('Data Input'!A261),\"\",SUM('Data Input'!C261:AZ261))","v":""},{"$f":"IF(E257=\"\",\"\",E257/(COUNTA('Data Input'!$C$8:$AZ$8)))","v":""},{"$f":"IF(ISBLANK('Data Input'!A261),\"\",SUM('Data Input'!R261,'Data Input'!AA261,'Data Input'!AB261,'Data Input'!AC261,'Data Input'!AE261,'Data Input'!AH261,'Data Input'!AQ261,'Data Input'!AR261))","v":""},{"$f":"IF(G257=\"\",\"\",G257/COUNTIF('Data Input'!$C$8:$AZ$8,$G$2))","v":""},{"$f":"IF(ISBLANK('Data Input'!A261),\"\",SUM('Data Input'!D261,'Data Input'!E261,'Data Input'!F261,'Data Input'!G261,'Data Input'!H261,'Data Input'!J261,'Data Input'!K261,'Data Input'!O261,'Data Input'!U261,'Data Input'!V261,'Data Input'!W261,'Data Input'!X261,'Data Input'!Z261,'Data Input'!AG261,'Data Input'!AI261,'Data Input'!AJ261,'Data Input'!AK261))","v":""},{"$f":"IF(I257=\"\",\"\",I257/COUNTIF('Data Input'!$C$8:$AZ$8,$I$2))","v":""},{"$f":"IF(ISBLANK('Data Input'!A261),\"\",SUM('Data Input'!AF261,'Data Input'!AV261))","v":""},{"$f":"IF(K257=\"\",\"\",K257/COUNTIF('Data Input'!$C$8:$AZ$8,$K$2))","v":""},{"$f":"IF(ISBLANK('Data Input'!A261),\"\",SUM('Data Input'!C261,'Data Input'!I261,'Data Input'!L261,'Data Input'!M261,'Data Input'!N261,'Data Input'!P261,'Data Input'!S261,'Data Input'!T261,'Data Input'!Y261,'Data Input'!AD261,'Data Input'!AL261,'Data Input'!AM261,'Data Input'!AN261,'Data Input'!AO261,'Data Input'!AP261,'Data Input'!AS261))","v":""},{"$f":"IF(M257=\"\",\"\",M257/COUNTIF('Data Input'!$C$8:$AZ$8,$M$2))","v":""},{"$f":"IF(ISBLANK('Data Input'!A261),\"\",SUM('Data Input'!AY261,'Data Input'!AZ261))","v":""},{"$f":"IF(O257=\"\",\"\",O257/COUNTIF('Data Input'!$C$8:$AZ$8,$O$2))","v":""},{"$f":"IF(ISBLANK('Data Input'!A261),\"\",SUM('Data Input'!AW261))","v":""},{"$f":"IF(Q257=\"\",\"\",Q257/COUNTIF('Data Input'!$C$8:$AZ$8,$Q$2))","v":""},{"$f":"IF(ISBLANK('Data Input'!$A261),\"\",SUM('Data Input'!Q261,'Data Input'!AT261,'Data Input'!AU261))","v":""},{"$f":"IF(S257=\"\",\"\",S257/COUNTIF('Data Input'!$C$8:$AZ$8,$S$2))","v":""},{"$f":"IF(ISBLANK('Data Input'!$A261),\"\",SUM('Data Input'!AX261))","v":""},{"$f":"IF(U257=\"\",\"\",U257/COUNTIF('Data Input'!$C$8:$AZ$8,$U$2))","v":""}]
[{"$f":"IF('Data Input'!A262=0,\"\",'Data Input'!A262)","v":""},{"$f":"IF(ISBLANK('Data Input'!A262),\"\",COUNTIF('Data Input'!C262:AZ262,\"\"))","v":""},{"$f":"IF(ISBLANK('Data Input'!A262),\"\",COUNTIF('Data Input'!C262:AZ262,\"0\"))","v":""},{"$f":"IF(ISBLANK('Data Input'!A262),\"\",SUM(B258,C258))","v":""},{"$f":"IF(ISBLANK('Data Input'!A262),\"\",SUM('Data Input'!C262:AZ262))","v":""},{"$f":"IF(E258=\"\",\"\",E258/(COUNTA('Data Input'!$C$8:$AZ$8)))","v":""},{"$f":"IF(ISBLANK('Data Input'!A262),\"\",SUM('Data Input'!R262,'Data Input'!AA262,'Data Input'!AB262,'Data Input'!AC262,'Data Input'!AE262,'Data Input'!AH262,'Data Input'!AQ262,'Data Input'!AR262))","v":""},{"$f":"IF(G258=\"\",\"\",G258/COUNTIF('Data Input'!$C$8:$AZ$8,$G$2))","v":""},{"$f":"IF(ISBLANK('Data Input'!A262),\"\",SUM('Data Input'!D262,'Data Input'!E262,'Data Input'!F262,'Data Input'!G262,'Data Input'!H262,'Data Input'!J262,'Data Input'!K262,'Data Input'!O262,'Data Input'!U262,'Data Input'!V262,'Data Input'!W262,'Data Input'!X262,'Data Input'!Z262,'Data Input'!AG262,'Data Input'!AI262,'Data Input'!AJ262,'Data Input'!AK262))","v":""},{"$f":"IF(I258=\"\",\"\",I258/COUNTIF('Data Input'!$C$8:$AZ$8,$I$2))","v":""},{"$f":"IF(ISBLANK('Data Input'!A262),\"\",SUM('Data Input'!AF262,'Data Input'!AV262))","v":""},{"$f":"IF(K258=\"\",\"\",K258/COUNTIF('Data Input'!$C$8:$AZ$8,$K$2))","v":""},{"$f":"IF(ISBLANK('Data Input'!A262),\"\",SUM('Data Input'!C262,'Data Input'!I262,'Data Input'!L262,'Data Input'!M262,'Data Input'!N262,'Data Input'!P262,'Data Input'!S262,'Data Input'!T262,'Data Input'!Y262,'Data Input'!AD262,'Data Input'!AL262,'Data Input'!AM262,'Data Input'!AN262,'Data Input'!AO262,'Data Input'!AP262,'Data Input'!AS262))","v":""},{"$f":"IF(M258=\"\",\"\",M258/COUNTIF('Data Input'!$C$8:$AZ$8,$M$2))","v":""},{"$f":"IF(ISBLANK('Data Input'!A262),\"\",SUM('Data Input'!AY262,'Data Input'!AZ262))","v":""},{"$f":"IF(O258=\"\",\"\",O258/COUNTIF('Data Input'!$C$8:$AZ$8,$O$2))","v":""},{"$f":"IF(ISBLANK('Data Input'!A262),\"\",SUM('Data Input'!AW262))","v":""},{"$f":"IF(Q258=\"\",\"\",Q258/COUNTIF('Data Input'!$C$8:$AZ$8,$Q$2))","v":""},{"$f":"IF(ISBLANK('Data Input'!$A262),\"\",SUM('Data Input'!Q262,'Data Input'!AT262,'Data Input'!AU262))","v":""},{"$f":"IF(S258=\"\",\"\",S258/COUNTIF('Data Input'!$C$8:$AZ$8,$S$2))","v":""},{"$f":"IF(ISBLANK('Data Input'!$A262),\"\",SUM('Data Input'!AX262))","v":""},{"$f":"IF(U258=\"\",\"\",U258/COUNTIF('Data Input'!$C$8:$AZ$8,$U$2))","v":""}]
[{"$f":"IF('Data Input'!A263=0,\"\",'Data Input'!A263)","v":""},{"$f":"IF(ISBLANK('Data Input'!A263),\"\",COUNTIF('Data Input'!C263:AZ263,\"\"))","v":""},{"$f":"IF(ISBLANK('Data Input'!A263),\"\",COUNTIF('Data Input'!C263:AZ263,\"0\"))","v":""},{"$f":"IF(ISBLANK('Data Input'!A263),\"\",SUM(B259,C259))","v":""},{"$f":"IF(ISBLANK('Data Input'!A263),\"\",SUM('Data Input'!C263:AZ263))","v":""},{"$f":"IF(E259=\"\",\"\",E259/(COUNTA('Data Input'!$C$8:$AZ$8)))","v":""},{"$f":"IF(ISBLANK('Data Input'!A263),\"\",SUM('Data Input'!R263,'Data Input'!AA263,'Data Input'!AB263,'Data Input'!AC263,'Data Input'!AE263,'Data Input'!AH263,'Data Input'!AQ263,'Data Input'!AR263))","v":""},{"$f":"IF(G259=\"\",\"\",G259/COUNTIF('Data Input'!$C$8:$AZ$8,$G$2))","v":""},{"$f":"IF(ISBLANK('Data Input'!A263),\"\",SUM('Data Input'!D263,'Data Input'!E263,'Data Input'!F263,'Data Input'!G263,'Data Input'!H263,'Data Input'!J263,'Data Input'!K263,'Data Input'!O263,'Data Input'!U263,'Data Input'!V263,'Data Input'!W263,'Data Input'!X263,'Data Input'!Z263,'Data Input'!AG263,'Data Input'!AI263,'Data Input'!AJ263,'Data Input'!AK263))","v":""},{"$f":"IF(I259=\"\",\"\",I259/COUNTIF('Data Input'!$C$8:$AZ$8,$I$2))","v":""},{"$f":"IF(ISBLANK('Data Input'!A263),\"\",SUM('Data Input'!AF263,'Data Input'!AV263))","v":""},{"$f":"IF(K259=\"\",\"\",K259/COUNTIF('Data Input'!$C$8:$AZ$8,$K$2))","v":""},{"$f":"IF(ISBLANK('Data Input'!A263),\"\",SUM('Data Input'!C263,'Data Input'!I263,'Data Input'!L263,'Data Input'!M263,'Data Input'!N263,'Data Input'!P263,'Data Input'!S263,'Data Input'!T263,'Data Input'!Y263,'Data Input'!AD263,'Data Input'!AL263,'Data Input'!AM263,'Data Input'!AN263,'Data Input'!AO263,'Data Input'!AP263,'Data Input'!AS263))","v":""},{"$f":"IF(M259=\"\",\"\",M259/COUNTIF('Data Input'!$C$8:$AZ$8,$M$2))","v":""},{"$f":"IF(ISBLANK('Data Input'!A263),\"\",SUM('Data Input'!AY263,'Data Input'!AZ263))","v":""},{"$f":"IF(O259=\"\",\"\",O259/COUNTIF('Data Input'!$C$8:$AZ$8,$O$2))","v":""},{"$f":"IF(ISBLANK('Data Input'!A263),\"\",SUM('Data Input'!AW263))","v":""},{"$f":"IF(Q259=\"\",\"\",Q259/COUNTIF('Data Input'!$C$8:$AZ$8,$Q$2))","v":""},{"$f":"IF(ISBLANK('Data Input'!$A263),\"\",SUM('Data Input'!Q263,'Data Input'!AT263,'Data Input'!AU263))","v":""},{"$f":"IF(S259=\"\",\"\",S259/COUNTIF('Data Input'!$C$8:$AZ$8,$S$2))","v":""},{"$f":"IF(ISBLANK('Data Input'!$A263),\"\",SUM('Data Input'!AX263))","v":""},{"$f":"IF(U259=\"\",\"\",U259/COUNTIF('Data Input'!$C$8:$AZ$8,$U$2))","v":""}]
[{"$f":"IF('Data Input'!A264=0,\"\",'Data Input'!A264)","v":""},{"$f":"IF(ISBLANK('Data Input'!A264),\"\",COUNTIF('Data Input'!C264:AZ264,\"\"))","v":""},{"$f":"IF(ISBLANK('Data Input'!A264),\"\",COUNTIF('Data Input'!C264:AZ264,\"0\"))","v":""},{"$f":"IF(ISBLANK('Data Input'!A264),\"\",SUM(B260,C260))","v":""},{"$f":"IF(ISBLANK('Data Input'!A264),\"\",SUM('Data Input'!C264:AZ264))","v":""},{"$f":"IF(E260=\"\",\"\",E260/(COUNTA('Data Input'!$C$8:$AZ$8)))","v":""},{"$f":"IF(ISBLANK('Data Input'!A264),\"\",SUM('Data Input'!R264,'Data Input'!AA264,'Data Input'!AB264,'Data Input'!AC264,'Data Input'!AE264,'Data Input'!AH264,'Data Input'!AQ264,'Data Input'!AR264))","v":""},{"$f":"IF(G260=\"\",\"\",G260/COUNTIF('Data Input'!$C$8:$AZ$8,$G$2))","v":""},{"$f":"IF(ISBLANK('Data Input'!A264),\"\",SUM('Data Input'!D264,'Data Input'!E264,'Data Input'!F264,'Data Input'!G264,'Data Input'!H264,'Data Input'!J264,'Data Input'!K264,'Data Input'!O264,'Data Input'!U264,'Data Input'!V264,'Data Input'!W264,'Data Input'!X264,'Data Input'!Z264,'Data Input'!AG264,'Data Input'!AI264,'Data Input'!AJ264,'Data Input'!AK264))","v":""},{"$f":"IF(I260=\"\",\"\",I260/COUNTIF('Data Input'!$C$8:$AZ$8,$I$2))","v":""},{"$f":"IF(ISBLANK('Data Input'!A264),\"\",SUM('Data Input'!AF264,'Data Input'!AV264))","v":""},{"$f":"IF(K260=\"\",\"\",K260/COUNTIF('Data Input'!$C$8:$AZ$8,$K$2))","v":""},{"$f":"IF(ISBLANK('Data Input'!A264),\"\",SUM('Data Input'!C264,'Data Input'!I264,'Data Input'!L264,'Data Input'!M264,'Data Input'!N264,'Data Input'!P264,'Data Input'!S264,'Data Input'!T264,'Data Input'!Y264,'Data Input'!AD264,'Data Input'!AL264,'Data Input'!AM264,'Data Input'!AN264,'Data Input'!AO264,'Data Input'!AP264,'Data Input'!AS264))","v":""},{"$f":"IF(M260=\"\",\"\",M260/COUNTIF('Data Input'!$C$8:$AZ$8,$M$2))","v":""},{"$f":"IF(ISBLANK('Data Input'!A264),\"\",SUM('Data Input'!AY264,'Data Input'!AZ264))","v":""},{"$f":"IF(O260=\"\",\"\",O260/COUNTIF('Data Input'!$C$8:$AZ$8,$O$2))","v":""},{"$f":"IF(ISBLANK('Data Input'!A264),\"\",SUM('Data Input'!AW264))","v":""},{"$f":"IF(Q260=\"\",\"\",Q260/COUNTIF('Data Input'!$C$8:$AZ$8,$Q$2))","v":""},{"$f":"IF(ISBLANK('Data Input'!$A264),\"\",SUM('Data Input'!Q264,'Data Input'!AT264,'Data Input'!AU264))","v":""},{"$f":"IF(S260=\"\",\"\",S260/COUNTIF('Data Input'!$C$8:$AZ$8,$S$2))","v":""},{"$f":"IF(ISBLANK('Data Input'!$A264),\"\",SUM('Data Input'!AX264))","v":""},{"$f":"IF(U260=\"\",\"\",U260/COUNTIF('Data Input'!$C$8:$AZ$8,$U$2))","v":""}]
[{"$f":"IF('Data Input'!A265=0,\"\",'Data Input'!A265)","v":""},{"$f":"IF(ISBLANK('Data Input'!A265),\"\",COUNTIF('Data Input'!C265:AZ265,\"\"))","v":""},{"$f":"IF(ISBLANK('Data Input'!A265),\"\",COUNTIF('Data Input'!C265:AZ265,\"0\"))","v":""},{"$f":"IF(ISBLANK('Data Input'!A265),\"\",SUM(B261,C261))","v":""},{"$f":"IF(ISBLANK('Data Input'!A265),\"\",SUM('Data Input'!C265:AZ265))","v":""},{"$f":"IF(E261=\"\",\"\",E261/(COUNTA('Data Input'!$C$8:$AZ$8)))","v":""},{"$f":"IF(ISBLANK('Data Input'!A265),\"\",SUM('Data Input'!R265,'Data Input'!AA265,'Data Input'!AB265,'Data Input'!AC265,'Data Input'!AE265,'Data Input'!AH265,'Data Input'!AQ265,'Data Input'!AR265))","v":""},{"$f":"IF(G261=\"\",\"\",G261/COUNTIF('Data Input'!$C$8:$AZ$8,$G$2))","v":""},{"$f":"IF(ISBLANK('Data Input'!A265),\"\",SUM('Data Input'!D265,'Data Input'!E265,'Data Input'!F265,'Data Input'!G265,'Data Input'!H265,'Data Input'!J265,'Data Input'!K265,'Data Input'!O265,'Data Input'!U265,'Data Input'!V265,'Data Input'!W265,'Data Input'!X265,'Data Input'!Z265,'Data Input'!AG265,'Data Input'!AI265,'Data Input'!AJ265,'Data Input'!AK265))","v":""},{"$f":"IF(I261=\"\",\"\",I261/COUNTIF('Data Input'!$C$8:$AZ$8,$I$2))","v":""},{"$f":"IF(ISBLANK('Data Input'!A265),\"\",SUM('Data Input'!AF265,'Data Input'!AV265))","v":""},{"$f":"IF(K261=\"\",\"\",K261/COUNTIF('Data Input'!$C$8:$AZ$8,$K$2))","v":""},{"$f":"IF(ISBLANK('Data Input'!A265),\"\",SUM('Data Input'!C265,'Data Input'!I265,'Data Input'!L265,'Data Input'!M265,'Data Input'!N265,'Data Input'!P265,'Data Input'!S265,'Data Input'!T265,'Data Input'!Y265,'Data Input'!AD265,'Data Input'!AL265,'Data Input'!AM265,'Data Input'!AN265,'Data Input'!AO265,'Data Input'!AP265,'Data Input'!AS265))","v":""},{"$f":"IF(M261=\"\",\"\",M261/COUNTIF('Data Input'!$C$8:$AZ$8,$M$2))","v":""},{"$f":"IF(ISBLANK('Data Input'!A265),\"\",SUM('Data Input'!AY265,'Data Input'!AZ265))","v":""},{"$f":"IF(O261=\"\",\"\",O261/COUNTIF('Data Input'!$C$8:$AZ$8,$O$2))","v":""},{"$f":"IF(ISBLANK('Data Input'!A265),\"\",SUM('Data Input'!AW265))","v":""},{"$f":"IF(Q261=\"\",\"\",Q261/COUNTIF('Data Input'!$C$8:$AZ$8,$Q$2))","v":""},{"$f":"IF(ISBLANK('Data Input'!$A265),\"\",SUM('Data Input'!Q265,'Data Input'!AT265,'Data Input'!AU265))","v":""},{"$f":"IF(S261=\"\",\"\",S261/COUNTIF('Data Input'!$C$8:$AZ$8,$S$2))","v":""},{"$f":"IF(ISBLANK('Data Input'!$A265),\"\",SUM('Data Input'!AX265))","v":""},{"$f":"IF(U261=\"\",\"\",U261/COUNTIF('Data Input'!$C$8:$AZ$8,$U$2))","v":""}]
[{"$f":"IF('Data Input'!A266=0,\"\",'Data Input'!A266)","v":""},{"$f":"IF(ISBLANK('Data Input'!A266),\"\",COUNTIF('Data Input'!C266:AZ266,\"\"))","v":""},{"$f":"IF(ISBLANK('Data Input'!A266),\"\",COUNTIF('Data Input'!C266:AZ266,\"0\"))","v":""},{"$f":"IF(ISBLANK('Data Input'!A266),\"\",SUM(B262,C262))","v":""},{"$f":"IF(ISBLANK('Data Input'!A266),\"\",SUM('Data Input'!C266:AZ266))","v":""},{"$f":"IF(E262=\"\",\"\",E262/(COUNTA('Data Input'!$C$8:$AZ$8)))","v":""},{"$f":"IF(ISBLANK('Data Input'!A266),\"\",SUM('Data Input'!R266,'Data Input'!AA266,'Data Input'!AB266,'Data Input'!AC266,'Data Input'!AE266,'Data Input'!AH266,'Data Input'!AQ266,'Data Input'!AR266))","v":""},{"$f":"IF(G262=\"\",\"\",G262/COUNTIF('Data Input'!$C$8:$AZ$8,$G$2))","v":""},{"$f":"IF(ISBLANK('Data Input'!A266),\"\",SUM('Data Input'!D266,'Data Input'!E266,'Data Input'!F266,'Data Input'!G266,'Data Input'!H266,'Data Input'!J266,'Data Input'!K266,'Data Input'!O266,'Data Input'!U266,'Data Input'!V266,'Data Input'!W266,'Data Input'!X266,'Data Input'!Z266,'Data Input'!AG266,'Data Input'!AI266,'Data Input'!AJ266,'Data Input'!AK266))","v":""},{"$f":"IF(I262=\"\",\"\",I262/COUNTIF('Data Input'!$C$8:$AZ$8,$I$2))","v":""},{"$f":"IF(ISBLANK('Data Input'!A266),\"\",SUM('Data Input'!AF266,'Data Input'!AV266))","v":""},{"$f":"IF(K262=\"\",\"\",K262/COUNTIF('Data Input'!$C$8:$AZ$8,$K$2))","v":""},{"$f":"IF(ISBLANK('Data Input'!A266),\"\",SUM('Data Input'!C266,'Data Input'!I266,'Data Input'!L266,'Data Input'!M266,'Data Input'!N266,'Data Input'!P266,'Data Input'!S266,'Data Input'!T266,'Data Input'!Y266,'Data Input'!AD266,'Data Input'!AL266,'Data Input'!AM266,'Data Input'!AN266,'Data Input'!AO266,'Data Input'!AP266,'Data Input'!AS266))","v":""},{"$f":"IF(M262=\"\",\"\",M262/COUNTIF('Data Input'!$C$8:$AZ$8,$M$2))","v":""},{"$f":"IF(ISBLANK('Data Input'!A266),\"\",SUM('Data Input'!AY266,'Data Input'!AZ266))","v":""},{"$f":"IF(O262=\"\",\"\",O262/COUNTIF('Data Input'!$C$8:$AZ$8,$O$2))","v":""},{"$f":"IF(ISBLANK('Data Input'!A266),\"\",SUM('Data Input'!AW266))","v":""},{"$f":"IF(Q262=\"\",\"\",Q262/COUNTIF('Data Input'!$C$8:$AZ$8,$Q$2))","v":""},{"$f":"IF(ISBLANK('Data Input'!$A266),\"\",SUM('Data Input'!Q266,'Data Input'!AT266,'Data Input'!AU266))","v":""},{"$f":"IF(S262=\"\",\"\",S262/COUNTIF('Data Input'!$C$8:$AZ$8,$S$2))","v":""},{"$f":"IF(ISBLANK('Data Input'!$A266),\"\",SUM('Data Input'!AX266))","v":""},{"$f":"IF(U262=\"\",\"\",U262/COUNTIF('Data Input'!$C$8:$AZ$8,$U$2))","v":""}]
[{"$f":"IF('Data Input'!A267=0,\"\",'Data Input'!A267)","v":""},{"$f":"IF(ISBLANK('Data Input'!A267),\"\",COUNTIF('Data Input'!C267:AZ267,\"\"))","v":""},{"$f":"IF(ISBLANK('Data Input'!A267),\"\",COUNTIF('Data Input'!C267:AZ267,\"0\"))","v":""},{"$f":"IF(ISBLANK('Data Input'!A267),\"\",SUM(B263,C263))","v":""},{"$f":"IF(ISBLANK('Data Input'!A267),\"\",SUM('Data Input'!C267:AZ267))","v":""},{"$f":"IF(E263=\"\",\"\",E263/(COUNTA('Data Input'!$C$8:$AZ$8)))","v":""},{"$f":"IF(ISBLANK('Data Input'!A267),\"\",SUM('Data Input'!R267,'Data Input'!AA267,'Data Input'!AB267,'Data Input'!AC267,'Data Input'!AE267,'Data Input'!AH267,'Data Input'!AQ267,'Data Input'!AR267))","v":""},{"$f":"IF(G263=\"\",\"\",G263/COUNTIF('Data Input'!$C$8:$AZ$8,$G$2))","v":""},{"$f":"IF(ISBLANK('Data Input'!A267),\"\",SUM('Data Input'!D267,'Data Input'!E267,'Data Input'!F267,'Data Input'!G267,'Data Input'!H267,'Data Input'!J267,'Data Input'!K267,'Data Input'!O267,'Data Input'!U267,'Data Input'!V267,'Data Input'!W267,'Data Input'!X267,'Data Input'!Z267,'Data Input'!AG267,'Data Input'!AI267,'Data Input'!AJ267,'Data Input'!AK267))","v":""},{"$f":"IF(I263=\"\",\"\",I263/COUNTIF('Data Input'!$C$8:$AZ$8,$I$2))","v":""},{"$f":"IF(ISBLANK('Data Input'!A267),\"\",SUM('Data Input'!AF267,'Data Input'!AV267))","v":""},{"$f":"IF(K263=\"\",\"\",K263/COUNTIF('Data Input'!$C$8:$AZ$8,$K$2))","v":""},{"$f":"IF(ISBLANK('Data Input'!A267),\"\",SUM('Data Input'!C267,'Data Input'!I267,'Data Input'!L267,'Data Input'!M267,'Data Input'!N267,'Data Input'!P267,'Data Input'!S267,'Data Input'!T267,'Data Input'!Y267,'Data Input'!AD267,'Data Input'!AL267,'Data Input'!AM267,'Data Input'!AN267,'Data Input'!AO267,'Data Input'!AP267,'Data Input'!AS267))","v":""},{"$f":"IF(M263=\"\",\"\",M263/COUNTIF('Data Input'!$C$8:$AZ$8,$M$2))","v":""},{"$f":"IF(ISBLANK('Data Input'!A267),\"\",SUM('Data Input'!AY267,'Data Input'!AZ267))","v":""},{"$f":"IF(O263=\"\",\"\",O263/COUNTIF('Data Input'!$C$8:$AZ$8,$O$2))","v":""},{"$f":"IF(ISBLANK('Data Input'!A267),\"\",SUM('Data Input'!AW267))","v":""},{"$f":"IF(Q263=\"\",\"\",Q263/COUNTIF('Data Input'!$C$8:$AZ$8,$Q$2))","v":""},{"$f":"IF(ISBLANK('Data Input'!$A267),\"\",SUM('Data Input'!Q267,'Data Input'!AT267,'Data Input'!AU267))","v":""},{"$f":"IF(S263=\"\",\"\",S263/COUNTIF('Data Input'!$C$8:$AZ$8,$S$2))","v":""},{"$f":"IF(ISBLANK('Data Input'!$A267),\"\",SUM('Data Input'!AX267))","v":""},{"$f":"IF(U263=\"\",\"\",U263/COUNTIF('Data Input'!$C$8:$AZ$8,$U$2))","v":""}]
[{"$f":"IF('Data Input'!A268=0,\"\",'Data Input'!A268)","v":""},{"$f":"IF(ISBLANK('Data Input'!A268),\"\",COUNTIF('Data Input'!C268:AZ268,\"\"))","v":""},{"$f":"IF(ISBLANK('Data Input'!A268),\"\",COUNTIF('Data Input'!C268:AZ268,\"0\"))","v":""},{"$f":"IF(ISBLANK('Data Input'!A268),\"\",SUM(B264,C264))","v":""},{"$f":"IF(ISBLANK('Data Input'!A268),\"\",SUM('Data Input'!C268:AZ268))","v":""},{"$f":"IF(E264=\"\",\"\",E264/(COUNTA('Data Input'!$C$8:$AZ$8)))","v":""},{"$f":"IF(ISBLANK('Data Input'!A268),\"\",SUM('Data Input'!R268,'Data Input'!AA268,'Data Input'!AB268,'Data Input'!AC268,'Data Input'!AE268,'Data Input'!AH268,'Data Input'!AQ268,'Data Input'!AR268))","v":""},{"$f":"IF(G264=\"\",\"\",G264/COUNTIF('Data Input'!$C$8:$AZ$8,$G$2))","v":""},{"$f":"IF(ISBLANK('Data Input'!A268),\"\",SUM('Data Input'!D268,'Data Input'!E268,'Data Input'!F268,'Data Input'!G268,'Data Input'!H268,'Data Input'!J268,'Data Input'!K268,'Data Input'!O268,'Data Input'!U268,'Data Input'!V268,'Data Input'!W268,'Data Input'!X268,'Data Input'!Z268,'Data Input'!AG268,'Data Input'!AI268,'Data Input'!AJ268,'Data Input'!AK268))","v":""},{"$f":"IF(I264=\"\",\"\",I264/COUNTIF('Data Input'!$C$8:$AZ$8,$I$2))","v":""},{"$f":"IF(ISBLANK('Data Input'!A268),\"\",SUM('Data Input'!AF268,'Data Input'!AV268))","v":""},{"$f":"IF(K264=\"\",\"\",K264/COUNTIF('Data Input'!$C$8:$AZ$8,$K$2))","v":""},{"$f":"IF(ISBLANK('Data Input'!A268),\"\",SUM('Data Input'!C268,'Data Input'!I268,'Data Input'!L268,'Data Input'!M268,'Data Input'!N268,'Data Input'!P268,'Data Input'!S268,'Data Input'!T268,'Data Input'!Y268,'Data Input'!AD268,'Data Input'!AL268,'Data Input'!AM268,'Data Input'!AN268,'Data Input'!AO268,'Data Input'!AP268,'Data Input'!AS268))","v":""},{"$f":"IF(M264=\"\",\"\",M264/COUNTIF('Data Input'!$C$8:$AZ$8,$M$2))","v":""},{"$f":"IF(ISBLANK('Data Input'!A268),\"\",SUM('Data Input'!AY268,'Data Input'!AZ268))","v":""},{"$f":"IF(O264=\"\",\"\",O264/COUNTIF('Data Input'!$C$8:$AZ$8,$O$2))","v":""},{"$f":"IF(ISBLANK('Data Input'!A268),\"\",SUM('Data Input'!AW268))","v":""},{"$f":"IF(Q264=\"\",\"\",Q264/COUNTIF('Data Input'!$C$8:$AZ$8,$Q$2))","v":""},{"$f":"IF(ISBLANK('Data Input'!$A268),\"\",SUM('Data Input'!Q268,'Data Input'!AT268,'Data Input'!AU268))","v":""},{"$f":"IF(S264=\"\",\"\",S264/COUNTIF('Data Input'!$C$8:$AZ$8,$S$2))","v":""},{"$f":"IF(ISBLANK('Data Input'!$A268),\"\",SUM('Data Input'!AX268))","v":""},{"$f":"IF(U264=\"\",\"\",U264/COUNTIF('Data Input'!$C$8:$AZ$8,$U$2))","v":""}]
[{"$f":"IF('Data Input'!A269=0,\"\",'Data Input'!A269)","v":""},{"$f":"IF(ISBLANK('Data Input'!A269),\"\",COUNTIF('Data Input'!C269:AZ269,\"\"))","v":""},{"$f":"IF(ISBLANK('Data Input'!A269),\"\",COUNTIF('Data Input'!C269:AZ269,\"0\"))","v":""},{"$f":"IF(ISBLANK('Data Input'!A269),\"\",SUM(B265,C265))","v":""},{"$f":"IF(ISBLANK('Data Input'!A269),\"\",SUM('Data Input'!C269:AZ269))","v":""},{"$f":"IF(E265=\"\",\"\",E265/(COUNTA('Data Input'!$C$8:$AZ$8)))","v":""},{"$f":"IF(ISBLANK('Data Input'!A269),\"\",SUM('Data Input'!R269,'Data Input'!AA269,'Data Input'!AB269,'Data Input'!AC269,'Data Input'!AE269,'Data Input'!AH269,'Data Input'!AQ269,'Data Input'!AR269))","v":""},{"$f":"IF(G265=\"\",\"\",G265/COUNTIF('Data Input'!$C$8:$AZ$8,$G$2))","v":""},{"$f":"IF(ISBLANK('Data Input'!A269),\"\",SUM('Data Input'!D269,'Data Input'!E269,'Data Input'!F269,'Data Input'!G269,'Data Input'!H269,'Data Input'!J269,'Data Input'!K269,'Data Input'!O269,'Data Input'!U269,'Data Input'!V269,'Data Input'!W269,'Data Input'!X269,'Data Input'!Z269,'Data Input'!AG269,'Data Input'!AI269,'Data Input'!AJ269,'Data Input'!AK269))","v":""},{"$f":"IF(I265=\"\",\"\",I265/COUNTIF('Data Input'!$C$8:$AZ$8,$I$2))","v":""},{"$f":"IF(ISBLANK('Data Input'!A269),\"\",SUM('Data Input'!AF269,'Data Input'!AV269))","v":""},{"$f":"IF(K265=\"\",\"\",K265/COUNTIF('Data Input'!$C$8:$AZ$8,$K$2))","v":""},{"$f":"IF(ISBLANK('Data Input'!A269),\"\",SUM('Data Input'!C269,'Data Input'!I269,'Data Input'!L269,'Data Input'!M269,'Data Input'!N269,'Data Input'!P269,'Data Input'!S269,'Data Input'!T269,'Data Input'!Y269,'Data Input'!AD269,'Data Input'!AL269,'Data Input'!AM269,'Data Input'!AN269,'Data Input'!AO269,'Data Input'!AP269,'Data Input'!AS269))","v":""},{"$f":"IF(M265=\"\",\"\",M265/COUNTIF('Data Input'!$C$8:$AZ$8,$M$2))","v":""},{"$f":"IF(ISBLANK('Data Input'!A269),\"\",SUM('Data Input'!AY269,'Data Input'!AZ269))","v":""},{"$f":"IF(O265=\"\",\"\",O265/COUNTIF('Data Input'!$C$8:$AZ$8,$O$2))","v":""},{"$f":"IF(ISBLANK('Data Input'!A269),\"\",SUM('Data Input'!AW269))","v":""},{"$f":"IF(Q265=\"\",\"\",Q265/COUNTIF('Data Input'!$C$8:$AZ$8,$Q$2))","v":""},{"$f":"IF(ISBLANK('Data Input'!$A269),\"\",SUM('Data Input'!Q269,'Data Input'!AT269,'Data Input'!AU269))","v":""},{"$f":"IF(S265=\"\",\"\",S265/COUNTIF('Data Input'!$C$8:$AZ$8,$S$2))","v":""},{"$f":"IF(ISBLANK('Data Input'!$A269),\"\",SUM('Data Input'!AX269))","v":""},{"$f":"IF(U265=\"\",\"\",U265/COUNTIF('Data Input'!$C$8:$AZ$8,$U$2))","v":""}]
[{"$f":"IF('Data Input'!A270=0,\"\",'Data Input'!A270)","v":""},{"$f":"IF(ISBLANK('Data Input'!A270),\"\",COUNTIF('Data Input'!C270:AZ270,\"\"))","v":""},{"$f":"IF(ISBLANK('Data Input'!A270),\"\",COUNTIF('Data Input'!C270:AZ270,\"0\"))","v":""},{"$f":"IF(ISBLANK('Data Input'!A270),\"\",SUM(B266,C266))","v":""},{"$f":"IF(ISBLANK('Data Input'!A270),\"\",SUM('Data Input'!C270:AZ270))","v":""},{"$f":"IF(E266=\"\",\"\",E266/(COUNTA('Data Input'!$C$8:$AZ$8)))","v":""},{"$f":"IF(ISBLANK('Data Input'!A270),\"\",SUM('Data Input'!R270,'Data Input'!AA270,'Data Input'!AB270,'Data Input'!AC270,'Data Input'!AE270,'Data Input'!AH270,'Data Input'!AQ270,'Data Input'!AR270))","v":""},{"$f":"IF(G266=\"\",\"\",G266/COUNTIF('Data Input'!$C$8:$AZ$8,$G$2))","v":""},{"$f":"IF(ISBLANK('Data Input'!A270),\"\",SUM('Data Input'!D270,'Data Input'!E270,'Data Input'!F270,'Data Input'!G270,'Data Input'!H270,'Data Input'!J270,'Data Input'!K270,'Data Input'!O270,'Data Input'!U270,'Data Input'!V270,'Data Input'!W270,'Data Input'!X270,'Data Input'!Z270,'Data Input'!AG270,'Data Input'!AI270,'Data Input'!AJ270,'Data Input'!AK270))","v":""},{"$f":"IF(I266=\"\",\"\",I266/COUNTIF('Data Input'!$C$8:$AZ$8,$I$2))","v":""},{"$f":"IF(ISBLANK('Data Input'!A270),\"\",SUM('Data Input'!AF270,'Data Input'!AV270))","v":""},{"$f":"IF(K266=\"\",\"\",K266/COUNTIF('Data Input'!$C$8:$AZ$8,$K$2))","v":""},{"$f":"IF(ISBLANK('Data Input'!A270),\"\",SUM('Data Input'!C270,'Data Input'!I270,'Data Input'!L270,'Data Input'!M270,'Data Input'!N270,'Data Input'!P270,'Data Input'!S270,'Data Input'!T270,'Data Input'!Y270,'Data Input'!AD270,'Data Input'!AL270,'Data Input'!AM270,'Data Input'!AN270,'Data Input'!AO270,'Data Input'!AP270,'Data Input'!AS270))","v":""},{"$f":"IF(M266=\"\",\"\",M266/COUNTIF('Data Input'!$C$8:$AZ$8,$M$2))","v":""},{"$f":"IF(ISBLANK('Data Input'!A270),\"\",SUM('Data Input'!AY270,'Data Input'!AZ270))","v":""},{"$f":"IF(O266=\"\",\"\",O266/COUNTIF('Data Input'!$C$8:$AZ$8,$O$2))","v":""},{"$f":"IF(ISBLANK('Data Input'!A270),\"\",SUM('Data Input'!AW270))","v":""},{"$f":"IF(Q266=\"\",\"\",Q266/COUNTIF('Data Input'!$C$8:$AZ$8,$Q$2))","v":""},{"$f":"IF(ISBLANK('Data Input'!$A270),\"\",SUM('Data Input'!Q270,'Data Input'!AT270,'Data Input'!AU270))","v":""},{"$f":"IF(S266=\"\",\"\",S266/COUNTIF('Data Input'!$C$8:$AZ$8,$S$2))","v":""},{"$f":"IF(ISBLANK('Data Input'!$A270),\"\",SUM('Data Input'!AX270))","v":""},{"$f":"IF(U266=\"\",\"\",U266/COUNTIF('Data Input'!$C$8:$AZ$8,$U$2))","v":""}]
[{"$f":"IF('Data Input'!A271=0,\"\",'Data Input'!A271)","v":""},{"$f":"IF(ISBLANK('Data Input'!A271),\"\",COUNTIF('Data Input'!C271:AZ271,\"\"))","v":""},{"$f":"IF(ISBLANK('Data Input'!A271),\"\",COUNTIF('Data Input'!C271:AZ271,\"0\"))","v":""},{"$f":"IF(ISBLANK('Data Input'!A271),\"\",SUM(B267,C267))","v":""},{"$f":"IF(ISBLANK('Data Input'!A271),\"\",SUM('Data Input'!C271:AZ271))","v":""},{"$f":"IF(E267=\"\",\"\",E267/(COUNTA('Data Input'!$C$8:$AZ$8)))","v":""},{"$f":"IF(ISBLANK('Data Input'!A271),\"\",SUM('Data Input'!R271,'Data Input'!AA271,'Data Input'!AB271,'Data Input'!AC271,'Data Input'!AE271,'Data Input'!AH271,'Data Input'!AQ271,'Data Input'!AR271))","v":""},{"$f":"IF(G267=\"\",\"\",G267/COUNTIF('Data Input'!$C$8:$AZ$8,$G$2))","v":""},{"$f":"IF(ISBLANK('Data Input'!A271),\"\",SUM('Data Input'!D271,'Data Input'!E271,'Data Input'!F271,'Data Input'!G271,'Data Input'!H271,'Data Input'!J271,'Data Input'!K271,'Data Input'!O271,'Data Input'!U271,'Data Input'!V271,'Data Input'!W271,'Data Input'!X271,'Data Input'!Z271,'Data Input'!AG271,'Data Input'!AI271,'Data Input'!AJ271,'Data Input'!AK271))","v":""},{"$f":"IF(I267=\"\",\"\",I267/COUNTIF('Data Input'!$C$8:$AZ$8,$I$2))","v":""},{"$f":"IF(ISBLANK('Data Input'!A271),\"\",SUM('Data Input'!AF271,'Data Input'!AV271))","v":""},{"$f":"IF(K267=\"\",\"\",K267/COUNTIF('Data Input'!$C$8:$AZ$8,$K$2))","v":""},{"$f":"IF(ISBLANK('Data Input'!A271),\"\",SUM('Data Input'!C271,'Data Input'!I271,'Data Input'!L271,'Data Input'!M271,'Data Input'!N271,'Data Input'!P271,'Data Input'!S271,'Data Input'!T271,'Data Input'!Y271,'Data Input'!AD271,'Data Input'!AL271,'Data Input'!AM271,'Data Input'!AN271,'Data Input'!AO271,'Data Input'!AP271,'Data Input'!AS271))","v":""},{"$f":"IF(M267=\"\",\"\",M267/COUNTIF('Data Input'!$C$8:$AZ$8,$M$2))","v":""},{"$f":"IF(ISBLANK('Data Input'!A271),\"\",SUM('Data Input'!AY271,'Data Input'!AZ271))","v":""},{"$f":"IF(O267=\"\",\"\",O267/COUNTIF('Data Input'!$C$8:$AZ$8,$O$2))","v":""},{"$f":"IF(ISBLANK('Data Input'!A271),\"\",SUM('Data Input'!AW271))","v":""},{"$f":"IF(Q267=\"\",\"\",Q267/COUNTIF('Data Input'!$C$8:$AZ$8,$Q$2))","v":""},{"$f":"IF(ISBLANK('Data Input'!$A271),\"\",SUM('Data Input'!Q271,'Data Input'!AT271,'Data Input'!AU271))","v":""},{"$f":"IF(S267=\"\",\"\",S267/COUNTIF('Data Input'!$C$8:$AZ$8,$S$2))","v":""},{"$f":"IF(ISBLANK('Data Input'!$A271),\"\",SUM('Data Input'!AX271))","v":""},{"$f":"IF(U267=\"\",\"\",U267/COUNTIF('Data Input'!$C$8:$AZ$8,$U$2))","v":""}]
[{"$f":"IF('Data Input'!A272=0,\"\",'Data Input'!A272)","v":""},{"$f":"IF(ISBLANK('Data Input'!A272),\"\",COUNTIF('Data Input'!C272:AZ272,\"\"))","v":""},{"$f":"IF(ISBLANK('Data Input'!A272),\"\",COUNTIF('Data Input'!C272:AZ272,\"0\"))","v":""},{"$f":"IF(ISBLANK('Data Input'!A272),\"\",SUM(B268,C268))","v":""},{"$f":"IF(ISBLANK('Data Input'!A272),\"\",SUM('Data Input'!C272:AZ272))","v":""},{"$f":"IF(E268=\"\",\"\",E268/(COUNTA('Data Input'!$C$8:$AZ$8)))","v":""},{"$f":"IF(ISBLANK('Data Input'!A272),\"\",SUM('Data Input'!R272,'Data Input'!AA272,'Data Input'!AB272,'Data Input'!AC272,'Data Input'!AE272,'Data Input'!AH272,'Data Input'!AQ272,'Data Input'!AR272))","v":""},{"$f":"IF(G268=\"\",\"\",G268/COUNTIF('Data Input'!$C$8:$AZ$8,$G$2))","v":""},{"$f":"IF(ISBLANK('Data Input'!A272),\"\",SUM('Data Input'!D272,'Data Input'!E272,'Data Input'!F272,'Data Input'!G272,'Data Input'!H272,'Data Input'!J272,'Data Input'!K272,'Data Input'!O272,'Data Input'!U272,'Data Input'!V272,'Data Input'!W272,'Data Input'!X272,'Data Input'!Z272,'Data Input'!AG272,'Data Input'!AI272,'Data Input'!AJ272,'Data Input'!AK272))","v":""},{"$f":"IF(I268=\"\",\"\",I268/COUNTIF('Data Input'!$C$8:$AZ$8,$I$2))","v":""},{"$f":"IF(ISBLANK('Data Input'!A272),\"\",SUM('Data Input'!AF272,'Data Input'!AV272))","v":""},{"$f":"IF(K268=\"\",\"\",K268/COUNTIF('Data Input'!$C$8:$AZ$8,$K$2))","v":""},{"$f":"IF(ISBLANK('Data Input'!A272),\"\",SUM('Data Input'!C272,'Data Input'!I272,'Data Input'!L272,'Data Input'!M272,'Data Input'!N272,'Data Input'!P272,'Data Input'!S272,'Data Input'!T272,'Data Input'!Y272,'Data Input'!AD272,'Data Input'!AL272,'Data Input'!AM272,'Data Input'!AN272,'Data Input'!AO272,'Data Input'!AP272,'Data Input'!AS272))","v":""},{"$f":"IF(M268=\"\",\"\",M268/COUNTIF('Data Input'!$C$8:$AZ$8,$M$2))","v":""},{"$f":"IF(ISBLANK('Data Input'!A272),\"\",SUM('Data Input'!AY272,'Data Input'!AZ272))","v":""},{"$f":"IF(O268=\"\",\"\",O268/COUNTIF('Data Input'!$C$8:$AZ$8,$O$2))","v":""},{"$f":"IF(ISBLANK('Data Input'!A272),\"\",SUM('Data Input'!AW272))","v":""},{"$f":"IF(Q268=\"\",\"\",Q268/COUNTIF('Data Input'!$C$8:$AZ$8,$Q$2))","v":""},{"$f":"IF(ISBLANK('Data Input'!$A272),\"\",SUM('Data Input'!Q272,'Data Input'!AT272,'Data Input'!AU272))","v":""},{"$f":"IF(S268=\"\",\"\",S268/COUNTIF('Data Input'!$C$8:$AZ$8,$S$2))","v":""},{"$f":"IF(ISBLANK('Data Input'!$A272),\"\",SUM('Data Input'!AX272))","v":""},{"$f":"IF(U268=\"\",\"\",U268/COUNTIF('Data Input'!$C$8:$AZ$8,$U$2))","v":""}]
[{"$f":"IF('Data Input'!A273=0,\"\",'Data Input'!A273)","v":""},{"$f":"IF(ISBLANK('Data Input'!A273),\"\",COUNTIF('Data Input'!C273:AZ273,\"\"))","v":""},{"$f":"IF(ISBLANK('Data Input'!A273),\"\",COUNTIF('Data Input'!C273:AZ273,\"0\"))","v":""},{"$f":"IF(ISBLANK('Data Input'!A273),\"\",SUM(B269,C269))","v":""},{"$f":"IF(ISBLANK('Data Input'!A273),\"\",SUM('Data Input'!C273:AZ273))","v":""},{"$f":"IF(E269=\"\",\"\",E269/(COUNTA('Data Input'!$C$8:$AZ$8)))","v":""},{"$f":"IF(ISBLANK('Data Input'!A273),\"\",SUM('Data Input'!R273,'Data Input'!AA273,'Data Input'!AB273,'Data Input'!AC273,'Data Input'!AE273,'Data Input'!AH273,'Data Input'!AQ273,'Data Input'!AR273))","v":""},{"$f":"IF(G269=\"\",\"\",G269/COUNTIF('Data Input'!$C$8:$AZ$8,$G$2))","v":""},{"$f":"IF(ISBLANK('Data Input'!A273),\"\",SUM('Data Input'!D273,'Data Input'!E273,'Data Input'!F273,'Data Input'!G273,'Data Input'!H273,'Data Input'!J273,'Data Input'!K273,'Data Input'!O273,'Data Input'!U273,'Data Input'!V273,'Data Input'!W273,'Data Input'!X273,'Data Input'!Z273,'Data Input'!AG273,'Data Input'!AI273,'Data Input'!AJ273,'Data Input'!AK273))","v":""},{"$f":"IF(I269=\"\",\"\",I269/COUNTIF('Data Input'!$C$8:$AZ$8,$I$2))","v":""},{"$f":"IF(ISBLANK('Data Input'!A273),\"\",SUM('Data Input'!AF273,'Data Input'!AV273))","v":""},{"$f":"IF(K269=\"\",\"\",K269/COUNTIF('Data Input'!$C$8:$AZ$8,$K$2))","v":""},{"$f":"IF(ISBLANK('Data Input'!A273),\"\",SUM('Data Input'!C273,'Data Input'!I273,'Data Input'!L273,'Data Input'!M273,'Data Input'!N273,'Data Input'!P273,'Data Input'!S273,'Data Input'!T273,'Data Input'!Y273,'Data Input'!AD273,'Data Input'!AL273,'Data Input'!AM273,'Data Input'!AN273,'Data Input'!AO273,'Data Input'!AP273,'Data Input'!AS273))","v":""},{"$f":"IF(M269=\"\",\"\",M269/COUNTIF('Data Input'!$C$8:$AZ$8,$M$2))","v":""},{"$f":"IF(ISBLANK('Data Input'!A273),\"\",SUM('Data Input'!AY273,'Data Input'!AZ273))","v":""},{"$f":"IF(O269=\"\",\"\",O269/COUNTIF('Data Input'!$C$8:$AZ$8,$O$2))","v":""},{"$f":"IF(ISBLANK('Data Input'!A273),\"\",SUM('Data Input'!AW273))","v":""},{"$f":"IF(Q269=\"\",\"\",Q269/COUNTIF('Data Input'!$C$8:$AZ$8,$Q$2))","v":""},{"$f":"IF(ISBLANK('Data Input'!$A273),\"\",SUM('Data Input'!Q273,'Data Input'!AT273,'Data Input'!AU273))","v":""},{"$f":"IF(S269=\"\",\"\",S269/COUNTIF('Data Input'!$C$8:$AZ$8,$S$2))","v":""},{"$f":"IF(ISBLANK('Data Input'!$A273),\"\",SUM('Data Input'!AX273))","v":""},{"$f":"IF(U269=\"\",\"\",U269/COUNTIF('Data Input'!$C$8:$AZ$8,$U$2))","v":""}]
[{"$f":"IF('Data Input'!A274=0,\"\",'Data Input'!A274)","v":""},{"$f":"IF(ISBLANK('Data Input'!A274),\"\",COUNTIF('Data Input'!C274:AZ274,\"\"))","v":""},{"$f":"IF(ISBLANK('Data Input'!A274),\"\",COUNTIF('Data Input'!C274:AZ274,\"0\"))","v":""},{"$f":"IF(ISBLANK('Data Input'!A274),\"\",SUM(B270,C270))","v":""},{"$f":"IF(ISBLANK('Data Input'!A274),\"\",SUM('Data Input'!C274:AZ274))","v":""},{"$f":"IF(E270=\"\",\"\",E270/(COUNTA('Data Input'!$C$8:$AZ$8)))","v":""},{"$f":"IF(ISBLANK('Data Input'!A274),\"\",SUM('Data Input'!R274,'Data Input'!AA274,'Data Input'!AB274,'Data Input'!AC274,'Data Input'!AE274,'Data Input'!AH274,'Data Input'!AQ274,'Data Input'!AR274))","v":""},{"$f":"IF(G270=\"\",\"\",G270/COUNTIF('Data Input'!$C$8:$AZ$8,$G$2))","v":""},{"$f":"IF(ISBLANK('Data Input'!A274),\"\",SUM('Data Input'!D274,'Data Input'!E274,'Data Input'!F274,'Data Input'!G274,'Data Input'!H274,'Data Input'!J274,'Data Input'!K274,'Data Input'!O274,'Data Input'!U274,'Data Input'!V274,'Data Input'!W274,'Data Input'!X274,'Data Input'!Z274,'Data Input'!AG274,'Data Input'!AI274,'Data Input'!AJ274,'Data Input'!AK274))","v":""},{"$f":"IF(I270=\"\",\"\",I270/COUNTIF('Data Input'!$C$8:$AZ$8,$I$2))","v":""},{"$f":"IF(ISBLANK('Data Input'!A274),\"\",SUM('Data Input'!AF274,'Data Input'!AV274))","v":""},{"$f":"IF(K270=\"\",\"\",K270/COUNTIF('Data Input'!$C$8:$AZ$8,$K$2))","v":""},{"$f":"IF(ISBLANK('Data Input'!A274),\"\",SUM('Data Input'!C274,'Data Input'!I274,'Data Input'!L274,'Data Input'!M274,'Data Input'!N274,'Data Input'!P274,'Data Input'!S274,'Data Input'!T274,'Data Input'!Y274,'Data Input'!AD274,'Data Input'!AL274,'Data Input'!AM274,'Data Input'!AN274,'Data Input'!AO274,'Data Input'!AP274,'Data Input'!AS274))","v":""},{"$f":"IF(M270=\"\",\"\",M270/COUNTIF('Data Input'!$C$8:$AZ$8,$M$2))","v":""},{"$f":"IF(ISBLANK('Data Input'!A274),\"\",SUM('Data Input'!AY274,'Data Input'!AZ274))","v":""},{"$f":"IF(O270=\"\",\"\",O270/COUNTIF('Data Input'!$C$8:$AZ$8,$O$2))","v":""},{"$f":"IF(ISBLANK('Data Input'!A274),\"\",SUM('Data Input'!AW274))","v":""},{"$f":"IF(Q270=\"\",\"\",Q270/COUNTIF('Data Input'!$C$8:$AZ$8,$Q$2))","v":""},{"$f":"IF(ISBLANK('Data Input'!$A274),\"\",SUM('Data Input'!Q274,'Data Input'!AT274,'Data Input'!AU274))","v":""},{"$f":"IF(S270=\"\",\"\",S270/COUNTIF('Data Input'!$C$8:$AZ$8,$S$2))","v":""},{"$f":"IF(ISBLANK('Data Input'!$A274),\"\",SUM('Data Input'!AX274))","v":""},{"$f":"IF(U270=\"\",\"\",U270/COUNTIF('Data Input'!$C$8:$AZ$8,$U$2))","v":""}]
[{"$f":"IF('Data Input'!A275=0,\"\",'Data Input'!A275)","v":""},{"$f":"IF(ISBLANK('Data Input'!A275),\"\",COUNTIF('Data Input'!C275:AZ275,\"\"))","v":""},{"$f":"IF(ISBLANK('Data Input'!A275),\"\",COUNTIF('Data Input'!C275:AZ275,\"0\"))","v":""},{"$f":"IF(ISBLANK('Data Input'!A275),\"\",SUM(B271,C271))","v":""},{"$f":"IF(ISBLANK('Data Input'!A275),\"\",SUM('Data Input'!C275:AZ275))","v":""},{"$f":"IF(E271=\"\",\"\",E271/(COUNTA('Data Input'!$C$8:$AZ$8)))","v":""},{"$f":"IF(ISBLANK('Data Input'!A275),\"\",SUM('Data Input'!R275,'Data Input'!AA275,'Data Input'!AB275,'Data Input'!AC275,'Data Input'!AE275,'Data Input'!AH275,'Data Input'!AQ275,'Data Input'!AR275))","v":""},{"$f":"IF(G271=\"\",\"\",G271/COUNTIF('Data Input'!$C$8:$AZ$8,$G$2))","v":""},{"$f":"IF(ISBLANK('Data Input'!A275),\"\",SUM('Data Input'!D275,'Data Input'!E275,'Data Input'!F275,'Data Input'!G275,'Data Input'!H275,'Data Input'!J275,'Data Input'!K275,'Data Input'!O275,'Data Input'!U275,'Data Input'!V275,'Data Input'!W275,'Data Input'!X275,'Data Input'!Z275,'Data Input'!AG275,'Data Input'!AI275,'Data Input'!AJ275,'Data Input'!AK275))","v":""},{"$f":"IF(I271=\"\",\"\",I271/COUNTIF('Data Input'!$C$8:$AZ$8,$I$2))","v":""},{"$f":"IF(ISBLANK('Data Input'!A275),\"\",SUM('Data Input'!AF275,'Data Input'!AV275))","v":""},{"$f":"IF(K271=\"\",\"\",K271/COUNTIF('Data Input'!$C$8:$AZ$8,$K$2))","v":""},{"$f":"IF(ISBLANK('Data Input'!A275),\"\",SUM('Data Input'!C275,'Data Input'!I275,'Data Input'!L275,'Data Input'!M275,'Data Input'!N275,'Data Input'!P275,'Data Input'!S275,'Data Input'!T275,'Data Input'!Y275,'Data Input'!AD275,'Data Input'!AL275,'Data Input'!AM275,'Data Input'!AN275,'Data Input'!AO275,'Data Input'!AP275,'Data Input'!AS275))","v":""},{"$f":"IF(M271=\"\",\"\",M271/COUNTIF('Data Input'!$C$8:$AZ$8,$M$2))","v":""},{"$f":"IF(ISBLANK('Data Input'!A275),\"\",SUM('Data Input'!AY275,'Data Input'!AZ275))","v":""},{"$f":"IF(O271=\"\",\"\",O271/COUNTIF('Data Input'!$C$8:$AZ$8,$O$2))","v":""},{"$f":"IF(ISBLANK('Data Input'!A275),\"\",SUM('Data Input'!AW275))","v":""},{"$f":"IF(Q271=\"\",\"\",Q271/COUNTIF('Data Input'!$C$8:$AZ$8,$Q$2))","v":""},{"$f":"IF(ISBLANK('Data Input'!$A275),\"\",SUM('Data Input'!Q275,'Data Input'!AT275,'Data Input'!AU275))","v":""},{"$f":"IF(S271=\"\",\"\",S271/COUNTIF('Data Input'!$C$8:$AZ$8,$S$2))","v":""},{"$f":"IF(ISBLANK('Data Input'!$A275),\"\",SUM('Data Input'!AX275))","v":""},{"$f":"IF(U271=\"\",\"\",U271/COUNTIF('Data Input'!$C$8:$AZ$8,$U$2))","v":""}]
[{"$f":"IF('Data Input'!A276=0,\"\",'Data Input'!A276)","v":""},{"$f":"IF(ISBLANK('Data Input'!A276),\"\",COUNTIF('Data Input'!C276:AZ276,\"\"))","v":""},{"$f":"IF(ISBLANK('Data Input'!A276),\"\",COUNTIF('Data Input'!C276:AZ276,\"0\"))","v":""},{"$f":"IF(ISBLANK('Data Input'!A276),\"\",SUM(B272,C272))","v":""},{"$f":"IF(ISBLANK('Data Input'!A276),\"\",SUM('Data Input'!C276:AZ276))","v":""},{"$f":"IF(E272=\"\",\"\",E272/(COUNTA('Data Input'!$C$8:$AZ$8)))","v":""},{"$f":"IF(ISBLANK('Data Input'!A276),\"\",SUM('Data Input'!R276,'Data Input'!AA276,'Data Input'!AB276,'Data Input'!AC276,'Data Input'!AE276,'Data Input'!AH276,'Data Input'!AQ276,'Data Input'!AR276))","v":""},{"$f":"IF(G272=\"\",\"\",G272/COUNTIF('Data Input'!$C$8:$AZ$8,$G$2))","v":""},{"$f":"IF(ISBLANK('Data Input'!A276),\"\",SUM('Data Input'!D276,'Data Input'!E276,'Data Input'!F276,'Data Input'!G276,'Data Input'!H276,'Data Input'!J276,'Data Input'!K276,'Data Input'!O276,'Data Input'!U276,'Data Input'!V276,'Data Input'!W276,'Data Input'!X276,'Data Input'!Z276,'Data Input'!AG276,'Data Input'!AI276,'Data Input'!AJ276,'Data Input'!AK276))","v":""},{"$f":"IF(I272=\"\",\"\",I272/COUNTIF('Data Input'!$C$8:$AZ$8,$I$2))","v":""},{"$f":"IF(ISBLANK('Data Input'!A276),\"\",SUM('Data Input'!AF276,'Data Input'!AV276))","v":""},{"$f":"IF(K272=\"\",\"\",K272/COUNTIF('Data Input'!$C$8:$AZ$8,$K$2))","v":""},{"$f":"IF(ISBLANK('Data Input'!A276),\"\",SUM('Data Input'!C276,'Data Input'!I276,'Data Input'!L276,'Data Input'!M276,'Data Input'!N276,'Data Input'!P276,'Data Input'!S276,'Data Input'!T276,'Data Input'!Y276,'Data Input'!AD276,'Data Input'!AL276,'Data Input'!AM276,'Data Input'!AN276,'Data Input'!AO276,'Data Input'!AP276,'Data Input'!AS276))","v":""},{"$f":"IF(M272=\"\",\"\",M272/COUNTIF('Data Input'!$C$8:$AZ$8,$M$2))","v":""},{"$f":"IF(ISBLANK('Data Input'!A276),\"\",SUM('Data Input'!AY276,'Data Input'!AZ276))","v":""},{"$f":"IF(O272=\"\",\"\",O272/COUNTIF('Data Input'!$C$8:$AZ$8,$O$2))","v":""},{"$f":"IF(ISBLANK('Data Input'!A276),\"\",SUM('Data Input'!AW276))","v":""},{"$f":"IF(Q272=\"\",\"\",Q272/COUNTIF('Data Input'!$C$8:$AZ$8,$Q$2))","v":""},{"$f":"IF(ISBLANK('Data Input'!$A276),\"\",SUM('Data Input'!Q276,'Data Input'!AT276,'Data Input'!AU276))","v":""},{"$f":"IF(S272=\"\",\"\",S272/COUNTIF('Data Input'!$C$8:$AZ$8,$S$2))","v":""},{"$f":"IF(ISBLANK('Data Input'!$A276),\"\",SUM('Data Input'!AX276))","v":""},{"$f":"IF(U272=\"\",\"\",U272/COUNTIF('Data Input'!$C$8:$AZ$8,$U$2))","v":""}]
[{"$f":"IF('Data Input'!A277=0,\"\",'Data Input'!A277)","v":""},{"$f":"IF(ISBLANK('Data Input'!A277),\"\",COUNTIF('Data Input'!C277:AZ277,\"\"))","v":""},{"$f":"IF(ISBLANK('Data Input'!A277),\"\",COUNTIF('Data Input'!C277:AZ277,\"0\"))","v":""},{"$f":"IF(ISBLANK('Data Input'!A277),\"\",SUM(B273,C273))","v":""},{"$f":"IF(ISBLANK('Data Input'!A277),\"\",SUM('Data Input'!C277:AZ277))","v":""},{"$f":"IF(E273=\"\",\"\",E273/(COUNTA('Data Input'!$C$8:$AZ$8)))","v":""},{"$f":"IF(ISBLANK('Data Input'!A277),\"\",SUM('Data Input'!R277,'Data Input'!AA277,'Data Input'!AB277,'Data Input'!AC277,'Data Input'!AE277,'Data Input'!AH277,'Data Input'!AQ277,'Data Input'!AR277))","v":""},{"$f":"IF(G273=\"\",\"\",G273/COUNTIF('Data Input'!$C$8:$AZ$8,$G$2))","v":""},{"$f":"IF(ISBLANK('Data Input'!A277),\"\",SUM('Data Input'!D277,'Data Input'!E277,'Data Input'!F277,'Data Input'!G277,'Data Input'!H277,'Data Input'!J277,'Data Input'!K277,'Data Input'!O277,'Data Input'!U277,'Data Input'!V277,'Data Input'!W277,'Data Input'!X277,'Data Input'!Z277,'Data Input'!AG277,'Data Input'!AI277,'Data Input'!AJ277,'Data Input'!AK277))","v":""},{"$f":"IF(I273=\"\",\"\",I273/COUNTIF('Data Input'!$C$8:$AZ$8,$I$2))","v":""},{"$f":"IF(ISBLANK('Data Input'!A277),\"\",SUM('Data Input'!AF277,'Data Input'!AV277))","v":""},{"$f":"IF(K273=\"\",\"\",K273/COUNTIF('Data Input'!$C$8:$AZ$8,$K$2))","v":""},{"$f":"IF(ISBLANK('Data Input'!A277),\"\",SUM('Data Input'!C277,'Data Input'!I277,'Data Input'!L277,'Data Input'!M277,'Data Input'!N277,'Data Input'!P277,'Data Input'!S277,'Data Input'!T277,'Data Input'!Y277,'Data Input'!AD277,'Data Input'!AL277,'Data Input'!AM277,'Data Input'!AN277,'Data Input'!AO277,'Data Input'!AP277,'Data Input'!AS277))","v":""},{"$f":"IF(M273=\"\",\"\",M273/COUNTIF('Data Input'!$C$8:$AZ$8,$M$2))","v":""},{"$f":"IF(ISBLANK('Data Input'!A277),\"\",SUM('Data Input'!AY277,'Data Input'!AZ277))","v":""},{"$f":"IF(O273=\"\",\"\",O273/COUNTIF('Data Input'!$C$8:$AZ$8,$O$2))","v":""},{"$f":"IF(ISBLANK('Data Input'!A277),\"\",SUM('Data Input'!AW277))","v":""},{"$f":"IF(Q273=\"\",\"\",Q273/COUNTIF('Data Input'!$C$8:$AZ$8,$Q$2))","v":""},{"$f":"IF(ISBLANK('Data Input'!$A277),\"\",SUM('Data Input'!Q277,'Data Input'!AT277,'Data Input'!AU277))","v":""},{"$f":"IF(S273=\"\",\"\",S273/COUNTIF('Data Input'!$C$8:$AZ$8,$S$2))","v":""},{"$f":"IF(ISBLANK('Data Input'!$A277),\"\",SUM('Data Input'!AX277))","v":""},{"$f":"IF(U273=\"\",\"\",U273/COUNTIF('Data Input'!$C$8:$AZ$8,$U$2))","v":""}]
[{"$f":"IF('Data Input'!A278=0,\"\",'Data Input'!A278)","v":""},{"$f":"IF(ISBLANK('Data Input'!A278),\"\",COUNTIF('Data Input'!C278:AZ278,\"\"))","v":""},{"$f":"IF(ISBLANK('Data Input'!A278),\"\",COUNTIF('Data Input'!C278:AZ278,\"0\"))","v":""},{"$f":"IF(ISBLANK('Data Input'!A278),\"\",SUM(B274,C274))","v":""},{"$f":"IF(ISBLANK('Data Input'!A278),\"\",SUM('Data Input'!C278:AZ278))","v":""},{"$f":"IF(E274=\"\",\"\",E274/(COUNTA('Data Input'!$C$8:$AZ$8)))","v":""},{"$f":"IF(ISBLANK('Data Input'!A278),\"\",SUM('Data Input'!R278,'Data Input'!AA278,'Data Input'!AB278,'Data Input'!AC278,'Data Input'!AE278,'Data Input'!AH278,'Data Input'!AQ278,'Data Input'!AR278))","v":""},{"$f":"IF(G274=\"\",\"\",G274/COUNTIF('Data Input'!$C$8:$AZ$8,$G$2))","v":""},{"$f":"IF(ISBLANK('Data Input'!A278),\"\",SUM('Data Input'!D278,'Data Input'!E278,'Data Input'!F278,'Data Input'!G278,'Data Input'!H278,'Data Input'!J278,'Data Input'!K278,'Data Input'!O278,'Data Input'!U278,'Data Input'!V278,'Data Input'!W278,'Data Input'!X278,'Data Input'!Z278,'Data Input'!AG278,'Data Input'!AI278,'Data Input'!AJ278,'Data Input'!AK278))","v":""},{"$f":"IF(I274=\"\",\"\",I274/COUNTIF('Data Input'!$C$8:$AZ$8,$I$2))","v":""},{"$f":"IF(ISBLANK('Data Input'!A278),\"\",SUM('Data Input'!AF278,'Data Input'!AV278))","v":""},{"$f":"IF(K274=\"\",\"\",K274/COUNTIF('Data Input'!$C$8:$AZ$8,$K$2))","v":""},{"$f":"IF(ISBLANK('Data Input'!A278),\"\",SUM('Data Input'!C278,'Data Input'!I278,'Data Input'!L278,'Data Input'!M278,'Data Input'!N278,'Data Input'!P278,'Data Input'!S278,'Data Input'!T278,'Data Input'!Y278,'Data Input'!AD278,'Data Input'!AL278,'Data Input'!AM278,'Data Input'!AN278,'Data Input'!AO278,'Data Input'!AP278,'Data Input'!AS278))","v":""},{"$f":"IF(M274=\"\",\"\",M274/COUNTIF('Data Input'!$C$8:$AZ$8,$M$2))","v":""},{"$f":"IF(ISBLANK('Data Input'!A278),\"\",SUM('Data Input'!AY278,'Data Input'!AZ278))","v":""},{"$f":"IF(O274=\"\",\"\",O274/COUNTIF('Data Input'!$C$8:$AZ$8,$O$2))","v":""},{"$f":"IF(ISBLANK('Data Input'!A278),\"\",SUM('Data Input'!AW278))","v":""},{"$f":"IF(Q274=\"\",\"\",Q274/COUNTIF('Data Input'!$C$8:$AZ$8,$Q$2))","v":""},{"$f":"IF(ISBLANK('Data Input'!$A278),\"\",SUM('Data Input'!Q278,'Data Input'!AT278,'Data Input'!AU278))","v":""},{"$f":"IF(S274=\"\",\"\",S274/COUNTIF('Data Input'!$C$8:$AZ$8,$S$2))","v":""},{"$f":"IF(ISBLANK('Data Input'!$A278),\"\",SUM('Data Input'!AX278))","v":""},{"$f":"IF(U274=\"\",\"\",U274/COUNTIF('Data Input'!$C$8:$AZ$8,$U$2))","v":""}]
[{"$f":"IF('Data Input'!A279=0,\"\",'Data Input'!A279)","v":""},{"$f":"IF(ISBLANK('Data Input'!A279),\"\",COUNTIF('Data Input'!C279:AZ279,\"\"))","v":""},{"$f":"IF(ISBLANK('Data Input'!A279),\"\",COUNTIF('Data Input'!C279:AZ279,\"0\"))","v":""},{"$f":"IF(ISBLANK('Data Input'!A279),\"\",SUM(B275,C275))","v":""},{"$f":"IF(ISBLANK('Data Input'!A279),\"\",SUM('Data Input'!C279:AZ279))","v":""},{"$f":"IF(E275=\"\",\"\",E275/(COUNTA('Data Input'!$C$8:$AZ$8)))","v":""},{"$f":"IF(ISBLANK('Data Input'!A279),\"\",SUM('Data Input'!R279,'Data Input'!AA279,'Data Input'!AB279,'Data Input'!AC279,'Data Input'!AE279,'Data Input'!AH279,'Data Input'!AQ279,'Data Input'!AR279))","v":""},{"$f":"IF(G275=\"\",\"\",G275/COUNTIF('Data Input'!$C$8:$AZ$8,$G$2))","v":""},{"$f":"IF(ISBLANK('Data Input'!A279),\"\",SUM('Data Input'!D279,'Data Input'!E279,'Data Input'!F279,'Data Input'!G279,'Data Input'!H279,'Data Input'!J279,'Data Input'!K279,'Data Input'!O279,'Data Input'!U279,'Data Input'!V279,'Data Input'!W279,'Data Input'!X279,'Data Input'!Z279,'Data Input'!AG279,'Data Input'!AI279,'Data Input'!AJ279,'Data Input'!AK279))","v":""},{"$f":"IF(I275=\"\",\"\",I275/COUNTIF('Data Input'!$C$8:$AZ$8,$I$2))","v":""},{"$f":"IF(ISBLANK('Data Input'!A279),\"\",SUM('Data Input'!AF279,'Data Input'!AV279))","v":""},{"$f":"IF(K275=\"\",\"\",K275/COUNTIF('Data Input'!$C$8:$AZ$8,$K$2))","v":""},{"$f":"IF(ISBLANK('Data Input'!A279),\"\",SUM('Data Input'!C279,'Data Input'!I279,'Data Input'!L279,'Data Input'!M279,'Data Input'!N279,'Data Input'!P279,'Data Input'!S279,'Data Input'!T279,'Data Input'!Y279,'Data Input'!AD279,'Data Input'!AL279,'Data Input'!AM279,'Data Input'!AN279,'Data Input'!AO279,'Data Input'!AP279,'Data Input'!AS279))","v":""},{"$f":"IF(M275=\"\",\"\",M275/COUNTIF('Data Input'!$C$8:$AZ$8,$M$2))","v":""},{"$f":"IF(ISBLANK('Data Input'!A279),\"\",SUM('Data Input'!AY279,'Data Input'!AZ279))","v":""},{"$f":"IF(O275=\"\",\"\",O275/COUNTIF('Data Input'!$C$8:$AZ$8,$O$2))","v":""},{"$f":"IF(ISBLANK('Data Input'!A279),\"\",SUM('Data Input'!AW279))","v":""},{"$f":"IF(Q275=\"\",\"\",Q275/COUNTIF('Data Input'!$C$8:$AZ$8,$Q$2))","v":""},{"$f":"IF(ISBLANK('Data Input'!$A279),\"\",SUM('Data Input'!Q279,'Data Input'!AT279,'Data Input'!AU279))","v":""},{"$f":"IF(S275=\"\",\"\",S275/COUNTIF('Data Input'!$C$8:$AZ$8,$S$2))","v":""},{"$f":"IF(ISBLANK('Data Input'!$A279),\"\",SUM('Data Input'!AX279))","v":""},{"$f":"IF(U275=\"\",\"\",U275/COUNTIF('Data Input'!$C$8:$AZ$8,$U$2))","v":""}]
[{"$f":"IF('Data Input'!A280=0,\"\",'Data Input'!A280)","v":""},{"$f":"IF(ISBLANK('Data Input'!A280),\"\",COUNTIF('Data Input'!C280:AZ280,\"\"))","v":""},{"$f":"IF(ISBLANK('Data Input'!A280),\"\",COUNTIF('Data Input'!C280:AZ280,\"0\"))","v":""},{"$f":"IF(ISBLANK('Data Input'!A280),\"\",SUM(B276,C276))","v":""},{"$f":"IF(ISBLANK('Data Input'!A280),\"\",SUM('Data Input'!C280:AZ280))","v":""},{"$f":"IF(E276=\"\",\"\",E276/(COUNTA('Data Input'!$C$8:$AZ$8)))","v":""},{"$f":"IF(ISBLANK('Data Input'!A280),\"\",SUM('Data Input'!R280,'Data Input'!AA280,'Data Input'!AB280,'Data Input'!AC280,'Data Input'!AE280,'Data Input'!AH280,'Data Input'!AQ280,'Data Input'!AR280))","v":""},{"$f":"IF(G276=\"\",\"\",G276/COUNTIF('Data Input'!$C$8:$AZ$8,$G$2))","v":""},{"$f":"IF(ISBLANK('Data Input'!A280),\"\",SUM('Data Input'!D280,'Data Input'!E280,'Data Input'!F280,'Data Input'!G280,'Data Input'!H280,'Data Input'!J280,'Data Input'!K280,'Data Input'!O280,'Data Input'!U280,'Data Input'!V280,'Data Input'!W280,'Data Input'!X280,'Data Input'!Z280,'Data Input'!AG280,'Data Input'!AI280,'Data Input'!AJ280,'Data Input'!AK280))","v":""},{"$f":"IF(I276=\"\",\"\",I276/COUNTIF('Data Input'!$C$8:$AZ$8,$I$2))","v":""},{"$f":"IF(ISBLANK('Data Input'!A280),\"\",SUM('Data Input'!AF280,'Data Input'!AV280))","v":""},{"$f":"IF(K276=\"\",\"\",K276/COUNTIF('Data Input'!$C$8:$AZ$8,$K$2))","v":""},{"$f":"IF(ISBLANK('Data Input'!A280),\"\",SUM('Data Input'!C280,'Data Input'!I280,'Data Input'!L280,'Data Input'!M280,'Data Input'!N280,'Data Input'!P280,'Data Input'!S280,'Data Input'!T280,'Data Input'!Y280,'Data Input'!AD280,'Data Input'!AL280,'Data Input'!AM280,'Data Input'!AN280,'Data Input'!AO280,'Data Input'!AP280,'Data Input'!AS280))","v":""},{"$f":"IF(M276=\"\",\"\",M276/COUNTIF('Data Input'!$C$8:$AZ$8,$M$2))","v":""},{"$f":"IF(ISBLANK('Data Input'!A280),\"\",SUM('Data Input'!AY280,'Data Input'!AZ280))","v":""},{"$f":"IF(O276=\"\",\"\",O276/COUNTIF('Data Input'!$C$8:$AZ$8,$O$2))","v":""},{"$f":"IF(ISBLANK('Data Input'!A280),\"\",SUM('Data Input'!AW280))","v":""},{"$f":"IF(Q276=\"\",\"\",Q276/COUNTIF('Data Input'!$C$8:$AZ$8,$Q$2))","v":""},{"$f":"IF(ISBLANK('Data Input'!$A280),\"\",SUM('Data Input'!Q280,'Data Input'!AT280,'Data Input'!AU280))","v":""},{"$f":"IF(S276=\"\",\"\",S276/COUNTIF('Data Input'!$C$8:$AZ$8,$S$2))","v":""},{"$f":"IF(ISBLANK('Data Input'!$A280),\"\",SUM('Data Input'!AX280))","v":""},{"$f":"IF(U276=\"\",\"\",U276/COUNTIF('Data Input'!$C$8:$AZ$8,$U$2))","v":""}]
[{"$f":"IF('Data Input'!A281=0,\"\",'Data Input'!A281)","v":""},{"$f":"IF(ISBLANK('Data Input'!A281),\"\",COUNTIF('Data Input'!C281:AZ281,\"\"))","v":""},{"$f":"IF(ISBLANK('Data Input'!A281),\"\",COUNTIF('Data Input'!C281:AZ281,\"0\"))","v":""},{"$f":"IF(ISBLANK('Data Input'!A281),\"\",SUM(B277,C277))","v":""},{"$f":"IF(ISBLANK('Data Input'!A281),\"\",SUM('Data Input'!C281:AZ281))","v":""},{"$f":"IF(E277=\"\",\"\",E277/(COUNTA('Data Input'!$C$8:$AZ$8)))","v":""},{"$f":"IF(ISBLANK('Data Input'!A281),\"\",SUM('Data Input'!R281,'Data Input'!AA281,'Data Input'!AB281,'Data Input'!AC281,'Data Input'!AE281,'Data Input'!AH281,'Data Input'!AQ281,'Data Input'!AR281))","v":""},{"$f":"IF(G277=\"\",\"\",G277/COUNTIF('Data Input'!$C$8:$AZ$8,$G$2))","v":""},{"$f":"IF(ISBLANK('Data Input'!A281),\"\",SUM('Data Input'!D281,'Data Input'!E281,'Data Input'!F281,'Data Input'!G281,'Data Input'!H281,'Data Input'!J281,'Data Input'!K281,'Data Input'!O281,'Data Input'!U281,'Data Input'!V281,'Data Input'!W281,'Data Input'!X281,'Data Input'!Z281,'Data Input'!AG281,'Data Input'!AI281,'Data Input'!AJ281,'Data Input'!AK281))","v":""},{"$f":"IF(I277=\"\",\"\",I277/COUNTIF('Data Input'!$C$8:$AZ$8,$I$2))","v":""},{"$f":"IF(ISBLANK('Data Input'!A281),\"\",SUM('Data Input'!AF281,'Data Input'!AV281))","v":""},{"$f":"IF(K277=\"\",\"\",K277/COUNTIF('Data Input'!$C$8:$AZ$8,$K$2))","v":""},{"$f":"IF(ISBLANK('Data Input'!A281),\"\",SUM('Data Input'!C281,'Data Input'!I281,'Data Input'!L281,'Data Input'!M281,'Data Input'!N281,'Data Input'!P281,'Data Input'!S281,'Data Input'!T281,'Data Input'!Y281,'Data Input'!AD281,'Data Input'!AL281,'Data Input'!AM281,'Data Input'!AN281,'Data Input'!AO281,'Data Input'!AP281,'Data Input'!AS281))","v":""},{"$f":"IF(M277=\"\",\"\",M277/COUNTIF('Data Input'!$C$8:$AZ$8,$M$2))","v":""},{"$f":"IF(ISBLANK('Data Input'!A281),\"\",SUM('Data Input'!AY281,'Data Input'!AZ281))","v":""},{"$f":"IF(O277=\"\",\"\",O277/COUNTIF('Data Input'!$C$8:$AZ$8,$O$2))","v":""},{"$f":"IF(ISBLANK('Data Input'!A281),\"\",SUM('Data Input'!AW281))","v":""},{"$f":"IF(Q277=\"\",\"\",Q277/COUNTIF('Data Input'!$C$8:$AZ$8,$Q$2))","v":""},{"$f":"IF(ISBLANK('Data Input'!$A281),\"\",SUM('Data Input'!Q281,'Data Input'!AT281,'Data Input'!AU281))","v":""},{"$f":"IF(S277=\"\",\"\",S277/COUNTIF('Data Input'!$C$8:$AZ$8,$S$2))","v":""},{"$f":"IF(ISBLANK('Data Input'!$A281),\"\",SUM('Data Input'!AX281))","v":""},{"$f":"IF(U277=\"\",\"\",U277/COUNTIF('Data Input'!$C$8:$AZ$8,$U$2))","v":""}]
[{"$f":"IF('Data Input'!A282=0,\"\",'Data Input'!A282)","v":""},{"$f":"IF(ISBLANK('Data Input'!A282),\"\",COUNTIF('Data Input'!C282:AZ282,\"\"))","v":""},{"$f":"IF(ISBLANK('Data Input'!A282),\"\",COUNTIF('Data Input'!C282:AZ282,\"0\"))","v":""},{"$f":"IF(ISBLANK('Data Input'!A282),\"\",SUM(B278,C278))","v":""},{"$f":"IF(ISBLANK('Data Input'!A282),\"\",SUM('Data Input'!C282:AZ282))","v":""},{"$f":"IF(E278=\"\",\"\",E278/(COUNTA('Data Input'!$C$8:$AZ$8)))","v":""},{"$f":"IF(ISBLANK('Data Input'!A282),\"\",SUM('Data Input'!R282,'Data Input'!AA282,'Data Input'!AB282,'Data Input'!AC282,'Data Input'!AE282,'Data Input'!AH282,'Data Input'!AQ282,'Data Input'!AR282))","v":""},{"$f":"IF(G278=\"\",\"\",G278/COUNTIF('Data Input'!$C$8:$AZ$8,$G$2))","v":""},{"$f":"IF(ISBLANK('Data Input'!A282),\"\",SUM('Data Input'!D282,'Data Input'!E282,'Data Input'!F282,'Data Input'!G282,'Data Input'!H282,'Data Input'!J282,'Data Input'!K282,'Data Input'!O282,'Data Input'!U282,'Data Input'!V282,'Data Input'!W282,'Data Input'!X282,'Data Input'!Z282,'Data Input'!AG282,'Data Input'!AI282,'Data Input'!AJ282,'Data Input'!AK282))","v":""},{"$f":"IF(I278=\"\",\"\",I278/COUNTIF('Data Input'!$C$8:$AZ$8,$I$2))","v":""},{"$f":"IF(ISBLANK('Data Input'!A282),\"\",SUM('Data Input'!AF282,'Data Input'!AV282))","v":""},{"$f":"IF(K278=\"\",\"\",K278/COUNTIF('Data Input'!$C$8:$AZ$8,$K$2))","v":""},{"$f":"IF(ISBLANK('Data Input'!A282),\"\",SUM('Data Input'!C282,'Data Input'!I282,'Data Input'!L282,'Data Input'!M282,'Data Input'!N282,'Data Input'!P282,'Data Input'!S282,'Data Input'!T282,'Data Input'!Y282,'Data Input'!AD282,'Data Input'!AL282,'Data Input'!AM282,'Data Input'!AN282,'Data Input'!AO282,'Data Input'!AP282,'Data Input'!AS282))","v":""},{"$f":"IF(M278=\"\",\"\",M278/COUNTIF('Data Input'!$C$8:$AZ$8,$M$2))","v":""},{"$f":"IF(ISBLANK('Data Input'!A282),\"\",SUM('Data Input'!AY282,'Data Input'!AZ282))","v":""},{"$f":"IF(O278=\"\",\"\",O278/COUNTIF('Data Input'!$C$8:$AZ$8,$O$2))","v":""},{"$f":"IF(ISBLANK('Data Input'!A282),\"\",SUM('Data Input'!AW282))","v":""},{"$f":"IF(Q278=\"\",\"\",Q278/COUNTIF('Data Input'!$C$8:$AZ$8,$Q$2))","v":""},{"$f":"IF(ISBLANK('Data Input'!$A282),\"\",SUM('Data Input'!Q282,'Data Input'!AT282,'Data Input'!AU282))","v":""},{"$f":"IF(S278=\"\",\"\",S278/COUNTIF('Data Input'!$C$8:$AZ$8,$S$2))","v":""},{"$f":"IF(ISBLANK('Data Input'!$A282),\"\",SUM('Data Input'!AX282))","v":""},{"$f":"IF(U278=\"\",\"\",U278/COUNTIF('Data Input'!$C$8:$AZ$8,$U$2))","v":""}]
[{"$f":"IF('Data Input'!A283=0,\"\",'Data Input'!A283)","v":""},{"$f":"IF(ISBLANK('Data Input'!A283),\"\",COUNTIF('Data Input'!C283:AZ283,\"\"))","v":""},{"$f":"IF(ISBLANK('Data Input'!A283),\"\",COUNTIF('Data Input'!C283:AZ283,\"0\"))","v":""},{"$f":"IF(ISBLANK('Data Input'!A283),\"\",SUM(B279,C279))","v":""},{"$f":"IF(ISBLANK('Data Input'!A283),\"\",SUM('Data Input'!C283:AZ283))","v":""},{"$f":"IF(E279=\"\",\"\",E279/(COUNTA('Data Input'!$C$8:$AZ$8)))","v":""},{"$f":"IF(ISBLANK('Data Input'!A283),\"\",SUM('Data Input'!R283,'Data Input'!AA283,'Data Input'!AB283,'Data Input'!AC283,'Data Input'!AE283,'Data Input'!AH283,'Data Input'!AQ283,'Data Input'!AR283))","v":""},{"$f":"IF(G279=\"\",\"\",G279/COUNTIF('Data Input'!$C$8:$AZ$8,$G$2))","v":""},{"$f":"IF(ISBLANK('Data Input'!A283),\"\",SUM('Data Input'!D283,'Data Input'!E283,'Data Input'!F283,'Data Input'!G283,'Data Input'!H283,'Data Input'!J283,'Data Input'!K283,'Data Input'!O283,'Data Input'!U283,'Data Input'!V283,'Data Input'!W283,'Data Input'!X283,'Data Input'!Z283,'Data Input'!AG283,'Data Input'!AI283,'Data Input'!AJ283,'Data Input'!AK283))","v":""},{"$f":"IF(I279=\"\",\"\",I279/COUNTIF('Data Input'!$C$8:$AZ$8,$I$2))","v":""},{"$f":"IF(ISBLANK('Data Input'!A283),\"\",SUM('Data Input'!AF283,'Data Input'!AV283))","v":""},{"$f":"IF(K279=\"\",\"\",K279/COUNTIF('Data Input'!$C$8:$AZ$8,$K$2))","v":""},{"$f":"IF(ISBLANK('Data Input'!A283),\"\",SUM('Data Input'!C283,'Data Input'!I283,'Data Input'!L283,'Data Input'!M283,'Data Input'!N283,'Data Input'!P283,'Data Input'!S283,'Data Input'!T283,'Data Input'!Y283,'Data Input'!AD283,'Data Input'!AL283,'Data Input'!AM283,'Data Input'!AN283,'Data Input'!AO283,'Data Input'!AP283,'Data Input'!AS283))","v":""},{"$f":"IF(M279=\"\",\"\",M279/COUNTIF('Data Input'!$C$8:$AZ$8,$M$2))","v":""},{"$f":"IF(ISBLANK('Data Input'!A283),\"\",SUM('Data Input'!AY283,'Data Input'!AZ283))","v":""},{"$f":"IF(O279=\"\",\"\",O279/COUNTIF('Data Input'!$C$8:$AZ$8,$O$2))","v":""},{"$f":"IF(ISBLANK('Data Input'!A283),\"\",SUM('Data Input'!AW283))","v":""},{"$f":"IF(Q279=\"\",\"\",Q279/COUNTIF('Data Input'!$C$8:$AZ$8,$Q$2))","v":""},{"$f":"IF(ISBLANK('Data Input'!$A283),\"\",SUM('Data Input'!Q283,'Data Input'!AT283,'Data Input'!AU283))","v":""},{"$f":"IF(S279=\"\",\"\",S279/COUNTIF('Data Input'!$C$8:$AZ$8,$S$2))","v":""},{"$f":"IF(ISBLANK('Data Input'!$A283),\"\",SUM('Data Input'!AX283))","v":""},{"$f":"IF(U279=\"\",\"\",U279/COUNTIF('Data Input'!$C$8:$AZ$8,$U$2))","v":""}]
[{"$f":"IF('Data Input'!A284=0,\"\",'Data Input'!A284)","v":""},{"$f":"IF(ISBLANK('Data Input'!A284),\"\",COUNTIF('Data Input'!C284:AZ284,\"\"))","v":""},{"$f":"IF(ISBLANK('Data Input'!A284),\"\",COUNTIF('Data Input'!C284:AZ284,\"0\"))","v":""},{"$f":"IF(ISBLANK('Data Input'!A284),\"\",SUM(B280,C280))","v":""},{"$f":"IF(ISBLANK('Data Input'!A284),\"\",SUM('Data Input'!C284:AZ284))","v":""},{"$f":"IF(E280=\"\",\"\",E280/(COUNTA('Data Input'!$C$8:$AZ$8)))","v":""},{"$f":"IF(ISBLANK('Data Input'!A284),\"\",SUM('Data Input'!R284,'Data Input'!AA284,'Data Input'!AB284,'Data Input'!AC284,'Data Input'!AE284,'Data Input'!AH284,'Data Input'!AQ284,'Data Input'!AR284))","v":""},{"$f":"IF(G280=\"\",\"\",G280/COUNTIF('Data Input'!$C$8:$AZ$8,$G$2))","v":""},{"$f":"IF(ISBLANK('Data Input'!A284),\"\",SUM('Data Input'!D284,'Data Input'!E284,'Data Input'!F284,'Data Input'!G284,'Data Input'!H284,'Data Input'!J284,'Data Input'!K284,'Data Input'!O284,'Data Input'!U284,'Data Input'!V284,'Data Input'!W284,'Data Input'!X284,'Data Input'!Z284,'Data Input'!AG284,'Data Input'!AI284,'Data Input'!AJ284,'Data Input'!AK284))","v":""},{"$f":"IF(I280=\"\",\"\",I280/COUNTIF('Data Input'!$C$8:$AZ$8,$I$2))","v":""},{"$f":"IF(ISBLANK('Data Input'!A284),\"\",SUM('Data Input'!AF284,'Data Input'!AV284))","v":""},{"$f":"IF(K280=\"\",\"\",K280/COUNTIF('Data Input'!$C$8:$AZ$8,$K$2))","v":""},{"$f":"IF(ISBLANK('Data Input'!A284),\"\",SUM('Data Input'!C284,'Data Input'!I284,'Data Input'!L284,'Data Input'!M284,'Data Input'!N284,'Data Input'!P284,'Data Input'!S284,'Data Input'!T284,'Data Input'!Y284,'Data Input'!AD284,'Data Input'!AL284,'Data Input'!AM284,'Data Input'!AN284,'Data Input'!AO284,'Data Input'!AP284,'Data Input'!AS284))","v":""},{"$f":"IF(M280=\"\",\"\",M280/COUNTIF('Data Input'!$C$8:$AZ$8,$M$2))","v":""},{"$f":"IF(ISBLANK('Data Input'!A284),\"\",SUM('Data Input'!AY284,'Data Input'!AZ284))","v":""},{"$f":"IF(O280=\"\",\"\",O280/COUNTIF('Data Input'!$C$8:$AZ$8,$O$2))","v":""},{"$f":"IF(ISBLANK('Data Input'!A284),\"\",SUM('Data Input'!AW284))","v":""},{"$f":"IF(Q280=\"\",\"\",Q280/COUNTIF('Data Input'!$C$8:$AZ$8,$Q$2))","v":""},{"$f":"IF(ISBLANK('Data Input'!$A284),\"\",SUM('Data Input'!Q284,'Data Input'!AT284,'Data Input'!AU284))","v":""},{"$f":"IF(S280=\"\",\"\",S280/COUNTIF('Data Input'!$C$8:$AZ$8,$S$2))","v":""},{"$f":"IF(ISBLANK('Data Input'!$A284),\"\",SUM('Data Input'!AX284))","v":""},{"$f":"IF(U280=\"\",\"\",U280/COUNTIF('Data Input'!$C$8:$AZ$8,$U$2))","v":""}]
[{"$f":"IF('Data Input'!A285=0,\"\",'Data Input'!A285)","v":""},{"$f":"IF(ISBLANK('Data Input'!A285),\"\",COUNTIF('Data Input'!C285:AZ285,\"\"))","v":""},{"$f":"IF(ISBLANK('Data Input'!A285),\"\",COUNTIF('Data Input'!C285:AZ285,\"0\"))","v":""},{"$f":"IF(ISBLANK('Data Input'!A285),\"\",SUM(B281,C281))","v":""},{"$f":"IF(ISBLANK('Data Input'!A285),\"\",SUM('Data Input'!C285:AZ285))","v":""},{"$f":"IF(E281=\"\",\"\",E281/(COUNTA('Data Input'!$C$8:$AZ$8)))","v":""},{"$f":"IF(ISBLANK('Data Input'!A285),\"\",SUM('Data Input'!R285,'Data Input'!AA285,'Data Input'!AB285,'Data Input'!AC285,'Data Input'!AE285,'Data Input'!AH285,'Data Input'!AQ285,'Data Input'!AR285))","v":""},{"$f":"IF(G281=\"\",\"\",G281/COUNTIF('Data Input'!$C$8:$AZ$8,$G$2))","v":""},{"$f":"IF(ISBLANK('Data Input'!A285),\"\",SUM('Data Input'!D285,'Data Input'!E285,'Data Input'!F285,'Data Input'!G285,'Data Input'!H285,'Data Input'!J285,'Data Input'!K285,'Data Input'!O285,'Data Input'!U285,'Data Input'!V285,'Data Input'!W285,'Data Input'!X285,'Data Input'!Z285,'Data Input'!AG285,'Data Input'!AI285,'Data Input'!AJ285,'Data Input'!AK285))","v":""},{"$f":"IF(I281=\"\",\"\",I281/COUNTIF('Data Input'!$C$8:$AZ$8,$I$2))","v":""},{"$f":"IF(ISBLANK('Data Input'!A285),\"\",SUM('Data Input'!AF285,'Data Input'!AV285))","v":""},{"$f":"IF(K281=\"\",\"\",K281/COUNTIF('Data Input'!$C$8:$AZ$8,$K$2))","v":""},{"$f":"IF(ISBLANK('Data Input'!A285),\"\",SUM('Data Input'!C285,'Data Input'!I285,'Data Input'!L285,'Data Input'!M285,'Data Input'!N285,'Data Input'!P285,'Data Input'!S285,'Data Input'!T285,'Data Input'!Y285,'Data Input'!AD285,'Data Input'!AL285,'Data Input'!AM285,'Data Input'!AN285,'Data Input'!AO285,'Data Input'!AP285,'Data Input'!AS285))","v":""},{"$f":"IF(M281=\"\",\"\",M281/COUNTIF('Data Input'!$C$8:$AZ$8,$M$2))","v":""},{"$f":"IF(ISBLANK('Data Input'!A285),\"\",SUM('Data Input'!AY285,'Data Input'!AZ285))","v":""},{"$f":"IF(O281=\"\",\"\",O281/COUNTIF('Data Input'!$C$8:$AZ$8,$O$2))","v":""},{"$f":"IF(ISBLANK('Data Input'!A285),\"\",SUM('Data Input'!AW285))","v":""},{"$f":"IF(Q281=\"\",\"\",Q281/COUNTIF('Data Input'!$C$8:$AZ$8,$Q$2))","v":""},{"$f":"IF(ISBLANK('Data Input'!$A285),\"\",SUM('Data Input'!Q285,'Data Input'!AT285,'Data Input'!AU285))","v":""},{"$f":"IF(S281=\"\",\"\",S281/COUNTIF('Data Input'!$C$8:$AZ$8,$S$2))","v":""},{"$f":"IF(ISBLANK('Data Input'!$A285),\"\",SUM('Data Input'!AX285))","v":""},{"$f":"IF(U281=\"\",\"\",U281/COUNTIF('Data Input'!$C$8:$AZ$8,$U$2))","v":""}]
[{"$f":"IF('Data Input'!A286=0,\"\",'Data Input'!A286)","v":""},{"$f":"IF(ISBLANK('Data Input'!A286),\"\",COUNTIF('Data Input'!C286:AZ286,\"\"))","v":""},{"$f":"IF(ISBLANK('Data Input'!A286),\"\",COUNTIF('Data Input'!C286:AZ286,\"0\"))","v":""},{"$f":"IF(ISBLANK('Data Input'!A286),\"\",SUM(B282,C282))","v":""},{"$f":"IF(ISBLANK('Data Input'!A286),\"\",SUM('Data Input'!C286:AZ286))","v":""},{"$f":"IF(E282=\"\",\"\",E282/(COUNTA('Data Input'!$C$8:$AZ$8)))","v":""},{"$f":"IF(ISBLANK('Data Input'!A286),\"\",SUM('Data Input'!R286,'Data Input'!AA286,'Data Input'!AB286,'Data Input'!AC286,'Data Input'!AE286,'Data Input'!AH286,'Data Input'!AQ286,'Data Input'!AR286))","v":""},{"$f":"IF(G282=\"\",\"\",G282/COUNTIF('Data Input'!$C$8:$AZ$8,$G$2))","v":""},{"$f":"IF(ISBLANK('Data Input'!A286),\"\",SUM('Data Input'!D286,'Data Input'!E286,'Data Input'!F286,'Data Input'!G286,'Data Input'!H286,'Data Input'!J286,'Data Input'!K286,'Data Input'!O286,'Data Input'!U286,'Data Input'!V286,'Data Input'!W286,'Data Input'!X286,'Data Input'!Z286,'Data Input'!AG286,'Data Input'!AI286,'Data Input'!AJ286,'Data Input'!AK286))","v":""},{"$f":"IF(I282=\"\",\"\",I282/COUNTIF('Data Input'!$C$8:$AZ$8,$I$2))","v":""},{"$f":"IF(ISBLANK('Data Input'!A286),\"\",SUM('Data Input'!AF286,'Data Input'!AV286))","v":""},{"$f":"IF(K282=\"\",\"\",K282/COUNTIF('Data Input'!$C$8:$AZ$8,$K$2))","v":""},{"$f":"IF(ISBLANK('Data Input'!A286),\"\",SUM('Data Input'!C286,'Data Input'!I286,'Data Input'!L286,'Data Input'!M286,'Data Input'!N286,'Data Input'!P286,'Data Input'!S286,'Data Input'!T286,'Data Input'!Y286,'Data Input'!AD286,'Data Input'!AL286,'Data Input'!AM286,'Data Input'!AN286,'Data Input'!AO286,'Data Input'!AP286,'Data Input'!AS286))","v":""},{"$f":"IF(M282=\"\",\"\",M282/COUNTIF('Data Input'!$C$8:$AZ$8,$M$2))","v":""},{"$f":"IF(ISBLANK('Data Input'!A286),\"\",SUM('Data Input'!AY286,'Data Input'!AZ286))","v":""},{"$f":"IF(O282=\"\",\"\",O282/COUNTIF('Data Input'!$C$8:$AZ$8,$O$2))","v":""},{"$f":"IF(ISBLANK('Data Input'!A286),\"\",SUM('Data Input'!AW286))","v":""},{"$f":"IF(Q282=\"\",\"\",Q282/COUNTIF('Data Input'!$C$8:$AZ$8,$Q$2))","v":""},{"$f":"IF(ISBLANK('Data Input'!$A286),\"\",SUM('Data Input'!Q286,'Data Input'!AT286,'Data Input'!AU286))","v":""},{"$f":"IF(S282=\"\",\"\",S282/COUNTIF('Data Input'!$C$8:$AZ$8,$S$2))","v":""},{"$f":"IF(ISBLANK('Data Input'!$A286),\"\",SUM('Data Input'!AX286))","v":""},{"$f":"IF(U282=\"\",\"\",U282/COUNTIF('Data Input'!$C$8:$AZ$8,$U$2))","v":""}]
[{"$f":"IF('Data Input'!A287=0,\"\",'Data Input'!A287)","v":""},{"$f":"IF(ISBLANK('Data Input'!A287),\"\",COUNTIF('Data Input'!C287:AZ287,\"\"))","v":""},{"$f":"IF(ISBLANK('Data Input'!A287),\"\",COUNTIF('Data Input'!C287:AZ287,\"0\"))","v":""},{"$f":"IF(ISBLANK('Data Input'!A287),\"\",SUM(B283,C283))","v":""},{"$f":"IF(ISBLANK('Data Input'!A287),\"\",SUM('Data Input'!C287:AZ287))","v":""},{"$f":"IF(E283=\"\",\"\",E283/(COUNTA('Data Input'!$C$8:$AZ$8)))","v":""},{"$f":"IF(ISBLANK('Data Input'!A287),\"\",SUM('Data Input'!R287,'Data Input'!AA287,'Data Input'!AB287,'Data Input'!AC287,'Data Input'!AE287,'Data Input'!AH287,'Data Input'!AQ287,'Data Input'!AR287))","v":""},{"$f":"IF(G283=\"\",\"\",G283/COUNTIF('Data Input'!$C$8:$AZ$8,$G$2))","v":""},{"$f":"IF(ISBLANK('Data Input'!A287),\"\",SUM('Data Input'!D287,'Data Input'!E287,'Data Input'!F287,'Data Input'!G287,'Data Input'!H287,'Data Input'!J287,'Data Input'!K287,'Data Input'!O287,'Data Input'!U287,'Data Input'!V287,'Data Input'!W287,'Data Input'!X287,'Data Input'!Z287,'Data Input'!AG287,'Data Input'!AI287,'Data Input'!AJ287,'Data Input'!AK287))","v":""},{"$f":"IF(I283=\"\",\"\",I283/COUNTIF('Data Input'!$C$8:$AZ$8,$I$2))","v":""},{"$f":"IF(ISBLANK('Data Input'!A287),\"\",SUM('Data Input'!AF287,'Data Input'!AV287))","v":""},{"$f":"IF(K283=\"\",\"\",K283/COUNTIF('Data Input'!$C$8:$AZ$8,$K$2))","v":""},{"$f":"IF(ISBLANK('Data Input'!A287),\"\",SUM('Data Input'!C287,'Data Input'!I287,'Data Input'!L287,'Data Input'!M287,'Data Input'!N287,'Data Input'!P287,'Data Input'!S287,'Data Input'!T287,'Data Input'!Y287,'Data Input'!AD287,'Data Input'!AL287,'Data Input'!AM287,'Data Input'!AN287,'Data Input'!AO287,'Data Input'!AP287,'Data Input'!AS287))","v":""},{"$f":"IF(M283=\"\",\"\",M283/COUNTIF('Data Input'!$C$8:$AZ$8,$M$2))","v":""},{"$f":"IF(ISBLANK('Data Input'!A287),\"\",SUM('Data Input'!AY287,'Data Input'!AZ287))","v":""},{"$f":"IF(O283=\"\",\"\",O283/COUNTIF('Data Input'!$C$8:$AZ$8,$O$2))","v":""},{"$f":"IF(ISBLANK('Data Input'!A287),\"\",SUM('Data Input'!AW287))","v":""},{"$f":"IF(Q283=\"\",\"\",Q283/COUNTIF('Data Input'!$C$8:$AZ$8,$Q$2))","v":""},{"$f":"IF(ISBLANK('Data Input'!$A287),\"\",SUM('Data Input'!Q287,'Data Input'!AT287,'Data Input'!AU287))","v":""},{"$f":"IF(S283=\"\",\"\",S283/COUNTIF('Data Input'!$C$8:$AZ$8,$S$2))","v":""},{"$f":"IF(ISBLANK('Data Input'!$A287),\"\",SUM('Data Input'!AX287))","v":""},{"$f":"IF(U283=\"\",\"\",U283/COUNTIF('Data Input'!$C$8:$AZ$8,$U$2))","v":""}]
[{"$f":"IF('Data Input'!A288=0,\"\",'Data Input'!A288)","v":""},{"$f":"IF(ISBLANK('Data Input'!A288),\"\",COUNTIF('Data Input'!C288:AZ288,\"\"))","v":""},{"$f":"IF(ISBLANK('Data Input'!A288),\"\",COUNTIF('Data Input'!C288:AZ288,\"0\"))","v":""},{"$f":"IF(ISBLANK('Data Input'!A288),\"\",SUM(B284,C284))","v":""},{"$f":"IF(ISBLANK('Data Input'!A288),\"\",SUM('Data Input'!C288:AZ288))","v":""},{"$f":"IF(E284=\"\",\"\",E284/(COUNTA('Data Input'!$C$8:$AZ$8)))","v":""},{"$f":"IF(ISBLANK('Data Input'!A288),\"\",SUM('Data Input'!R288,'Data Input'!AA288,'Data Input'!AB288,'Data Input'!AC288,'Data Input'!AE288,'Data Input'!AH288,'Data Input'!AQ288,'Data Input'!AR288))","v":""},{"$f":"IF(G284=\"\",\"\",G284/COUNTIF('Data Input'!$C$8:$AZ$8,$G$2))","v":""},{"$f":"IF(ISBLANK('Data Input'!A288),\"\",SUM('Data Input'!D288,'Data Input'!E288,'Data Input'!F288,'Data Input'!G288,'Data Input'!H288,'Data Input'!J288,'Data Input'!K288,'Data Input'!O288,'Data Input'!U288,'Data Input'!V288,'Data Input'!W288,'Data Input'!X288,'Data Input'!Z288,'Data Input'!AG288,'Data Input'!AI288,'Data Input'!AJ288,'Data Input'!AK288))","v":""},{"$f":"IF(I284=\"\",\"\",I284/COUNTIF('Data Input'!$C$8:$AZ$8,$I$2))","v":""},{"$f":"IF(ISBLANK('Data Input'!A288),\"\",SUM('Data Input'!AF288,'Data Input'!AV288))","v":""},{"$f":"IF(K284=\"\",\"\",K284/COUNTIF('Data Input'!$C$8:$AZ$8,$K$2))","v":""},{"$f":"IF(ISBLANK('Data Input'!A288),\"\",SUM('Data Input'!C288,'Data Input'!I288,'Data Input'!L288,'Data Input'!M288,'Data Input'!N288,'Data Input'!P288,'Data Input'!S288,'Data Input'!T288,'Data Input'!Y288,'Data Input'!AD288,'Data Input'!AL288,'Data Input'!AM288,'Data Input'!AN288,'Data Input'!AO288,'Data Input'!AP288,'Data Input'!AS288))","v":""},{"$f":"IF(M284=\"\",\"\",M284/COUNTIF('Data Input'!$C$8:$AZ$8,$M$2))","v":""},{"$f":"IF(ISBLANK('Data Input'!A288),\"\",SUM('Data Input'!AY288,'Data Input'!AZ288))","v":""},{"$f":"IF(O284=\"\",\"\",O284/COUNTIF('Data Input'!$C$8:$AZ$8,$O$2))","v":""},{"$f":"IF(ISBLANK('Data Input'!A288),\"\",SUM('Data Input'!AW288))","v":""},{"$f":"IF(Q284=\"\",\"\",Q284/COUNTIF('Data Input'!$C$8:$AZ$8,$Q$2))","v":""},{"$f":"IF(ISBLANK('Data Input'!$A288),\"\",SUM('Data Input'!Q288,'Data Input'!AT288,'Data Input'!AU288))","v":""},{"$f":"IF(S284=\"\",\"\",S284/COUNTIF('Data Input'!$C$8:$AZ$8,$S$2))","v":""},{"$f":"IF(ISBLANK('Data Input'!$A288),\"\",SUM('Data Input'!AX288))","v":""},{"$f":"IF(U284=\"\",\"\",U284/COUNTIF('Data Input'!$C$8:$AZ$8,$U$2))","v":""}]
[{"$f":"IF('Data Input'!A289=0,\"\",'Data Input'!A289)","v":""},{"$f":"IF(ISBLANK('Data Input'!A289),\"\",COUNTIF('Data Input'!C289:AZ289,\"\"))","v":""},{"$f":"IF(ISBLANK('Data Input'!A289),\"\",COUNTIF('Data Input'!C289:AZ289,\"0\"))","v":""},{"$f":"IF(ISBLANK('Data Input'!A289),\"\",SUM(B285,C285))","v":""},{"$f":"IF(ISBLANK('Data Input'!A289),\"\",SUM('Data Input'!C289:AZ289))","v":""},{"$f":"IF(E285=\"\",\"\",E285/(COUNTA('Data Input'!$C$8:$AZ$8)))","v":""},{"$f":"IF(ISBLANK('Data Input'!A289),\"\",SUM('Data Input'!R289,'Data Input'!AA289,'Data Input'!AB289,'Data Input'!AC289,'Data Input'!AE289,'Data Input'!AH289,'Data Input'!AQ289,'Data Input'!AR289))","v":""},{"$f":"IF(G285=\"\",\"\",G285/COUNTIF('Data Input'!$C$8:$AZ$8,$G$2))","v":""},{"$f":"IF(ISBLANK('Data Input'!A289),\"\",SUM('Data Input'!D289,'Data Input'!E289,'Data Input'!F289,'Data Input'!G289,'Data Input'!H289,'Data Input'!J289,'Data Input'!K289,'Data Input'!O289,'Data Input'!U289,'Data Input'!V289,'Data Input'!W289,'Data Input'!X289,'Data Input'!Z289,'Data Input'!AG289,'Data Input'!AI289,'Data Input'!AJ289,'Data Input'!AK289))","v":""},{"$f":"IF(I285=\"\",\"\",I285/COUNTIF('Data Input'!$C$8:$AZ$8,$I$2))","v":""},{"$f":"IF(ISBLANK('Data Input'!A289),\"\",SUM('Data Input'!AF289,'Data Input'!AV289))","v":""},{"$f":"IF(K285=\"\",\"\",K285/COUNTIF('Data Input'!$C$8:$AZ$8,$K$2))","v":""},{"$f":"IF(ISBLANK('Data Input'!A289),\"\",SUM('Data Input'!C289,'Data Input'!I289,'Data Input'!L289,'Data Input'!M289,'Data Input'!N289,'Data Input'!P289,'Data Input'!S289,'Data Input'!T289,'Data Input'!Y289,'Data Input'!AD289,'Data Input'!AL289,'Data Input'!AM289,'Data Input'!AN289,'Data Input'!AO289,'Data Input'!AP289,'Data Input'!AS289))","v":""},{"$f":"IF(M285=\"\",\"\",M285/COUNTIF('Data Input'!$C$8:$AZ$8,$M$2))","v":""},{"$f":"IF(ISBLANK('Data Input'!A289),\"\",SUM('Data Input'!AY289,'Data Input'!AZ289))","v":""},{"$f":"IF(O285=\"\",\"\",O285/COUNTIF('Data Input'!$C$8:$AZ$8,$O$2))","v":""},{"$f":"IF(ISBLANK('Data Input'!A289),\"\",SUM('Data Input'!AW289))","v":""},{"$f":"IF(Q285=\"\",\"\",Q285/COUNTIF('Data Input'!$C$8:$AZ$8,$Q$2))","v":""},{"$f":"IF(ISBLANK('Data Input'!$A289),\"\",SUM('Data Input'!Q289,'Data Input'!AT289,'Data Input'!AU289))","v":""},{"$f":"IF(S285=\"\",\"\",S285/COUNTIF('Data Input'!$C$8:$AZ$8,$S$2))","v":""},{"$f":"IF(ISBLANK('Data Input'!$A289),\"\",SUM('Data Input'!AX289))","v":""},{"$f":"IF(U285=\"\",\"\",U285/COUNTIF('Data Input'!$C$8:$AZ$8,$U$2))","v":""}]
[{"$f":"IF('Data Input'!A290=0,\"\",'Data Input'!A290)","v":""},{"$f":"IF(ISBLANK('Data Input'!A290),\"\",COUNTIF('Data Input'!C290:AZ290,\"\"))","v":""},{"$f":"IF(ISBLANK('Data Input'!A290),\"\",COUNTIF('Data Input'!C290:AZ290,\"0\"))","v":""},{"$f":"IF(ISBLANK('Data Input'!A290),\"\",SUM(B286,C286))","v":""},{"$f":"IF(ISBLANK('Data Input'!A290),\"\",SUM('Data Input'!C290:AZ290))","v":""},{"$f":"IF(E286=\"\",\"\",E286/(COUNTA('Data Input'!$C$8:$AZ$8)))","v":""},{"$f":"IF(ISBLANK('Data Input'!A290),\"\",SUM('Data Input'!R290,'Data Input'!AA290,'Data Input'!AB290,'Data Input'!AC290,'Data Input'!AE290,'Data Input'!AH290,'Data Input'!AQ290,'Data Input'!AR290))","v":""},{"$f":"IF(G286=\"\",\"\",G286/COUNTIF('Data Input'!$C$8:$AZ$8,$G$2))","v":""},{"$f":"IF(ISBLANK('Data Input'!A290),\"\",SUM('Data Input'!D290,'Data Input'!E290,'Data Input'!F290,'Data Input'!G290,'Data Input'!H290,'Data Input'!J290,'Data Input'!K290,'Data Input'!O290,'Data Input'!U290,'Data Input'!V290,'Data Input'!W290,'Data Input'!X290,'Data Input'!Z290,'Data Input'!AG290,'Data Input'!AI290,'Data Input'!AJ290,'Data Input'!AK290))","v":""},{"$f":"IF(I286=\"\",\"\",I286/COUNTIF('Data Input'!$C$8:$AZ$8,$I$2))","v":""},{"$f":"IF(ISBLANK('Data Input'!A290),\"\",SUM('Data Input'!AF290,'Data Input'!AV290))","v":""},{"$f":"IF(K286=\"\",\"\",K286/COUNTIF('Data Input'!$C$8:$AZ$8,$K$2))","v":""},{"$f":"IF(ISBLANK('Data Input'!A290),\"\",SUM('Data Input'!C290,'Data Input'!I290,'Data Input'!L290,'Data Input'!M290,'Data Input'!N290,'Data Input'!P290,'Data Input'!S290,'Data Input'!T290,'Data Input'!Y290,'Data Input'!AD290,'Data Input'!AL290,'Data Input'!AM290,'Data Input'!AN290,'Data Input'!AO290,'Data Input'!AP290,'Data Input'!AS290))","v":""},{"$f":"IF(M286=\"\",\"\",M286/COUNTIF('Data Input'!$C$8:$AZ$8,$M$2))","v":""},{"$f":"IF(ISBLANK('Data Input'!A290),\"\",SUM('Data Input'!AY290,'Data Input'!AZ290))","v":""},{"$f":"IF(O286=\"\",\"\",O286/COUNTIF('Data Input'!$C$8:$AZ$8,$O$2))","v":""},{"$f":"IF(ISBLANK('Data Input'!A290),\"\",SUM('Data Input'!AW290))","v":""},{"$f":"IF(Q286=\"\",\"\",Q286/COUNTIF('Data Input'!$C$8:$AZ$8,$Q$2))","v":""},{"$f":"IF(ISBLANK('Data Input'!$A290),\"\",SUM('Data Input'!Q290,'Data Input'!AT290,'Data Input'!AU290))","v":""},{"$f":"IF(S286=\"\",\"\",S286/COUNTIF('Data Input'!$C$8:$AZ$8,$S$2))","v":""},{"$f":"IF(ISBLANK('Data Input'!$A290),\"\",SUM('Data Input'!AX290))","v":""},{"$f":"IF(U286=\"\",\"\",U286/COUNTIF('Data Input'!$C$8:$AZ$8,$U$2))","v":""}]
[{"$f":"IF('Data Input'!A291=0,\"\",'Data Input'!A291)","v":""},{"$f":"IF(ISBLANK('Data Input'!A291),\"\",COUNTIF('Data Input'!C291:AZ291,\"\"))","v":""},{"$f":"IF(ISBLANK('Data Input'!A291),\"\",COUNTIF('Data Input'!C291:AZ291,\"0\"))","v":""},{"$f":"IF(ISBLANK('Data Input'!A291),\"\",SUM(B287,C287))","v":""},{"$f":"IF(ISBLANK('Data Input'!A291),\"\",SUM('Data Input'!C291:AZ291))","v":""},{"$f":"IF(E287=\"\",\"\",E287/(COUNTA('Data Input'!$C$8:$AZ$8)))","v":""},{"$f":"IF(ISBLANK('Data Input'!A291),\"\",SUM('Data Input'!R291,'Data Input'!AA291,'Data Input'!AB291,'Data Input'!AC291,'Data Input'!AE291,'Data Input'!AH291,'Data Input'!AQ291,'Data Input'!AR291))","v":""},{"$f":"IF(G287=\"\",\"\",G287/COUNTIF('Data Input'!$C$8:$AZ$8,$G$2))","v":""},{"$f":"IF(ISBLANK('Data Input'!A291),\"\",SUM('Data Input'!D291,'Data Input'!E291,'Data Input'!F291,'Data Input'!G291,'Data Input'!H291,'Data Input'!J291,'Data Input'!K291,'Data Input'!O291,'Data Input'!U291,'Data Input'!V291,'Data Input'!W291,'Data Input'!X291,'Data Input'!Z291,'Data Input'!AG291,'Data Input'!AI291,'Data Input'!AJ291,'Data Input'!AK291))","v":""},{"$f":"IF(I287=\"\",\"\",I287/COUNTIF('Data Input'!$C$8:$AZ$8,$I$2))","v":""},{"$f":"IF(ISBLANK('Data Input'!A291),\"\",SUM('Data Input'!AF291,'Data Input'!AV291))","v":""},{"$f":"IF(K287=\"\",\"\",K287/COUNTIF('Data Input'!$C$8:$AZ$8,$K$2))","v":""},{"$f":"IF(ISBLANK('Data Input'!A291),\"\",SUM('Data Input'!C291,'Data Input'!I291,'Data Input'!L291,'Data Input'!M291,'Data Input'!N291,'Data Input'!P291,'Data Input'!S291,'Data Input'!T291,'Data Input'!Y291,'Data Input'!AD291,'Data Input'!AL291,'Data Input'!AM291,'Data Input'!AN291,'Data Input'!AO291,'Data Input'!AP291,'Data Input'!AS291))","v":""},{"$f":"IF(M287=\"\",\"\",M287/COUNTIF('Data Input'!$C$8:$AZ$8,$M$2))","v":""},{"$f":"IF(ISBLANK('Data Input'!A291),\"\",SUM('Data Input'!AY291,'Data Input'!AZ291))","v":""},{"$f":"IF(O287=\"\",\"\",O287/COUNTIF('Data Input'!$C$8:$AZ$8,$O$2))","v":""},{"$f":"IF(ISBLANK('Data Input'!A291),\"\",SUM('Data Input'!AW291))","v":""},{"$f":"IF(Q287=\"\",\"\",Q287/COUNTIF('Data Input'!$C$8:$AZ$8,$Q$2))","v":""},{"$f":"IF(ISBLANK('Data Input'!$A291),\"\",SUM('Data Input'!Q291,'Data Input'!AT291,'Data Input'!AU291))","v":""},{"$f":"IF(S287=\"\",\"\",S287/COUNTIF('Data Input'!$C$8:$AZ$8,$S$2))","v":""},{"$f":"IF(ISBLANK('Data Input'!$A291),\"\",SUM('Data Input'!AX291))","v":""},{"$f":"IF(U287=\"\",\"\",U287/COUNTIF('Data Input'!$C$8:$AZ$8,$U$2))","v":""}]
[{"$f":"IF('Data Input'!A292=0,\"\",'Data Input'!A292)","v":""},{"$f":"IF(ISBLANK('Data Input'!A292),\"\",COUNTIF('Data Input'!C292:AZ292,\"\"))","v":""},{"$f":"IF(ISBLANK('Data Input'!A292),\"\",COUNTIF('Data Input'!C292:AZ292,\"0\"))","v":""},{"$f":"IF(ISBLANK('Data Input'!A292),\"\",SUM(B288,C288))","v":""},{"$f":"IF(ISBLANK('Data Input'!A292),\"\",SUM('Data Input'!C292:AZ292))","v":""},{"$f":"IF(E288=\"\",\"\",E288/(COUNTA('Data Input'!$C$8:$AZ$8)))","v":""},{"$f":"IF(ISBLANK('Data Input'!A292),\"\",SUM('Data Input'!R292,'Data Input'!AA292,'Data Input'!AB292,'Data Input'!AC292,'Data Input'!AE292,'Data Input'!AH292,'Data Input'!AQ292,'Data Input'!AR292))","v":""},{"$f":"IF(G288=\"\",\"\",G288/COUNTIF('Data Input'!$C$8:$AZ$8,$G$2))","v":""},{"$f":"IF(ISBLANK('Data Input'!A292),\"\",SUM('Data Input'!D292,'Data Input'!E292,'Data Input'!F292,'Data Input'!G292,'Data Input'!H292,'Data Input'!J292,'Data Input'!K292,'Data Input'!O292,'Data Input'!U292,'Data Input'!V292,'Data Input'!W292,'Data Input'!X292,'Data Input'!Z292,'Data Input'!AG292,'Data Input'!AI292,'Data Input'!AJ292,'Data Input'!AK292))","v":""},{"$f":"IF(I288=\"\",\"\",I288/COUNTIF('Data Input'!$C$8:$AZ$8,$I$2))","v":""},{"$f":"IF(ISBLANK('Data Input'!A292),\"\",SUM('Data Input'!AF292,'Data Input'!AV292))","v":""},{"$f":"IF(K288=\"\",\"\",K288/COUNTIF('Data Input'!$C$8:$AZ$8,$K$2))","v":""},{"$f":"IF(ISBLANK('Data Input'!A292),\"\",SUM('Data Input'!C292,'Data Input'!I292,'Data Input'!L292,'Data Input'!M292,'Data Input'!N292,'Data Input'!P292,'Data Input'!S292,'Data Input'!T292,'Data Input'!Y292,'Data Input'!AD292,'Data Input'!AL292,'Data Input'!AM292,'Data Input'!AN292,'Data Input'!AO292,'Data Input'!AP292,'Data Input'!AS292))","v":""},{"$f":"IF(M288=\"\",\"\",M288/COUNTIF('Data Input'!$C$8:$AZ$8,$M$2))","v":""},{"$f":"IF(ISBLANK('Data Input'!A292),\"\",SUM('Data Input'!AY292,'Data Input'!AZ292))","v":""},{"$f":"IF(O288=\"\",\"\",O288/COUNTIF('Data Input'!$C$8:$AZ$8,$O$2))","v":""},{"$f":"IF(ISBLANK('Data Input'!A292),\"\",SUM('Data Input'!AW292))","v":""},{"$f":"IF(Q288=\"\",\"\",Q288/COUNTIF('Data Input'!$C$8:$AZ$8,$Q$2))","v":""},{"$f":"IF(ISBLANK('Data Input'!$A292),\"\",SUM('Data Input'!Q292,'Data Input'!AT292,'Data Input'!AU292))","v":""},{"$f":"IF(S288=\"\",\"\",S288/COUNTIF('Data Input'!$C$8:$AZ$8,$S$2))","v":""},{"$f":"IF(ISBLANK('Data Input'!$A292),\"\",SUM('Data Input'!AX292))","v":""},{"$f":"IF(U288=\"\",\"\",U288/COUNTIF('Data Input'!$C$8:$AZ$8,$U$2))","v":""}]
[{"$f":"IF('Data Input'!A293=0,\"\",'Data Input'!A293)","v":""},{"$f":"IF(ISBLANK('Data Input'!A293),\"\",COUNTIF('Data Input'!C293:AZ293,\"\"))","v":""},{"$f":"IF(ISBLANK('Data Input'!A293),\"\",COUNTIF('Data Input'!C293:AZ293,\"0\"))","v":""},{"$f":"IF(ISBLANK('Data Input'!A293),\"\",SUM(B289,C289))","v":""},{"$f":"IF(ISBLANK('Data Input'!A293),\"\",SUM('Data Input'!C293:AZ293))","v":""},{"$f":"IF(E289=\"\",\"\",E289/(COUNTA('Data Input'!$C$8:$AZ$8)))","v":""},{"$f":"IF(ISBLANK('Data Input'!A293),\"\",SUM('Data Input'!R293,'Data Input'!AA293,'Data Input'!AB293,'Data Input'!AC293,'Data Input'!AE293,'Data Input'!AH293,'Data Input'!AQ293,'Data Input'!AR293))","v":""},{"$f":"IF(G289=\"\",\"\",G289/COUNTIF('Data Input'!$C$8:$AZ$8,$G$2))","v":""},{"$f":"IF(ISBLANK('Data Input'!A293),\"\",SUM('Data Input'!D293,'Data Input'!E293,'Data Input'!F293,'Data Input'!G293,'Data Input'!H293,'Data Input'!J293,'Data Input'!K293,'Data Input'!O293,'Data Input'!U293,'Data Input'!V293,'Data Input'!W293,'Data Input'!X293,'Data Input'!Z293,'Data Input'!AG293,'Data Input'!AI293,'Data Input'!AJ293,'Data Input'!AK293))","v":""},{"$f":"IF(I289=\"\",\"\",I289/COUNTIF('Data Input'!$C$8:$AZ$8,$I$2))","v":""},{"$f":"IF(ISBLANK('Data Input'!A293),\"\",SUM('Data Input'!AF293,'Data Input'!AV293))","v":""},{"$f":"IF(K289=\"\",\"\",K289/COUNTIF('Data Input'!$C$8:$AZ$8,$K$2))","v":""},{"$f":"IF(ISBLANK('Data Input'!A293),\"\",SUM('Data Input'!C293,'Data Input'!I293,'Data Input'!L293,'Data Input'!M293,'Data Input'!N293,'Data Input'!P293,'Data Input'!S293,'Data Input'!T293,'Data Input'!Y293,'Data Input'!AD293,'Data Input'!AL293,'Data Input'!AM293,'Data Input'!AN293,'Data Input'!AO293,'Data Input'!AP293,'Data Input'!AS293))","v":""},{"$f":"IF(M289=\"\",\"\",M289/COUNTIF('Data Input'!$C$8:$AZ$8,$M$2))","v":""},{"$f":"IF(ISBLANK('Data Input'!A293),\"\",SUM('Data Input'!AY293,'Data Input'!AZ293))","v":""},{"$f":"IF(O289=\"\",\"\",O289/COUNTIF('Data Input'!$C$8:$AZ$8,$O$2))","v":""},{"$f":"IF(ISBLANK('Data Input'!A293),\"\",SUM('Data Input'!AW293))","v":""},{"$f":"IF(Q289=\"\",\"\",Q289/COUNTIF('Data Input'!$C$8:$AZ$8,$Q$2))","v":""},{"$f":"IF(ISBLANK('Data Input'!$A293),\"\",SUM('Data Input'!Q293,'Data Input'!AT293,'Data Input'!AU293))","v":""},{"$f":"IF(S289=\"\",\"\",S289/COUNTIF('Data Input'!$C$8:$AZ$8,$S$2))","v":""},{"$f":"IF(ISBLANK('Data Input'!$A293),\"\",SUM('Data Input'!AX293))","v":""},{"$f":"IF(U289=\"\",\"\",U289/COUNTIF('Data Input'!$C$8:$AZ$8,$U$2))","v":""}]
[{"$f":"IF('Data Input'!A294=0,\"\",'Data Input'!A294)","v":""},{"$f":"IF(ISBLANK('Data Input'!A294),\"\",COUNTIF('Data Input'!C294:AZ294,\"\"))","v":""},{"$f":"IF(ISBLANK('Data Input'!A294),\"\",COUNTIF('Data Input'!C294:AZ294,\"0\"))","v":""},{"$f":"IF(ISBLANK('Data Input'!A294),\"\",SUM(B290,C290))","v":""},{"$f":"IF(ISBLANK('Data Input'!A294),\"\",SUM('Data Input'!C294:AZ294))","v":""},{"$f":"IF(E290=\"\",\"\",E290/(COUNTA('Data Input'!$C$8:$AZ$8)))","v":""},{"$f":"IF(ISBLANK('Data Input'!A294),\"\",SUM('Data Input'!R294,'Data Input'!AA294,'Data Input'!AB294,'Data Input'!AC294,'Data Input'!AE294,'Data Input'!AH294,'Data Input'!AQ294,'Data Input'!AR294))","v":""},{"$f":"IF(G290=\"\",\"\",G290/COUNTIF('Data Input'!$C$8:$AZ$8,$G$2))","v":""},{"$f":"IF(ISBLANK('Data Input'!A294),\"\",SUM('Data Input'!D294,'Data Input'!E294,'Data Input'!F294,'Data Input'!G294,'Data Input'!H294,'Data Input'!J294,'Data Input'!K294,'Data Input'!O294,'Data Input'!U294,'Data Input'!V294,'Data Input'!W294,'Data Input'!X294,'Data Input'!Z294,'Data Input'!AG294,'Data Input'!AI294,'Data Input'!AJ294,'Data Input'!AK294))","v":""},{"$f":"IF(I290=\"\",\"\",I290/COUNTIF('Data Input'!$C$8:$AZ$8,$I$2))","v":""},{"$f":"IF(ISBLANK('Data Input'!A294),\"\",SUM('Data Input'!AF294,'Data Input'!AV294))","v":""},{"$f":"IF(K290=\"\",\"\",K290/COUNTIF('Data Input'!$C$8:$AZ$8,$K$2))","v":""},{"$f":"IF(ISBLANK('Data Input'!A294),\"\",SUM('Data Input'!C294,'Data Input'!I294,'Data Input'!L294,'Data Input'!M294,'Data Input'!N294,'Data Input'!P294,'Data Input'!S294,'Data Input'!T294,'Data Input'!Y294,'Data Input'!AD294,'Data Input'!AL294,'Data Input'!AM294,'Data Input'!AN294,'Data Input'!AO294,'Data Input'!AP294,'Data Input'!AS294))","v":""},{"$f":"IF(M290=\"\",\"\",M290/COUNTIF('Data Input'!$C$8:$AZ$8,$M$2))","v":""},{"$f":"IF(ISBLANK('Data Input'!A294),\"\",SUM('Data Input'!AY294,'Data Input'!AZ294))","v":""},{"$f":"IF(O290=\"\",\"\",O290/COUNTIF('Data Input'!$C$8:$AZ$8,$O$2))","v":""},{"$f":"IF(ISBLANK('Data Input'!A294),\"\",SUM('Data Input'!AW294))","v":""},{"$f":"IF(Q290=\"\",\"\",Q290/COUNTIF('Data Input'!$C$8:$AZ$8,$Q$2))","v":""},{"$f":"IF(ISBLANK('Data Input'!$A294),\"\",SUM('Data Input'!Q294,'Data Input'!AT294,'Data Input'!AU294))","v":""},{"$f":"IF(S290=\"\",\"\",S290/COUNTIF('Data Input'!$C$8:$AZ$8,$S$2))","v":""},{"$f":"IF(ISBLANK('Data Input'!$A294),\"\",SUM('Data Input'!AX294))","v":""},{"$f":"IF(U290=\"\",\"\",U290/COUNTIF('Data Input'!$C$8:$AZ$8,$U$2))","v":""}]
[{"$f":"IF('Data Input'!A295=0,\"\",'Data Input'!A295)","v":""},{"$f":"IF(ISBLANK('Data Input'!A295),\"\",COUNTIF('Data Input'!C295:AZ295,\"\"))","v":""},{"$f":"IF(ISBLANK('Data Input'!A295),\"\",COUNTIF('Data Input'!C295:AZ295,\"0\"))","v":""},{"$f":"IF(ISBLANK('Data Input'!A295),\"\",SUM(B291,C291))","v":""},{"$f":"IF(ISBLANK('Data Input'!A295),\"\",SUM('Data Input'!C295:AZ295))","v":""},{"$f":"IF(E291=\"\",\"\",E291/(COUNTA('Data Input'!$C$8:$AZ$8)))","v":""},{"$f":"IF(ISBLANK('Data Input'!A295),\"\",SUM('Data Input'!R295,'Data Input'!AA295,'Data Input'!AB295,'Data Input'!AC295,'Data Input'!AE295,'Data Input'!AH295,'Data Input'!AQ295,'Data Input'!AR295))","v":""},{"$f":"IF(G291=\"\",\"\",G291/COUNTIF('Data Input'!$C$8:$AZ$8,$G$2))","v":""},{"$f":"IF(ISBLANK('Data Input'!A295),\"\",SUM('Data Input'!D295,'Data Input'!E295,'Data Input'!F295,'Data Input'!G295,'Data Input'!H295,'Data Input'!J295,'Data Input'!K295,'Data Input'!O295,'Data Input'!U295,'Data Input'!V295,'Data Input'!W295,'Data Input'!X295,'Data Input'!Z295,'Data Input'!AG295,'Data Input'!AI295,'Data Input'!AJ295,'Data Input'!AK295))","v":""},{"$f":"IF(I291=\"\",\"\",I291/COUNTIF('Data Input'!$C$8:$AZ$8,$I$2))","v":""},{"$f":"IF(ISBLANK('Data Input'!A295),\"\",SUM('Data Input'!AF295,'Data Input'!AV295))","v":""},{"$f":"IF(K291=\"\",\"\",K291/COUNTIF('Data Input'!$C$8:$AZ$8,$K$2))","v":""},{"$f":"IF(ISBLANK('Data Input'!A295),\"\",SUM('Data Input'!C295,'Data Input'!I295,'Data Input'!L295,'Data Input'!M295,'Data Input'!N295,'Data Input'!P295,'Data Input'!S295,'Data Input'!T295,'Data Input'!Y295,'Data Input'!AD295,'Data Input'!AL295,'Data Input'!AM295,'Data Input'!AN295,'Data Input'!AO295,'Data Input'!AP295,'Data Input'!AS295))","v":""},{"$f":"IF(M291=\"\",\"\",M291/COUNTIF('Data Input'!$C$8:$AZ$8,$M$2))","v":""},{"$f":"IF(ISBLANK('Data Input'!A295),\"\",SUM('Data Input'!AY295,'Data Input'!AZ295))","v":""},{"$f":"IF(O291=\"\",\"\",O291/COUNTIF('Data Input'!$C$8:$AZ$8,$O$2))","v":""},{"$f":"IF(ISBLANK('Data Input'!A295),\"\",SUM('Data Input'!AW295))","v":""},{"$f":"IF(Q291=\"\",\"\",Q291/COUNTIF('Data Input'!$C$8:$AZ$8,$Q$2))","v":""},{"$f":"IF(ISBLANK('Data Input'!$A295),\"\",SUM('Data Input'!Q295,'Data Input'!AT295,'Data Input'!AU295))","v":""},{"$f":"IF(S291=\"\",\"\",S291/COUNTIF('Data Input'!$C$8:$AZ$8,$S$2))","v":""},{"$f":"IF(ISBLANK('Data Input'!$A295),\"\",SUM('Data Input'!AX295))","v":""},{"$f":"IF(U291=\"\",\"\",U291/COUNTIF('Data Input'!$C$8:$AZ$8,$U$2))","v":""}]
[{"$f":"IF('Data Input'!A296=0,\"\",'Data Input'!A296)","v":""},{"$f":"IF(ISBLANK('Data Input'!A296),\"\",COUNTIF('Data Input'!C296:AZ296,\"\"))","v":""},{"$f":"IF(ISBLANK('Data Input'!A296),\"\",COUNTIF('Data Input'!C296:AZ296,\"0\"))","v":""},{"$f":"IF(ISBLANK('Data Input'!A296),\"\",SUM(B292,C292))","v":""},{"$f":"IF(ISBLANK('Data Input'!A296),\"\",SUM('Data Input'!C296:AZ296))","v":""},{"$f":"IF(E292=\"\",\"\",E292/(COUNTA('Data Input'!$C$8:$AZ$8)))","v":""},{"$f":"IF(ISBLANK('Data Input'!A296),\"\",SUM('Data Input'!R296,'Data Input'!AA296,'Data Input'!AB296,'Data Input'!AC296,'Data Input'!AE296,'Data Input'!AH296,'Data Input'!AQ296,'Data Input'!AR296))","v":""},{"$f":"IF(G292=\"\",\"\",G292/COUNTIF('Data Input'!$C$8:$AZ$8,$G$2))","v":""},{"$f":"IF(ISBLANK('Data Input'!A296),\"\",SUM('Data Input'!D296,'Data Input'!E296,'Data Input'!F296,'Data Input'!G296,'Data Input'!H296,'Data Input'!J296,'Data Input'!K296,'Data Input'!O296,'Data Input'!U296,'Data Input'!V296,'Data Input'!W296,'Data Input'!X296,'Data Input'!Z296,'Data Input'!AG296,'Data Input'!AI296,'Data Input'!AJ296,'Data Input'!AK296))","v":""},{"$f":"IF(I292=\"\",\"\",I292/COUNTIF('Data Input'!$C$8:$AZ$8,$I$2))","v":""},{"$f":"IF(ISBLANK('Data Input'!A296),\"\",SUM('Data Input'!AF296,'Data Input'!AV296))","v":""},{"$f":"IF(K292=\"\",\"\",K292/COUNTIF('Data Input'!$C$8:$AZ$8,$K$2))","v":""},{"$f":"IF(ISBLANK('Data Input'!A296),\"\",SUM('Data Input'!C296,'Data Input'!I296,'Data Input'!L296,'Data Input'!M296,'Data Input'!N296,'Data Input'!P296,'Data Input'!S296,'Data Input'!T296,'Data Input'!Y296,'Data Input'!AD296,'Data Input'!AL296,'Data Input'!AM296,'Data Input'!AN296,'Data Input'!AO296,'Data Input'!AP296,'Data Input'!AS296))","v":""},{"$f":"IF(M292=\"\",\"\",M292/COUNTIF('Data Input'!$C$8:$AZ$8,$M$2))","v":""},{"$f":"IF(ISBLANK('Data Input'!A296),\"\",SUM('Data Input'!AY296,'Data Input'!AZ296))","v":""},{"$f":"IF(O292=\"\",\"\",O292/COUNTIF('Data Input'!$C$8:$AZ$8,$O$2))","v":""},{"$f":"IF(ISBLANK('Data Input'!A296),\"\",SUM('Data Input'!AW296))","v":""},{"$f":"IF(Q292=\"\",\"\",Q292/COUNTIF('Data Input'!$C$8:$AZ$8,$Q$2))","v":""},{"$f":"IF(ISBLANK('Data Input'!$A296),\"\",SUM('Data Input'!Q296,'Data Input'!AT296,'Data Input'!AU296))","v":""},{"$f":"IF(S292=\"\",\"\",S292/COUNTIF('Data Input'!$C$8:$AZ$8,$S$2))","v":""},{"$f":"IF(ISBLANK('Data Input'!$A296),\"\",SUM('Data Input'!AX296))","v":""},{"$f":"IF(U292=\"\",\"\",U292/COUNTIF('Data Input'!$C$8:$AZ$8,$U$2))","v":""}]
[{"$f":"IF('Data Input'!A297=0,\"\",'Data Input'!A297)","v":""},{"$f":"IF(ISBLANK('Data Input'!A297),\"\",COUNTIF('Data Input'!C297:AZ297,\"\"))","v":""},{"$f":"IF(ISBLANK('Data Input'!A297),\"\",COUNTIF('Data Input'!C297:AZ297,\"0\"))","v":""},{"$f":"IF(ISBLANK('Data Input'!A297),\"\",SUM(B293,C293))","v":""},{"$f":"IF(ISBLANK('Data Input'!A297),\"\",SUM('Data Input'!C297:AZ297))","v":""},{"$f":"IF(E293=\"\",\"\",E293/(COUNTA('Data Input'!$C$8:$AZ$8)))","v":""},{"$f":"IF(ISBLANK('Data Input'!A297),\"\",SUM('Data Input'!R297,'Data Input'!AA297,'Data Input'!AB297,'Data Input'!AC297,'Data Input'!AE297,'Data Input'!AH297,'Data Input'!AQ297,'Data Input'!AR297))","v":""},{"$f":"IF(G293=\"\",\"\",G293/COUNTIF('Data Input'!$C$8:$AZ$8,$G$2))","v":""},{"$f":"IF(ISBLANK('Data Input'!A297),\"\",SUM('Data Input'!D297,'Data Input'!E297,'Data Input'!F297,'Data Input'!G297,'Data Input'!H297,'Data Input'!J297,'Data Input'!K297,'Data Input'!O297,'Data Input'!U297,'Data Input'!V297,'Data Input'!W297,'Data Input'!X297,'Data Input'!Z297,'Data Input'!AG297,'Data Input'!AI297,'Data Input'!AJ297,'Data Input'!AK297))","v":""},{"$f":"IF(I293=\"\",\"\",I293/COUNTIF('Data Input'!$C$8:$AZ$8,$I$2))","v":""},{"$f":"IF(ISBLANK('Data Input'!A297),\"\",SUM('Data Input'!AF297,'Data Input'!AV297))","v":""},{"$f":"IF(K293=\"\",\"\",K293/COUNTIF('Data Input'!$C$8:$AZ$8,$K$2))","v":""},{"$f":"IF(ISBLANK('Data Input'!A297),\"\",SUM('Data Input'!C297,'Data Input'!I297,'Data Input'!L297,'Data Input'!M297,'Data Input'!N297,'Data Input'!P297,'Data Input'!S297,'Data Input'!T297,'Data Input'!Y297,'Data Input'!AD297,'Data Input'!AL297,'Data Input'!AM297,'Data Input'!AN297,'Data Input'!AO297,'Data Input'!AP297,'Data Input'!AS297))","v":""},{"$f":"IF(M293=\"\",\"\",M293/COUNTIF('Data Input'!$C$8:$AZ$8,$M$2))","v":""},{"$f":"IF(ISBLANK('Data Input'!A297),\"\",SUM('Data Input'!AY297,'Data Input'!AZ297))","v":""},{"$f":"IF(O293=\"\",\"\",O293/COUNTIF('Data Input'!$C$8:$AZ$8,$O$2))","v":""},{"$f":"IF(ISBLANK('Data Input'!A297),\"\",SUM('Data Input'!AW297))","v":""},{"$f":"IF(Q293=\"\",\"\",Q293/COUNTIF('Data Input'!$C$8:$AZ$8,$Q$2))","v":""},{"$f":"IF(ISBLANK('Data Input'!$A297),\"\",SUM('Data Input'!Q297,'Data Input'!AT297,'Data Input'!AU297))","v":""},{"$f":"IF(S293=\"\",\"\",S293/COUNTIF('Data Input'!$C$8:$AZ$8,$S$2))","v":""},{"$f":"IF(ISBLANK('Data Input'!$A297),\"\",SUM('Data Input'!AX297))","v":""},{"$f":"IF(U293=\"\",\"\",U293/COUNTIF('Data Input'!$C$8:$AZ$8,$U$2))","v":""}]
[{"$f":"IF('Data Input'!A298=0,\"\",'Data Input'!A298)","v":""},{"$f":"IF(ISBLANK('Data Input'!A298),\"\",COUNTIF('Data Input'!C298:AZ298,\"\"))","v":""},{"$f":"IF(ISBLANK('Data Input'!A298),\"\",COUNTIF('Data Input'!C298:AZ298,\"0\"))","v":""},{"$f":"IF(ISBLANK('Data Input'!A298),\"\",SUM(B294,C294))","v":""},{"$f":"IF(ISBLANK('Data Input'!A298),\"\",SUM('Data Input'!C298:AZ298))","v":""},{"$f":"IF(E294=\"\",\"\",E294/(COUNTA('Data Input'!$C$8:$AZ$8)))","v":""},{"$f":"IF(ISBLANK('Data Input'!A298),\"\",SUM('Data Input'!R298,'Data Input'!AA298,'Data Input'!AB298,'Data Input'!AC298,'Data Input'!AE298,'Data Input'!AH298,'Data Input'!AQ298,'Data Input'!AR298))","v":""},{"$f":"IF(G294=\"\",\"\",G294/COUNTIF('Data Input'!$C$8:$AZ$8,$G$2))","v":""},{"$f":"IF(ISBLANK('Data Input'!A298),\"\",SUM('Data Input'!D298,'Data Input'!E298,'Data Input'!F298,'Data Input'!G298,'Data Input'!H298,'Data Input'!J298,'Data Input'!K298,'Data Input'!O298,'Data Input'!U298,'Data Input'!V298,'Data Input'!W298,'Data Input'!X298,'Data Input'!Z298,'Data Input'!AG298,'Data Input'!AI298,'Data Input'!AJ298,'Data Input'!AK298))","v":""},{"$f":"IF(I294=\"\",\"\",I294/COUNTIF('Data Input'!$C$8:$AZ$8,$I$2))","v":""},{"$f":"IF(ISBLANK('Data Input'!A298),\"\",SUM('Data Input'!AF298,'Data Input'!AV298))","v":""},{"$f":"IF(K294=\"\",\"\",K294/COUNTIF('Data Input'!$C$8:$AZ$8,$K$2))","v":""},{"$f":"IF(ISBLANK('Data Input'!A298),\"\",SUM('Data Input'!C298,'Data Input'!I298,'Data Input'!L298,'Data Input'!M298,'Data Input'!N298,'Data Input'!P298,'Data Input'!S298,'Data Input'!T298,'Data Input'!Y298,'Data Input'!AD298,'Data Input'!AL298,'Data Input'!AM298,'Data Input'!AN298,'Data Input'!AO298,'Data Input'!AP298,'Data Input'!AS298))","v":""},{"$f":"IF(M294=\"\",\"\",M294/COUNTIF('Data Input'!$C$8:$AZ$8,$M$2))","v":""},{"$f":"IF(ISBLANK('Data Input'!A298),\"\",SUM('Data Input'!AY298,'Data Input'!AZ298))","v":""},{"$f":"IF(O294=\"\",\"\",O294/COUNTIF('Data Input'!$C$8:$AZ$8,$O$2))","v":""},{"$f":"IF(ISBLANK('Data Input'!A298),\"\",SUM('Data Input'!AW298))","v":""},{"$f":"IF(Q294=\"\",\"\",Q294/COUNTIF('Data Input'!$C$8:$AZ$8,$Q$2))","v":""},{"$f":"IF(ISBLANK('Data Input'!$A298),\"\",SUM('Data Input'!Q298,'Data Input'!AT298,'Data Input'!AU298))","v":""},{"$f":"IF(S294=\"\",\"\",S294/COUNTIF('Data Input'!$C$8:$AZ$8,$S$2))","v":""},{"$f":"IF(ISBLANK('Data Input'!$A298),\"\",SUM('Data Input'!AX298))","v":""},{"$f":"IF(U294=\"\",\"\",U294/COUNTIF('Data Input'!$C$8:$AZ$8,$U$2))","v":""}]
[{"$f":"IF('Data Input'!A299=0,\"\",'Data Input'!A299)","v":""},{"$f":"IF(ISBLANK('Data Input'!A299),\"\",COUNTIF('Data Input'!C299:AZ299,\"\"))","v":""},{"$f":"IF(ISBLANK('Data Input'!A299),\"\",COUNTIF('Data Input'!C299:AZ299,\"0\"))","v":""},{"$f":"IF(ISBLANK('Data Input'!A299),\"\",SUM(B295,C295))","v":""},{"$f":"IF(ISBLANK('Data Input'!A299),\"\",SUM('Data Input'!C299:AZ299))","v":""},{"$f":"IF(E295=\"\",\"\",E295/(COUNTA('Data Input'!$C$8:$AZ$8)))","v":""},{"$f":"IF(ISBLANK('Data Input'!A299),\"\",SUM('Data Input'!R299,'Data Input'!AA299,'Data Input'!AB299,'Data Input'!AC299,'Data Input'!AE299,'Data Input'!AH299,'Data Input'!AQ299,'Data Input'!AR299))","v":""},{"$f":"IF(G295=\"\",\"\",G295/COUNTIF('Data Input'!$C$8:$AZ$8,$G$2))","v":""},{"$f":"IF(ISBLANK('Data Input'!A299),\"\",SUM('Data Input'!D299,'Data Input'!E299,'Data Input'!F299,'Data Input'!G299,'Data Input'!H299,'Data Input'!J299,'Data Input'!K299,'Data Input'!O299,'Data Input'!U299,'Data Input'!V299,'Data Input'!W299,'Data Input'!X299,'Data Input'!Z299,'Data Input'!AG299,'Data Input'!AI299,'Data Input'!AJ299,'Data Input'!AK299))","v":""},{"$f":"IF(I295=\"\",\"\",I295/COUNTIF('Data Input'!$C$8:$AZ$8,$I$2))","v":""},{"$f":"IF(ISBLANK('Data Input'!A299),\"\",SUM('Data Input'!AF299,'Data Input'!AV299))","v":""},{"$f":"IF(K295=\"\",\"\",K295/COUNTIF('Data Input'!$C$8:$AZ$8,$K$2))","v":""},{"$f":"IF(ISBLANK('Data Input'!A299),\"\",SUM('Data Input'!C299,'Data Input'!I299,'Data Input'!L299,'Data Input'!M299,'Data Input'!N299,'Data Input'!P299,'Data Input'!S299,'Data Input'!T299,'Data Input'!Y299,'Data Input'!AD299,'Data Input'!AL299,'Data Input'!AM299,'Data Input'!AN299,'Data Input'!AO299,'Data Input'!AP299,'Data Input'!AS299))","v":""},{"$f":"IF(M295=\"\",\"\",M295/COUNTIF('Data Input'!$C$8:$AZ$8,$M$2))","v":""},{"$f":"IF(ISBLANK('Data Input'!A299),\"\",SUM('Data Input'!AY299,'Data Input'!AZ299))","v":""},{"$f":"IF(O295=\"\",\"\",O295/COUNTIF('Data Input'!$C$8:$AZ$8,$O$2))","v":""},{"$f":"IF(ISBLANK('Data Input'!A299),\"\",SUM('Data Input'!AW299))","v":""},{"$f":"IF(Q295=\"\",\"\",Q295/COUNTIF('Data Input'!$C$8:$AZ$8,$Q$2))","v":""},{"$f":"IF(ISBLANK('Data Input'!$A299),\"\",SUM('Data Input'!Q299,'Data Input'!AT299,'Data Input'!AU299))","v":""},{"$f":"IF(S295=\"\",\"\",S295/COUNTIF('Data Input'!$C$8:$AZ$8,$S$2))","v":""},{"$f":"IF(ISBLANK('Data Input'!$A299),\"\",SUM('Data Input'!AX299))","v":""},{"$f":"IF(U295=\"\",\"\",U295/COUNTIF('Data Input'!$C$8:$AZ$8,$U$2))","v":""}]
[{"$f":"IF('Data Input'!A300=0,\"\",'Data Input'!A300)","v":""},{"$f":"IF(ISBLANK('Data Input'!A300),\"\",COUNTIF('Data Input'!C300:AZ300,\"\"))","v":""},{"$f":"IF(ISBLANK('Data Input'!A300),\"\",COUNTIF('Data Input'!C300:AZ300,\"0\"))","v":""},{"$f":"IF(ISBLANK('Data Input'!A300),\"\",SUM(B296,C296))","v":""},{"$f":"IF(ISBLANK('Data Input'!A300),\"\",SUM('Data Input'!C300:AZ300))","v":""},{"$f":"IF(E296=\"\",\"\",E296/(COUNTA('Data Input'!$C$8:$AZ$8)))","v":""},{"$f":"IF(ISBLANK('Data Input'!A300),\"\",SUM('Data Input'!R300,'Data Input'!AA300,'Data Input'!AB300,'Data Input'!AC300,'Data Input'!AE300,'Data Input'!AH300,'Data Input'!AQ300,'Data Input'!AR300))","v":""},{"$f":"IF(G296=\"\",\"\",G296/COUNTIF('Data Input'!$C$8:$AZ$8,$G$2))","v":""},{"$f":"IF(ISBLANK('Data Input'!A300),\"\",SUM('Data Input'!D300,'Data Input'!E300,'Data Input'!F300,'Data Input'!G300,'Data Input'!H300,'Data Input'!J300,'Data Input'!K300,'Data Input'!O300,'Data Input'!U300,'Data Input'!V300,'Data Input'!W300,'Data Input'!X300,'Data Input'!Z300,'Data Input'!AG300,'Data Input'!AI300,'Data Input'!AJ300,'Data Input'!AK300))","v":""},{"$f":"IF(I296=\"\",\"\",I296/COUNTIF('Data Input'!$C$8:$AZ$8,$I$2))","v":""},{"$f":"IF(ISBLANK('Data Input'!A300),\"\",SUM('Data Input'!AF300,'Data Input'!AV300))","v":""},{"$f":"IF(K296=\"\",\"\",K296/COUNTIF('Data Input'!$C$8:$AZ$8,$K$2))","v":""},{"$f":"IF(ISBLANK('Data Input'!A300),\"\",SUM('Data Input'!C300,'Data Input'!I300,'Data Input'!L300,'Data Input'!M300,'Data Input'!N300,'Data Input'!P300,'Data Input'!S300,'Data Input'!T300,'Data Input'!Y300,'Data Input'!AD300,'Data Input'!AL300,'Data Input'!AM300,'Data Input'!AN300,'Data Input'!AO300,'Data Input'!AP300,'Data Input'!AS300))","v":""},{"$f":"IF(M296=\"\",\"\",M296/COUNTIF('Data Input'!$C$8:$AZ$8,$M$2))","v":""},{"$f":"IF(ISBLANK('Data Input'!A300),\"\",SUM('Data Input'!AY300,'Data Input'!AZ300))","v":""},{"$f":"IF(O296=\"\",\"\",O296/COUNTIF('Data Input'!$C$8:$AZ$8,$O$2))","v":""},{"$f":"IF(ISBLANK('Data Input'!A300),\"\",SUM('Data Input'!AW300))","v":""},{"$f":"IF(Q296=\"\",\"\",Q296/COUNTIF('Data Input'!$C$8:$AZ$8,$Q$2))","v":""},{"$f":"IF(ISBLANK('Data Input'!$A300),\"\",SUM('Data Input'!Q300,'Data Input'!AT300,'Data Input'!AU300))","v":""},{"$f":"IF(S296=\"\",\"\",S296/COUNTIF('Data Input'!$C$8:$AZ$8,$S$2))","v":""},{"$f":"IF(ISBLANK('Data Input'!$A300),\"\",SUM('Data Input'!AX300))","v":""},{"$f":"IF(U296=\"\",\"\",U296/COUNTIF('Data Input'!$C$8:$AZ$8,$U$2))","v":""}]
[{"$f":"IF('Data Input'!A301=0,\"\",'Data Input'!A301)","v":""},{"$f":"IF(ISBLANK('Data Input'!A301),\"\",COUNTIF('Data Input'!C301:AZ301,\"\"))","v":""},{"$f":"IF(ISBLANK('Data Input'!A301),\"\",COUNTIF('Data Input'!C301:AZ301,\"0\"))","v":""},{"$f":"IF(ISBLANK('Data Input'!A301),\"\",SUM(B297,C297))","v":""},{"$f":"IF(ISBLANK('Data Input'!A301),\"\",SUM('Data Input'!C301:AZ301))","v":""},{"$f":"IF(E297=\"\",\"\",E297/(COUNTA('Data Input'!$C$8:$AZ$8)))","v":""},{"$f":"IF(ISBLANK('Data Input'!A301),\"\",SUM('Data Input'!R301,'Data Input'!AA301,'Data Input'!AB301,'Data Input'!AC301,'Data Input'!AE301,'Data Input'!AH301,'Data Input'!AQ301,'Data Input'!AR301))","v":""},{"$f":"IF(G297=\"\",\"\",G297/COUNTIF('Data Input'!$C$8:$AZ$8,$G$2))","v":""},{"$f":"IF(ISBLANK('Data Input'!A301),\"\",SUM('Data Input'!D301,'Data Input'!E301,'Data Input'!F301,'Data Input'!G301,'Data Input'!H301,'Data Input'!J301,'Data Input'!K301,'Data Input'!O301,'Data Input'!U301,'Data Input'!V301,'Data Input'!W301,'Data Input'!X301,'Data Input'!Z301,'Data Input'!AG301,'Data Input'!AI301,'Data Input'!AJ301,'Data Input'!AK301))","v":""},{"$f":"IF(I297=\"\",\"\",I297/COUNTIF('Data Input'!$C$8:$AZ$8,$I$2))","v":""},{"$f":"IF(ISBLANK('Data Input'!A301),\"\",SUM('Data Input'!AF301,'Data Input'!AV301))","v":""},{"$f":"IF(K297=\"\",\"\",K297/COUNTIF('Data Input'!$C$8:$AZ$8,$K$2))","v":""},{"$f":"IF(ISBLANK('Data Input'!A301),\"\",SUM('Data Input'!C301,'Data Input'!I301,'Data Input'!L301,'Data Input'!M301,'Data Input'!N301,'Data Input'!P301,'Data Input'!S301,'Data Input'!T301,'Data Input'!Y301,'Data Input'!AD301,'Data Input'!AL301,'Data Input'!AM301,'Data Input'!AN301,'Data Input'!AO301,'Data Input'!AP301,'Data Input'!AS301))","v":""},{"$f":"IF(M297=\"\",\"\",M297/COUNTIF('Data Input'!$C$8:$AZ$8,$M$2))","v":""},{"$f":"IF(ISBLANK('Data Input'!A301),\"\",SUM('Data Input'!AY301,'Data Input'!AZ301))","v":""},{"$f":"IF(O297=\"\",\"\",O297/COUNTIF('Data Input'!$C$8:$AZ$8,$O$2))","v":""},{"$f":"IF(ISBLANK('Data Input'!A301),\"\",SUM('Data Input'!AW301))","v":""},{"$f":"IF(Q297=\"\",\"\",Q297/COUNTIF('Data Input'!$C$8:$AZ$8,$Q$2))","v":""},{"$f":"IF(ISBLANK('Data Input'!$A301),\"\",SUM('Data Input'!Q301,'Data Input'!AT301,'Data Input'!AU301))","v":""},{"$f":"IF(S297=\"\",\"\",S297/COUNTIF('Data Input'!$C$8:$AZ$8,$S$2))","v":""},{"$f":"IF(ISBLANK('Data Input'!$A301),\"\",SUM('Data Input'!AX301))","v":""},{"$f":"IF(U297=\"\",\"\",U297/COUNTIF('Data Input'!$C$8:$AZ$8,$U$2))","v":""}]
[{"$f":"IF('Data Input'!A302=0,\"\",'Data Input'!A302)","v":""},{"$f":"IF(ISBLANK('Data Input'!A302),\"\",COUNTIF('Data Input'!C302:AZ302,\"\"))","v":""},{"$f":"IF(ISBLANK('Data Input'!A302),\"\",COUNTIF('Data Input'!C302:AZ302,\"0\"))","v":""},{"$f":"IF(ISBLANK('Data Input'!A302),\"\",SUM(B298,C298))","v":""},{"$f":"IF(ISBLANK('Data Input'!A302),\"\",SUM('Data Input'!C302:AZ302))","v":""},{"$f":"IF(E298=\"\",\"\",E298/(COUNTA('Data Input'!$C$8:$AZ$8)))","v":""},{"$f":"IF(ISBLANK('Data Input'!A302),\"\",SUM('Data Input'!R302,'Data Input'!AA302,'Data Input'!AB302,'Data Input'!AC302,'Data Input'!AE302,'Data Input'!AH302,'Data Input'!AQ302,'Data Input'!AR302))","v":""},{"$f":"IF(G298=\"\",\"\",G298/COUNTIF('Data Input'!$C$8:$AZ$8,$G$2))","v":""},{"$f":"IF(ISBLANK('Data Input'!A302),\"\",SUM('Data Input'!D302,'Data Input'!E302,'Data Input'!F302,'Data Input'!G302,'Data Input'!H302,'Data Input'!J302,'Data Input'!K302,'Data Input'!O302,'Data Input'!U302,'Data Input'!V302,'Data Input'!W302,'Data Input'!X302,'Data Input'!Z302,'Data Input'!AG302,'Data Input'!AI302,'Data Input'!AJ302,'Data Input'!AK302))","v":""},{"$f":"IF(I298=\"\",\"\",I298/COUNTIF('Data Input'!$C$8:$AZ$8,$I$2))","v":""},{"$f":"IF(ISBLANK('Data Input'!A302),\"\",SUM('Data Input'!AF302,'Data Input'!AV302))","v":""},{"$f":"IF(K298=\"\",\"\",K298/COUNTIF('Data Input'!$C$8:$AZ$8,$K$2))","v":""},{"$f":"IF(ISBLANK('Data Input'!A302),\"\",SUM('Data Input'!C302,'Data Input'!I302,'Data Input'!L302,'Data Input'!M302,'Data Input'!N302,'Data Input'!P302,'Data Input'!S302,'Data Input'!T302,'Data Input'!Y302,'Data Input'!AD302,'Data Input'!AL302,'Data Input'!AM302,'Data Input'!AN302,'Data Input'!AO302,'Data Input'!AP302,'Data Input'!AS302))","v":""},{"$f":"IF(M298=\"\",\"\",M298/COUNTIF('Data Input'!$C$8:$AZ$8,$M$2))","v":""},{"$f":"IF(ISBLANK('Data Input'!A302),\"\",SUM('Data Input'!AY302,'Data Input'!AZ302))","v":""},{"$f":"IF(O298=\"\",\"\",O298/COUNTIF('Data Input'!$C$8:$AZ$8,$O$2))","v":""},{"$f":"IF(ISBLANK('Data Input'!A302),\"\",SUM('Data Input'!AW302))","v":""},{"$f":"IF(Q298=\"\",\"\",Q298/COUNTIF('Data Input'!$C$8:$AZ$8,$Q$2))","v":""},{"$f":"IF(ISBLANK('Data Input'!$A302),\"\",SUM('Data Input'!Q302,'Data Input'!AT302,'Data Input'!AU302))","v":""},{"$f":"IF(S298=\"\",\"\",S298/COUNTIF('Data Input'!$C$8:$AZ$8,$S$2))","v":""},{"$f":"IF(ISBLANK('Data Input'!$A302),\"\",SUM('Data Input'!AX302))","v":""},{"$f":"IF(U298=\"\",\"\",U298/COUNTIF('Data Input'!$C$8:$AZ$8,$U$2))","v":""}]
[{"$f":"IF('Data Input'!A303=0,\"\",'Data Input'!A303)","v":""},{"$f":"IF(ISBLANK('Data Input'!A303),\"\",COUNTIF('Data Input'!C303:AZ303,\"\"))","v":""},{"$f":"IF(ISBLANK('Data Input'!A303),\"\",COUNTIF('Data Input'!C303:AZ303,\"0\"))","v":""},{"$f":"IF(ISBLANK('Data Input'!A303),\"\",SUM(B299,C299))","v":""},{"$f":"IF(ISBLANK('Data Input'!A303),\"\",SUM('Data Input'!C303:AZ303))","v":""},{"$f":"IF(E299=\"\",\"\",E299/(COUNTA('Data Input'!$C$8:$AZ$8)))","v":""},{"$f":"IF(ISBLANK('Data Input'!A303),\"\",SUM('Data Input'!R303,'Data Input'!AA303,'Data Input'!AB303,'Data Input'!AC303,'Data Input'!AE303,'Data Input'!AH303,'Data Input'!AQ303,'Data Input'!AR303))","v":""},{"$f":"IF(G299=\"\",\"\",G299/COUNTIF('Data Input'!$C$8:$AZ$8,$G$2))","v":""},{"$f":"IF(ISBLANK('Data Input'!A303),\"\",SUM('Data Input'!D303,'Data Input'!E303,'Data Input'!F303,'Data Input'!G303,'Data Input'!H303,'Data Input'!J303,'Data Input'!K303,'Data Input'!O303,'Data Input'!U303,'Data Input'!V303,'Data Input'!W303,'Data Input'!X303,'Data Input'!Z303,'Data Input'!AG303,'Data Input'!AI303,'Data Input'!AJ303,'Data Input'!AK303))","v":""},{"$f":"IF(I299=\"\",\"\",I299/COUNTIF('Data Input'!$C$8:$AZ$8,$I$2))","v":""},{"$f":"IF(ISBLANK('Data Input'!A303),\"\",SUM('Data Input'!AF303,'Data Input'!AV303))","v":""},{"$f":"IF(K299=\"\",\"\",K299/COUNTIF('Data Input'!$C$8:$AZ$8,$K$2))","v":""},{"$f":"IF(ISBLANK('Data Input'!A303),\"\",SUM('Data Input'!C303,'Data Input'!I303,'Data Input'!L303,'Data Input'!M303,'Data Input'!N303,'Data Input'!P303,'Data Input'!S303,'Data Input'!T303,'Data Input'!Y303,'Data Input'!AD303,'Data Input'!AL303,'Data Input'!AM303,'Data Input'!AN303,'Data Input'!AO303,'Data Input'!AP303,'Data Input'!AS303))","v":""},{"$f":"IF(M299=\"\",\"\",M299/COUNTIF('Data Input'!$C$8:$AZ$8,$M$2))","v":""},{"$f":"IF(ISBLANK('Data Input'!A303),\"\",SUM('Data Input'!AY303,'Data Input'!AZ303))","v":""},{"$f":"IF(O299=\"\",\"\",O299/COUNTIF('Data Input'!$C$8:$AZ$8,$O$2))","v":""},{"$f":"IF(ISBLANK('Data Input'!A303),\"\",SUM('Data Input'!AW303))","v":""},{"$f":"IF(Q299=\"\",\"\",Q299/COUNTIF('Data Input'!$C$8:$AZ$8,$Q$2))","v":""},{"$f":"IF(ISBLANK('Data Input'!$A303),\"\",SUM('Data Input'!Q303,'Data Input'!AT303,'Data Input'!AU303))","v":""},{"$f":"IF(S299=\"\",\"\",S299/COUNTIF('Data Input'!$C$8:$AZ$8,$S$2))","v":""},{"$f":"IF(ISBLANK('Data Input'!$A303),\"\",SUM('Data Input'!AX303))","v":""},{"$f":"IF(U299=\"\",\"\",U299/COUNTIF('Data Input'!$C$8:$AZ$8,$U$2))","v":""}]
[{"$f":"IF('Data Input'!A304=0,\"\",'Data Input'!A304)","v":""},{"$f":"IF(ISBLANK('Data Input'!A304),\"\",COUNTIF('Data Input'!C304:AZ304,\"\"))","v":""},{"$f":"IF(ISBLANK('Data Input'!A304),\"\",COUNTIF('Data Input'!C304:AZ304,\"0\"))","v":""},{"$f":"IF(ISBLANK('Data Input'!A304),\"\",SUM(B300,C300))","v":""},{"$f":"IF(ISBLANK('Data Input'!A304),\"\",SUM('Data Input'!C304:AZ304))","v":""},{"$f":"IF(E300=\"\",\"\",E300/(COUNTA('Data Input'!$C$8:$AZ$8)))","v":""},{"$f":"IF(ISBLANK('Data Input'!A304),\"\",SUM('Data Input'!R304,'Data Input'!AA304,'Data Input'!AB304,'Data Input'!AC304,'Data Input'!AE304,'Data Input'!AH304,'Data Input'!AQ304,'Data Input'!AR304))","v":""},{"$f":"IF(G300=\"\",\"\",G300/COUNTIF('Data Input'!$C$8:$AZ$8,$G$2))","v":""},{"$f":"IF(ISBLANK('Data Input'!A304),\"\",SUM('Data Input'!D304,'Data Input'!E304,'Data Input'!F304,'Data Input'!G304,'Data Input'!H304,'Data Input'!J304,'Data Input'!K304,'Data Input'!O304,'Data Input'!U304,'Data Input'!V304,'Data Input'!W304,'Data Input'!X304,'Data Input'!Z304,'Data Input'!AG304,'Data Input'!AI304,'Data Input'!AJ304,'Data Input'!AK304))","v":""},{"$f":"IF(I300=\"\",\"\",I300/COUNTIF('Data Input'!$C$8:$AZ$8,$I$2))","v":""},{"$f":"IF(ISBLANK('Data Input'!A304),\"\",SUM('Data Input'!AF304,'Data Input'!AV304))","v":""},{"$f":"IF(K300=\"\",\"\",K300/COUNTIF('Data Input'!$C$8:$AZ$8,$K$2))","v":""},{"$f":"IF(ISBLANK('Data Input'!A304),\"\",SUM('Data Input'!C304,'Data Input'!I304,'Data Input'!L304,'Data Input'!M304,'Data Input'!N304,'Data Input'!P304,'Data Input'!S304,'Data Input'!T304,'Data Input'!Y304,'Data Input'!AD304,'Data Input'!AL304,'Data Input'!AM304,'Data Input'!AN304,'Data Input'!AO304,'Data Input'!AP304,'Data Input'!AS304))","v":""},{"$f":"IF(M300=\"\",\"\",M300/COUNTIF('Data Input'!$C$8:$AZ$8,$M$2))","v":""},{"$f":"IF(ISBLANK('Data Input'!A304),\"\",SUM('Data Input'!AY304,'Data Input'!AZ304))","v":""},{"$f":"IF(O300=\"\",\"\",O300/COUNTIF('Data Input'!$C$8:$AZ$8,$O$2))","v":""},{"$f":"IF(ISBLANK('Data Input'!A304),\"\",SUM('Data Input'!AW304))","v":""},{"$f":"IF(Q300=\"\",\"\",Q300/COUNTIF('Data Input'!$C$8:$AZ$8,$Q$2))","v":""},{"$f":"IF(ISBLANK('Data Input'!$A304),\"\",SUM('Data Input'!Q304,'Data Input'!AT304,'Data Input'!AU304))","v":""},{"$f":"IF(S300=\"\",\"\",S300/COUNTIF('Data Input'!$C$8:$AZ$8,$S$2))","v":""},{"$f":"IF(ISBLANK('Data Input'!$A304),\"\",SUM('Data Input'!AX304))","v":""},{"$f":"IF(U300=\"\",\"\",U300/COUNTIF('Data Input'!$C$8:$AZ$8,$U$2))","v":""}]
[{"$f":"IF('Data Input'!A305=0,\"\",'Data Input'!A305)","v":""},{"$f":"IF(ISBLANK('Data Input'!A305),\"\",COUNTIF('Data Input'!C305:AZ305,\"\"))","v":""},{"$f":"IF(ISBLANK('Data Input'!A305),\"\",COUNTIF('Data Input'!C305:AZ305,\"0\"))","v":""},{"$f":"IF(ISBLANK('Data Input'!A305),\"\",SUM(B301,C301))","v":""},{"$f":"IF(ISBLANK('Data Input'!A305),\"\",SUM('Data Input'!C305:AZ305))","v":""},{"$f":"IF(E301=\"\",\"\",E301/(COUNTA('Data Input'!$C$8:$AZ$8)))","v":""},{"$f":"IF(ISBLANK('Data Input'!A305),\"\",SUM('Data Input'!R305,'Data Input'!AA305,'Data Input'!AB305,'Data Input'!AC305,'Data Input'!AE305,'Data Input'!AH305,'Data Input'!AQ305,'Data Input'!AR305))","v":""},{"$f":"IF(G301=\"\",\"\",G301/COUNTIF('Data Input'!$C$8:$AZ$8,$G$2))","v":""},{"$f":"IF(ISBLANK('Data Input'!A305),\"\",SUM('Data Input'!D305,'Data Input'!E305,'Data Input'!F305,'Data Input'!G305,'Data Input'!H305,'Data Input'!J305,'Data Input'!K305,'Data Input'!O305,'Data Input'!U305,'Data Input'!V305,'Data Input'!W305,'Data Input'!X305,'Data Input'!Z305,'Data Input'!AG305,'Data Input'!AI305,'Data Input'!AJ305,'Data Input'!AK305))","v":""},{"$f":"IF(I301=\"\",\"\",I301/COUNTIF('Data Input'!$C$8:$AZ$8,$I$2))","v":""},{"$f":"IF(ISBLANK('Data Input'!A305),\"\",SUM('Data Input'!AF305,'Data Input'!AV305))","v":""},{"$f":"IF(K301=\"\",\"\",K301/COUNTIF('Data Input'!$C$8:$AZ$8,$K$2))","v":""},{"$f":"IF(ISBLANK('Data Input'!A305),\"\",SUM('Data Input'!C305,'Data Input'!I305,'Data Input'!L305,'Data Input'!M305,'Data Input'!N305,'Data Input'!P305,'Data Input'!S305,'Data Input'!T305,'Data Input'!Y305,'Data Input'!AD305,'Data Input'!AL305,'Data Input'!AM305,'Data Input'!AN305,'Data Input'!AO305,'Data Input'!AP305,'Data Input'!AS305))","v":""},{"$f":"IF(M301=\"\",\"\",M301/COUNTIF('Data Input'!$C$8:$AZ$8,$M$2))","v":""},{"$f":"IF(ISBLANK('Data Input'!A305),\"\",SUM('Data Input'!AY305,'Data Input'!AZ305))","v":""},{"$f":"IF(O301=\"\",\"\",O301/COUNTIF('Data Input'!$C$8:$AZ$8,$O$2))","v":""},{"$f":"IF(ISBLANK('Data Input'!A305),\"\",SUM('Data Input'!AW305))","v":""},{"$f":"IF(Q301=\"\",\"\",Q301/COUNTIF('Data Input'!$C$8:$AZ$8,$Q$2))","v":""},{"$f":"IF(ISBLANK('Data Input'!$A305),\"\",SUM('Data Input'!Q305,'Data Input'!AT305,'Data Input'!AU305))","v":""},{"$f":"IF(S301=\"\",\"\",S301/COUNTIF('Data Input'!$C$8:$AZ$8,$S$2))","v":""},{"$f":"IF(ISBLANK('Data Input'!$A305),\"\",SUM('Data Input'!AX305))","v":""},{"$f":"IF(U301=\"\",\"\",U301/COUNTIF('Data Input'!$C$8:$AZ$8,$U$2))","v":""}]
[{"$f":"IF('Data Input'!A306=0,\"\",'Data Input'!A306)","v":""},{"$f":"IF(ISBLANK('Data Input'!A306),\"\",COUNTIF('Data Input'!C306:AZ306,\"\"))","v":""},{"$f":"IF(ISBLANK('Data Input'!A306),\"\",COUNTIF('Data Input'!C306:AZ306,\"0\"))","v":""},{"$f":"IF(ISBLANK('Data Input'!A306),\"\",SUM(B302,C302))","v":""},{"$f":"IF(ISBLANK('Data Input'!A306),\"\",SUM('Data Input'!C306:AZ306))","v":""},{"$f":"IF(E302=\"\",\"\",E302/(COUNTA('Data Input'!$C$8:$AZ$8)))","v":""},{"$f":"IF(ISBLANK('Data Input'!A306),\"\",SUM('Data Input'!R306,'Data Input'!AA306,'Data Input'!AB306,'Data Input'!AC306,'Data Input'!AE306,'Data Input'!AH306,'Data Input'!AQ306,'Data Input'!AR306))","v":""},{"$f":"IF(G302=\"\",\"\",G302/COUNTIF('Data Input'!$C$8:$AZ$8,$G$2))","v":""},{"$f":"IF(ISBLANK('Data Input'!A306),\"\",SUM('Data Input'!D306,'Data Input'!E306,'Data Input'!F306,'Data Input'!G306,'Data Input'!H306,'Data Input'!J306,'Data Input'!K306,'Data Input'!O306,'Data Input'!U306,'Data Input'!V306,'Data Input'!W306,'Data Input'!X306,'Data Input'!Z306,'Data Input'!AG306,'Data Input'!AI306,'Data Input'!AJ306,'Data Input'!AK306))","v":""},{"$f":"IF(I302=\"\",\"\",I302/COUNTIF('Data Input'!$C$8:$AZ$8,$I$2))","v":""},{"$f":"IF(ISBLANK('Data Input'!A306),\"\",SUM('Data Input'!AF306,'Data Input'!AV306))","v":""},{"$f":"IF(K302=\"\",\"\",K302/COUNTIF('Data Input'!$C$8:$AZ$8,$K$2))","v":""},{"$f":"IF(ISBLANK('Data Input'!A306),\"\",SUM('Data Input'!C306,'Data Input'!I306,'Data Input'!L306,'Data Input'!M306,'Data Input'!N306,'Data Input'!P306,'Data Input'!S306,'Data Input'!T306,'Data Input'!Y306,'Data Input'!AD306,'Data Input'!AL306,'Data Input'!AM306,'Data Input'!AN306,'Data Input'!AO306,'Data Input'!AP306,'Data Input'!AS306))","v":""},{"$f":"IF(M302=\"\",\"\",M302/COUNTIF('Data Input'!$C$8:$AZ$8,$M$2))","v":""},{"$f":"IF(ISBLANK('Data Input'!A306),\"\",SUM('Data Input'!AY306,'Data Input'!AZ306))","v":""},{"$f":"IF(O302=\"\",\"\",O302/COUNTIF('Data Input'!$C$8:$AZ$8,$O$2))","v":""},{"$f":"IF(ISBLANK('Data Input'!A306),\"\",SUM('Data Input'!AW306))","v":""},{"$f":"IF(Q302=\"\",\"\",Q302/COUNTIF('Data Input'!$C$8:$AZ$8,$Q$2))","v":""},{"$f":"IF(ISBLANK('Data Input'!$A306),\"\",SUM('Data Input'!Q306,'Data Input'!AT306,'Data Input'!AU306))","v":""},{"$f":"IF(S302=\"\",\"\",S302/COUNTIF('Data Input'!$C$8:$AZ$8,$S$2))","v":""},{"$f":"IF(ISBLANK('Data Input'!$A306),\"\",SUM('Data Input'!AX306))","v":""},{"$f":"IF(U302=\"\",\"\",U302/COUNTIF('Data Input'!$C$8:$AZ$8,$U$2))","v":""}]
[{"$f":"IF('Data Input'!A307=0,\"\",'Data Input'!A307)","v":""},{"$f":"IF(ISBLANK('Data Input'!A307),\"\",COUNTIF('Data Input'!C307:AZ307,\"\"))","v":""},{"$f":"IF(ISBLANK('Data Input'!A307),\"\",COUNTIF('Data Input'!C307:AZ307,\"0\"))","v":""},{"$f":"IF(ISBLANK('Data Input'!A307),\"\",SUM(B303,C303))","v":""},{"$f":"IF(ISBLANK('Data Input'!A307),\"\",SUM('Data Input'!C307:AZ307))","v":""},{"$f":"IF(E303=\"\",\"\",E303/(COUNTA('Data Input'!$C$8:$AZ$8)))","v":""},{"$f":"IF(ISBLANK('Data Input'!A307),\"\",SUM('Data Input'!R307,'Data Input'!AA307,'Data Input'!AB307,'Data Input'!AC307,'Data Input'!AE307,'Data Input'!AH307,'Data Input'!AQ307,'Data Input'!AR307))","v":""},{"$f":"IF(G303=\"\",\"\",G303/COUNTIF('Data Input'!$C$8:$AZ$8,$G$2))","v":""},{"$f":"IF(ISBLANK('Data Input'!A307),\"\",SUM('Data Input'!D307,'Data Input'!E307,'Data Input'!F307,'Data Input'!G307,'Data Input'!H307,'Data Input'!J307,'Data Input'!K307,'Data Input'!O307,'Data Input'!U307,'Data Input'!V307,'Data Input'!W307,'Data Input'!X307,'Data Input'!Z307,'Data Input'!AG307,'Data Input'!AI307,'Data Input'!AJ307,'Data Input'!AK307))","v":""},{"$f":"IF(I303=\"\",\"\",I303/COUNTIF('Data Input'!$C$8:$AZ$8,$I$2))","v":""},{"$f":"IF(ISBLANK('Data Input'!A307),\"\",SUM('Data Input'!AF307,'Data Input'!AV307))","v":""},{"$f":"IF(K303=\"\",\"\",K303/COUNTIF('Data Input'!$C$8:$AZ$8,$K$2))","v":""},{"$f":"IF(ISBLANK('Data Input'!A307),\"\",SUM('Data Input'!C307,'Data Input'!I307,'Data Input'!L307,'Data Input'!M307,'Data Input'!N307,'Data Input'!P307,'Data Input'!S307,'Data Input'!T307,'Data Input'!Y307,'Data Input'!AD307,'Data Input'!AL307,'Data Input'!AM307,'Data Input'!AN307,'Data Input'!AO307,'Data Input'!AP307,'Data Input'!AS307))","v":""},{"$f":"IF(M303=\"\",\"\",M303/COUNTIF('Data Input'!$C$8:$AZ$8,$M$2))","v":""},{"$f":"IF(ISBLANK('Data Input'!A307),\"\",SUM('Data Input'!AY307,'Data Input'!AZ307))","v":""},{"$f":"IF(O303=\"\",\"\",O303/COUNTIF('Data Input'!$C$8:$AZ$8,$O$2))","v":""},{"$f":"IF(ISBLANK('Data Input'!A307),\"\",SUM('Data Input'!AW307))","v":""},{"$f":"IF(Q303=\"\",\"\",Q303/COUNTIF('Data Input'!$C$8:$AZ$8,$Q$2))","v":""},{"$f":"IF(ISBLANK('Data Input'!$A307),\"\",SUM('Data Input'!Q307,'Data Input'!AT307,'Data Input'!AU307))","v":""},{"$f":"IF(S303=\"\",\"\",S303/COUNTIF('Data Input'!$C$8:$AZ$8,$S$2))","v":""},{"$f":"IF(ISBLANK('Data Input'!$A307),\"\",SUM('Data Input'!AX307))","v":""},{"$f":"IF(U303=\"\",\"\",U303/COUNTIF('Data Input'!$C$8:$AZ$8,$U$2))","v":""}]
[{"$f":"IF('Data Input'!A308=0,\"\",'Data Input'!A308)","v":""},{"$f":"IF(ISBLANK('Data Input'!A308),\"\",COUNTIF('Data Input'!C308:AZ308,\"\"))","v":""},{"$f":"IF(ISBLANK('Data Input'!A308),\"\",COUNTIF('Data Input'!C308:AZ308,\"0\"))","v":""},{"$f":"IF(ISBLANK('Data Input'!A308),\"\",SUM(B304,C304))","v":""},{"$f":"IF(ISBLANK('Data Input'!A308),\"\",SUM('Data Input'!C308:AZ308))","v":""},{"$f":"IF(E304=\"\",\"\",E304/(COUNTA('Data Input'!$C$8:$AZ$8)))","v":""},{"$f":"IF(ISBLANK('Data Input'!A308),\"\",SUM('Data Input'!R308,'Data Input'!AA308,'Data Input'!AB308,'Data Input'!AC308,'Data Input'!AE308,'Data Input'!AH308,'Data Input'!AQ308,'Data Input'!AR308))","v":""},{"$f":"IF(G304=\"\",\"\",G304/COUNTIF('Data Input'!$C$8:$AZ$8,$G$2))","v":""},{"$f":"IF(ISBLANK('Data Input'!A308),\"\",SUM('Data Input'!D308,'Data Input'!E308,'Data Input'!F308,'Data Input'!G308,'Data Input'!H308,'Data Input'!J308,'Data Input'!K308,'Data Input'!O308,'Data Input'!U308,'Data Input'!V308,'Data Input'!W308,'Data Input'!X308,'Data Input'!Z308,'Data Input'!AG308,'Data Input'!AI308,'Data Input'!AJ308,'Data Input'!AK308))","v":""},{"$f":"IF(I304=\"\",\"\",I304/COUNTIF('Data Input'!$C$8:$AZ$8,$I$2))","v":""},{"$f":"IF(ISBLANK('Data Input'!A308),\"\",SUM('Data Input'!AF308,'Data Input'!AV308))","v":""},{"$f":"IF(K304=\"\",\"\",K304/COUNTIF('Data Input'!$C$8:$AZ$8,$K$2))","v":""},{"$f":"IF(ISBLANK('Data Input'!A308),\"\",SUM('Data Input'!C308,'Data Input'!I308,'Data Input'!L308,'Data Input'!M308,'Data Input'!N308,'Data Input'!P308,'Data Input'!S308,'Data Input'!T308,'Data Input'!Y308,'Data Input'!AD308,'Data Input'!AL308,'Data Input'!AM308,'Data Input'!AN308,'Data Input'!AO308,'Data Input'!AP308,'Data Input'!AS308))","v":""},{"$f":"IF(M304=\"\",\"\",M304/COUNTIF('Data Input'!$C$8:$AZ$8,$M$2))","v":""},{"$f":"IF(ISBLANK('Data Input'!A308),\"\",SUM('Data Input'!AY308,'Data Input'!AZ308))","v":""},{"$f":"IF(O304=\"\",\"\",O304/COUNTIF('Data Input'!$C$8:$AZ$8,$O$2))","v":""},{"$f":"IF(ISBLANK('Data Input'!A308),\"\",SUM('Data Input'!AW308))","v":""},{"$f":"IF(Q304=\"\",\"\",Q304/COUNTIF('Data Input'!$C$8:$AZ$8,$Q$2))","v":""},{"$f":"IF(ISBLANK('Data Input'!$A308),\"\",SUM('Data Input'!Q308,'Data Input'!AT308,'Data Input'!AU308))","v":""},{"$f":"IF(S304=\"\",\"\",S304/COUNTIF('Data Input'!$C$8:$AZ$8,$S$2))","v":""},{"$f":"IF(ISBLANK('Data Input'!$A308),\"\",SUM('Data Input'!AX308))","v":""},{"$f":"IF(U304=\"\",\"\",U304/COUNTIF('Data Input'!$C$8:$AZ$8,$U$2))","v":""}]
[{"$f":"IF('Data Input'!A309=0,\"\",'Data Input'!A309)","v":""},{"$f":"IF(ISBLANK('Data Input'!A309),\"\",COUNTIF('Data Input'!C309:AZ309,\"\"))","v":""},{"$f":"IF(ISBLANK('Data Input'!A309),\"\",COUNTIF('Data Input'!C309:AZ309,\"0\"))","v":""},{"$f":"IF(ISBLANK('Data Input'!A309),\"\",SUM(B305,C305))","v":""},{"$f":"IF(ISBLANK('Data Input'!A309),\"\",SUM('Data Input'!C309:AZ309))","v":""},{"$f":"IF(E305=\"\",\"\",E305/(COUNTA('Data Input'!$C$8:$AZ$8)))","v":""},{"$f":"IF(ISBLANK('Data Input'!A309),\"\",SUM('Data Input'!R309,'Data Input'!AA309,'Data Input'!AB309,'Data Input'!AC309,'Data Input'!AE309,'Data Input'!AH309,'Data Input'!AQ309,'Data Input'!AR309))","v":""},{"$f":"IF(G305=\"\",\"\",G305/COUNTIF('Data Input'!$C$8:$AZ$8,$G$2))","v":""},{"$f":"IF(ISBLANK('Data Input'!A309),\"\",SUM('Data Input'!D309,'Data Input'!E309,'Data Input'!F309,'Data Input'!G309,'Data Input'!H309,'Data Input'!J309,'Data Input'!K309,'Data Input'!O309,'Data Input'!U309,'Data Input'!V309,'Data Input'!W309,'Data Input'!X309,'Data Input'!Z309,'Data Input'!AG309,'Data Input'!AI309,'Data Input'!AJ309,'Data Input'!AK309))","v":""},{"$f":"IF(I305=\"\",\"\",I305/COUNTIF('Data Input'!$C$8:$AZ$8,$I$2))","v":""},{"$f":"IF(ISBLANK('Data Input'!A309),\"\",SUM('Data Input'!AF309,'Data Input'!AV309))","v":""},{"$f":"IF(K305=\"\",\"\",K305/COUNTIF('Data Input'!$C$8:$AZ$8,$K$2))","v":""},{"$f":"IF(ISBLANK('Data Input'!A309),\"\",SUM('Data Input'!C309,'Data Input'!I309,'Data Input'!L309,'Data Input'!M309,'Data Input'!N309,'Data Input'!P309,'Data Input'!S309,'Data Input'!T309,'Data Input'!Y309,'Data Input'!AD309,'Data Input'!AL309,'Data Input'!AM309,'Data Input'!AN309,'Data Input'!AO309,'Data Input'!AP309,'Data Input'!AS309))","v":""},{"$f":"IF(M305=\"\",\"\",M305/COUNTIF('Data Input'!$C$8:$AZ$8,$M$2))","v":""},{"$f":"IF(ISBLANK('Data Input'!A309),\"\",SUM('Data Input'!AY309,'Data Input'!AZ309))","v":""},{"$f":"IF(O305=\"\",\"\",O305/COUNTIF('Data Input'!$C$8:$AZ$8,$O$2))","v":""},{"$f":"IF(ISBLANK('Data Input'!A309),\"\",SUM('Data Input'!AW309))","v":""},{"$f":"IF(Q305=\"\",\"\",Q305/COUNTIF('Data Input'!$C$8:$AZ$8,$Q$2))","v":""},{"$f":"IF(ISBLANK('Data Input'!$A309),\"\",SUM('Data Input'!Q309,'Data Input'!AT309,'Data Input'!AU309))","v":""},{"$f":"IF(S305=\"\",\"\",S305/COUNTIF('Data Input'!$C$8:$AZ$8,$S$2))","v":""},{"$f":"IF(ISBLANK('Data Input'!$A309),\"\",SUM('Data Input'!AX309))","v":""},{"$f":"IF(U305=\"\",\"\",U305/COUNTIF('Data Input'!$C$8:$AZ$8,$U$2))","v":""}]
[{"$f":"IF('Data Input'!A310=0,\"\",'Data Input'!A310)","v":""},{"$f":"IF(ISBLANK('Data Input'!A310),\"\",COUNTIF('Data Input'!C310:AZ310,\"\"))","v":""},{"$f":"IF(ISBLANK('Data Input'!A310),\"\",COUNTIF('Data Input'!C310:AZ310,\"0\"))","v":""},{"$f":"IF(ISBLANK('Data Input'!A310),\"\",SUM(B306,C306))","v":""},{"$f":"IF(ISBLANK('Data Input'!A310),\"\",SUM('Data Input'!C310:AZ310))","v":""},{"$f":"IF(E306=\"\",\"\",E306/(COUNTA('Data Input'!$C$8:$AZ$8)))","v":""},{"$f":"IF(ISBLANK('Data Input'!A310),\"\",SUM('Data Input'!R310,'Data Input'!AA310,'Data Input'!AB310,'Data Input'!AC310,'Data Input'!AE310,'Data Input'!AH310,'Data Input'!AQ310,'Data Input'!AR310))","v":""},{"$f":"IF(G306=\"\",\"\",G306/COUNTIF('Data Input'!$C$8:$AZ$8,$G$2))","v":""},{"$f":"IF(ISBLANK('Data Input'!A310),\"\",SUM('Data Input'!D310,'Data Input'!E310,'Data Input'!F310,'Data Input'!G310,'Data Input'!H310,'Data Input'!J310,'Data Input'!K310,'Data Input'!O310,'Data Input'!U310,'Data Input'!V310,'Data Input'!W310,'Data Input'!X310,'Data Input'!Z310,'Data Input'!AG310,'Data Input'!AI310,'Data Input'!AJ310,'Data Input'!AK310))","v":""},{"$f":"IF(I306=\"\",\"\",I306/COUNTIF('Data Input'!$C$8:$AZ$8,$I$2))","v":""},{"$f":"IF(ISBLANK('Data Input'!A310),\"\",SUM('Data Input'!AF310,'Data Input'!AV310))","v":""},{"$f":"IF(K306=\"\",\"\",K306/COUNTIF('Data Input'!$C$8:$AZ$8,$K$2))","v":""},{"$f":"IF(ISBLANK('Data Input'!A310),\"\",SUM('Data Input'!C310,'Data Input'!I310,'Data Input'!L310,'Data Input'!M310,'Data Input'!N310,'Data Input'!P310,'Data Input'!S310,'Data Input'!T310,'Data Input'!Y310,'Data Input'!AD310,'Data Input'!AL310,'Data Input'!AM310,'Data Input'!AN310,'Data Input'!AO310,'Data Input'!AP310,'Data Input'!AS310))","v":""},{"$f":"IF(M306=\"\",\"\",M306/COUNTIF('Data Input'!$C$8:$AZ$8,$M$2))","v":""},{"$f":"IF(ISBLANK('Data Input'!A310),\"\",SUM('Data Input'!AY310,'Data Input'!AZ310))","v":""},{"$f":"IF(O306=\"\",\"\",O306/COUNTIF('Data Input'!$C$8:$AZ$8,$O$2))","v":""},{"$f":"IF(ISBLANK('Data Input'!A310),\"\",SUM('Data Input'!AW310))","v":""},{"$f":"IF(Q306=\"\",\"\",Q306/COUNTIF('Data Input'!$C$8:$AZ$8,$Q$2))","v":""},{"$f":"IF(ISBLANK('Data Input'!$A310),\"\",SUM('Data Input'!Q310,'Data Input'!AT310,'Data Input'!AU310))","v":""},{"$f":"IF(S306=\"\",\"\",S306/COUNTIF('Data Input'!$C$8:$AZ$8,$S$2))","v":""},{"$f":"IF(ISBLANK('Data Input'!$A310),\"\",SUM('Data Input'!AX310))","v":""},{"$f":"IF(U306=\"\",\"\",U306/COUNTIF('Data Input'!$C$8:$AZ$8,$U$2))","v":""}]
[{"$f":"IF('Data Input'!A311=0,\"\",'Data Input'!A311)","v":""},{"$f":"IF(ISBLANK('Data Input'!A311),\"\",COUNTIF('Data Input'!C311:AZ311,\"\"))","v":""},{"$f":"IF(ISBLANK('Data Input'!A311),\"\",COUNTIF('Data Input'!C311:AZ311,\"0\"))","v":""},{"$f":"IF(ISBLANK('Data Input'!A311),\"\",SUM(B307,C307))","v":""},{"$f":"IF(ISBLANK('Data Input'!A311),\"\",SUM('Data Input'!C311:AZ311))","v":""},{"$f":"IF(E307=\"\",\"\",E307/(COUNTA('Data Input'!$C$8:$AZ$8)))","v":""},{"$f":"IF(ISBLANK('Data Input'!A311),\"\",SUM('Data Input'!R311,'Data Input'!AA311,'Data Input'!AB311,'Data Input'!AC311,'Data Input'!AE311,'Data Input'!AH311,'Data Input'!AQ311,'Data Input'!AR311))","v":""},{"$f":"IF(G307=\"\",\"\",G307/COUNTIF('Data Input'!$C$8:$AZ$8,$G$2))","v":""},{"$f":"IF(ISBLANK('Data Input'!A311),\"\",SUM('Data Input'!D311,'Data Input'!E311,'Data Input'!F311,'Data Input'!G311,'Data Input'!H311,'Data Input'!J311,'Data Input'!K311,'Data Input'!O311,'Data Input'!U311,'Data Input'!V311,'Data Input'!W311,'Data Input'!X311,'Data Input'!Z311,'Data Input'!AG311,'Data Input'!AI311,'Data Input'!AJ311,'Data Input'!AK311))","v":""},{"$f":"IF(I307=\"\",\"\",I307/COUNTIF('Data Input'!$C$8:$AZ$8,$I$2))","v":""},{"$f":"IF(ISBLANK('Data Input'!A311),\"\",SUM('Data Input'!AF311,'Data Input'!AV311))","v":""},{"$f":"IF(K307=\"\",\"\",K307/COUNTIF('Data Input'!$C$8:$AZ$8,$K$2))","v":""},{"$f":"IF(ISBLANK('Data Input'!A311),\"\",SUM('Data Input'!C311,'Data Input'!I311,'Data Input'!L311,'Data Input'!M311,'Data Input'!N311,'Data Input'!P311,'Data Input'!S311,'Data Input'!T311,'Data Input'!Y311,'Data Input'!AD311,'Data Input'!AL311,'Data Input'!AM311,'Data Input'!AN311,'Data Input'!AO311,'Data Input'!AP311,'Data Input'!AS311))","v":""},{"$f":"IF(M307=\"\",\"\",M307/COUNTIF('Data Input'!$C$8:$AZ$8,$M$2))","v":""},{"$f":"IF(ISBLANK('Data Input'!A311),\"\",SUM('Data Input'!AY311,'Data Input'!AZ311))","v":""},{"$f":"IF(O307=\"\",\"\",O307/COUNTIF('Data Input'!$C$8:$AZ$8,$O$2))","v":""},{"$f":"IF(ISBLANK('Data Input'!A311),\"\",SUM('Data Input'!AW311))","v":""},{"$f":"IF(Q307=\"\",\"\",Q307/COUNTIF('Data Input'!$C$8:$AZ$8,$Q$2))","v":""},{"$f":"IF(ISBLANK('Data Input'!$A311),\"\",SUM('Data Input'!Q311,'Data Input'!AT311,'Data Input'!AU311))","v":""},{"$f":"IF(S307=\"\",\"\",S307/COUNTIF('Data Input'!$C$8:$AZ$8,$S$2))","v":""},{"$f":"IF(ISBLANK('Data Input'!$A311),\"\",SUM('Data Input'!AX311))","v":""},{"$f":"IF(U307=\"\",\"\",U307/COUNTIF('Data Input'!$C$8:$AZ$8,$U$2))","v":""}]
[{"$f":"IF('Data Input'!A312=0,\"\",'Data Input'!A312)","v":""},{"$f":"IF(ISBLANK('Data Input'!A312),\"\",COUNTIF('Data Input'!C312:AZ312,\"\"))","v":""},{"$f":"IF(ISBLANK('Data Input'!A312),\"\",COUNTIF('Data Input'!C312:AZ312,\"0\"))","v":""},{"$f":"IF(ISBLANK('Data Input'!A312),\"\",SUM(B308,C308))","v":""},{"$f":"IF(ISBLANK('Data Input'!A312),\"\",SUM('Data Input'!C312:AZ312))","v":""},{"$f":"IF(E308=\"\",\"\",E308/(COUNTA('Data Input'!$C$8:$AZ$8)))","v":""},{"$f":"IF(ISBLANK('Data Input'!A312),\"\",SUM('Data Input'!R312,'Data Input'!AA312,'Data Input'!AB312,'Data Input'!AC312,'Data Input'!AE312,'Data Input'!AH312,'Data Input'!AQ312,'Data Input'!AR312))","v":""},{"$f":"IF(G308=\"\",\"\",G308/COUNTIF('Data Input'!$C$8:$AZ$8,$G$2))","v":""},{"$f":"IF(ISBLANK('Data Input'!A312),\"\",SUM('Data Input'!D312,'Data Input'!E312,'Data Input'!F312,'Data Input'!G312,'Data Input'!H312,'Data Input'!J312,'Data Input'!K312,'Data Input'!O312,'Data Input'!U312,'Data Input'!V312,'Data Input'!W312,'Data Input'!X312,'Data Input'!Z312,'Data Input'!AG312,'Data Input'!AI312,'Data Input'!AJ312,'Data Input'!AK312))","v":""},{"$f":"IF(I308=\"\",\"\",I308/COUNTIF('Data Input'!$C$8:$AZ$8,$I$2))","v":""},{"$f":"IF(ISBLANK('Data Input'!A312),\"\",SUM('Data Input'!AF312,'Data Input'!AV312))","v":""},{"$f":"IF(K308=\"\",\"\",K308/COUNTIF('Data Input'!$C$8:$AZ$8,$K$2))","v":""},{"$f":"IF(ISBLANK('Data Input'!A312),\"\",SUM('Data Input'!C312,'Data Input'!I312,'Data Input'!L312,'Data Input'!M312,'Data Input'!N312,'Data Input'!P312,'Data Input'!S312,'Data Input'!T312,'Data Input'!Y312,'Data Input'!AD312,'Data Input'!AL312,'Data Input'!AM312,'Data Input'!AN312,'Data Input'!AO312,'Data Input'!AP312,'Data Input'!AS312))","v":""},{"$f":"IF(M308=\"\",\"\",M308/COUNTIF('Data Input'!$C$8:$AZ$8,$M$2))","v":""},{"$f":"IF(ISBLANK('Data Input'!A312),\"\",SUM('Data Input'!AY312,'Data Input'!AZ312))","v":""},{"$f":"IF(O308=\"\",\"\",O308/COUNTIF('Data Input'!$C$8:$AZ$8,$O$2))","v":""},{"$f":"IF(ISBLANK('Data Input'!A312),\"\",SUM('Data Input'!AW312))","v":""},{"$f":"IF(Q308=\"\",\"\",Q308/COUNTIF('Data Input'!$C$8:$AZ$8,$Q$2))","v":""},{"$f":"IF(ISBLANK('Data Input'!$A312),\"\",SUM('Data Input'!Q312,'Data Input'!AT312,'Data Input'!AU312))","v":""},{"$f":"IF(S308=\"\",\"\",S308/COUNTIF('Data Input'!$C$8:$AZ$8,$S$2))","v":""},{"$f":"IF(ISBLANK('Data Input'!$A312),\"\",SUM('Data Input'!AX312))","v":""},{"$f":"IF(U308=\"\",\"\",U308/COUNTIF('Data Input'!$C$8:$AZ$8,$U$2))","v":""}]
[{"$f":"IF('Data Input'!A313=0,\"\",'Data Input'!A313)","v":""},{"$f":"IF(ISBLANK('Data Input'!A313),\"\",COUNTIF('Data Input'!C313:AZ313,\"\"))","v":""},{"$f":"IF(ISBLANK('Data Input'!A313),\"\",COUNTIF('Data Input'!C313:AZ313,\"0\"))","v":""},{"$f":"IF(ISBLANK('Data Input'!A313),\"\",SUM(B309,C309))","v":""},{"$f":"IF(ISBLANK('Data Input'!A313),\"\",SUM('Data Input'!C313:AZ313))","v":""},{"$f":"IF(E309=\"\",\"\",E309/(COUNTA('Data Input'!$C$8:$AZ$8)))","v":""},{"$f":"IF(ISBLANK('Data Input'!A313),\"\",SUM('Data Input'!R313,'Data Input'!AA313,'Data Input'!AB313,'Data Input'!AC313,'Data Input'!AE313,'Data Input'!AH313,'Data Input'!AQ313,'Data Input'!AR313))","v":""},{"$f":"IF(G309=\"\",\"\",G309/COUNTIF('Data Input'!$C$8:$AZ$8,$G$2))","v":""},{"$f":"IF(ISBLANK('Data Input'!A313),\"\",SUM('Data Input'!D313,'Data Input'!E313,'Data Input'!F313,'Data Input'!G313,'Data Input'!H313,'Data Input'!J313,'Data Input'!K313,'Data Input'!O313,'Data Input'!U313,'Data Input'!V313,'Data Input'!W313,'Data Input'!X313,'Data Input'!Z313,'Data Input'!AG313,'Data Input'!AI313,'Data Input'!AJ313,'Data Input'!AK313))","v":""},{"$f":"IF(I309=\"\",\"\",I309/COUNTIF('Data Input'!$C$8:$AZ$8,$I$2))","v":""},{"$f":"IF(ISBLANK('Data Input'!A313),\"\",SUM('Data Input'!AF313,'Data Input'!AV313))","v":""},{"$f":"IF(K309=\"\",\"\",K309/COUNTIF('Data Input'!$C$8:$AZ$8,$K$2))","v":""},{"$f":"IF(ISBLANK('Data Input'!A313),\"\",SUM('Data Input'!C313,'Data Input'!I313,'Data Input'!L313,'Data Input'!M313,'Data Input'!N313,'Data Input'!P313,'Data Input'!S313,'Data Input'!T313,'Data Input'!Y313,'Data Input'!AD313,'Data Input'!AL313,'Data Input'!AM313,'Data Input'!AN313,'Data Input'!AO313,'Data Input'!AP313,'Data Input'!AS313))","v":""},{"$f":"IF(M309=\"\",\"\",M309/COUNTIF('Data Input'!$C$8:$AZ$8,$M$2))","v":""},{"$f":"IF(ISBLANK('Data Input'!A313),\"\",SUM('Data Input'!AY313,'Data Input'!AZ313))","v":""},{"$f":"IF(O309=\"\",\"\",O309/COUNTIF('Data Input'!$C$8:$AZ$8,$O$2))","v":""},{"$f":"IF(ISBLANK('Data Input'!A313),\"\",SUM('Data Input'!AW313))","v":""},{"$f":"IF(Q309=\"\",\"\",Q309/COUNTIF('Data Input'!$C$8:$AZ$8,$Q$2))","v":""},{"$f":"IF(ISBLANK('Data Input'!$A313),\"\",SUM('Data Input'!Q313,'Data Input'!AT313,'Data Input'!AU313))","v":""},{"$f":"IF(S309=\"\",\"\",S309/COUNTIF('Data Input'!$C$8:$AZ$8,$S$2))","v":""},{"$f":"IF(ISBLANK('Data Input'!$A313),\"\",SUM('Data Input'!AX313))","v":""},{"$f":"IF(U309=\"\",\"\",U309/COUNTIF('Data Input'!$C$8:$AZ$8,$U$2))","v":""}]
[{"$f":"IF('Data Input'!A314=0,\"\",'Data Input'!A314)","v":""},{"$f":"IF(ISBLANK('Data Input'!A314),\"\",COUNTIF('Data Input'!C314:AZ314,\"\"))","v":""},{"$f":"IF(ISBLANK('Data Input'!A314),\"\",COUNTIF('Data Input'!C314:AZ314,\"0\"))","v":""},{"$f":"IF(ISBLANK('Data Input'!A314),\"\",SUM(B310,C310))","v":""},{"$f":"IF(ISBLANK('Data Input'!A314),\"\",SUM('Data Input'!C314:AZ314))","v":""},{"$f":"IF(E310=\"\",\"\",E310/(COUNTA('Data Input'!$C$8:$AZ$8)))","v":""},{"$f":"IF(ISBLANK('Data Input'!A314),\"\",SUM('Data Input'!R314,'Data Input'!AA314,'Data Input'!AB314,'Data Input'!AC314,'Data Input'!AE314,'Data Input'!AH314,'Data Input'!AQ314,'Data Input'!AR314))","v":""},{"$f":"IF(G310=\"\",\"\",G310/COUNTIF('Data Input'!$C$8:$AZ$8,$G$2))","v":""},{"$f":"IF(ISBLANK('Data Input'!A314),\"\",SUM('Data Input'!D314,'Data Input'!E314,'Data Input'!F314,'Data Input'!G314,'Data Input'!H314,'Data Input'!J314,'Data Input'!K314,'Data Input'!O314,'Data Input'!U314,'Data Input'!V314,'Data Input'!W314,'Data Input'!X314,'Data Input'!Z314,'Data Input'!AG314,'Data Input'!AI314,'Data Input'!AJ314,'Data Input'!AK314))","v":""},{"$f":"IF(I310=\"\",\"\",I310/COUNTIF('Data Input'!$C$8:$AZ$8,$I$2))","v":""},{"$f":"IF(ISBLANK('Data Input'!A314),\"\",SUM('Data Input'!AF314,'Data Input'!AV314))","v":""},{"$f":"IF(K310=\"\",\"\",K310/COUNTIF('Data Input'!$C$8:$AZ$8,$K$2))","v":""},{"$f":"IF(ISBLANK('Data Input'!A314),\"\",SUM('Data Input'!C314,'Data Input'!I314,'Data Input'!L314,'Data Input'!M314,'Data Input'!N314,'Data Input'!P314,'Data Input'!S314,'Data Input'!T314,'Data Input'!Y314,'Data Input'!AD314,'Data Input'!AL314,'Data Input'!AM314,'Data Input'!AN314,'Data Input'!AO314,'Data Input'!AP314,'Data Input'!AS314))","v":""},{"$f":"IF(M310=\"\",\"\",M310/COUNTIF('Data Input'!$C$8:$AZ$8,$M$2))","v":""},{"$f":"IF(ISBLANK('Data Input'!A314),\"\",SUM('Data Input'!AY314,'Data Input'!AZ314))","v":""},{"$f":"IF(O310=\"\",\"\",O310/COUNTIF('Data Input'!$C$8:$AZ$8,$O$2))","v":""},{"$f":"IF(ISBLANK('Data Input'!A314),\"\",SUM('Data Input'!AW314))","v":""},{"$f":"IF(Q310=\"\",\"\",Q310/COUNTIF('Data Input'!$C$8:$AZ$8,$Q$2))","v":""},{"$f":"IF(ISBLANK('Data Input'!$A314),\"\",SUM('Data Input'!Q314,'Data Input'!AT314,'Data Input'!AU314))","v":""},{"$f":"IF(S310=\"\",\"\",S310/COUNTIF('Data Input'!$C$8:$AZ$8,$S$2))","v":""},{"$f":"IF(ISBLANK('Data Input'!$A314),\"\",SUM('Data Input'!AX314))","v":""},{"$f":"IF(U310=\"\",\"\",U310/COUNTIF('Data Input'!$C$8:$AZ$8,$U$2))","v":""}]
[{"$f":"IF('Data Input'!A315=0,\"\",'Data Input'!A315)","v":""},{"$f":"IF(ISBLANK('Data Input'!A315),\"\",COUNTIF('Data Input'!C315:AZ315,\"\"))","v":""},{"$f":"IF(ISBLANK('Data Input'!A315),\"\",COUNTIF('Data Input'!C315:AZ315,\"0\"))","v":""},{"$f":"IF(ISBLANK('Data Input'!A315),\"\",SUM(B311,C311))","v":""},{"$f":"IF(ISBLANK('Data Input'!A315),\"\",SUM('Data Input'!C315:AZ315))","v":""},{"$f":"IF(E311=\"\",\"\",E311/(COUNTA('Data Input'!$C$8:$AZ$8)))","v":""},{"$f":"IF(ISBLANK('Data Input'!A315),\"\",SUM('Data Input'!R315,'Data Input'!AA315,'Data Input'!AB315,'Data Input'!AC315,'Data Input'!AE315,'Data Input'!AH315,'Data Input'!AQ315,'Data Input'!AR315))","v":""},{"$f":"IF(G311=\"\",\"\",G311/COUNTIF('Data Input'!$C$8:$AZ$8,$G$2))","v":""},{"$f":"IF(ISBLANK('Data Input'!A315),\"\",SUM('Data Input'!D315,'Data Input'!E315,'Data Input'!F315,'Data Input'!G315,'Data Input'!H315,'Data Input'!J315,'Data Input'!K315,'Data Input'!O315,'Data Input'!U315,'Data Input'!V315,'Data Input'!W315,'Data Input'!X315,'Data Input'!Z315,'Data Input'!AG315,'Data Input'!AI315,'Data Input'!AJ315,'Data Input'!AK315))","v":""},{"$f":"IF(I311=\"\",\"\",I311/COUNTIF('Data Input'!$C$8:$AZ$8,$I$2))","v":""},{"$f":"IF(ISBLANK('Data Input'!A315),\"\",SUM('Data Input'!AF315,'Data Input'!AV315))","v":""},{"$f":"IF(K311=\"\",\"\",K311/COUNTIF('Data Input'!$C$8:$AZ$8,$K$2))","v":""},{"$f":"IF(ISBLANK('Data Input'!A315),\"\",SUM('Data Input'!C315,'Data Input'!I315,'Data Input'!L315,'Data Input'!M315,'Data Input'!N315,'Data Input'!P315,'Data Input'!S315,'Data Input'!T315,'Data Input'!Y315,'Data Input'!AD315,'Data Input'!AL315,'Data Input'!AM315,'Data Input'!AN315,'Data Input'!AO315,'Data Input'!AP315,'Data Input'!AS315))","v":""},{"$f":"IF(M311=\"\",\"\",M311/COUNTIF('Data Input'!$C$8:$AZ$8,$M$2))","v":""},{"$f":"IF(ISBLANK('Data Input'!A315),\"\",SUM('Data Input'!AY315,'Data Input'!AZ315))","v":""},{"$f":"IF(O311=\"\",\"\",O311/COUNTIF('Data Input'!$C$8:$AZ$8,$O$2))","v":""},{"$f":"IF(ISBLANK('Data Input'!A315),\"\",SUM('Data Input'!AW315))","v":""},{"$f":"IF(Q311=\"\",\"\",Q311/COUNTIF('Data Input'!$C$8:$AZ$8,$Q$2))","v":""},{"$f":"IF(ISBLANK('Data Input'!$A315),\"\",SUM('Data Input'!Q315,'Data Input'!AT315,'Data Input'!AU315))","v":""},{"$f":"IF(S311=\"\",\"\",S311/COUNTIF('Data Input'!$C$8:$AZ$8,$S$2))","v":""},{"$f":"IF(ISBLANK('Data Input'!$A315),\"\",SUM('Data Input'!AX315))","v":""},{"$f":"IF(U311=\"\",\"\",U311/COUNTIF('Data Input'!$C$8:$AZ$8,$U$2))","v":""}]
[{"$f":"IF('Data Input'!A316=0,\"\",'Data Input'!A316)","v":""},{"$f":"IF(ISBLANK('Data Input'!A316),\"\",COUNTIF('Data Input'!C316:AZ316,\"\"))","v":""},{"$f":"IF(ISBLANK('Data Input'!A316),\"\",COUNTIF('Data Input'!C316:AZ316,\"0\"))","v":""},{"$f":"IF(ISBLANK('Data Input'!A316),\"\",SUM(B312,C312))","v":""},{"$f":"IF(ISBLANK('Data Input'!A316),\"\",SUM('Data Input'!C316:AZ316))","v":""},{"$f":"IF(E312=\"\",\"\",E312/(COUNTA('Data Input'!$C$8:$AZ$8)))","v":""},{"$f":"IF(ISBLANK('Data Input'!A316),\"\",SUM('Data Input'!R316,'Data Input'!AA316,'Data Input'!AB316,'Data Input'!AC316,'Data Input'!AE316,'Data Input'!AH316,'Data Input'!AQ316,'Data Input'!AR316))","v":""},{"$f":"IF(G312=\"\",\"\",G312/COUNTIF('Data Input'!$C$8:$AZ$8,$G$2))","v":""},{"$f":"IF(ISBLANK('Data Input'!A316),\"\",SUM('Data Input'!D316,'Data Input'!E316,'Data Input'!F316,'Data Input'!G316,'Data Input'!H316,'Data Input'!J316,'Data Input'!K316,'Data Input'!O316,'Data Input'!U316,'Data Input'!V316,'Data Input'!W316,'Data Input'!X316,'Data Input'!Z316,'Data Input'!AG316,'Data Input'!AI316,'Data Input'!AJ316,'Data Input'!AK316))","v":""},{"$f":"IF(I312=\"\",\"\",I312/COUNTIF('Data Input'!$C$8:$AZ$8,$I$2))","v":""},{"$f":"IF(ISBLANK('Data Input'!A316),\"\",SUM('Data Input'!AF316,'Data Input'!AV316))","v":""},{"$f":"IF(K312=\"\",\"\",K312/COUNTIF('Data Input'!$C$8:$AZ$8,$K$2))","v":""},{"$f":"IF(ISBLANK('Data Input'!A316),\"\",SUM('Data Input'!C316,'Data Input'!I316,'Data Input'!L316,'Data Input'!M316,'Data Input'!N316,'Data Input'!P316,'Data Input'!S316,'Data Input'!T316,'Data Input'!Y316,'Data Input'!AD316,'Data Input'!AL316,'Data Input'!AM316,'Data Input'!AN316,'Data Input'!AO316,'Data Input'!AP316,'Data Input'!AS316))","v":""},{"$f":"IF(M312=\"\",\"\",M312/COUNTIF('Data Input'!$C$8:$AZ$8,$M$2))","v":""},{"$f":"IF(ISBLANK('Data Input'!A316),\"\",SUM('Data Input'!AY316,'Data Input'!AZ316))","v":""},{"$f":"IF(O312=\"\",\"\",O312/COUNTIF('Data Input'!$C$8:$AZ$8,$O$2))","v":""},{"$f":"IF(ISBLANK('Data Input'!A316),\"\",SUM('Data Input'!AW316))","v":""},{"$f":"IF(Q312=\"\",\"\",Q312/COUNTIF('Data Input'!$C$8:$AZ$8,$Q$2))","v":""},{"$f":"IF(ISBLANK('Data Input'!$A316),\"\",SUM('Data Input'!Q316,'Data Input'!AT316,'Data Input'!AU316))","v":""},{"$f":"IF(S312=\"\",\"\",S312/COUNTIF('Data Input'!$C$8:$AZ$8,$S$2))","v":""},{"$f":"IF(ISBLANK('Data Input'!$A316),\"\",SUM('Data Input'!AX316))","v":""},{"$f":"IF(U312=\"\",\"\",U312/COUNTIF('Data Input'!$C$8:$AZ$8,$U$2))","v":""}]
[{"$f":"IF('Data Input'!A317=0,\"\",'Data Input'!A317)","v":""},{"$f":"IF(ISBLANK('Data Input'!A317),\"\",COUNTIF('Data Input'!C317:AZ317,\"\"))","v":""},{"$f":"IF(ISBLANK('Data Input'!A317),\"\",COUNTIF('Data Input'!C317:AZ317,\"0\"))","v":""},{"$f":"IF(ISBLANK('Data Input'!A317),\"\",SUM(B313,C313))","v":""},{"$f":"IF(ISBLANK('Data Input'!A317),\"\",SUM('Data Input'!C317:AZ317))","v":""},{"$f":"IF(E313=\"\",\"\",E313/(COUNTA('Data Input'!$C$8:$AZ$8)))","v":""},{"$f":"IF(ISBLANK('Data Input'!A317),\"\",SUM('Data Input'!R317,'Data Input'!AA317,'Data Input'!AB317,'Data Input'!AC317,'Data Input'!AE317,'Data Input'!AH317,'Data Input'!AQ317,'Data Input'!AR317))","v":""},{"$f":"IF(G313=\"\",\"\",G313/COUNTIF('Data Input'!$C$8:$AZ$8,$G$2))","v":""},{"$f":"IF(ISBLANK('Data Input'!A317),\"\",SUM('Data Input'!D317,'Data Input'!E317,'Data Input'!F317,'Data Input'!G317,'Data Input'!H317,'Data Input'!J317,'Data Input'!K317,'Data Input'!O317,'Data Input'!U317,'Data Input'!V317,'Data Input'!W317,'Data Input'!X317,'Data Input'!Z317,'Data Input'!AG317,'Data Input'!AI317,'Data Input'!AJ317,'Data Input'!AK317))","v":""},{"$f":"IF(I313=\"\",\"\",I313/COUNTIF('Data Input'!$C$8:$AZ$8,$I$2))","v":""},{"$f":"IF(ISBLANK('Data Input'!A317),\"\",SUM('Data Input'!AF317,'Data Input'!AV317))","v":""},{"$f":"IF(K313=\"\",\"\",K313/COUNTIF('Data Input'!$C$8:$AZ$8,$K$2))","v":""},{"$f":"IF(ISBLANK('Data Input'!A317),\"\",SUM('Data Input'!C317,'Data Input'!I317,'Data Input'!L317,'Data Input'!M317,'Data Input'!N317,'Data Input'!P317,'Data Input'!S317,'Data Input'!T317,'Data Input'!Y317,'Data Input'!AD317,'Data Input'!AL317,'Data Input'!AM317,'Data Input'!AN317,'Data Input'!AO317,'Data Input'!AP317,'Data Input'!AS317))","v":""},{"$f":"IF(M313=\"\",\"\",M313/COUNTIF('Data Input'!$C$8:$AZ$8,$M$2))","v":""},{"$f":"IF(ISBLANK('Data Input'!A317),\"\",SUM('Data Input'!AY317,'Data Input'!AZ317))","v":""},{"$f":"IF(O313=\"\",\"\",O313/COUNTIF('Data Input'!$C$8:$AZ$8,$O$2))","v":""},{"$f":"IF(ISBLANK('Data Input'!A317),\"\",SUM('Data Input'!AW317))","v":""},{"$f":"IF(Q313=\"\",\"\",Q313/COUNTIF('Data Input'!$C$8:$AZ$8,$Q$2))","v":""},{"$f":"IF(ISBLANK('Data Input'!$A317),\"\",SUM('Data Input'!Q317,'Data Input'!AT317,'Data Input'!AU317))","v":""},{"$f":"IF(S313=\"\",\"\",S313/COUNTIF('Data Input'!$C$8:$AZ$8,$S$2))","v":""},{"$f":"IF(ISBLANK('Data Input'!$A317),\"\",SUM('Data Input'!AX317))","v":""},{"$f":"IF(U313=\"\",\"\",U313/COUNTIF('Data Input'!$C$8:$AZ$8,$U$2))","v":""}]
[{"$f":"IF('Data Input'!A318=0,\"\",'Data Input'!A318)","v":""},{"$f":"IF(ISBLANK('Data Input'!A318),\"\",COUNTIF('Data Input'!C318:AZ318,\"\"))","v":""},{"$f":"IF(ISBLANK('Data Input'!A318),\"\",COUNTIF('Data Input'!C318:AZ318,\"0\"))","v":""},{"$f":"IF(ISBLANK('Data Input'!A318),\"\",SUM(B314,C314))","v":""},{"$f":"IF(ISBLANK('Data Input'!A318),\"\",SUM('Data Input'!C318:AZ318))","v":""},{"$f":"IF(E314=\"\",\"\",E314/(COUNTA('Data Input'!$C$8:$AZ$8)))","v":""},{"$f":"IF(ISBLANK('Data Input'!A318),\"\",SUM('Data Input'!R318,'Data Input'!AA318,'Data Input'!AB318,'Data Input'!AC318,'Data Input'!AE318,'Data Input'!AH318,'Data Input'!AQ318,'Data Input'!AR318))","v":""},{"$f":"IF(G314=\"\",\"\",G314/COUNTIF('Data Input'!$C$8:$AZ$8,$G$2))","v":""},{"$f":"IF(ISBLANK('Data Input'!A318),\"\",SUM('Data Input'!D318,'Data Input'!E318,'Data Input'!F318,'Data Input'!G318,'Data Input'!H318,'Data Input'!J318,'Data Input'!K318,'Data Input'!O318,'Data Input'!U318,'Data Input'!V318,'Data Input'!W318,'Data Input'!X318,'Data Input'!Z318,'Data Input'!AG318,'Data Input'!AI318,'Data Input'!AJ318,'Data Input'!AK318))","v":""},{"$f":"IF(I314=\"\",\"\",I314/COUNTIF('Data Input'!$C$8:$AZ$8,$I$2))","v":""},{"$f":"IF(ISBLANK('Data Input'!A318),\"\",SUM('Data Input'!AF318,'Data Input'!AV318))","v":""},{"$f":"IF(K314=\"\",\"\",K314/COUNTIF('Data Input'!$C$8:$AZ$8,$K$2))","v":""},{"$f":"IF(ISBLANK('Data Input'!A318),\"\",SUM('Data Input'!C318,'Data Input'!I318,'Data Input'!L318,'Data Input'!M318,'Data Input'!N318,'Data Input'!P318,'Data Input'!S318,'Data Input'!T318,'Data Input'!Y318,'Data Input'!AD318,'Data Input'!AL318,'Data Input'!AM318,'Data Input'!AN318,'Data Input'!AO318,'Data Input'!AP318,'Data Input'!AS318))","v":""},{"$f":"IF(M314=\"\",\"\",M314/COUNTIF('Data Input'!$C$8:$AZ$8,$M$2))","v":""},{"$f":"IF(ISBLANK('Data Input'!A318),\"\",SUM('Data Input'!AY318,'Data Input'!AZ318))","v":""},{"$f":"IF(O314=\"\",\"\",O314/COUNTIF('Data Input'!$C$8:$AZ$8,$O$2))","v":""},{"$f":"IF(ISBLANK('Data Input'!A318),\"\",SUM('Data Input'!AW318))","v":""},{"$f":"IF(Q314=\"\",\"\",Q314/COUNTIF('Data Input'!$C$8:$AZ$8,$Q$2))","v":""},{"$f":"IF(ISBLANK('Data Input'!$A318),\"\",SUM('Data Input'!Q318,'Data Input'!AT318,'Data Input'!AU318))","v":""},{"$f":"IF(S314=\"\",\"\",S314/COUNTIF('Data Input'!$C$8:$AZ$8,$S$2))","v":""},{"$f":"IF(ISBLANK('Data Input'!$A318),\"\",SUM('Data Input'!AX318))","v":""},{"$f":"IF(U314=\"\",\"\",U314/COUNTIF('Data Input'!$C$8:$AZ$8,$U$2))","v":""}]
[{"$f":"IF('Data Input'!A319=0,\"\",'Data Input'!A319)","v":""},{"$f":"IF(ISBLANK('Data Input'!A319),\"\",COUNTIF('Data Input'!C319:AZ319,\"\"))","v":""},{"$f":"IF(ISBLANK('Data Input'!A319),\"\",COUNTIF('Data Input'!C319:AZ319,\"0\"))","v":""},{"$f":"IF(ISBLANK('Data Input'!A319),\"\",SUM(B315,C315))","v":""},{"$f":"IF(ISBLANK('Data Input'!A319),\"\",SUM('Data Input'!C319:AZ319))","v":""},{"$f":"IF(E315=\"\",\"\",E315/(COUNTA('Data Input'!$C$8:$AZ$8)))","v":""},{"$f":"IF(ISBLANK('Data Input'!A319),\"\",SUM('Data Input'!R319,'Data Input'!AA319,'Data Input'!AB319,'Data Input'!AC319,'Data Input'!AE319,'Data Input'!AH319,'Data Input'!AQ319,'Data Input'!AR319))","v":""},{"$f":"IF(G315=\"\",\"\",G315/COUNTIF('Data Input'!$C$8:$AZ$8,$G$2))","v":""},{"$f":"IF(ISBLANK('Data Input'!A319),\"\",SUM('Data Input'!D319,'Data Input'!E319,'Data Input'!F319,'Data Input'!G319,'Data Input'!H319,'Data Input'!J319,'Data Input'!K319,'Data Input'!O319,'Data Input'!U319,'Data Input'!V319,'Data Input'!W319,'Data Input'!X319,'Data Input'!Z319,'Data Input'!AG319,'Data Input'!AI319,'Data Input'!AJ319,'Data Input'!AK319))","v":""},{"$f":"IF(I315=\"\",\"\",I315/COUNTIF('Data Input'!$C$8:$AZ$8,$I$2))","v":""},{"$f":"IF(ISBLANK('Data Input'!A319),\"\",SUM('Data Input'!AF319,'Data Input'!AV319))","v":""},{"$f":"IF(K315=\"\",\"\",K315/COUNTIF('Data Input'!$C$8:$AZ$8,$K$2))","v":""},{"$f":"IF(ISBLANK('Data Input'!A319),\"\",SUM('Data Input'!C319,'Data Input'!I319,'Data Input'!L319,'Data Input'!M319,'Data Input'!N319,'Data Input'!P319,'Data Input'!S319,'Data Input'!T319,'Data Input'!Y319,'Data Input'!AD319,'Data Input'!AL319,'Data Input'!AM319,'Data Input'!AN319,'Data Input'!AO319,'Data Input'!AP319,'Data Input'!AS319))","v":""},{"$f":"IF(M315=\"\",\"\",M315/COUNTIF('Data Input'!$C$8:$AZ$8,$M$2))","v":""},{"$f":"IF(ISBLANK('Data Input'!A319),\"\",SUM('Data Input'!AY319,'Data Input'!AZ319))","v":""},{"$f":"IF(O315=\"\",\"\",O315/COUNTIF('Data Input'!$C$8:$AZ$8,$O$2))","v":""},{"$f":"IF(ISBLANK('Data Input'!A319),\"\",SUM('Data Input'!AW319))","v":""},{"$f":"IF(Q315=\"\",\"\",Q315/COUNTIF('Data Input'!$C$8:$AZ$8,$Q$2))","v":""},{"$f":"IF(ISBLANK('Data Input'!$A319),\"\",SUM('Data Input'!Q319,'Data Input'!AT319,'Data Input'!AU319))","v":""},{"$f":"IF(S315=\"\",\"\",S315/COUNTIF('Data Input'!$C$8:$AZ$8,$S$2))","v":""},{"$f":"IF(ISBLANK('Data Input'!$A319),\"\",SUM('Data Input'!AX319))","v":""},{"$f":"IF(U315=\"\",\"\",U315/COUNTIF('Data Input'!$C$8:$AZ$8,$U$2))","v":""}]
[{"$f":"IF('Data Input'!A320=0,\"\",'Data Input'!A320)","v":""},{"$f":"IF(ISBLANK('Data Input'!A320),\"\",COUNTIF('Data Input'!C320:AZ320,\"\"))","v":""},{"$f":"IF(ISBLANK('Data Input'!A320),\"\",COUNTIF('Data Input'!C320:AZ320,\"0\"))","v":""},{"$f":"IF(ISBLANK('Data Input'!A320),\"\",SUM(B316,C316))","v":""},{"$f":"IF(ISBLANK('Data Input'!A320),\"\",SUM('Data Input'!C320:AZ320))","v":""},{"$f":"IF(E316=\"\",\"\",E316/(COUNTA('Data Input'!$C$8:$AZ$8)))","v":""},{"$f":"IF(ISBLANK('Data Input'!A320),\"\",SUM('Data Input'!R320,'Data Input'!AA320,'Data Input'!AB320,'Data Input'!AC320,'Data Input'!AE320,'Data Input'!AH320,'Data Input'!AQ320,'Data Input'!AR320))","v":""},{"$f":"IF(G316=\"\",\"\",G316/COUNTIF('Data Input'!$C$8:$AZ$8,$G$2))","v":""},{"$f":"IF(ISBLANK('Data Input'!A320),\"\",SUM('Data Input'!D320,'Data Input'!E320,'Data Input'!F320,'Data Input'!G320,'Data Input'!H320,'Data Input'!J320,'Data Input'!K320,'Data Input'!O320,'Data Input'!U320,'Data Input'!V320,'Data Input'!W320,'Data Input'!X320,'Data Input'!Z320,'Data Input'!AG320,'Data Input'!AI320,'Data Input'!AJ320,'Data Input'!AK320))","v":""},{"$f":"IF(I316=\"\",\"\",I316/COUNTIF('Data Input'!$C$8:$AZ$8,$I$2))","v":""},{"$f":"IF(ISBLANK('Data Input'!A320),\"\",SUM('Data Input'!AF320,'Data Input'!AV320))","v":""},{"$f":"IF(K316=\"\",\"\",K316/COUNTIF('Data Input'!$C$8:$AZ$8,$K$2))","v":""},{"$f":"IF(ISBLANK('Data Input'!A320),\"\",SUM('Data Input'!C320,'Data Input'!I320,'Data Input'!L320,'Data Input'!M320,'Data Input'!N320,'Data Input'!P320,'Data Input'!S320,'Data Input'!T320,'Data Input'!Y320,'Data Input'!AD320,'Data Input'!AL320,'Data Input'!AM320,'Data Input'!AN320,'Data Input'!AO320,'Data Input'!AP320,'Data Input'!AS320))","v":""},{"$f":"IF(M316=\"\",\"\",M316/COUNTIF('Data Input'!$C$8:$AZ$8,$M$2))","v":""},{"$f":"IF(ISBLANK('Data Input'!A320),\"\",SUM('Data Input'!AY320,'Data Input'!AZ320))","v":""},{"$f":"IF(O316=\"\",\"\",O316/COUNTIF('Data Input'!$C$8:$AZ$8,$O$2))","v":""},{"$f":"IF(ISBLANK('Data Input'!A320),\"\",SUM('Data Input'!AW320))","v":""},{"$f":"IF(Q316=\"\",\"\",Q316/COUNTIF('Data Input'!$C$8:$AZ$8,$Q$2))","v":""},{"$f":"IF(ISBLANK('Data Input'!$A320),\"\",SUM('Data Input'!Q320,'Data Input'!AT320,'Data Input'!AU320))","v":""},{"$f":"IF(S316=\"\",\"\",S316/COUNTIF('Data Input'!$C$8:$AZ$8,$S$2))","v":""},{"$f":"IF(ISBLANK('Data Input'!$A320),\"\",SUM('Data Input'!AX320))","v":""},{"$f":"IF(U316=\"\",\"\",U316/COUNTIF('Data Input'!$C$8:$AZ$8,$U$2))","v":""}]
[{"$f":"IF('Data Input'!A321=0,\"\",'Data Input'!A321)","v":""},{"$f":"IF(ISBLANK('Data Input'!A321),\"\",COUNTIF('Data Input'!C321:AZ321,\"\"))","v":""},{"$f":"IF(ISBLANK('Data Input'!A321),\"\",COUNTIF('Data Input'!C321:AZ321,\"0\"))","v":""},{"$f":"IF(ISBLANK('Data Input'!A321),\"\",SUM(B317,C317))","v":""},{"$f":"IF(ISBLANK('Data Input'!A321),\"\",SUM('Data Input'!C321:AZ321))","v":""},{"$f":"IF(E317=\"\",\"\",E317/(COUNTA('Data Input'!$C$8:$AZ$8)))","v":""},{"$f":"IF(ISBLANK('Data Input'!A321),\"\",SUM('Data Input'!R321,'Data Input'!AA321,'Data Input'!AB321,'Data Input'!AC321,'Data Input'!AE321,'Data Input'!AH321,'Data Input'!AQ321,'Data Input'!AR321))","v":""},{"$f":"IF(G317=\"\",\"\",G317/COUNTIF('Data Input'!$C$8:$AZ$8,$G$2))","v":""},{"$f":"IF(ISBLANK('Data Input'!A321),\"\",SUM('Data Input'!D321,'Data Input'!E321,'Data Input'!F321,'Data Input'!G321,'Data Input'!H321,'Data Input'!J321,'Data Input'!K321,'Data Input'!O321,'Data Input'!U321,'Data Input'!V321,'Data Input'!W321,'Data Input'!X321,'Data Input'!Z321,'Data Input'!AG321,'Data Input'!AI321,'Data Input'!AJ321,'Data Input'!AK321))","v":""},{"$f":"IF(I317=\"\",\"\",I317/COUNTIF('Data Input'!$C$8:$AZ$8,$I$2))","v":""},{"$f":"IF(ISBLANK('Data Input'!A321),\"\",SUM('Data Input'!AF321,'Data Input'!AV321))","v":""},{"$f":"IF(K317=\"\",\"\",K317/COUNTIF('Data Input'!$C$8:$AZ$8,$K$2))","v":""},{"$f":"IF(ISBLANK('Data Input'!A321),\"\",SUM('Data Input'!C321,'Data Input'!I321,'Data Input'!L321,'Data Input'!M321,'Data Input'!N321,'Data Input'!P321,'Data Input'!S321,'Data Input'!T321,'Data Input'!Y321,'Data Input'!AD321,'Data Input'!AL321,'Data Input'!AM321,'Data Input'!AN321,'Data Input'!AO321,'Data Input'!AP321,'Data Input'!AS321))","v":""},{"$f":"IF(M317=\"\",\"\",M317/COUNTIF('Data Input'!$C$8:$AZ$8,$M$2))","v":""},{"$f":"IF(ISBLANK('Data Input'!A321),\"\",SUM('Data Input'!AY321,'Data Input'!AZ321))","v":""},{"$f":"IF(O317=\"\",\"\",O317/COUNTIF('Data Input'!$C$8:$AZ$8,$O$2))","v":""},{"$f":"IF(ISBLANK('Data Input'!A321),\"\",SUM('Data Input'!AW321))","v":""},{"$f":"IF(Q317=\"\",\"\",Q317/COUNTIF('Data Input'!$C$8:$AZ$8,$Q$2))","v":""},{"$f":"IF(ISBLANK('Data Input'!$A321),\"\",SUM('Data Input'!Q321,'Data Input'!AT321,'Data Input'!AU321))","v":""},{"$f":"IF(S317=\"\",\"\",S317/COUNTIF('Data Input'!$C$8:$AZ$8,$S$2))","v":""},{"$f":"IF(ISBLANK('Data Input'!$A321),\"\",SUM('Data Input'!AX321))","v":""},{"$f":"IF(U317=\"\",\"\",U317/COUNTIF('Data Input'!$C$8:$AZ$8,$U$2))","v":""}]
[{"$f":"IF('Data Input'!A322=0,\"\",'Data Input'!A322)","v":""},{"$f":"IF(ISBLANK('Data Input'!A322),\"\",COUNTIF('Data Input'!C322:AZ322,\"\"))","v":""},{"$f":"IF(ISBLANK('Data Input'!A322),\"\",COUNTIF('Data Input'!C322:AZ322,\"0\"))","v":""},{"$f":"IF(ISBLANK('Data Input'!A322),\"\",SUM(B318,C318))","v":""},{"$f":"IF(ISBLANK('Data Input'!A322),\"\",SUM('Data Input'!C322:AZ322))","v":""},{"$f":"IF(E318=\"\",\"\",E318/(COUNTA('Data Input'!$C$8:$AZ$8)))","v":""},{"$f":"IF(ISBLANK('Data Input'!A322),\"\",SUM('Data Input'!R322,'Data Input'!AA322,'Data Input'!AB322,'Data Input'!AC322,'Data Input'!AE322,'Data Input'!AH322,'Data Input'!AQ322,'Data Input'!AR322))","v":""},{"$f":"IF(G318=\"\",\"\",G318/COUNTIF('Data Input'!$C$8:$AZ$8,$G$2))","v":""},{"$f":"IF(ISBLANK('Data Input'!A322),\"\",SUM('Data Input'!D322,'Data Input'!E322,'Data Input'!F322,'Data Input'!G322,'Data Input'!H322,'Data Input'!J322,'Data Input'!K322,'Data Input'!O322,'Data Input'!U322,'Data Input'!V322,'Data Input'!W322,'Data Input'!X322,'Data Input'!Z322,'Data Input'!AG322,'Data Input'!AI322,'Data Input'!AJ322,'Data Input'!AK322))","v":""},{"$f":"IF(I318=\"\",\"\",I318/COUNTIF('Data Input'!$C$8:$AZ$8,$I$2))","v":""},{"$f":"IF(ISBLANK('Data Input'!A322),\"\",SUM('Data Input'!AF322,'Data Input'!AV322))","v":""},{"$f":"IF(K318=\"\",\"\",K318/COUNTIF('Data Input'!$C$8:$AZ$8,$K$2))","v":""},{"$f":"IF(ISBLANK('Data Input'!A322),\"\",SUM('Data Input'!C322,'Data Input'!I322,'Data Input'!L322,'Data Input'!M322,'Data Input'!N322,'Data Input'!P322,'Data Input'!S322,'Data Input'!T322,'Data Input'!Y322,'Data Input'!AD322,'Data Input'!AL322,'Data Input'!AM322,'Data Input'!AN322,'Data Input'!AO322,'Data Input'!AP322,'Data Input'!AS322))","v":""},{"$f":"IF(M318=\"\",\"\",M318/COUNTIF('Data Input'!$C$8:$AZ$8,$M$2))","v":""},{"$f":"IF(ISBLANK('Data Input'!A322),\"\",SUM('Data Input'!AY322,'Data Input'!AZ322))","v":""},{"$f":"IF(O318=\"\",\"\",O318/COUNTIF('Data Input'!$C$8:$AZ$8,$O$2))","v":""},{"$f":"IF(ISBLANK('Data Input'!A322),\"\",SUM('Data Input'!AW322))","v":""},{"$f":"IF(Q318=\"\",\"\",Q318/COUNTIF('Data Input'!$C$8:$AZ$8,$Q$2))","v":""},{"$f":"IF(ISBLANK('Data Input'!$A322),\"\",SUM('Data Input'!Q322,'Data Input'!AT322,'Data Input'!AU322))","v":""},{"$f":"IF(S318=\"\",\"\",S318/COUNTIF('Data Input'!$C$8:$AZ$8,$S$2))","v":""},{"$f":"IF(ISBLANK('Data Input'!$A322),\"\",SUM('Data Input'!AX322))","v":""},{"$f":"IF(U318=\"\",\"\",U318/COUNTIF('Data Input'!$C$8:$AZ$8,$U$2))","v":""}]
[{"$f":"IF('Data Input'!A323=0,\"\",'Data Input'!A323)","v":""},{"$f":"IF(ISBLANK('Data Input'!A323),\"\",COUNTIF('Data Input'!C323:AZ323,\"\"))","v":""},{"$f":"IF(ISBLANK('Data Input'!A323),\"\",COUNTIF('Data Input'!C323:AZ323,\"0\"))","v":""},{"$f":"IF(ISBLANK('Data Input'!A323),\"\",SUM(B319,C319))","v":""},{"$f":"IF(ISBLANK('Data Input'!A323),\"\",SUM('Data Input'!C323:AZ323))","v":""},{"$f":"IF(E319=\"\",\"\",E319/(COUNTA('Data Input'!$C$8:$AZ$8)))","v":""},{"$f":"IF(ISBLANK('Data Input'!A323),\"\",SUM('Data Input'!R323,'Data Input'!AA323,'Data Input'!AB323,'Data Input'!AC323,'Data Input'!AE323,'Data Input'!AH323,'Data Input'!AQ323,'Data Input'!AR323))","v":""},{"$f":"IF(G319=\"\",\"\",G319/COUNTIF('Data Input'!$C$8:$AZ$8,$G$2))","v":""},{"$f":"IF(ISBLANK('Data Input'!A323),\"\",SUM('Data Input'!D323,'Data Input'!E323,'Data Input'!F323,'Data Input'!G323,'Data Input'!H323,'Data Input'!J323,'Data Input'!K323,'Data Input'!O323,'Data Input'!U323,'Data Input'!V323,'Data Input'!W323,'Data Input'!X323,'Data Input'!Z323,'Data Input'!AG323,'Data Input'!AI323,'Data Input'!AJ323,'Data Input'!AK323))","v":""},{"$f":"IF(I319=\"\",\"\",I319/COUNTIF('Data Input'!$C$8:$AZ$8,$I$2))","v":""},{"$f":"IF(ISBLANK('Data Input'!A323),\"\",SUM('Data Input'!AF323,'Data Input'!AV323))","v":""},{"$f":"IF(K319=\"\",\"\",K319/COUNTIF('Data Input'!$C$8:$AZ$8,$K$2))","v":""},{"$f":"IF(ISBLANK('Data Input'!A323),\"\",SUM('Data Input'!C323,'Data Input'!I323,'Data Input'!L323,'Data Input'!M323,'Data Input'!N323,'Data Input'!P323,'Data Input'!S323,'Data Input'!T323,'Data Input'!Y323,'Data Input'!AD323,'Data Input'!AL323,'Data Input'!AM323,'Data Input'!AN323,'Data Input'!AO323,'Data Input'!AP323,'Data Input'!AS323))","v":""},{"$f":"IF(M319=\"\",\"\",M319/COUNTIF('Data Input'!$C$8:$AZ$8,$M$2))","v":""},{"$f":"IF(ISBLANK('Data Input'!A323),\"\",SUM('Data Input'!AY323,'Data Input'!AZ323))","v":""},{"$f":"IF(O319=\"\",\"\",O319/COUNTIF('Data Input'!$C$8:$AZ$8,$O$2))","v":""},{"$f":"IF(ISBLANK('Data Input'!A323),\"\",SUM('Data Input'!AW323))","v":""},{"$f":"IF(Q319=\"\",\"\",Q319/COUNTIF('Data Input'!$C$8:$AZ$8,$Q$2))","v":""},{"$f":"IF(ISBLANK('Data Input'!$A323),\"\",SUM('Data Input'!Q323,'Data Input'!AT323,'Data Input'!AU323))","v":""},{"$f":"IF(S319=\"\",\"\",S319/COUNTIF('Data Input'!$C$8:$AZ$8,$S$2))","v":""},{"$f":"IF(ISBLANK('Data Input'!$A323),\"\",SUM('Data Input'!AX323))","v":""},{"$f":"IF(U319=\"\",\"\",U319/COUNTIF('Data Input'!$C$8:$AZ$8,$U$2))","v":""}]
[{"$f":"IF('Data Input'!A324=0,\"\",'Data Input'!A324)","v":""},{"$f":"IF(ISBLANK('Data Input'!A324),\"\",COUNTIF('Data Input'!C324:AZ324,\"\"))","v":""},{"$f":"IF(ISBLANK('Data Input'!A324),\"\",COUNTIF('Data Input'!C324:AZ324,\"0\"))","v":""},{"$f":"IF(ISBLANK('Data Input'!A324),\"\",SUM(B320,C320))","v":""},{"$f":"IF(ISBLANK('Data Input'!A324),\"\",SUM('Data Input'!C324:AZ324))","v":""},{"$f":"IF(E320=\"\",\"\",E320/(COUNTA('Data Input'!$C$8:$AZ$8)))","v":""},{"$f":"IF(ISBLANK('Data Input'!A324),\"\",SUM('Data Input'!R324,'Data Input'!AA324,'Data Input'!AB324,'Data Input'!AC324,'Data Input'!AE324,'Data Input'!AH324,'Data Input'!AQ324,'Data Input'!AR324))","v":""},{"$f":"IF(G320=\"\",\"\",G320/COUNTIF('Data Input'!$C$8:$AZ$8,$G$2))","v":""},{"$f":"IF(ISBLANK('Data Input'!A324),\"\",SUM('Data Input'!D324,'Data Input'!E324,'Data Input'!F324,'Data Input'!G324,'Data Input'!H324,'Data Input'!J324,'Data Input'!K324,'Data Input'!O324,'Data Input'!U324,'Data Input'!V324,'Data Input'!W324,'Data Input'!X324,'Data Input'!Z324,'Data Input'!AG324,'Data Input'!AI324,'Data Input'!AJ324,'Data Input'!AK324))","v":""},{"$f":"IF(I320=\"\",\"\",I320/COUNTIF('Data Input'!$C$8:$AZ$8,$I$2))","v":""},{"$f":"IF(ISBLANK('Data Input'!A324),\"\",SUM('Data Input'!AF324,'Data Input'!AV324))","v":""},{"$f":"IF(K320=\"\",\"\",K320/COUNTIF('Data Input'!$C$8:$AZ$8,$K$2))","v":""},{"$f":"IF(ISBLANK('Data Input'!A324),\"\",SUM('Data Input'!C324,'Data Input'!I324,'Data Input'!L324,'Data Input'!M324,'Data Input'!N324,'Data Input'!P324,'Data Input'!S324,'Data Input'!T324,'Data Input'!Y324,'Data Input'!AD324,'Data Input'!AL324,'Data Input'!AM324,'Data Input'!AN324,'Data Input'!AO324,'Data Input'!AP324,'Data Input'!AS324))","v":""},{"$f":"IF(M320=\"\",\"\",M320/COUNTIF('Data Input'!$C$8:$AZ$8,$M$2))","v":""},{"$f":"IF(ISBLANK('Data Input'!A324),\"\",SUM('Data Input'!AY324,'Data Input'!AZ324))","v":""},{"$f":"IF(O320=\"\",\"\",O320/COUNTIF('Data Input'!$C$8:$AZ$8,$O$2))","v":""},{"$f":"IF(ISBLANK('Data Input'!A324),\"\",SUM('Data Input'!AW324))","v":""},{"$f":"IF(Q320=\"\",\"\",Q320/COUNTIF('Data Input'!$C$8:$AZ$8,$Q$2))","v":""},{"$f":"IF(ISBLANK('Data Input'!$A324),\"\",SUM('Data Input'!Q324,'Data Input'!AT324,'Data Input'!AU324))","v":""},{"$f":"IF(S320=\"\",\"\",S320/COUNTIF('Data Input'!$C$8:$AZ$8,$S$2))","v":""},{"$f":"IF(ISBLANK('Data Input'!$A324),\"\",SUM('Data Input'!AX324))","v":""},{"$f":"IF(U320=\"\",\"\",U320/COUNTIF('Data Input'!$C$8:$AZ$8,$U$2))","v":""}]
[{"$f":"IF('Data Input'!A325=0,\"\",'Data Input'!A325)","v":""},{"$f":"IF(ISBLANK('Data Input'!A325),\"\",COUNTIF('Data Input'!C325:AZ325,\"\"))","v":""},{"$f":"IF(ISBLANK('Data Input'!A325),\"\",COUNTIF('Data Input'!C325:AZ325,\"0\"))","v":""},{"$f":"IF(ISBLANK('Data Input'!A325),\"\",SUM(B321,C321))","v":""},{"$f":"IF(ISBLANK('Data Input'!A325),\"\",SUM('Data Input'!C325:AZ325))","v":""},{"$f":"IF(E321=\"\",\"\",E321/(COUNTA('Data Input'!$C$8:$AZ$8)))","v":""},{"$f":"IF(ISBLANK('Data Input'!A325),\"\",SUM('Data Input'!R325,'Data Input'!AA325,'Data Input'!AB325,'Data Input'!AC325,'Data Input'!AE325,'Data Input'!AH325,'Data Input'!AQ325,'Data Input'!AR325))","v":""},{"$f":"IF(G321=\"\",\"\",G321/COUNTIF('Data Input'!$C$8:$AZ$8,$G$2))","v":""},{"$f":"IF(ISBLANK('Data Input'!A325),\"\",SUM('Data Input'!D325,'Data Input'!E325,'Data Input'!F325,'Data Input'!G325,'Data Input'!H325,'Data Input'!J325,'Data Input'!K325,'Data Input'!O325,'Data Input'!U325,'Data Input'!V325,'Data Input'!W325,'Data Input'!X325,'Data Input'!Z325,'Data Input'!AG325,'Data Input'!AI325,'Data Input'!AJ325,'Data Input'!AK325))","v":""},{"$f":"IF(I321=\"\",\"\",I321/COUNTIF('Data Input'!$C$8:$AZ$8,$I$2))","v":""},{"$f":"IF(ISBLANK('Data Input'!A325),\"\",SUM('Data Input'!AF325,'Data Input'!AV325))","v":""},{"$f":"IF(K321=\"\",\"\",K321/COUNTIF('Data Input'!$C$8:$AZ$8,$K$2))","v":""},{"$f":"IF(ISBLANK('Data Input'!A325),\"\",SUM('Data Input'!C325,'Data Input'!I325,'Data Input'!L325,'Data Input'!M325,'Data Input'!N325,'Data Input'!P325,'Data Input'!S325,'Data Input'!T325,'Data Input'!Y325,'Data Input'!AD325,'Data Input'!AL325,'Data Input'!AM325,'Data Input'!AN325,'Data Input'!AO325,'Data Input'!AP325,'Data Input'!AS325))","v":""},{"$f":"IF(M321=\"\",\"\",M321/COUNTIF('Data Input'!$C$8:$AZ$8,$M$2))","v":""},{"$f":"IF(ISBLANK('Data Input'!A325),\"\",SUM('Data Input'!AY325,'Data Input'!AZ325))","v":""},{"$f":"IF(O321=\"\",\"\",O321/COUNTIF('Data Input'!$C$8:$AZ$8,$O$2))","v":""},{"$f":"IF(ISBLANK('Data Input'!A325),\"\",SUM('Data Input'!AW325))","v":""},{"$f":"IF(Q321=\"\",\"\",Q321/COUNTIF('Data Input'!$C$8:$AZ$8,$Q$2))","v":""},{"$f":"IF(ISBLANK('Data Input'!$A325),\"\",SUM('Data Input'!Q325,'Data Input'!AT325,'Data Input'!AU325))","v":""},{"$f":"IF(S321=\"\",\"\",S321/COUNTIF('Data Input'!$C$8:$AZ$8,$S$2))","v":""},{"$f":"IF(ISBLANK('Data Input'!$A325),\"\",SUM('Data Input'!AX325))","v":""},{"$f":"IF(U321=\"\",\"\",U321/COUNTIF('Data Input'!$C$8:$AZ$8,$U$2))","v":""}]
[{"$f":"IF('Data Input'!A326=0,\"\",'Data Input'!A326)","v":""},{"$f":"IF(ISBLANK('Data Input'!A326),\"\",COUNTIF('Data Input'!C326:AZ326,\"\"))","v":""},{"$f":"IF(ISBLANK('Data Input'!A326),\"\",COUNTIF('Data Input'!C326:AZ326,\"0\"))","v":""},{"$f":"IF(ISBLANK('Data Input'!A326),\"\",SUM(B322,C322))","v":""},{"$f":"IF(ISBLANK('Data Input'!A326),\"\",SUM('Data Input'!C326:AZ326))","v":""},{"$f":"IF(E322=\"\",\"\",E322/(COUNTA('Data Input'!$C$8:$AZ$8)))","v":""},{"$f":"IF(ISBLANK('Data Input'!A326),\"\",SUM('Data Input'!R326,'Data Input'!AA326,'Data Input'!AB326,'Data Input'!AC326,'Data Input'!AE326,'Data Input'!AH326,'Data Input'!AQ326,'Data Input'!AR326))","v":""},{"$f":"IF(G322=\"\",\"\",G322/COUNTIF('Data Input'!$C$8:$AZ$8,$G$2))","v":""},{"$f":"IF(ISBLANK('Data Input'!A326),\"\",SUM('Data Input'!D326,'Data Input'!E326,'Data Input'!F326,'Data Input'!G326,'Data Input'!H326,'Data Input'!J326,'Data Input'!K326,'Data Input'!O326,'Data Input'!U326,'Data Input'!V326,'Data Input'!W326,'Data Input'!X326,'Data Input'!Z326,'Data Input'!AG326,'Data Input'!AI326,'Data Input'!AJ326,'Data Input'!AK326))","v":""},{"$f":"IF(I322=\"\",\"\",I322/COUNTIF('Data Input'!$C$8:$AZ$8,$I$2))","v":""},{"$f":"IF(ISBLANK('Data Input'!A326),\"\",SUM('Data Input'!AF326,'Data Input'!AV326))","v":""},{"$f":"IF(K322=\"\",\"\",K322/COUNTIF('Data Input'!$C$8:$AZ$8,$K$2))","v":""},{"$f":"IF(ISBLANK('Data Input'!A326),\"\",SUM('Data Input'!C326,'Data Input'!I326,'Data Input'!L326,'Data Input'!M326,'Data Input'!N326,'Data Input'!P326,'Data Input'!S326,'Data Input'!T326,'Data Input'!Y326,'Data Input'!AD326,'Data Input'!AL326,'Data Input'!AM326,'Data Input'!AN326,'Data Input'!AO326,'Data Input'!AP326,'Data Input'!AS326))","v":""},{"$f":"IF(M322=\"\",\"\",M322/COUNTIF('Data Input'!$C$8:$AZ$8,$M$2))","v":""},{"$f":"IF(ISBLANK('Data Input'!A326),\"\",SUM('Data Input'!AY326,'Data Input'!AZ326))","v":""},{"$f":"IF(O322=\"\",\"\",O322/COUNTIF('Data Input'!$C$8:$AZ$8,$O$2))","v":""},{"$f":"IF(ISBLANK('Data Input'!A326),\"\",SUM('Data Input'!AW326))","v":""},{"$f":"IF(Q322=\"\",\"\",Q322/COUNTIF('Data Input'!$C$8:$AZ$8,$Q$2))","v":""},{"$f":"IF(ISBLANK('Data Input'!$A326),\"\",SUM('Data Input'!Q326,'Data Input'!AT326,'Data Input'!AU326))","v":""},{"$f":"IF(S322=\"\",\"\",S322/COUNTIF('Data Input'!$C$8:$AZ$8,$S$2))","v":""},{"$f":"IF(ISBLANK('Data Input'!$A326),\"\",SUM('Data Input'!AX326))","v":""},{"$f":"IF(U322=\"\",\"\",U322/COUNTIF('Data Input'!$C$8:$AZ$8,$U$2))","v":""}]
[{"$f":"IF('Data Input'!A327=0,\"\",'Data Input'!A327)","v":""},{"$f":"IF(ISBLANK('Data Input'!A327),\"\",COUNTIF('Data Input'!C327:AZ327,\"\"))","v":""},{"$f":"IF(ISBLANK('Data Input'!A327),\"\",COUNTIF('Data Input'!C327:AZ327,\"0\"))","v":""},{"$f":"IF(ISBLANK('Data Input'!A327),\"\",SUM(B323,C323))","v":""},{"$f":"IF(ISBLANK('Data Input'!A327),\"\",SUM('Data Input'!C327:AZ327))","v":""},{"$f":"IF(E323=\"\",\"\",E323/(COUNTA('Data Input'!$C$8:$AZ$8)))","v":""},{"$f":"IF(ISBLANK('Data Input'!A327),\"\",SUM('Data Input'!R327,'Data Input'!AA327,'Data Input'!AB327,'Data Input'!AC327,'Data Input'!AE327,'Data Input'!AH327,'Data Input'!AQ327,'Data Input'!AR327))","v":""},{"$f":"IF(G323=\"\",\"\",G323/COUNTIF('Data Input'!$C$8:$AZ$8,$G$2))","v":""},{"$f":"IF(ISBLANK('Data Input'!A327),\"\",SUM('Data Input'!D327,'Data Input'!E327,'Data Input'!F327,'Data Input'!G327,'Data Input'!H327,'Data Input'!J327,'Data Input'!K327,'Data Input'!O327,'Data Input'!U327,'Data Input'!V327,'Data Input'!W327,'Data Input'!X327,'Data Input'!Z327,'Data Input'!AG327,'Data Input'!AI327,'Data Input'!AJ327,'Data Input'!AK327))","v":""},{"$f":"IF(I323=\"\",\"\",I323/COUNTIF('Data Input'!$C$8:$AZ$8,$I$2))","v":""},{"$f":"IF(ISBLANK('Data Input'!A327),\"\",SUM('Data Input'!AF327,'Data Input'!AV327))","v":""},{"$f":"IF(K323=\"\",\"\",K323/COUNTIF('Data Input'!$C$8:$AZ$8,$K$2))","v":""},{"$f":"IF(ISBLANK('Data Input'!A327),\"\",SUM('Data Input'!C327,'Data Input'!I327,'Data Input'!L327,'Data Input'!M327,'Data Input'!N327,'Data Input'!P327,'Data Input'!S327,'Data Input'!T327,'Data Input'!Y327,'Data Input'!AD327,'Data Input'!AL327,'Data Input'!AM327,'Data Input'!AN327,'Data Input'!AO327,'Data Input'!AP327,'Data Input'!AS327))","v":""},{"$f":"IF(M323=\"\",\"\",M323/COUNTIF('Data Input'!$C$8:$AZ$8,$M$2))","v":""},{"$f":"IF(ISBLANK('Data Input'!A327),\"\",SUM('Data Input'!AY327,'Data Input'!AZ327))","v":""},{"$f":"IF(O323=\"\",\"\",O323/COUNTIF('Data Input'!$C$8:$AZ$8,$O$2))","v":""},{"$f":"IF(ISBLANK('Data Input'!A327),\"\",SUM('Data Input'!AW327))","v":""},{"$f":"IF(Q323=\"\",\"\",Q323/COUNTIF('Data Input'!$C$8:$AZ$8,$Q$2))","v":""},{"$f":"IF(ISBLANK('Data Input'!$A327),\"\",SUM('Data Input'!Q327,'Data Input'!AT327,'Data Input'!AU327))","v":""},{"$f":"IF(S323=\"\",\"\",S323/COUNTIF('Data Input'!$C$8:$AZ$8,$S$2))","v":""},{"$f":"IF(ISBLANK('Data Input'!$A327),\"\",SUM('Data Input'!AX327))","v":""},{"$f":"IF(U323=\"\",\"\",U323/COUNTIF('Data Input'!$C$8:$AZ$8,$U$2))","v":""}]
[{"$f":"IF('Data Input'!A328=0,\"\",'Data Input'!A328)","v":""},{"$f":"IF(ISBLANK('Data Input'!A328),\"\",COUNTIF('Data Input'!C328:AZ328,\"\"))","v":""},{"$f":"IF(ISBLANK('Data Input'!A328),\"\",COUNTIF('Data Input'!C328:AZ328,\"0\"))","v":""},{"$f":"IF(ISBLANK('Data Input'!A328),\"\",SUM(B324,C324))","v":""},{"$f":"IF(ISBLANK('Data Input'!A328),\"\",SUM('Data Input'!C328:AZ328))","v":""},{"$f":"IF(E324=\"\",\"\",E324/(COUNTA('Data Input'!$C$8:$AZ$8)))","v":""},{"$f":"IF(ISBLANK('Data Input'!A328),\"\",SUM('Data Input'!R328,'Data Input'!AA328,'Data Input'!AB328,'Data Input'!AC328,'Data Input'!AE328,'Data Input'!AH328,'Data Input'!AQ328,'Data Input'!AR328))","v":""},{"$f":"IF(G324=\"\",\"\",G324/COUNTIF('Data Input'!$C$8:$AZ$8,$G$2))","v":""},{"$f":"IF(ISBLANK('Data Input'!A328),\"\",SUM('Data Input'!D328,'Data Input'!E328,'Data Input'!F328,'Data Input'!G328,'Data Input'!H328,'Data Input'!J328,'Data Input'!K328,'Data Input'!O328,'Data Input'!U328,'Data Input'!V328,'Data Input'!W328,'Data Input'!X328,'Data Input'!Z328,'Data Input'!AG328,'Data Input'!AI328,'Data Input'!AJ328,'Data Input'!AK328))","v":""},{"$f":"IF(I324=\"\",\"\",I324/COUNTIF('Data Input'!$C$8:$AZ$8,$I$2))","v":""},{"$f":"IF(ISBLANK('Data Input'!A328),\"\",SUM('Data Input'!AF328,'Data Input'!AV328))","v":""},{"$f":"IF(K324=\"\",\"\",K324/COUNTIF('Data Input'!$C$8:$AZ$8,$K$2))","v":""},{"$f":"IF(ISBLANK('Data Input'!A328),\"\",SUM('Data Input'!C328,'Data Input'!I328,'Data Input'!L328,'Data Input'!M328,'Data Input'!N328,'Data Input'!P328,'Data Input'!S328,'Data Input'!T328,'Data Input'!Y328,'Data Input'!AD328,'Data Input'!AL328,'Data Input'!AM328,'Data Input'!AN328,'Data Input'!AO328,'Data Input'!AP328,'Data Input'!AS328))","v":""},{"$f":"IF(M324=\"\",\"\",M324/COUNTIF('Data Input'!$C$8:$AZ$8,$M$2))","v":""},{"$f":"IF(ISBLANK('Data Input'!A328),\"\",SUM('Data Input'!AY328,'Data Input'!AZ328))","v":""},{"$f":"IF(O324=\"\",\"\",O324/COUNTIF('Data Input'!$C$8:$AZ$8,$O$2))","v":""},{"$f":"IF(ISBLANK('Data Input'!A328),\"\",SUM('Data Input'!AW328))","v":""},{"$f":"IF(Q324=\"\",\"\",Q324/COUNTIF('Data Input'!$C$8:$AZ$8,$Q$2))","v":""},{"$f":"IF(ISBLANK('Data Input'!$A328),\"\",SUM('Data Input'!Q328,'Data Input'!AT328,'Data Input'!AU328))","v":""},{"$f":"IF(S324=\"\",\"\",S324/COUNTIF('Data Input'!$C$8:$AZ$8,$S$2))","v":""},{"$f":"IF(ISBLANK('Data Input'!$A328),\"\",SUM('Data Input'!AX328))","v":""},{"$f":"IF(U324=\"\",\"\",U324/COUNTIF('Data Input'!$C$8:$AZ$8,$U$2))","v":""}]
[{"$f":"IF('Data Input'!A329=0,\"\",'Data Input'!A329)","v":""},{"$f":"IF(ISBLANK('Data Input'!A329),\"\",COUNTIF('Data Input'!C329:AZ329,\"\"))","v":""},{"$f":"IF(ISBLANK('Data Input'!A329),\"\",COUNTIF('Data Input'!C329:AZ329,\"0\"))","v":""},{"$f":"IF(ISBLANK('Data Input'!A329),\"\",SUM(B325,C325))","v":""},{"$f":"IF(ISBLANK('Data Input'!A329),\"\",SUM('Data Input'!C329:AZ329))","v":""},{"$f":"IF(E325=\"\",\"\",E325/(COUNTA('Data Input'!$C$8:$AZ$8)))","v":""},{"$f":"IF(ISBLANK('Data Input'!A329),\"\",SUM('Data Input'!R329,'Data Input'!AA329,'Data Input'!AB329,'Data Input'!AC329,'Data Input'!AE329,'Data Input'!AH329,'Data Input'!AQ329,'Data Input'!AR329))","v":""},{"$f":"IF(G325=\"\",\"\",G325/COUNTIF('Data Input'!$C$8:$AZ$8,$G$2))","v":""},{"$f":"IF(ISBLANK('Data Input'!A329),\"\",SUM('Data Input'!D329,'Data Input'!E329,'Data Input'!F329,'Data Input'!G329,'Data Input'!H329,'Data Input'!J329,'Data Input'!K329,'Data Input'!O329,'Data Input'!U329,'Data Input'!V329,'Data Input'!W329,'Data Input'!X329,'Data Input'!Z329,'Data Input'!AG329,'Data Input'!AI329,'Data Input'!AJ329,'Data Input'!AK329))","v":""},{"$f":"IF(I325=\"\",\"\",I325/COUNTIF('Data Input'!$C$8:$AZ$8,$I$2))","v":""},{"$f":"IF(ISBLANK('Data Input'!A329),\"\",SUM('Data Input'!AF329,'Data Input'!AV329))","v":""},{"$f":"IF(K325=\"\",\"\",K325/COUNTIF('Data Input'!$C$8:$AZ$8,$K$2))","v":""},{"$f":"IF(ISBLANK('Data Input'!A329),\"\",SUM('Data Input'!C329,'Data Input'!I329,'Data Input'!L329,'Data Input'!M329,'Data Input'!N329,'Data Input'!P329,'Data Input'!S329,'Data Input'!T329,'Data Input'!Y329,'Data Input'!AD329,'Data Input'!AL329,'Data Input'!AM329,'Data Input'!AN329,'Data Input'!AO329,'Data Input'!AP329,'Data Input'!AS329))","v":""},{"$f":"IF(M325=\"\",\"\",M325/COUNTIF('Data Input'!$C$8:$AZ$8,$M$2))","v":""},{"$f":"IF(ISBLANK('Data Input'!A329),\"\",SUM('Data Input'!AY329,'Data Input'!AZ329))","v":""},{"$f":"IF(O325=\"\",\"\",O325/COUNTIF('Data Input'!$C$8:$AZ$8,$O$2))","v":""},{"$f":"IF(ISBLANK('Data Input'!A329),\"\",SUM('Data Input'!AW329))","v":""},{"$f":"IF(Q325=\"\",\"\",Q325/COUNTIF('Data Input'!$C$8:$AZ$8,$Q$2))","v":""},{"$f":"IF(ISBLANK('Data Input'!$A329),\"\",SUM('Data Input'!Q329,'Data Input'!AT329,'Data Input'!AU329))","v":""},{"$f":"IF(S325=\"\",\"\",S325/COUNTIF('Data Input'!$C$8:$AZ$8,$S$2))","v":""},{"$f":"IF(ISBLANK('Data Input'!$A329),\"\",SUM('Data Input'!AX329))","v":""},{"$f":"IF(U325=\"\",\"\",U325/COUNTIF('Data Input'!$C$8:$AZ$8,$U$2))","v":""}]
[{"$f":"IF('Data Input'!A330=0,\"\",'Data Input'!A330)","v":""},{"$f":"IF(ISBLANK('Data Input'!A330),\"\",COUNTIF('Data Input'!C330:AZ330,\"\"))","v":""},{"$f":"IF(ISBLANK('Data Input'!A330),\"\",COUNTIF('Data Input'!C330:AZ330,\"0\"))","v":""},{"$f":"IF(ISBLANK('Data Input'!A330),\"\",SUM(B326,C326))","v":""},{"$f":"IF(ISBLANK('Data Input'!A330),\"\",SUM('Data Input'!C330:AZ330))","v":""},{"$f":"IF(E326=\"\",\"\",E326/(COUNTA('Data Input'!$C$8:$AZ$8)))","v":""},{"$f":"IF(ISBLANK('Data Input'!A330),\"\",SUM('Data Input'!R330,'Data Input'!AA330,'Data Input'!AB330,'Data Input'!AC330,'Data Input'!AE330,'Data Input'!AH330,'Data Input'!AQ330,'Data Input'!AR330))","v":""},{"$f":"IF(G326=\"\",\"\",G326/COUNTIF('Data Input'!$C$8:$AZ$8,$G$2))","v":""},{"$f":"IF(ISBLANK('Data Input'!A330),\"\",SUM('Data Input'!D330,'Data Input'!E330,'Data Input'!F330,'Data Input'!G330,'Data Input'!H330,'Data Input'!J330,'Data Input'!K330,'Data Input'!O330,'Data Input'!U330,'Data Input'!V330,'Data Input'!W330,'Data Input'!X330,'Data Input'!Z330,'Data Input'!AG330,'Data Input'!AI330,'Data Input'!AJ330,'Data Input'!AK330))","v":""},{"$f":"IF(I326=\"\",\"\",I326/COUNTIF('Data Input'!$C$8:$AZ$8,$I$2))","v":""},{"$f":"IF(ISBLANK('Data Input'!A330),\"\",SUM('Data Input'!AF330,'Data Input'!AV330))","v":""},{"$f":"IF(K326=\"\",\"\",K326/COUNTIF('Data Input'!$C$8:$AZ$8,$K$2))","v":""},{"$f":"IF(ISBLANK('Data Input'!A330),\"\",SUM('Data Input'!C330,'Data Input'!I330,'Data Input'!L330,'Data Input'!M330,'Data Input'!N330,'Data Input'!P330,'Data Input'!S330,'Data Input'!T330,'Data Input'!Y330,'Data Input'!AD330,'Data Input'!AL330,'Data Input'!AM330,'Data Input'!AN330,'Data Input'!AO330,'Data Input'!AP330,'Data Input'!AS330))","v":""},{"$f":"IF(M326=\"\",\"\",M326/COUNTIF('Data Input'!$C$8:$AZ$8,$M$2))","v":""},{"$f":"IF(ISBLANK('Data Input'!A330),\"\",SUM('Data Input'!AY330,'Data Input'!AZ330))","v":""},{"$f":"IF(O326=\"\",\"\",O326/COUNTIF('Data Input'!$C$8:$AZ$8,$O$2))","v":""},{"$f":"IF(ISBLANK('Data Input'!A330),\"\",SUM('Data Input'!AW330))","v":""},{"$f":"IF(Q326=\"\",\"\",Q326/COUNTIF('Data Input'!$C$8:$AZ$8,$Q$2))","v":""},{"$f":"IF(ISBLANK('Data Input'!$A330),\"\",SUM('Data Input'!Q330,'Data Input'!AT330,'Data Input'!AU330))","v":""},{"$f":"IF(S326=\"\",\"\",S326/COUNTIF('Data Input'!$C$8:$AZ$8,$S$2))","v":""},{"$f":"IF(ISBLANK('Data Input'!$A330),\"\",SUM('Data Input'!AX330))","v":""},{"$f":"IF(U326=\"\",\"\",U326/COUNTIF('Data Input'!$C$8:$AZ$8,$U$2))","v":""}]
[{"$f":"IF('Data Input'!A331=0,\"\",'Data Input'!A331)","v":""},{"$f":"IF(ISBLANK('Data Input'!A331),\"\",COUNTIF('Data Input'!C331:AZ331,\"\"))","v":""},{"$f":"IF(ISBLANK('Data Input'!A331),\"\",COUNTIF('Data Input'!C331:AZ331,\"0\"))","v":""},{"$f":"IF(ISBLANK('Data Input'!A331),\"\",SUM(B327,C327))","v":""},{"$f":"IF(ISBLANK('Data Input'!A331),\"\",SUM('Data Input'!C331:AZ331))","v":""},{"$f":"IF(E327=\"\",\"\",E327/(COUNTA('Data Input'!$C$8:$AZ$8)))","v":""},{"$f":"IF(ISBLANK('Data Input'!A331),\"\",SUM('Data Input'!R331,'Data Input'!AA331,'Data Input'!AB331,'Data Input'!AC331,'Data Input'!AE331,'Data Input'!AH331,'Data Input'!AQ331,'Data Input'!AR331))","v":""},{"$f":"IF(G327=\"\",\"\",G327/COUNTIF('Data Input'!$C$8:$AZ$8,$G$2))","v":""},{"$f":"IF(ISBLANK('Data Input'!A331),\"\",SUM('Data Input'!D331,'Data Input'!E331,'Data Input'!F331,'Data Input'!G331,'Data Input'!H331,'Data Input'!J331,'Data Input'!K331,'Data Input'!O331,'Data Input'!U331,'Data Input'!V331,'Data Input'!W331,'Data Input'!X331,'Data Input'!Z331,'Data Input'!AG331,'Data Input'!AI331,'Data Input'!AJ331,'Data Input'!AK331))","v":""},{"$f":"IF(I327=\"\",\"\",I327/COUNTIF('Data Input'!$C$8:$AZ$8,$I$2))","v":""},{"$f":"IF(ISBLANK('Data Input'!A331),\"\",SUM('Data Input'!AF331,'Data Input'!AV331))","v":""},{"$f":"IF(K327=\"\",\"\",K327/COUNTIF('Data Input'!$C$8:$AZ$8,$K$2))","v":""},{"$f":"IF(ISBLANK('Data Input'!A331),\"\",SUM('Data Input'!C331,'Data Input'!I331,'Data Input'!L331,'Data Input'!M331,'Data Input'!N331,'Data Input'!P331,'Data Input'!S331,'Data Input'!T331,'Data Input'!Y331,'Data Input'!AD331,'Data Input'!AL331,'Data Input'!AM331,'Data Input'!AN331,'Data Input'!AO331,'Data Input'!AP331,'Data Input'!AS331))","v":""},{"$f":"IF(M327=\"\",\"\",M327/COUNTIF('Data Input'!$C$8:$AZ$8,$M$2))","v":""},{"$f":"IF(ISBLANK('Data Input'!A331),\"\",SUM('Data Input'!AY331,'Data Input'!AZ331))","v":""},{"$f":"IF(O327=\"\",\"\",O327/COUNTIF('Data Input'!$C$8:$AZ$8,$O$2))","v":""},{"$f":"IF(ISBLANK('Data Input'!A331),\"\",SUM('Data Input'!AW331))","v":""},{"$f":"IF(Q327=\"\",\"\",Q327/COUNTIF('Data Input'!$C$8:$AZ$8,$Q$2))","v":""},{"$f":"IF(ISBLANK('Data Input'!$A331),\"\",SUM('Data Input'!Q331,'Data Input'!AT331,'Data Input'!AU331))","v":""},{"$f":"IF(S327=\"\",\"\",S327/COUNTIF('Data Input'!$C$8:$AZ$8,$S$2))","v":""},{"$f":"IF(ISBLANK('Data Input'!$A331),\"\",SUM('Data Input'!AX331))","v":""},{"$f":"IF(U327=\"\",\"\",U327/COUNTIF('Data Input'!$C$8:$AZ$8,$U$2))","v":""}]
[{"$f":"IF('Data Input'!A332=0,\"\",'Data Input'!A332)","v":""},{"$f":"IF(ISBLANK('Data Input'!A332),\"\",COUNTIF('Data Input'!C332:AZ332,\"\"))","v":""},{"$f":"IF(ISBLANK('Data Input'!A332),\"\",COUNTIF('Data Input'!C332:AZ332,\"0\"))","v":""},{"$f":"IF(ISBLANK('Data Input'!A332),\"\",SUM(B328,C328))","v":""},{"$f":"IF(ISBLANK('Data Input'!A332),\"\",SUM('Data Input'!C332:AZ332))","v":""},{"$f":"IF(E328=\"\",\"\",E328/(COUNTA('Data Input'!$C$8:$AZ$8)))","v":""},{"$f":"IF(ISBLANK('Data Input'!A332),\"\",SUM('Data Input'!R332,'Data Input'!AA332,'Data Input'!AB332,'Data Input'!AC332,'Data Input'!AE332,'Data Input'!AH332,'Data Input'!AQ332,'Data Input'!AR332))","v":""},{"$f":"IF(G328=\"\",\"\",G328/COUNTIF('Data Input'!$C$8:$AZ$8,$G$2))","v":""},{"$f":"IF(ISBLANK('Data Input'!A332),\"\",SUM('Data Input'!D332,'Data Input'!E332,'Data Input'!F332,'Data Input'!G332,'Data Input'!H332,'Data Input'!J332,'Data Input'!K332,'Data Input'!O332,'Data Input'!U332,'Data Input'!V332,'Data Input'!W332,'Data Input'!X332,'Data Input'!Z332,'Data Input'!AG332,'Data Input'!AI332,'Data Input'!AJ332,'Data Input'!AK332))","v":""},{"$f":"IF(I328=\"\",\"\",I328/COUNTIF('Data Input'!$C$8:$AZ$8,$I$2))","v":""},{"$f":"IF(ISBLANK('Data Input'!A332),\"\",SUM('Data Input'!AF332,'Data Input'!AV332))","v":""},{"$f":"IF(K328=\"\",\"\",K328/COUNTIF('Data Input'!$C$8:$AZ$8,$K$2))","v":""},{"$f":"IF(ISBLANK('Data Input'!A332),\"\",SUM('Data Input'!C332,'Data Input'!I332,'Data Input'!L332,'Data Input'!M332,'Data Input'!N332,'Data Input'!P332,'Data Input'!S332,'Data Input'!T332,'Data Input'!Y332,'Data Input'!AD332,'Data Input'!AL332,'Data Input'!AM332,'Data Input'!AN332,'Data Input'!AO332,'Data Input'!AP332,'Data Input'!AS332))","v":""},{"$f":"IF(M328=\"\",\"\",M328/COUNTIF('Data Input'!$C$8:$AZ$8,$M$2))","v":""},{"$f":"IF(ISBLANK('Data Input'!A332),\"\",SUM('Data Input'!AY332,'Data Input'!AZ332))","v":""},{"$f":"IF(O328=\"\",\"\",O328/COUNTIF('Data Input'!$C$8:$AZ$8,$O$2))","v":""},{"$f":"IF(ISBLANK('Data Input'!A332),\"\",SUM('Data Input'!AW332))","v":""},{"$f":"IF(Q328=\"\",\"\",Q328/COUNTIF('Data Input'!$C$8:$AZ$8,$Q$2))","v":""},{"$f":"IF(ISBLANK('Data Input'!$A332),\"\",SUM('Data Input'!Q332,'Data Input'!AT332,'Data Input'!AU332))","v":""},{"$f":"IF(S328=\"\",\"\",S328/COUNTIF('Data Input'!$C$8:$AZ$8,$S$2))","v":""},{"$f":"IF(ISBLANK('Data Input'!$A332),\"\",SUM('Data Input'!AX332))","v":""},{"$f":"IF(U328=\"\",\"\",U328/COUNTIF('Data Input'!$C$8:$AZ$8,$U$2))","v":""}]
[{"$f":"IF('Data Input'!A333=0,\"\",'Data Input'!A333)","v":""},{"$f":"IF(ISBLANK('Data Input'!A333),\"\",COUNTIF('Data Input'!C333:AZ333,\"\"))","v":""},{"$f":"IF(ISBLANK('Data Input'!A333),\"\",COUNTIF('Data Input'!C333:AZ333,\"0\"))","v":""},{"$f":"IF(ISBLANK('Data Input'!A333),\"\",SUM(B329,C329))","v":""},{"$f":"IF(ISBLANK('Data Input'!A333),\"\",SUM('Data Input'!C333:AZ333))","v":""},{"$f":"IF(E329=\"\",\"\",E329/(COUNTA('Data Input'!$C$8:$AZ$8)))","v":""},{"$f":"IF(ISBLANK('Data Input'!A333),\"\",SUM('Data Input'!R333,'Data Input'!AA333,'Data Input'!AB333,'Data Input'!AC333,'Data Input'!AE333,'Data Input'!AH333,'Data Input'!AQ333,'Data Input'!AR333))","v":""},{"$f":"IF(G329=\"\",\"\",G329/COUNTIF('Data Input'!$C$8:$AZ$8,$G$2))","v":""},{"$f":"IF(ISBLANK('Data Input'!A333),\"\",SUM('Data Input'!D333,'Data Input'!E333,'Data Input'!F333,'Data Input'!G333,'Data Input'!H333,'Data Input'!J333,'Data Input'!K333,'Data Input'!O333,'Data Input'!U333,'Data Input'!V333,'Data Input'!W333,'Data Input'!X333,'Data Input'!Z333,'Data Input'!AG333,'Data Input'!AI333,'Data Input'!AJ333,'Data Input'!AK333))","v":""},{"$f":"IF(I329=\"\",\"\",I329/COUNTIF('Data Input'!$C$8:$AZ$8,$I$2))","v":""},{"$f":"IF(ISBLANK('Data Input'!A333),\"\",SUM('Data Input'!AF333,'Data Input'!AV333))","v":""},{"$f":"IF(K329=\"\",\"\",K329/COUNTIF('Data Input'!$C$8:$AZ$8,$K$2))","v":""},{"$f":"IF(ISBLANK('Data Input'!A333),\"\",SUM('Data Input'!C333,'Data Input'!I333,'Data Input'!L333,'Data Input'!M333,'Data Input'!N333,'Data Input'!P333,'Data Input'!S333,'Data Input'!T333,'Data Input'!Y333,'Data Input'!AD333,'Data Input'!AL333,'Data Input'!AM333,'Data Input'!AN333,'Data Input'!AO333,'Data Input'!AP333,'Data Input'!AS333))","v":""},{"$f":"IF(M329=\"\",\"\",M329/COUNTIF('Data Input'!$C$8:$AZ$8,$M$2))","v":""},{"$f":"IF(ISBLANK('Data Input'!A333),\"\",SUM('Data Input'!AY333,'Data Input'!AZ333))","v":""},{"$f":"IF(O329=\"\",\"\",O329/COUNTIF('Data Input'!$C$8:$AZ$8,$O$2))","v":""},{"$f":"IF(ISBLANK('Data Input'!A333),\"\",SUM('Data Input'!AW333))","v":""},{"$f":"IF(Q329=\"\",\"\",Q329/COUNTIF('Data Input'!$C$8:$AZ$8,$Q$2))","v":""},{"$f":"IF(ISBLANK('Data Input'!$A333),\"\",SUM('Data Input'!Q333,'Data Input'!AT333,'Data Input'!AU333))","v":""},{"$f":"IF(S329=\"\",\"\",S329/COUNTIF('Data Input'!$C$8:$AZ$8,$S$2))","v":""},{"$f":"IF(ISBLANK('Data Input'!$A333),\"\",SUM('Data Input'!AX333))","v":""},{"$f":"IF(U329=\"\",\"\",U329/COUNTIF('Data Input'!$C$8:$AZ$8,$U$2))","v":""}]
[{"$f":"IF('Data Input'!A334=0,\"\",'Data Input'!A334)","v":""},{"$f":"IF(ISBLANK('Data Input'!A334),\"\",COUNTIF('Data Input'!C334:AZ334,\"\"))","v":""},{"$f":"IF(ISBLANK('Data Input'!A334),\"\",COUNTIF('Data Input'!C334:AZ334,\"0\"))","v":""},{"$f":"IF(ISBLANK('Data Input'!A334),\"\",SUM(B330,C330))","v":""},{"$f":"IF(ISBLANK('Data Input'!A334),\"\",SUM('Data Input'!C334:AZ334))","v":""},{"$f":"IF(E330=\"\",\"\",E330/(COUNTA('Data Input'!$C$8:$AZ$8)))","v":""},{"$f":"IF(ISBLANK('Data Input'!A334),\"\",SUM('Data Input'!R334,'Data Input'!AA334,'Data Input'!AB334,'Data Input'!AC334,'Data Input'!AE334,'Data Input'!AH334,'Data Input'!AQ334,'Data Input'!AR334))","v":""},{"$f":"IF(G330=\"\",\"\",G330/COUNTIF('Data Input'!$C$8:$AZ$8,$G$2))","v":""},{"$f":"IF(ISBLANK('Data Input'!A334),\"\",SUM('Data Input'!D334,'Data Input'!E334,'Data Input'!F334,'Data Input'!G334,'Data Input'!H334,'Data Input'!J334,'Data Input'!K334,'Data Input'!O334,'Data Input'!U334,'Data Input'!V334,'Data Input'!W334,'Data Input'!X334,'Data Input'!Z334,'Data Input'!AG334,'Data Input'!AI334,'Data Input'!AJ334,'Data Input'!AK334))","v":""},{"$f":"IF(I330=\"\",\"\",I330/COUNTIF('Data Input'!$C$8:$AZ$8,$I$2))","v":""},{"$f":"IF(ISBLANK('Data Input'!A334),\"\",SUM('Data Input'!AF334,'Data Input'!AV334))","v":""},{"$f":"IF(K330=\"\",\"\",K330/COUNTIF('Data Input'!$C$8:$AZ$8,$K$2))","v":""},{"$f":"IF(ISBLANK('Data Input'!A334),\"\",SUM('Data Input'!C334,'Data Input'!I334,'Data Input'!L334,'Data Input'!M334,'Data Input'!N334,'Data Input'!P334,'Data Input'!S334,'Data Input'!T334,'Data Input'!Y334,'Data Input'!AD334,'Data Input'!AL334,'Data Input'!AM334,'Data Input'!AN334,'Data Input'!AO334,'Data Input'!AP334,'Data Input'!AS334))","v":""},{"$f":"IF(M330=\"\",\"\",M330/COUNTIF('Data Input'!$C$8:$AZ$8,$M$2))","v":""},{"$f":"IF(ISBLANK('Data Input'!A334),\"\",SUM('Data Input'!AY334,'Data Input'!AZ334))","v":""},{"$f":"IF(O330=\"\",\"\",O330/COUNTIF('Data Input'!$C$8:$AZ$8,$O$2))","v":""},{"$f":"IF(ISBLANK('Data Input'!A334),\"\",SUM('Data Input'!AW334))","v":""},{"$f":"IF(Q330=\"\",\"\",Q330/COUNTIF('Data Input'!$C$8:$AZ$8,$Q$2))","v":""},{"$f":"IF(ISBLANK('Data Input'!$A334),\"\",SUM('Data Input'!Q334,'Data Input'!AT334,'Data Input'!AU334))","v":""},{"$f":"IF(S330=\"\",\"\",S330/COUNTIF('Data Input'!$C$8:$AZ$8,$S$2))","v":""},{"$f":"IF(ISBLANK('Data Input'!$A334),\"\",SUM('Data Input'!AX334))","v":""},{"$f":"IF(U330=\"\",\"\",U330/COUNTIF('Data Input'!$C$8:$AZ$8,$U$2))","v":""}]
[{"$f":"IF('Data Input'!A335=0,\"\",'Data Input'!A335)","v":""},{"$f":"IF(ISBLANK('Data Input'!A335),\"\",COUNTIF('Data Input'!C335:AZ335,\"\"))","v":""},{"$f":"IF(ISBLANK('Data Input'!A335),\"\",COUNTIF('Data Input'!C335:AZ335,\"0\"))","v":""},{"$f":"IF(ISBLANK('Data Input'!A335),\"\",SUM(B331,C331))","v":""},{"$f":"IF(ISBLANK('Data Input'!A335),\"\",SUM('Data Input'!C335:AZ335))","v":""},{"$f":"IF(E331=\"\",\"\",E331/(COUNTA('Data Input'!$C$8:$AZ$8)))","v":""},{"$f":"IF(ISBLANK('Data Input'!A335),\"\",SUM('Data Input'!R335,'Data Input'!AA335,'Data Input'!AB335,'Data Input'!AC335,'Data Input'!AE335,'Data Input'!AH335,'Data Input'!AQ335,'Data Input'!AR335))","v":""},{"$f":"IF(G331=\"\",\"\",G331/COUNTIF('Data Input'!$C$8:$AZ$8,$G$2))","v":""},{"$f":"IF(ISBLANK('Data Input'!A335),\"\",SUM('Data Input'!D335,'Data Input'!E335,'Data Input'!F335,'Data Input'!G335,'Data Input'!H335,'Data Input'!J335,'Data Input'!K335,'Data Input'!O335,'Data Input'!U335,'Data Input'!V335,'Data Input'!W335,'Data Input'!X335,'Data Input'!Z335,'Data Input'!AG335,'Data Input'!AI335,'Data Input'!AJ335,'Data Input'!AK335))","v":""},{"$f":"IF(I331=\"\",\"\",I331/COUNTIF('Data Input'!$C$8:$AZ$8,$I$2))","v":""},{"$f":"IF(ISBLANK('Data Input'!A335),\"\",SUM('Data Input'!AF335,'Data Input'!AV335))","v":""},{"$f":"IF(K331=\"\",\"\",K331/COUNTIF('Data Input'!$C$8:$AZ$8,$K$2))","v":""},{"$f":"IF(ISBLANK('Data Input'!A335),\"\",SUM('Data Input'!C335,'Data Input'!I335,'Data Input'!L335,'Data Input'!M335,'Data Input'!N335,'Data Input'!P335,'Data Input'!S335,'Data Input'!T335,'Data Input'!Y335,'Data Input'!AD335,'Data Input'!AL335,'Data Input'!AM335,'Data Input'!AN335,'Data Input'!AO335,'Data Input'!AP335,'Data Input'!AS335))","v":""},{"$f":"IF(M331=\"\",\"\",M331/COUNTIF('Data Input'!$C$8:$AZ$8,$M$2))","v":""},{"$f":"IF(ISBLANK('Data Input'!A335),\"\",SUM('Data Input'!AY335,'Data Input'!AZ335))","v":""},{"$f":"IF(O331=\"\",\"\",O331/COUNTIF('Data Input'!$C$8:$AZ$8,$O$2))","v":""},{"$f":"IF(ISBLANK('Data Input'!A335),\"\",SUM('Data Input'!AW335))","v":""},{"$f":"IF(Q331=\"\",\"\",Q331/COUNTIF('Data Input'!$C$8:$AZ$8,$Q$2))","v":""},{"$f":"IF(ISBLANK('Data Input'!$A335),\"\",SUM('Data Input'!Q335,'Data Input'!AT335,'Data Input'!AU335))","v":""},{"$f":"IF(S331=\"\",\"\",S331/COUNTIF('Data Input'!$C$8:$AZ$8,$S$2))","v":""},{"$f":"IF(ISBLANK('Data Input'!$A335),\"\",SUM('Data Input'!AX335))","v":""},{"$f":"IF(U331=\"\",\"\",U331/COUNTIF('Data Input'!$C$8:$AZ$8,$U$2))","v":""}]
[{"$f":"IF('Data Input'!A336=0,\"\",'Data Input'!A336)","v":""},{"$f":"IF(ISBLANK('Data Input'!A336),\"\",COUNTIF('Data Input'!C336:AZ336,\"\"))","v":""},{"$f":"IF(ISBLANK('Data Input'!A336),\"\",COUNTIF('Data Input'!C336:AZ336,\"0\"))","v":""},{"$f":"IF(ISBLANK('Data Input'!A336),\"\",SUM(B332,C332))","v":""},{"$f":"IF(ISBLANK('Data Input'!A336),\"\",SUM('Data Input'!C336:AZ336))","v":""},{"$f":"IF(E332=\"\",\"\",E332/(COUNTA('Data Input'!$C$8:$AZ$8)))","v":""},{"$f":"IF(ISBLANK('Data Input'!A336),\"\",SUM('Data Input'!R336,'Data Input'!AA336,'Data Input'!AB336,'Data Input'!AC336,'Data Input'!AE336,'Data Input'!AH336,'Data Input'!AQ336,'Data Input'!AR336))","v":""},{"$f":"IF(G332=\"\",\"\",G332/COUNTIF('Data Input'!$C$8:$AZ$8,$G$2))","v":""},{"$f":"IF(ISBLANK('Data Input'!A336),\"\",SUM('Data Input'!D336,'Data Input'!E336,'Data Input'!F336,'Data Input'!G336,'Data Input'!H336,'Data Input'!J336,'Data Input'!K336,'Data Input'!O336,'Data Input'!U336,'Data Input'!V336,'Data Input'!W336,'Data Input'!X336,'Data Input'!Z336,'Data Input'!AG336,'Data Input'!AI336,'Data Input'!AJ336,'Data Input'!AK336))","v":""},{"$f":"IF(I332=\"\",\"\",I332/COUNTIF('Data Input'!$C$8:$AZ$8,$I$2))","v":""},{"$f":"IF(ISBLANK('Data Input'!A336),\"\",SUM('Data Input'!AF336,'Data Input'!AV336))","v":""},{"$f":"IF(K332=\"\",\"\",K332/COUNTIF('Data Input'!$C$8:$AZ$8,$K$2))","v":""},{"$f":"IF(ISBLANK('Data Input'!A336),\"\",SUM('Data Input'!C336,'Data Input'!I336,'Data Input'!L336,'Data Input'!M336,'Data Input'!N336,'Data Input'!P336,'Data Input'!S336,'Data Input'!T336,'Data Input'!Y336,'Data Input'!AD336,'Data Input'!AL336,'Data Input'!AM336,'Data Input'!AN336,'Data Input'!AO336,'Data Input'!AP336,'Data Input'!AS336))","v":""},{"$f":"IF(M332=\"\",\"\",M332/COUNTIF('Data Input'!$C$8:$AZ$8,$M$2))","v":""},{"$f":"IF(ISBLANK('Data Input'!A336),\"\",SUM('Data Input'!AY336,'Data Input'!AZ336))","v":""},{"$f":"IF(O332=\"\",\"\",O332/COUNTIF('Data Input'!$C$8:$AZ$8,$O$2))","v":""},{"$f":"IF(ISBLANK('Data Input'!A336),\"\",SUM('Data Input'!AW336))","v":""},{"$f":"IF(Q332=\"\",\"\",Q332/COUNTIF('Data Input'!$C$8:$AZ$8,$Q$2))","v":""},{"$f":"IF(ISBLANK('Data Input'!$A336),\"\",SUM('Data Input'!Q336,'Data Input'!AT336,'Data Input'!AU336))","v":""},{"$f":"IF(S332=\"\",\"\",S332/COUNTIF('Data Input'!$C$8:$AZ$8,$S$2))","v":""},{"$f":"IF(ISBLANK('Data Input'!$A336),\"\",SUM('Data Input'!AX336))","v":""},{"$f":"IF(U332=\"\",\"\",U332/COUNTIF('Data Input'!$C$8:$AZ$8,$U$2))","v":""}]
[{"$f":"IF('Data Input'!A337=0,\"\",'Data Input'!A337)","v":""},{"$f":"IF(ISBLANK('Data Input'!A337),\"\",COUNTIF('Data Input'!C337:AZ337,\"\"))","v":""},{"$f":"IF(ISBLANK('Data Input'!A337),\"\",COUNTIF('Data Input'!C337:AZ337,\"0\"))","v":""},{"$f":"IF(ISBLANK('Data Input'!A337),\"\",SUM(B333,C333))","v":""},{"$f":"IF(ISBLANK('Data Input'!A337),\"\",SUM('Data Input'!C337:AZ337))","v":""},{"$f":"IF(E333=\"\",\"\",E333/(COUNTA('Data Input'!$C$8:$AZ$8)))","v":""},{"$f":"IF(ISBLANK('Data Input'!A337),\"\",SUM('Data Input'!R337,'Data Input'!AA337,'Data Input'!AB337,'Data Input'!AC337,'Data Input'!AE337,'Data Input'!AH337,'Data Input'!AQ337,'Data Input'!AR337))","v":""},{"$f":"IF(G333=\"\",\"\",G333/COUNTIF('Data Input'!$C$8:$AZ$8,$G$2))","v":""},{"$f":"IF(ISBLANK('Data Input'!A337),\"\",SUM('Data Input'!D337,'Data Input'!E337,'Data Input'!F337,'Data Input'!G337,'Data Input'!H337,'Data Input'!J337,'Data Input'!K337,'Data Input'!O337,'Data Input'!U337,'Data Input'!V337,'Data Input'!W337,'Data Input'!X337,'Data Input'!Z337,'Data Input'!AG337,'Data Input'!AI337,'Data Input'!AJ337,'Data Input'!AK337))","v":""},{"$f":"IF(I333=\"\",\"\",I333/COUNTIF('Data Input'!$C$8:$AZ$8,$I$2))","v":""},{"$f":"IF(ISBLANK('Data Input'!A337),\"\",SUM('Data Input'!AF337,'Data Input'!AV337))","v":""},{"$f":"IF(K333=\"\",\"\",K333/COUNTIF('Data Input'!$C$8:$AZ$8,$K$2))","v":""},{"$f":"IF(ISBLANK('Data Input'!A337),\"\",SUM('Data Input'!C337,'Data Input'!I337,'Data Input'!L337,'Data Input'!M337,'Data Input'!N337,'Data Input'!P337,'Data Input'!S337,'Data Input'!T337,'Data Input'!Y337,'Data Input'!AD337,'Data Input'!AL337,'Data Input'!AM337,'Data Input'!AN337,'Data Input'!AO337,'Data Input'!AP337,'Data Input'!AS337))","v":""},{"$f":"IF(M333=\"\",\"\",M333/COUNTIF('Data Input'!$C$8:$AZ$8,$M$2))","v":""},{"$f":"IF(ISBLANK('Data Input'!A337),\"\",SUM('Data Input'!AY337,'Data Input'!AZ337))","v":""},{"$f":"IF(O333=\"\",\"\",O333/COUNTIF('Data Input'!$C$8:$AZ$8,$O$2))","v":""},{"$f":"IF(ISBLANK('Data Input'!A337),\"\",SUM('Data Input'!AW337))","v":""},{"$f":"IF(Q333=\"\",\"\",Q333/COUNTIF('Data Input'!$C$8:$AZ$8,$Q$2))","v":""},{"$f":"IF(ISBLANK('Data Input'!$A337),\"\",SUM('Data Input'!Q337,'Data Input'!AT337,'Data Input'!AU337))","v":""},{"$f":"IF(S333=\"\",\"\",S333/COUNTIF('Data Input'!$C$8:$AZ$8,$S$2))","v":""},{"$f":"IF(ISBLANK('Data Input'!$A337),\"\",SUM('Data Input'!AX337))","v":""},{"$f":"IF(U333=\"\",\"\",U333/COUNTIF('Data Input'!$C$8:$AZ$8,$U$2))","v":""}]
[{"$f":"IF('Data Input'!A338=0,\"\",'Data Input'!A338)","v":""},{"$f":"IF(ISBLANK('Data Input'!A338),\"\",COUNTIF('Data Input'!C338:AZ338,\"\"))","v":""},{"$f":"IF(ISBLANK('Data Input'!A338),\"\",COUNTIF('Data Input'!C338:AZ338,\"0\"))","v":""},{"$f":"IF(ISBLANK('Data Input'!A338),\"\",SUM(B334,C334))","v":""},{"$f":"IF(ISBLANK('Data Input'!A338),\"\",SUM('Data Input'!C338:AZ338))","v":""},{"$f":"IF(E334=\"\",\"\",E334/(COUNTA('Data Input'!$C$8:$AZ$8)))","v":""},{"$f":"IF(ISBLANK('Data Input'!A338),\"\",SUM('Data Input'!R338,'Data Input'!AA338,'Data Input'!AB338,'Data Input'!AC338,'Data Input'!AE338,'Data Input'!AH338,'Data Input'!AQ338,'Data Input'!AR338))","v":""},{"$f":"IF(G334=\"\",\"\",G334/COUNTIF('Data Input'!$C$8:$AZ$8,$G$2))","v":""},{"$f":"IF(ISBLANK('Data Input'!A338),\"\",SUM('Data Input'!D338,'Data Input'!E338,'Data Input'!F338,'Data Input'!G338,'Data Input'!H338,'Data Input'!J338,'Data Input'!K338,'Data Input'!O338,'Data Input'!U338,'Data Input'!V338,'Data Input'!W338,'Data Input'!X338,'Data Input'!Z338,'Data Input'!AG338,'Data Input'!AI338,'Data Input'!AJ338,'Data Input'!AK338))","v":""},{"$f":"IF(I334=\"\",\"\",I334/COUNTIF('Data Input'!$C$8:$AZ$8,$I$2))","v":""},{"$f":"IF(ISBLANK('Data Input'!A338),\"\",SUM('Data Input'!AF338,'Data Input'!AV338))","v":""},{"$f":"IF(K334=\"\",\"\",K334/COUNTIF('Data Input'!$C$8:$AZ$8,$K$2))","v":""},{"$f":"IF(ISBLANK('Data Input'!A338),\"\",SUM('Data Input'!C338,'Data Input'!I338,'Data Input'!L338,'Data Input'!M338,'Data Input'!N338,'Data Input'!P338,'Data Input'!S338,'Data Input'!T338,'Data Input'!Y338,'Data Input'!AD338,'Data Input'!AL338,'Data Input'!AM338,'Data Input'!AN338,'Data Input'!AO338,'Data Input'!AP338,'Data Input'!AS338))","v":""},{"$f":"IF(M334=\"\",\"\",M334/COUNTIF('Data Input'!$C$8:$AZ$8,$M$2))","v":""},{"$f":"IF(ISBLANK('Data Input'!A338),\"\",SUM('Data Input'!AY338,'Data Input'!AZ338))","v":""},{"$f":"IF(O334=\"\",\"\",O334/COUNTIF('Data Input'!$C$8:$AZ$8,$O$2))","v":""},{"$f":"IF(ISBLANK('Data Input'!A338),\"\",SUM('Data Input'!AW338))","v":""},{"$f":"IF(Q334=\"\",\"\",Q334/COUNTIF('Data Input'!$C$8:$AZ$8,$Q$2))","v":""},{"$f":"IF(ISBLANK('Data Input'!$A338),\"\",SUM('Data Input'!Q338,'Data Input'!AT338,'Data Input'!AU338))","v":""},{"$f":"IF(S334=\"\",\"\",S334/COUNTIF('Data Input'!$C$8:$AZ$8,$S$2))","v":""},{"$f":"IF(ISBLANK('Data Input'!$A338),\"\",SUM('Data Input'!AX338))","v":""},{"$f":"IF(U334=\"\",\"\",U334/COUNTIF('Data Input'!$C$8:$AZ$8,$U$2))","v":""}]
[{"$f":"IF('Data Input'!A339=0,\"\",'Data Input'!A339)","v":""},{"$f":"IF(ISBLANK('Data Input'!A339),\"\",COUNTIF('Data Input'!C339:AZ339,\"\"))","v":""},{"$f":"IF(ISBLANK('Data Input'!A339),\"\",COUNTIF('Data Input'!C339:AZ339,\"0\"))","v":""},{"$f":"IF(ISBLANK('Data Input'!A339),\"\",SUM(B335,C335))","v":""},{"$f":"IF(ISBLANK('Data Input'!A339),\"\",SUM('Data Input'!C339:AZ339))","v":""},{"$f":"IF(E335=\"\",\"\",E335/(COUNTA('Data Input'!$C$8:$AZ$8)))","v":""},{"$f":"IF(ISBLANK('Data Input'!A339),\"\",SUM('Data Input'!R339,'Data Input'!AA339,'Data Input'!AB339,'Data Input'!AC339,'Data Input'!AE339,'Data Input'!AH339,'Data Input'!AQ339,'Data Input'!AR339))","v":""},{"$f":"IF(G335=\"\",\"\",G335/COUNTIF('Data Input'!$C$8:$AZ$8,$G$2))","v":""},{"$f":"IF(ISBLANK('Data Input'!A339),\"\",SUM('Data Input'!D339,'Data Input'!E339,'Data Input'!F339,'Data Input'!G339,'Data Input'!H339,'Data Input'!J339,'Data Input'!K339,'Data Input'!O339,'Data Input'!U339,'Data Input'!V339,'Data Input'!W339,'Data Input'!X339,'Data Input'!Z339,'Data Input'!AG339,'Data Input'!AI339,'Data Input'!AJ339,'Data Input'!AK339))","v":""},{"$f":"IF(I335=\"\",\"\",I335/COUNTIF('Data Input'!$C$8:$AZ$8,$I$2))","v":""},{"$f":"IF(ISBLANK('Data Input'!A339),\"\",SUM('Data Input'!AF339,'Data Input'!AV339))","v":""},{"$f":"IF(K335=\"\",\"\",K335/COUNTIF('Data Input'!$C$8:$AZ$8,$K$2))","v":""},{"$f":"IF(ISBLANK('Data Input'!A339),\"\",SUM('Data Input'!C339,'Data Input'!I339,'Data Input'!L339,'Data Input'!M339,'Data Input'!N339,'Data Input'!P339,'Data Input'!S339,'Data Input'!T339,'Data Input'!Y339,'Data Input'!AD339,'Data Input'!AL339,'Data Input'!AM339,'Data Input'!AN339,'Data Input'!AO339,'Data Input'!AP339,'Data Input'!AS339))","v":""},{"$f":"IF(M335=\"\",\"\",M335/COUNTIF('Data Input'!$C$8:$AZ$8,$M$2))","v":""},{"$f":"IF(ISBLANK('Data Input'!A339),\"\",SUM('Data Input'!AY339,'Data Input'!AZ339))","v":""},{"$f":"IF(O335=\"\",\"\",O335/COUNTIF('Data Input'!$C$8:$AZ$8,$O$2))","v":""},{"$f":"IF(ISBLANK('Data Input'!A339),\"\",SUM('Data Input'!AW339))","v":""},{"$f":"IF(Q335=\"\",\"\",Q335/COUNTIF('Data Input'!$C$8:$AZ$8,$Q$2))","v":""},{"$f":"IF(ISBLANK('Data Input'!$A339),\"\",SUM('Data Input'!Q339,'Data Input'!AT339,'Data Input'!AU339))","v":""},{"$f":"IF(S335=\"\",\"\",S335/COUNTIF('Data Input'!$C$8:$AZ$8,$S$2))","v":""},{"$f":"IF(ISBLANK('Data Input'!$A339),\"\",SUM('Data Input'!AX339))","v":""},{"$f":"IF(U335=\"\",\"\",U335/COUNTIF('Data Input'!$C$8:$AZ$8,$U$2))","v":""}]
[{"$f":"IF('Data Input'!A340=0,\"\",'Data Input'!A340)","v":""},{"$f":"IF(ISBLANK('Data Input'!A340),\"\",COUNTIF('Data Input'!C340:AZ340,\"\"))","v":""},{"$f":"IF(ISBLANK('Data Input'!A340),\"\",COUNTIF('Data Input'!C340:AZ340,\"0\"))","v":""},{"$f":"IF(ISBLANK('Data Input'!A340),\"\",SUM(B336,C336))","v":""},{"$f":"IF(ISBLANK('Data Input'!A340),\"\",SUM('Data Input'!C340:AZ340))","v":""},{"$f":"IF(E336=\"\",\"\",E336/(COUNTA('Data Input'!$C$8:$AZ$8)))","v":""},{"$f":"IF(ISBLANK('Data Input'!A340),\"\",SUM('Data Input'!R340,'Data Input'!AA340,'Data Input'!AB340,'Data Input'!AC340,'Data Input'!AE340,'Data Input'!AH340,'Data Input'!AQ340,'Data Input'!AR340))","v":""},{"$f":"IF(G336=\"\",\"\",G336/COUNTIF('Data Input'!$C$8:$AZ$8,$G$2))","v":""},{"$f":"IF(ISBLANK('Data Input'!A340),\"\",SUM('Data Input'!D340,'Data Input'!E340,'Data Input'!F340,'Data Input'!G340,'Data Input'!H340,'Data Input'!J340,'Data Input'!K340,'Data Input'!O340,'Data Input'!U340,'Data Input'!V340,'Data Input'!W340,'Data Input'!X340,'Data Input'!Z340,'Data Input'!AG340,'Data Input'!AI340,'Data Input'!AJ340,'Data Input'!AK340))","v":""},{"$f":"IF(I336=\"\",\"\",I336/COUNTIF('Data Input'!$C$8:$AZ$8,$I$2))","v":""},{"$f":"IF(ISBLANK('Data Input'!A340),\"\",SUM('Data Input'!AF340,'Data Input'!AV340))","v":""},{"$f":"IF(K336=\"\",\"\",K336/COUNTIF('Data Input'!$C$8:$AZ$8,$K$2))","v":""},{"$f":"IF(ISBLANK('Data Input'!A340),\"\",SUM('Data Input'!C340,'Data Input'!I340,'Data Input'!L340,'Data Input'!M340,'Data Input'!N340,'Data Input'!P340,'Data Input'!S340,'Data Input'!T340,'Data Input'!Y340,'Data Input'!AD340,'Data Input'!AL340,'Data Input'!AM340,'Data Input'!AN340,'Data Input'!AO340,'Data Input'!AP340,'Data Input'!AS340))","v":""},{"$f":"IF(M336=\"\",\"\",M336/COUNTIF('Data Input'!$C$8:$AZ$8,$M$2))","v":""},{"$f":"IF(ISBLANK('Data Input'!A340),\"\",SUM('Data Input'!AY340,'Data Input'!AZ340))","v":""},{"$f":"IF(O336=\"\",\"\",O336/COUNTIF('Data Input'!$C$8:$AZ$8,$O$2))","v":""},{"$f":"IF(ISBLANK('Data Input'!A340),\"\",SUM('Data Input'!AW340))","v":""},{"$f":"IF(Q336=\"\",\"\",Q336/COUNTIF('Data Input'!$C$8:$AZ$8,$Q$2))","v":""},{"$f":"IF(ISBLANK('Data Input'!$A340),\"\",SUM('Data Input'!Q340,'Data Input'!AT340,'Data Input'!AU340))","v":""},{"$f":"IF(S336=\"\",\"\",S336/COUNTIF('Data Input'!$C$8:$AZ$8,$S$2))","v":""},{"$f":"IF(ISBLANK('Data Input'!$A340),\"\",SUM('Data Input'!AX340))","v":""},{"$f":"IF(U336=\"\",\"\",U336/COUNTIF('Data Input'!$C$8:$AZ$8,$U$2))","v":""}]
[{"$f":"IF('Data Input'!A341=0,\"\",'Data Input'!A341)","v":""},{"$f":"IF(ISBLANK('Data Input'!A341),\"\",COUNTIF('Data Input'!C341:AZ341,\"\"))","v":""},{"$f":"IF(ISBLANK('Data Input'!A341),\"\",COUNTIF('Data Input'!C341:AZ341,\"0\"))","v":""},{"$f":"IF(ISBLANK('Data Input'!A341),\"\",SUM(B337,C337))","v":""},{"$f":"IF(ISBLANK('Data Input'!A341),\"\",SUM('Data Input'!C341:AZ341))","v":""},{"$f":"IF(E337=\"\",\"\",E337/(COUNTA('Data Input'!$C$8:$AZ$8)))","v":""},{"$f":"IF(ISBLANK('Data Input'!A341),\"\",SUM('Data Input'!R341,'Data Input'!AA341,'Data Input'!AB341,'Data Input'!AC341,'Data Input'!AE341,'Data Input'!AH341,'Data Input'!AQ341,'Data Input'!AR341))","v":""},{"$f":"IF(G337=\"\",\"\",G337/COUNTIF('Data Input'!$C$8:$AZ$8,$G$2))","v":""},{"$f":"IF(ISBLANK('Data Input'!A341),\"\",SUM('Data Input'!D341,'Data Input'!E341,'Data Input'!F341,'Data Input'!G341,'Data Input'!H341,'Data Input'!J341,'Data Input'!K341,'Data Input'!O341,'Data Input'!U341,'Data Input'!V341,'Data Input'!W341,'Data Input'!X341,'Data Input'!Z341,'Data Input'!AG341,'Data Input'!AI341,'Data Input'!AJ341,'Data Input'!AK341))","v":""},{"$f":"IF(I337=\"\",\"\",I337/COUNTIF('Data Input'!$C$8:$AZ$8,$I$2))","v":""},{"$f":"IF(ISBLANK('Data Input'!A341),\"\",SUM('Data Input'!AF341,'Data Input'!AV341))","v":""},{"$f":"IF(K337=\"\",\"\",K337/COUNTIF('Data Input'!$C$8:$AZ$8,$K$2))","v":""},{"$f":"IF(ISBLANK('Data Input'!A341),\"\",SUM('Data Input'!C341,'Data Input'!I341,'Data Input'!L341,'Data Input'!M341,'Data Input'!N341,'Data Input'!P341,'Data Input'!S341,'Data Input'!T341,'Data Input'!Y341,'Data Input'!AD341,'Data Input'!AL341,'Data Input'!AM341,'Data Input'!AN341,'Data Input'!AO341,'Data Input'!AP341,'Data Input'!AS341))","v":""},{"$f":"IF(M337=\"\",\"\",M337/COUNTIF('Data Input'!$C$8:$AZ$8,$M$2))","v":""},{"$f":"IF(ISBLANK('Data Input'!A341),\"\",SUM('Data Input'!AY341,'Data Input'!AZ341))","v":""},{"$f":"IF(O337=\"\",\"\",O337/COUNTIF('Data Input'!$C$8:$AZ$8,$O$2))","v":""},{"$f":"IF(ISBLANK('Data Input'!A341),\"\",SUM('Data Input'!AW341))","v":""},{"$f":"IF(Q337=\"\",\"\",Q337/COUNTIF('Data Input'!$C$8:$AZ$8,$Q$2))","v":""},{"$f":"IF(ISBLANK('Data Input'!$A341),\"\",SUM('Data Input'!Q341,'Data Input'!AT341,'Data Input'!AU341))","v":""},{"$f":"IF(S337=\"\",\"\",S337/COUNTIF('Data Input'!$C$8:$AZ$8,$S$2))","v":""},{"$f":"IF(ISBLANK('Data Input'!$A341),\"\",SUM('Data Input'!AX341))","v":""},{"$f":"IF(U337=\"\",\"\",U337/COUNTIF('Data Input'!$C$8:$AZ$8,$U$2))","v":""}]
[{"$f":"IF('Data Input'!A342=0,\"\",'Data Input'!A342)","v":""},{"$f":"IF(ISBLANK('Data Input'!A342),\"\",COUNTIF('Data Input'!C342:AZ342,\"\"))","v":""},{"$f":"IF(ISBLANK('Data Input'!A342),\"\",COUNTIF('Data Input'!C342:AZ342,\"0\"))","v":""},{"$f":"IF(ISBLANK('Data Input'!A342),\"\",SUM(B338,C338))","v":""},{"$f":"IF(ISBLANK('Data Input'!A342),\"\",SUM('Data Input'!C342:AZ342))","v":""},{"$f":"IF(E338=\"\",\"\",E338/(COUNTA('Data Input'!$C$8:$AZ$8)))","v":""},{"$f":"IF(ISBLANK('Data Input'!A342),\"\",SUM('Data Input'!R342,'Data Input'!AA342,'Data Input'!AB342,'Data Input'!AC342,'Data Input'!AE342,'Data Input'!AH342,'Data Input'!AQ342,'Data Input'!AR342))","v":""},{"$f":"IF(G338=\"\",\"\",G338/COUNTIF('Data Input'!$C$8:$AZ$8,$G$2))","v":""},{"$f":"IF(ISBLANK('Data Input'!A342),\"\",SUM('Data Input'!D342,'Data Input'!E342,'Data Input'!F342,'Data Input'!G342,'Data Input'!H342,'Data Input'!J342,'Data Input'!K342,'Data Input'!O342,'Data Input'!U342,'Data Input'!V342,'Data Input'!W342,'Data Input'!X342,'Data Input'!Z342,'Data Input'!AG342,'Data Input'!AI342,'Data Input'!AJ342,'Data Input'!AK342))","v":""},{"$f":"IF(I338=\"\",\"\",I338/COUNTIF('Data Input'!$C$8:$AZ$8,$I$2))","v":""},{"$f":"IF(ISBLANK('Data Input'!A342),\"\",SUM('Data Input'!AF342,'Data Input'!AV342))","v":""},{"$f":"IF(K338=\"\",\"\",K338/COUNTIF('Data Input'!$C$8:$AZ$8,$K$2))","v":""},{"$f":"IF(ISBLANK('Data Input'!A342),\"\",SUM('Data Input'!C342,'Data Input'!I342,'Data Input'!L342,'Data Input'!M342,'Data Input'!N342,'Data Input'!P342,'Data Input'!S342,'Data Input'!T342,'Data Input'!Y342,'Data Input'!AD342,'Data Input'!AL342,'Data Input'!AM342,'Data Input'!AN342,'Data Input'!AO342,'Data Input'!AP342,'Data Input'!AS342))","v":""},{"$f":"IF(M338=\"\",\"\",M338/COUNTIF('Data Input'!$C$8:$AZ$8,$M$2))","v":""},{"$f":"IF(ISBLANK('Data Input'!A342),\"\",SUM('Data Input'!AY342,'Data Input'!AZ342))","v":""},{"$f":"IF(O338=\"\",\"\",O338/COUNTIF('Data Input'!$C$8:$AZ$8,$O$2))","v":""},{"$f":"IF(ISBLANK('Data Input'!A342),\"\",SUM('Data Input'!AW342))","v":""},{"$f":"IF(Q338=\"\",\"\",Q338/COUNTIF('Data Input'!$C$8:$AZ$8,$Q$2))","v":""},{"$f":"IF(ISBLANK('Data Input'!$A342),\"\",SUM('Data Input'!Q342,'Data Input'!AT342,'Data Input'!AU342))","v":""},{"$f":"IF(S338=\"\",\"\",S338/COUNTIF('Data Input'!$C$8:$AZ$8,$S$2))","v":""},{"$f":"IF(ISBLANK('Data Input'!$A342),\"\",SUM('Data Input'!AX342))","v":""},{"$f":"IF(U338=\"\",\"\",U338/COUNTIF('Data Input'!$C$8:$AZ$8,$U$2))","v":""}]
[{"$f":"IF('Data Input'!A343=0,\"\",'Data Input'!A343)","v":""},{"$f":"IF(ISBLANK('Data Input'!A343),\"\",COUNTIF('Data Input'!C343:AZ343,\"\"))","v":""},{"$f":"IF(ISBLANK('Data Input'!A343),\"\",COUNTIF('Data Input'!C343:AZ343,\"0\"))","v":""},{"$f":"IF(ISBLANK('Data Input'!A343),\"\",SUM(B339,C339))","v":""},{"$f":"IF(ISBLANK('Data Input'!A343),\"\",SUM('Data Input'!C343:AZ343))","v":""},{"$f":"IF(E339=\"\",\"\",E339/(COUNTA('Data Input'!$C$8:$AZ$8)))","v":""},{"$f":"IF(ISBLANK('Data Input'!A343),\"\",SUM('Data Input'!R343,'Data Input'!AA343,'Data Input'!AB343,'Data Input'!AC343,'Data Input'!AE343,'Data Input'!AH343,'Data Input'!AQ343,'Data Input'!AR343))","v":""},{"$f":"IF(G339=\"\",\"\",G339/COUNTIF('Data Input'!$C$8:$AZ$8,$G$2))","v":""},{"$f":"IF(ISBLANK('Data Input'!A343),\"\",SUM('Data Input'!D343,'Data Input'!E343,'Data Input'!F343,'Data Input'!G343,'Data Input'!H343,'Data Input'!J343,'Data Input'!K343,'Data Input'!O343,'Data Input'!U343,'Data Input'!V343,'Data Input'!W343,'Data Input'!X343,'Data Input'!Z343,'Data Input'!AG343,'Data Input'!AI343,'Data Input'!AJ343,'Data Input'!AK343))","v":""},{"$f":"IF(I339=\"\",\"\",I339/COUNTIF('Data Input'!$C$8:$AZ$8,$I$2))","v":""},{"$f":"IF(ISBLANK('Data Input'!A343),\"\",SUM('Data Input'!AF343,'Data Input'!AV343))","v":""},{"$f":"IF(K339=\"\",\"\",K339/COUNTIF('Data Input'!$C$8:$AZ$8,$K$2))","v":""},{"$f":"IF(ISBLANK('Data Input'!A343),\"\",SUM('Data Input'!C343,'Data Input'!I343,'Data Input'!L343,'Data Input'!M343,'Data Input'!N343,'Data Input'!P343,'Data Input'!S343,'Data Input'!T343,'Data Input'!Y343,'Data Input'!AD343,'Data Input'!AL343,'Data Input'!AM343,'Data Input'!AN343,'Data Input'!AO343,'Data Input'!AP343,'Data Input'!AS343))","v":""},{"$f":"IF(M339=\"\",\"\",M339/COUNTIF('Data Input'!$C$8:$AZ$8,$M$2))","v":""},{"$f":"IF(ISBLANK('Data Input'!A343),\"\",SUM('Data Input'!AY343,'Data Input'!AZ343))","v":""},{"$f":"IF(O339=\"\",\"\",O339/COUNTIF('Data Input'!$C$8:$AZ$8,$O$2))","v":""},{"$f":"IF(ISBLANK('Data Input'!A343),\"\",SUM('Data Input'!AW343))","v":""},{"$f":"IF(Q339=\"\",\"\",Q339/COUNTIF('Data Input'!$C$8:$AZ$8,$Q$2))","v":""},{"$f":"IF(ISBLANK('Data Input'!$A343),\"\",SUM('Data Input'!Q343,'Data Input'!AT343,'Data Input'!AU343))","v":""},{"$f":"IF(S339=\"\",\"\",S339/COUNTIF('Data Input'!$C$8:$AZ$8,$S$2))","v":""},{"$f":"IF(ISBLANK('Data Input'!$A343),\"\",SUM('Data Input'!AX343))","v":""},{"$f":"IF(U339=\"\",\"\",U339/COUNTIF('Data Input'!$C$8:$AZ$8,$U$2))","v":""}]
[{"$f":"IF('Data Input'!A344=0,\"\",'Data Input'!A344)","v":""},{"$f":"IF(ISBLANK('Data Input'!A344),\"\",COUNTIF('Data Input'!C344:AZ344,\"\"))","v":""},{"$f":"IF(ISBLANK('Data Input'!A344),\"\",COUNTIF('Data Input'!C344:AZ344,\"0\"))","v":""},{"$f":"IF(ISBLANK('Data Input'!A344),\"\",SUM(B340,C340))","v":""},{"$f":"IF(ISBLANK('Data Input'!A344),\"\",SUM('Data Input'!C344:AZ344))","v":""},{"$f":"IF(E340=\"\",\"\",E340/(COUNTA('Data Input'!$C$8:$AZ$8)))","v":""},{"$f":"IF(ISBLANK('Data Input'!A344),\"\",SUM('Data Input'!R344,'Data Input'!AA344,'Data Input'!AB344,'Data Input'!AC344,'Data Input'!AE344,'Data Input'!AH344,'Data Input'!AQ344,'Data Input'!AR344))","v":""},{"$f":"IF(G340=\"\",\"\",G340/COUNTIF('Data Input'!$C$8:$AZ$8,$G$2))","v":""},{"$f":"IF(ISBLANK('Data Input'!A344),\"\",SUM('Data Input'!D344,'Data Input'!E344,'Data Input'!F344,'Data Input'!G344,'Data Input'!H344,'Data Input'!J344,'Data Input'!K344,'Data Input'!O344,'Data Input'!U344,'Data Input'!V344,'Data Input'!W344,'Data Input'!X344,'Data Input'!Z344,'Data Input'!AG344,'Data Input'!AI344,'Data Input'!AJ344,'Data Input'!AK344))","v":""},{"$f":"IF(I340=\"\",\"\",I340/COUNTIF('Data Input'!$C$8:$AZ$8,$I$2))","v":""},{"$f":"IF(ISBLANK('Data Input'!A344),\"\",SUM('Data Input'!AF344,'Data Input'!AV344))","v":""},{"$f":"IF(K340=\"\",\"\",K340/COUNTIF('Data Input'!$C$8:$AZ$8,$K$2))","v":""},{"$f":"IF(ISBLANK('Data Input'!A344),\"\",SUM('Data Input'!C344,'Data Input'!I344,'Data Input'!L344,'Data Input'!M344,'Data Input'!N344,'Data Input'!P344,'Data Input'!S344,'Data Input'!T344,'Data Input'!Y344,'Data Input'!AD344,'Data Input'!AL344,'Data Input'!AM344,'Data Input'!AN344,'Data Input'!AO344,'Data Input'!AP344,'Data Input'!AS344))","v":""},{"$f":"IF(M340=\"\",\"\",M340/COUNTIF('Data Input'!$C$8:$AZ$8,$M$2))","v":""},{"$f":"IF(ISBLANK('Data Input'!A344),\"\",SUM('Data Input'!AY344,'Data Input'!AZ344))","v":""},{"$f":"IF(O340=\"\",\"\",O340/COUNTIF('Data Input'!$C$8:$AZ$8,$O$2))","v":""},{"$f":"IF(ISBLANK('Data Input'!A344),\"\",SUM('Data Input'!AW344))","v":""},{"$f":"IF(Q340=\"\",\"\",Q340/COUNTIF('Data Input'!$C$8:$AZ$8,$Q$2))","v":""},{"$f":"IF(ISBLANK('Data Input'!$A344),\"\",SUM('Data Input'!Q344,'Data Input'!AT344,'Data Input'!AU344))","v":""},{"$f":"IF(S340=\"\",\"\",S340/COUNTIF('Data Input'!$C$8:$AZ$8,$S$2))","v":""},{"$f":"IF(ISBLANK('Data Input'!$A344),\"\",SUM('Data Input'!AX344))","v":""},{"$f":"IF(U340=\"\",\"\",U340/COUNTIF('Data Input'!$C$8:$AZ$8,$U$2))","v":""}]
[{"$f":"IF('Data Input'!A345=0,\"\",'Data Input'!A345)","v":""},{"$f":"IF(ISBLANK('Data Input'!A345),\"\",COUNTIF('Data Input'!C345:AZ345,\"\"))","v":""},{"$f":"IF(ISBLANK('Data Input'!A345),\"\",COUNTIF('Data Input'!C345:AZ345,\"0\"))","v":""},{"$f":"IF(ISBLANK('Data Input'!A345),\"\",SUM(B341,C341))","v":""},{"$f":"IF(ISBLANK('Data Input'!A345),\"\",SUM('Data Input'!C345:AZ345))","v":""},{"$f":"IF(E341=\"\",\"\",E341/(COUNTA('Data Input'!$C$8:$AZ$8)))","v":""},{"$f":"IF(ISBLANK('Data Input'!A345),\"\",SUM('Data Input'!R345,'Data Input'!AA345,'Data Input'!AB345,'Data Input'!AC345,'Data Input'!AE345,'Data Input'!AH345,'Data Input'!AQ345,'Data Input'!AR345))","v":""},{"$f":"IF(G341=\"\",\"\",G341/COUNTIF('Data Input'!$C$8:$AZ$8,$G$2))","v":""},{"$f":"IF(ISBLANK('Data Input'!A345),\"\",SUM('Data Input'!D345,'Data Input'!E345,'Data Input'!F345,'Data Input'!G345,'Data Input'!H345,'Data Input'!J345,'Data Input'!K345,'Data Input'!O345,'Data Input'!U345,'Data Input'!V345,'Data Input'!W345,'Data Input'!X345,'Data Input'!Z345,'Data Input'!AG345,'Data Input'!AI345,'Data Input'!AJ345,'Data Input'!AK345))","v":""},{"$f":"IF(I341=\"\",\"\",I341/COUNTIF('Data Input'!$C$8:$AZ$8,$I$2))","v":""},{"$f":"IF(ISBLANK('Data Input'!A345),\"\",SUM('Data Input'!AF345,'Data Input'!AV345))","v":""},{"$f":"IF(K341=\"\",\"\",K341/COUNTIF('Data Input'!$C$8:$AZ$8,$K$2))","v":""},{"$f":"IF(ISBLANK('Data Input'!A345),\"\",SUM('Data Input'!C345,'Data Input'!I345,'Data Input'!L345,'Data Input'!M345,'Data Input'!N345,'Data Input'!P345,'Data Input'!S345,'Data Input'!T345,'Data Input'!Y345,'Data Input'!AD345,'Data Input'!AL345,'Data Input'!AM345,'Data Input'!AN345,'Data Input'!AO345,'Data Input'!AP345,'Data Input'!AS345))","v":""},{"$f":"IF(M341=\"\",\"\",M341/COUNTIF('Data Input'!$C$8:$AZ$8,$M$2))","v":""},{"$f":"IF(ISBLANK('Data Input'!A345),\"\",SUM('Data Input'!AY345,'Data Input'!AZ345))","v":""},{"$f":"IF(O341=\"\",\"\",O341/COUNTIF('Data Input'!$C$8:$AZ$8,$O$2))","v":""},{"$f":"IF(ISBLANK('Data Input'!A345),\"\",SUM('Data Input'!AW345))","v":""},{"$f":"IF(Q341=\"\",\"\",Q341/COUNTIF('Data Input'!$C$8:$AZ$8,$Q$2))","v":""},{"$f":"IF(ISBLANK('Data Input'!$A345),\"\",SUM('Data Input'!Q345,'Data Input'!AT345,'Data Input'!AU345))","v":""},{"$f":"IF(S341=\"\",\"\",S341/COUNTIF('Data Input'!$C$8:$AZ$8,$S$2))","v":""},{"$f":"IF(ISBLANK('Data Input'!$A345),\"\",SUM('Data Input'!AX345))","v":""},{"$f":"IF(U341=\"\",\"\",U341/COUNTIF('Data Input'!$C$8:$AZ$8,$U$2))","v":""}]
[{"$f":"IF('Data Input'!A346=0,\"\",'Data Input'!A346)","v":""},{"$f":"IF(ISBLANK('Data Input'!A346),\"\",COUNTIF('Data Input'!C346:AZ346,\"\"))","v":""},{"$f":"IF(ISBLANK('Data Input'!A346),\"\",COUNTIF('Data Input'!C346:AZ346,\"0\"))","v":""},{"$f":"IF(ISBLANK('Data Input'!A346),\"\",SUM(B342,C342))","v":""},{"$f":"IF(ISBLANK('Data Input'!A346),\"\",SUM('Data Input'!C346:AZ346))","v":""},{"$f":"IF(E342=\"\",\"\",E342/(COUNTA('Data Input'!$C$8:$AZ$8)))","v":""},{"$f":"IF(ISBLANK('Data Input'!A346),\"\",SUM('Data Input'!R346,'Data Input'!AA346,'Data Input'!AB346,'Data Input'!AC346,'Data Input'!AE346,'Data Input'!AH346,'Data Input'!AQ346,'Data Input'!AR346))","v":""},{"$f":"IF(G342=\"\",\"\",G342/COUNTIF('Data Input'!$C$8:$AZ$8,$G$2))","v":""},{"$f":"IF(ISBLANK('Data Input'!A346),\"\",SUM('Data Input'!D346,'Data Input'!E346,'Data Input'!F346,'Data Input'!G346,'Data Input'!H346,'Data Input'!J346,'Data Input'!K346,'Data Input'!O346,'Data Input'!U346,'Data Input'!V346,'Data Input'!W346,'Data Input'!X346,'Data Input'!Z346,'Data Input'!AG346,'Data Input'!AI346,'Data Input'!AJ346,'Data Input'!AK346))","v":""},{"$f":"IF(I342=\"\",\"\",I342/COUNTIF('Data Input'!$C$8:$AZ$8,$I$2))","v":""},{"$f":"IF(ISBLANK('Data Input'!A346),\"\",SUM('Data Input'!AF346,'Data Input'!AV346))","v":""},{"$f":"IF(K342=\"\",\"\",K342/COUNTIF('Data Input'!$C$8:$AZ$8,$K$2))","v":""},{"$f":"IF(ISBLANK('Data Input'!A346),\"\",SUM('Data Input'!C346,'Data Input'!I346,'Data Input'!L346,'Data Input'!M346,'Data Input'!N346,'Data Input'!P346,'Data Input'!S346,'Data Input'!T346,'Data Input'!Y346,'Data Input'!AD346,'Data Input'!AL346,'Data Input'!AM346,'Data Input'!AN346,'Data Input'!AO346,'Data Input'!AP346,'Data Input'!AS346))","v":""},{"$f":"IF(M342=\"\",\"\",M342/COUNTIF('Data Input'!$C$8:$AZ$8,$M$2))","v":""},{"$f":"IF(ISBLANK('Data Input'!A346),\"\",SUM('Data Input'!AY346,'Data Input'!AZ346))","v":""},{"$f":"IF(O342=\"\",\"\",O342/COUNTIF('Data Input'!$C$8:$AZ$8,$O$2))","v":""},{"$f":"IF(ISBLANK('Data Input'!A346),\"\",SUM('Data Input'!AW346))","v":""},{"$f":"IF(Q342=\"\",\"\",Q342/COUNTIF('Data Input'!$C$8:$AZ$8,$Q$2))","v":""},{"$f":"IF(ISBLANK('Data Input'!$A346),\"\",SUM('Data Input'!Q346,'Data Input'!AT346,'Data Input'!AU346))","v":""},{"$f":"IF(S342=\"\",\"\",S342/COUNTIF('Data Input'!$C$8:$AZ$8,$S$2))","v":""},{"$f":"IF(ISBLANK('Data Input'!$A346),\"\",SUM('Data Input'!AX346))","v":""},{"$f":"IF(U342=\"\",\"\",U342/COUNTIF('Data Input'!$C$8:$AZ$8,$U$2))","v":""}]
[{"$f":"IF('Data Input'!A347=0,\"\",'Data Input'!A347)","v":""},{"$f":"IF(ISBLANK('Data Input'!A347),\"\",COUNTIF('Data Input'!C347:AZ347,\"\"))","v":""},{"$f":"IF(ISBLANK('Data Input'!A347),\"\",COUNTIF('Data Input'!C347:AZ347,\"0\"))","v":""},{"$f":"IF(ISBLANK('Data Input'!A347),\"\",SUM(B343,C343))","v":""},{"$f":"IF(ISBLANK('Data Input'!A347),\"\",SUM('Data Input'!C347:AZ347))","v":""},{"$f":"IF(E343=\"\",\"\",E343/(COUNTA('Data Input'!$C$8:$AZ$8)))","v":""},{"$f":"IF(ISBLANK('Data Input'!A347),\"\",SUM('Data Input'!R347,'Data Input'!AA347,'Data Input'!AB347,'Data Input'!AC347,'Data Input'!AE347,'Data Input'!AH347,'Data Input'!AQ347,'Data Input'!AR347))","v":""},{"$f":"IF(G343=\"\",\"\",G343/COUNTIF('Data Input'!$C$8:$AZ$8,$G$2))","v":""},{"$f":"IF(ISBLANK('Data Input'!A347),\"\",SUM('Data Input'!D347,'Data Input'!E347,'Data Input'!F347,'Data Input'!G347,'Data Input'!H347,'Data Input'!J347,'Data Input'!K347,'Data Input'!O347,'Data Input'!U347,'Data Input'!V347,'Data Input'!W347,'Data Input'!X347,'Data Input'!Z347,'Data Input'!AG347,'Data Input'!AI347,'Data Input'!AJ347,'Data Input'!AK347))","v":""},{"$f":"IF(I343=\"\",\"\",I343/COUNTIF('Data Input'!$C$8:$AZ$8,$I$2))","v":""},{"$f":"IF(ISBLANK('Data Input'!A347),\"\",SUM('Data Input'!AF347,'Data Input'!AV347))","v":""},{"$f":"IF(K343=\"\",\"\",K343/COUNTIF('Data Input'!$C$8:$AZ$8,$K$2))","v":""},{"$f":"IF(ISBLANK('Data Input'!A347),\"\",SUM('Data Input'!C347,'Data Input'!I347,'Data Input'!L347,'Data Input'!M347,'Data Input'!N347,'Data Input'!P347,'Data Input'!S347,'Data Input'!T347,'Data Input'!Y347,'Data Input'!AD347,'Data Input'!AL347,'Data Input'!AM347,'Data Input'!AN347,'Data Input'!AO347,'Data Input'!AP347,'Data Input'!AS347))","v":""},{"$f":"IF(M343=\"\",\"\",M343/COUNTIF('Data Input'!$C$8:$AZ$8,$M$2))","v":""},{"$f":"IF(ISBLANK('Data Input'!A347),\"\",SUM('Data Input'!AY347,'Data Input'!AZ347))","v":""},{"$f":"IF(O343=\"\",\"\",O343/COUNTIF('Data Input'!$C$8:$AZ$8,$O$2))","v":""},{"$f":"IF(ISBLANK('Data Input'!A347),\"\",SUM('Data Input'!AW347))","v":""},{"$f":"IF(Q343=\"\",\"\",Q343/COUNTIF('Data Input'!$C$8:$AZ$8,$Q$2))","v":""},{"$f":"IF(ISBLANK('Data Input'!$A347),\"\",SUM('Data Input'!Q347,'Data Input'!AT347,'Data Input'!AU347))","v":""},{"$f":"IF(S343=\"\",\"\",S343/COUNTIF('Data Input'!$C$8:$AZ$8,$S$2))","v":""},{"$f":"IF(ISBLANK('Data Input'!$A347),\"\",SUM('Data Input'!AX347))","v":""},{"$f":"IF(U343=\"\",\"\",U343/COUNTIF('Data Input'!$C$8:$AZ$8,$U$2))","v":""}]
[{"$f":"IF('Data Input'!A348=0,\"\",'Data Input'!A348)","v":""},{"$f":"IF(ISBLANK('Data Input'!A348),\"\",COUNTIF('Data Input'!C348:AZ348,\"\"))","v":""},{"$f":"IF(ISBLANK('Data Input'!A348),\"\",COUNTIF('Data Input'!C348:AZ348,\"0\"))","v":""},{"$f":"IF(ISBLANK('Data Input'!A348),\"\",SUM(B344,C344))","v":""},{"$f":"IF(ISBLANK('Data Input'!A348),\"\",SUM('Data Input'!C348:AZ348))","v":""},{"$f":"IF(E344=\"\",\"\",E344/(COUNTA('Data Input'!$C$8:$AZ$8)))","v":""},{"$f":"IF(ISBLANK('Data Input'!A348),\"\",SUM('Data Input'!R348,'Data Input'!AA348,'Data Input'!AB348,'Data Input'!AC348,'Data Input'!AE348,'Data Input'!AH348,'Data Input'!AQ348,'Data Input'!AR348))","v":""},{"$f":"IF(G344=\"\",\"\",G344/COUNTIF('Data Input'!$C$8:$AZ$8,$G$2))","v":""},{"$f":"IF(ISBLANK('Data Input'!A348),\"\",SUM('Data Input'!D348,'Data Input'!E348,'Data Input'!F348,'Data Input'!G348,'Data Input'!H348,'Data Input'!J348,'Data Input'!K348,'Data Input'!O348,'Data Input'!U348,'Data Input'!V348,'Data Input'!W348,'Data Input'!X348,'Data Input'!Z348,'Data Input'!AG348,'Data Input'!AI348,'Data Input'!AJ348,'Data Input'!AK348))","v":""},{"$f":"IF(I344=\"\",\"\",I344/COUNTIF('Data Input'!$C$8:$AZ$8,$I$2))","v":""},{"$f":"IF(ISBLANK('Data Input'!A348),\"\",SUM('Data Input'!AF348,'Data Input'!AV348))","v":""},{"$f":"IF(K344=\"\",\"\",K344/COUNTIF('Data Input'!$C$8:$AZ$8,$K$2))","v":""},{"$f":"IF(ISBLANK('Data Input'!A348),\"\",SUM('Data Input'!C348,'Data Input'!I348,'Data Input'!L348,'Data Input'!M348,'Data Input'!N348,'Data Input'!P348,'Data Input'!S348,'Data Input'!T348,'Data Input'!Y348,'Data Input'!AD348,'Data Input'!AL348,'Data Input'!AM348,'Data Input'!AN348,'Data Input'!AO348,'Data Input'!AP348,'Data Input'!AS348))","v":""},{"$f":"IF(M344=\"\",\"\",M344/COUNTIF('Data Input'!$C$8:$AZ$8,$M$2))","v":""},{"$f":"IF(ISBLANK('Data Input'!A348),\"\",SUM('Data Input'!AY348,'Data Input'!AZ348))","v":""},{"$f":"IF(O344=\"\",\"\",O344/COUNTIF('Data Input'!$C$8:$AZ$8,$O$2))","v":""},{"$f":"IF(ISBLANK('Data Input'!A348),\"\",SUM('Data Input'!AW348))","v":""},{"$f":"IF(Q344=\"\",\"\",Q344/COUNTIF('Data Input'!$C$8:$AZ$8,$Q$2))","v":""},{"$f":"IF(ISBLANK('Data Input'!$A348),\"\",SUM('Data Input'!Q348,'Data Input'!AT348,'Data Input'!AU348))","v":""},{"$f":"IF(S344=\"\",\"\",S344/COUNTIF('Data Input'!$C$8:$AZ$8,$S$2))","v":""},{"$f":"IF(ISBLANK('Data Input'!$A348),\"\",SUM('Data Input'!AX348))","v":""},{"$f":"IF(U344=\"\",\"\",U344/COUNTIF('Data Input'!$C$8:$AZ$8,$U$2))","v":""}]
[{"$f":"IF('Data Input'!A349=0,\"\",'Data Input'!A349)","v":""},{"$f":"IF(ISBLANK('Data Input'!A349),\"\",COUNTIF('Data Input'!C349:AZ349,\"\"))","v":""},{"$f":"IF(ISBLANK('Data Input'!A349),\"\",COUNTIF('Data Input'!C349:AZ349,\"0\"))","v":""},{"$f":"IF(ISBLANK('Data Input'!A349),\"\",SUM(B345,C345))","v":""},{"$f":"IF(ISBLANK('Data Input'!A349),\"\",SUM('Data Input'!C349:AZ349))","v":""},{"$f":"IF(E345=\"\",\"\",E345/(COUNTA('Data Input'!$C$8:$AZ$8)))","v":""},{"$f":"IF(ISBLANK('Data Input'!A349),\"\",SUM('Data Input'!R349,'Data Input'!AA349,'Data Input'!AB349,'Data Input'!AC349,'Data Input'!AE349,'Data Input'!AH349,'Data Input'!AQ349,'Data Input'!AR349))","v":""},{"$f":"IF(G345=\"\",\"\",G345/COUNTIF('Data Input'!$C$8:$AZ$8,$G$2))","v":""},{"$f":"IF(ISBLANK('Data Input'!A349),\"\",SUM('Data Input'!D349,'Data Input'!E349,'Data Input'!F349,'Data Input'!G349,'Data Input'!H349,'Data Input'!J349,'Data Input'!K349,'Data Input'!O349,'Data Input'!U349,'Data Input'!V349,'Data Input'!W349,'Data Input'!X349,'Data Input'!Z349,'Data Input'!AG349,'Data Input'!AI349,'Data Input'!AJ349,'Data Input'!AK349))","v":""},{"$f":"IF(I345=\"\",\"\",I345/COUNTIF('Data Input'!$C$8:$AZ$8,$I$2))","v":""},{"$f":"IF(ISBLANK('Data Input'!A349),\"\",SUM('Data Input'!AF349,'Data Input'!AV349))","v":""},{"$f":"IF(K345=\"\",\"\",K345/COUNTIF('Data Input'!$C$8:$AZ$8,$K$2))","v":""},{"$f":"IF(ISBLANK('Data Input'!A349),\"\",SUM('Data Input'!C349,'Data Input'!I349,'Data Input'!L349,'Data Input'!M349,'Data Input'!N349,'Data Input'!P349,'Data Input'!S349,'Data Input'!T349,'Data Input'!Y349,'Data Input'!AD349,'Data Input'!AL349,'Data Input'!AM349,'Data Input'!AN349,'Data Input'!AO349,'Data Input'!AP349,'Data Input'!AS349))","v":""},{"$f":"IF(M345=\"\",\"\",M345/COUNTIF('Data Input'!$C$8:$AZ$8,$M$2))","v":""},{"$f":"IF(ISBLANK('Data Input'!A349),\"\",SUM('Data Input'!AY349,'Data Input'!AZ349))","v":""},{"$f":"IF(O345=\"\",\"\",O345/COUNTIF('Data Input'!$C$8:$AZ$8,$O$2))","v":""},{"$f":"IF(ISBLANK('Data Input'!A349),\"\",SUM('Data Input'!AW349))","v":""},{"$f":"IF(Q345=\"\",\"\",Q345/COUNTIF('Data Input'!$C$8:$AZ$8,$Q$2))","v":""},{"$f":"IF(ISBLANK('Data Input'!$A349),\"\",SUM('Data Input'!Q349,'Data Input'!AT349,'Data Input'!AU349))","v":""},{"$f":"IF(S345=\"\",\"\",S345/COUNTIF('Data Input'!$C$8:$AZ$8,$S$2))","v":""},{"$f":"IF(ISBLANK('Data Input'!$A349),\"\",SUM('Data Input'!AX349))","v":""},{"$f":"IF(U345=\"\",\"\",U345/COUNTIF('Data Input'!$C$8:$AZ$8,$U$2))","v":""}]
[{"$f":"IF('Data Input'!A350=0,\"\",'Data Input'!A350)","v":""},{"$f":"IF(ISBLANK('Data Input'!A350),\"\",COUNTIF('Data Input'!C350:AZ350,\"\"))","v":""},{"$f":"IF(ISBLANK('Data Input'!A350),\"\",COUNTIF('Data Input'!C350:AZ350,\"0\"))","v":""},{"$f":"IF(ISBLANK('Data Input'!A350),\"\",SUM(B346,C346))","v":""},{"$f":"IF(ISBLANK('Data Input'!A350),\"\",SUM('Data Input'!C350:AZ350))","v":""},{"$f":"IF(E346=\"\",\"\",E346/(COUNTA('Data Input'!$C$8:$AZ$8)))","v":""},{"$f":"IF(ISBLANK('Data Input'!A350),\"\",SUM('Data Input'!R350,'Data Input'!AA350,'Data Input'!AB350,'Data Input'!AC350,'Data Input'!AE350,'Data Input'!AH350,'Data Input'!AQ350,'Data Input'!AR350))","v":""},{"$f":"IF(G346=\"\",\"\",G346/COUNTIF('Data Input'!$C$8:$AZ$8,$G$2))","v":""},{"$f":"IF(ISBLANK('Data Input'!A350),\"\",SUM('Data Input'!D350,'Data Input'!E350,'Data Input'!F350,'Data Input'!G350,'Data Input'!H350,'Data Input'!J350,'Data Input'!K350,'Data Input'!O350,'Data Input'!U350,'Data Input'!V350,'Data Input'!W350,'Data Input'!X350,'Data Input'!Z350,'Data Input'!AG350,'Data Input'!AI350,'Data Input'!AJ350,'Data Input'!AK350))","v":""},{"$f":"IF(I346=\"\",\"\",I346/COUNTIF('Data Input'!$C$8:$AZ$8,$I$2))","v":""},{"$f":"IF(ISBLANK('Data Input'!A350),\"\",SUM('Data Input'!AF350,'Data Input'!AV350))","v":""},{"$f":"IF(K346=\"\",\"\",K346/COUNTIF('Data Input'!$C$8:$AZ$8,$K$2))","v":""},{"$f":"IF(ISBLANK('Data Input'!A350),\"\",SUM('Data Input'!C350,'Data Input'!I350,'Data Input'!L350,'Data Input'!M350,'Data Input'!N350,'Data Input'!P350,'Data Input'!S350,'Data Input'!T350,'Data Input'!Y350,'Data Input'!AD350,'Data Input'!AL350,'Data Input'!AM350,'Data Input'!AN350,'Data Input'!AO350,'Data Input'!AP350,'Data Input'!AS350))","v":""},{"$f":"IF(M346=\"\",\"\",M346/COUNTIF('Data Input'!$C$8:$AZ$8,$M$2))","v":""},{"$f":"IF(ISBLANK('Data Input'!A350),\"\",SUM('Data Input'!AY350,'Data Input'!AZ350))","v":""},{"$f":"IF(O346=\"\",\"\",O346/COUNTIF('Data Input'!$C$8:$AZ$8,$O$2))","v":""},{"$f":"IF(ISBLANK('Data Input'!A350),\"\",SUM('Data Input'!AW350))","v":""},{"$f":"IF(Q346=\"\",\"\",Q346/COUNTIF('Data Input'!$C$8:$AZ$8,$Q$2))","v":""},{"$f":"IF(ISBLANK('Data Input'!$A350),\"\",SUM('Data Input'!Q350,'Data Input'!AT350,'Data Input'!AU350))","v":""},{"$f":"IF(S346=\"\",\"\",S346/COUNTIF('Data Input'!$C$8:$AZ$8,$S$2))","v":""},{"$f":"IF(ISBLANK('Data Input'!$A350),\"\",SUM('Data Input'!AX350))","v":""},{"$f":"IF(U346=\"\",\"\",U346/COUNTIF('Data Input'!$C$8:$AZ$8,$U$2))","v":""}]
[{"$f":"IF('Data Input'!A351=0,\"\",'Data Input'!A351)","v":""},{"$f":"IF(ISBLANK('Data Input'!A351),\"\",COUNTIF('Data Input'!C351:AZ351,\"\"))","v":""},{"$f":"IF(ISBLANK('Data Input'!A351),\"\",COUNTIF('Data Input'!C351:AZ351,\"0\"))","v":""},{"$f":"IF(ISBLANK('Data Input'!A351),\"\",SUM(B347,C347))","v":""},{"$f":"IF(ISBLANK('Data Input'!A351),\"\",SUM('Data Input'!C351:AZ351))","v":""},{"$f":"IF(E347=\"\",\"\",E347/(COUNTA('Data Input'!$C$8:$AZ$8)))","v":""},{"$f":"IF(ISBLANK('Data Input'!A351),\"\",SUM('Data Input'!R351,'Data Input'!AA351,'Data Input'!AB351,'Data Input'!AC351,'Data Input'!AE351,'Data Input'!AH351,'Data Input'!AQ351,'Data Input'!AR351))","v":""},{"$f":"IF(G347=\"\",\"\",G347/COUNTIF('Data Input'!$C$8:$AZ$8,$G$2))","v":""},{"$f":"IF(ISBLANK('Data Input'!A351),\"\",SUM('Data Input'!D351,'Data Input'!E351,'Data Input'!F351,'Data Input'!G351,'Data Input'!H351,'Data Input'!J351,'Data Input'!K351,'Data Input'!O351,'Data Input'!U351,'Data Input'!V351,'Data Input'!W351,'Data Input'!X351,'Data Input'!Z351,'Data Input'!AG351,'Data Input'!AI351,'Data Input'!AJ351,'Data Input'!AK351))","v":""},{"$f":"IF(I347=\"\",\"\",I347/COUNTIF('Data Input'!$C$8:$AZ$8,$I$2))","v":""},{"$f":"IF(ISBLANK('Data Input'!A351),\"\",SUM('Data Input'!AF351,'Data Input'!AV351))","v":""},{"$f":"IF(K347=\"\",\"\",K347/COUNTIF('Data Input'!$C$8:$AZ$8,$K$2))","v":""},{"$f":"IF(ISBLANK('Data Input'!A351),\"\",SUM('Data Input'!C351,'Data Input'!I351,'Data Input'!L351,'Data Input'!M351,'Data Input'!N351,'Data Input'!P351,'Data Input'!S351,'Data Input'!T351,'Data Input'!Y351,'Data Input'!AD351,'Data Input'!AL351,'Data Input'!AM351,'Data Input'!AN351,'Data Input'!AO351,'Data Input'!AP351,'Data Input'!AS351))","v":""},{"$f":"IF(M347=\"\",\"\",M347/COUNTIF('Data Input'!$C$8:$AZ$8,$M$2))","v":""},{"$f":"IF(ISBLANK('Data Input'!A351),\"\",SUM('Data Input'!AY351,'Data Input'!AZ351))","v":""},{"$f":"IF(O347=\"\",\"\",O347/COUNTIF('Data Input'!$C$8:$AZ$8,$O$2))","v":""},{"$f":"IF(ISBLANK('Data Input'!A351),\"\",SUM('Data Input'!AW351))","v":""},{"$f":"IF(Q347=\"\",\"\",Q347/COUNTIF('Data Input'!$C$8:$AZ$8,$Q$2))","v":""},{"$f":"IF(ISBLANK('Data Input'!$A351),\"\",SUM('Data Input'!Q351,'Data Input'!AT351,'Data Input'!AU351))","v":""},{"$f":"IF(S347=\"\",\"\",S347/COUNTIF('Data Input'!$C$8:$AZ$8,$S$2))","v":""},{"$f":"IF(ISBLANK('Data Input'!$A351),\"\",SUM('Data Input'!AX351))","v":""},{"$f":"IF(U347=\"\",\"\",U347/COUNTIF('Data Input'!$C$8:$AZ$8,$U$2))","v":""}]
[{"$f":"IF('Data Input'!A352=0,\"\",'Data Input'!A352)","v":""},{"$f":"IF(ISBLANK('Data Input'!A352),\"\",COUNTIF('Data Input'!C352:AZ352,\"\"))","v":""},{"$f":"IF(ISBLANK('Data Input'!A352),\"\",COUNTIF('Data Input'!C352:AZ352,\"0\"))","v":""},{"$f":"IF(ISBLANK('Data Input'!A352),\"\",SUM(B348,C348))","v":""},{"$f":"IF(ISBLANK('Data Input'!A352),\"\",SUM('Data Input'!C352:AZ352))","v":""},{"$f":"IF(E348=\"\",\"\",E348/(COUNTA('Data Input'!$C$8:$AZ$8)))","v":""},{"$f":"IF(ISBLANK('Data Input'!A352),\"\",SUM('Data Input'!R352,'Data Input'!AA352,'Data Input'!AB352,'Data Input'!AC352,'Data Input'!AE352,'Data Input'!AH352,'Data Input'!AQ352,'Data Input'!AR352))","v":""},{"$f":"IF(G348=\"\",\"\",G348/COUNTIF('Data Input'!$C$8:$AZ$8,$G$2))","v":""},{"$f":"IF(ISBLANK('Data Input'!A352),\"\",SUM('Data Input'!D352,'Data Input'!E352,'Data Input'!F352,'Data Input'!G352,'Data Input'!H352,'Data Input'!J352,'Data Input'!K352,'Data Input'!O352,'Data Input'!U352,'Data Input'!V352,'Data Input'!W352,'Data Input'!X352,'Data Input'!Z352,'Data Input'!AG352,'Data Input'!AI352,'Data Input'!AJ352,'Data Input'!AK352))","v":""},{"$f":"IF(I348=\"\",\"\",I348/COUNTIF('Data Input'!$C$8:$AZ$8,$I$2))","v":""},{"$f":"IF(ISBLANK('Data Input'!A352),\"\",SUM('Data Input'!AF352,'Data Input'!AV352))","v":""},{"$f":"IF(K348=\"\",\"\",K348/COUNTIF('Data Input'!$C$8:$AZ$8,$K$2))","v":""},{"$f":"IF(ISBLANK('Data Input'!A352),\"\",SUM('Data Input'!C352,'Data Input'!I352,'Data Input'!L352,'Data Input'!M352,'Data Input'!N352,'Data Input'!P352,'Data Input'!S352,'Data Input'!T352,'Data Input'!Y352,'Data Input'!AD352,'Data Input'!AL352,'Data Input'!AM352,'Data Input'!AN352,'Data Input'!AO352,'Data Input'!AP352,'Data Input'!AS352))","v":""},{"$f":"IF(M348=\"\",\"\",M348/COUNTIF('Data Input'!$C$8:$AZ$8,$M$2))","v":""},{"$f":"IF(ISBLANK('Data Input'!A352),\"\",SUM('Data Input'!AY352,'Data Input'!AZ352))","v":""},{"$f":"IF(O348=\"\",\"\",O348/COUNTIF('Data Input'!$C$8:$AZ$8,$O$2))","v":""},{"$f":"IF(ISBLANK('Data Input'!A352),\"\",SUM('Data Input'!AW352))","v":""},{"$f":"IF(Q348=\"\",\"\",Q348/COUNTIF('Data Input'!$C$8:$AZ$8,$Q$2))","v":""},{"$f":"IF(ISBLANK('Data Input'!$A352),\"\",SUM('Data Input'!Q352,'Data Input'!AT352,'Data Input'!AU352))","v":""},{"$f":"IF(S348=\"\",\"\",S348/COUNTIF('Data Input'!$C$8:$AZ$8,$S$2))","v":""},{"$f":"IF(ISBLANK('Data Input'!$A352),\"\",SUM('Data Input'!AX352))","v":""},{"$f":"IF(U348=\"\",\"\",U348/COUNTIF('Data Input'!$C$8:$AZ$8,$U$2))","v":""}]
[{"$f":"IF('Data Input'!A353=0,\"\",'Data Input'!A353)","v":""},{"$f":"IF(ISBLANK('Data Input'!A353),\"\",COUNTIF('Data Input'!C353:AZ353,\"\"))","v":""},{"$f":"IF(ISBLANK('Data Input'!A353),\"\",COUNTIF('Data Input'!C353:AZ353,\"0\"))","v":""},{"$f":"IF(ISBLANK('Data Input'!A353),\"\",SUM(B349,C349))","v":""},{"$f":"IF(ISBLANK('Data Input'!A353),\"\",SUM('Data Input'!C353:AZ353))","v":""},{"$f":"IF(E349=\"\",\"\",E349/(COUNTA('Data Input'!$C$8:$AZ$8)))","v":""},{"$f":"IF(ISBLANK('Data Input'!A353),\"\",SUM('Data Input'!R353,'Data Input'!AA353,'Data Input'!AB353,'Data Input'!AC353,'Data Input'!AE353,'Data Input'!AH353,'Data Input'!AQ353,'Data Input'!AR353))","v":""},{"$f":"IF(G349=\"\",\"\",G349/COUNTIF('Data Input'!$C$8:$AZ$8,$G$2))","v":""},{"$f":"IF(ISBLANK('Data Input'!A353),\"\",SUM('Data Input'!D353,'Data Input'!E353,'Data Input'!F353,'Data Input'!G353,'Data Input'!H353,'Data Input'!J353,'Data Input'!K353,'Data Input'!O353,'Data Input'!U353,'Data Input'!V353,'Data Input'!W353,'Data Input'!X353,'Data Input'!Z353,'Data Input'!AG353,'Data Input'!AI353,'Data Input'!AJ353,'Data Input'!AK353))","v":""},{"$f":"IF(I349=\"\",\"\",I349/COUNTIF('Data Input'!$C$8:$AZ$8,$I$2))","v":""},{"$f":"IF(ISBLANK('Data Input'!A353),\"\",SUM('Data Input'!AF353,'Data Input'!AV353))","v":""},{"$f":"IF(K349=\"\",\"\",K349/COUNTIF('Data Input'!$C$8:$AZ$8,$K$2))","v":""},{"$f":"IF(ISBLANK('Data Input'!A353),\"\",SUM('Data Input'!C353,'Data Input'!I353,'Data Input'!L353,'Data Input'!M353,'Data Input'!N353,'Data Input'!P353,'Data Input'!S353,'Data Input'!T353,'Data Input'!Y353,'Data Input'!AD353,'Data Input'!AL353,'Data Input'!AM353,'Data Input'!AN353,'Data Input'!AO353,'Data Input'!AP353,'Data Input'!AS353))","v":""},{"$f":"IF(M349=\"\",\"\",M349/COUNTIF('Data Input'!$C$8:$AZ$8,$M$2))","v":""},{"$f":"IF(ISBLANK('Data Input'!A353),\"\",SUM('Data Input'!AY353,'Data Input'!AZ353))","v":""},{"$f":"IF(O349=\"\",\"\",O349/COUNTIF('Data Input'!$C$8:$AZ$8,$O$2))","v":""},{"$f":"IF(ISBLANK('Data Input'!A353),\"\",SUM('Data Input'!AW353))","v":""},{"$f":"IF(Q349=\"\",\"\",Q349/COUNTIF('Data Input'!$C$8:$AZ$8,$Q$2))","v":""},{"$f":"IF(ISBLANK('Data Input'!$A353),\"\",SUM('Data Input'!Q353,'Data Input'!AT353,'Data Input'!AU353))","v":""},{"$f":"IF(S349=\"\",\"\",S349/COUNTIF('Data Input'!$C$8:$AZ$8,$S$2))","v":""},{"$f":"IF(ISBLANK('Data Input'!$A353),\"\",SUM('Data Input'!AX353))","v":""},{"$f":"IF(U349=\"\",\"\",U349/COUNTIF('Data Input'!$C$8:$AZ$8,$U$2))","v":""}]
[{"$f":"IF('Data Input'!A354=0,\"\",'Data Input'!A354)","v":""},{"$f":"IF(ISBLANK('Data Input'!A354),\"\",COUNTIF('Data Input'!C354:AZ354,\"\"))","v":""},{"$f":"IF(ISBLANK('Data Input'!A354),\"\",COUNTIF('Data Input'!C354:AZ354,\"0\"))","v":""},{"$f":"IF(ISBLANK('Data Input'!A354),\"\",SUM(B350,C350))","v":""},{"$f":"IF(ISBLANK('Data Input'!A354),\"\",SUM('Data Input'!C354:AZ354))","v":""},{"$f":"IF(E350=\"\",\"\",E350/(COUNTA('Data Input'!$C$8:$AZ$8)))","v":""},{"$f":"IF(ISBLANK('Data Input'!A354),\"\",SUM('Data Input'!R354,'Data Input'!AA354,'Data Input'!AB354,'Data Input'!AC354,'Data Input'!AE354,'Data Input'!AH354,'Data Input'!AQ354,'Data Input'!AR354))","v":""},{"$f":"IF(G350=\"\",\"\",G350/COUNTIF('Data Input'!$C$8:$AZ$8,$G$2))","v":""},{"$f":"IF(ISBLANK('Data Input'!A354),\"\",SUM('Data Input'!D354,'Data Input'!E354,'Data Input'!F354,'Data Input'!G354,'Data Input'!H354,'Data Input'!J354,'Data Input'!K354,'Data Input'!O354,'Data Input'!U354,'Data Input'!V354,'Data Input'!W354,'Data Input'!X354,'Data Input'!Z354,'Data Input'!AG354,'Data Input'!AI354,'Data Input'!AJ354,'Data Input'!AK354))","v":""},{"$f":"IF(I350=\"\",\"\",I350/COUNTIF('Data Input'!$C$8:$AZ$8,$I$2))","v":""},{"$f":"IF(ISBLANK('Data Input'!A354),\"\",SUM('Data Input'!AF354,'Data Input'!AV354))","v":""},{"$f":"IF(K350=\"\",\"\",K350/COUNTIF('Data Input'!$C$8:$AZ$8,$K$2))","v":""},{"$f":"IF(ISBLANK('Data Input'!A354),\"\",SUM('Data Input'!C354,'Data Input'!I354,'Data Input'!L354,'Data Input'!M354,'Data Input'!N354,'Data Input'!P354,'Data Input'!S354,'Data Input'!T354,'Data Input'!Y354,'Data Input'!AD354,'Data Input'!AL354,'Data Input'!AM354,'Data Input'!AN354,'Data Input'!AO354,'Data Input'!AP354,'Data Input'!AS354))","v":""},{"$f":"IF(M350=\"\",\"\",M350/COUNTIF('Data Input'!$C$8:$AZ$8,$M$2))","v":""},{"$f":"IF(ISBLANK('Data Input'!A354),\"\",SUM('Data Input'!AY354,'Data Input'!AZ354))","v":""},{"$f":"IF(O350=\"\",\"\",O350/COUNTIF('Data Input'!$C$8:$AZ$8,$O$2))","v":""},{"$f":"IF(ISBLANK('Data Input'!A354),\"\",SUM('Data Input'!AW354))","v":""},{"$f":"IF(Q350=\"\",\"\",Q350/COUNTIF('Data Input'!$C$8:$AZ$8,$Q$2))","v":""},{"$f":"IF(ISBLANK('Data Input'!$A354),\"\",SUM('Data Input'!Q354,'Data Input'!AT354,'Data Input'!AU354))","v":""},{"$f":"IF(S350=\"\",\"\",S350/COUNTIF('Data Input'!$C$8:$AZ$8,$S$2))","v":""},{"$f":"IF(ISBLANK('Data Input'!$A354),\"\",SUM('Data Input'!AX354))","v":""},{"$f":"IF(U350=\"\",\"\",U350/COUNTIF('Data Input'!$C$8:$AZ$8,$U$2))","v":""}]
[{"$f":"IF('Data Input'!A355=0,\"\",'Data Input'!A355)","v":""},{"$f":"IF(ISBLANK('Data Input'!A355),\"\",COUNTIF('Data Input'!C355:AZ355,\"\"))","v":""},{"$f":"IF(ISBLANK('Data Input'!A355),\"\",COUNTIF('Data Input'!C355:AZ355,\"0\"))","v":""},{"$f":"IF(ISBLANK('Data Input'!A355),\"\",SUM(B351,C351))","v":""},{"$f":"IF(ISBLANK('Data Input'!A355),\"\",SUM('Data Input'!C355:AZ355))","v":""},{"$f":"IF(E351=\"\",\"\",E351/(COUNTA('Data Input'!$C$8:$AZ$8)))","v":""},{"$f":"IF(ISBLANK('Data Input'!A355),\"\",SUM('Data Input'!R355,'Data Input'!AA355,'Data Input'!AB355,'Data Input'!AC355,'Data Input'!AE355,'Data Input'!AH355,'Data Input'!AQ355,'Data Input'!AR355))","v":""},{"$f":"IF(G351=\"\",\"\",G351/COUNTIF('Data Input'!$C$8:$AZ$8,$G$2))","v":""},{"$f":"IF(ISBLANK('Data Input'!A355),\"\",SUM('Data Input'!D355,'Data Input'!E355,'Data Input'!F355,'Data Input'!G355,'Data Input'!H355,'Data Input'!J355,'Data Input'!K355,'Data Input'!O355,'Data Input'!U355,'Data Input'!V355,'Data Input'!W355,'Data Input'!X355,'Data Input'!Z355,'Data Input'!AG355,'Data Input'!AI355,'Data Input'!AJ355,'Data Input'!AK355))","v":""},{"$f":"IF(I351=\"\",\"\",I351/COUNTIF('Data Input'!$C$8:$AZ$8,$I$2))","v":""},{"$f":"IF(ISBLANK('Data Input'!A355),\"\",SUM('Data Input'!AF355,'Data Input'!AV355))","v":""},{"$f":"IF(K351=\"\",\"\",K351/COUNTIF('Data Input'!$C$8:$AZ$8,$K$2))","v":""},{"$f":"IF(ISBLANK('Data Input'!A355),\"\",SUM('Data Input'!C355,'Data Input'!I355,'Data Input'!L355,'Data Input'!M355,'Data Input'!N355,'Data Input'!P355,'Data Input'!S355,'Data Input'!T355,'Data Input'!Y355,'Data Input'!AD355,'Data Input'!AL355,'Data Input'!AM355,'Data Input'!AN355,'Data Input'!AO355,'Data Input'!AP355,'Data Input'!AS355))","v":""},{"$f":"IF(M351=\"\",\"\",M351/COUNTIF('Data Input'!$C$8:$AZ$8,$M$2))","v":""},{"$f":"IF(ISBLANK('Data Input'!A355),\"\",SUM('Data Input'!AY355,'Data Input'!AZ355))","v":""},{"$f":"IF(O351=\"\",\"\",O351/COUNTIF('Data Input'!$C$8:$AZ$8,$O$2))","v":""},{"$f":"IF(ISBLANK('Data Input'!A355),\"\",SUM('Data Input'!AW355))","v":""},{"$f":"IF(Q351=\"\",\"\",Q351/COUNTIF('Data Input'!$C$8:$AZ$8,$Q$2))","v":""},{"$f":"IF(ISBLANK('Data Input'!$A355),\"\",SUM('Data Input'!Q355,'Data Input'!AT355,'Data Input'!AU355))","v":""},{"$f":"IF(S351=\"\",\"\",S351/COUNTIF('Data Input'!$C$8:$AZ$8,$S$2))","v":""},{"$f":"IF(ISBLANK('Data Input'!$A355),\"\",SUM('Data Input'!AX355))","v":""},{"$f":"IF(U351=\"\",\"\",U351/COUNTIF('Data Input'!$C$8:$AZ$8,$U$2))","v":""}]
[{"$f":"IF('Data Input'!A356=0,\"\",'Data Input'!A356)","v":""},{"$f":"IF(ISBLANK('Data Input'!A356),\"\",COUNTIF('Data Input'!C356:AZ356,\"\"))","v":""},{"$f":"IF(ISBLANK('Data Input'!A356),\"\",COUNTIF('Data Input'!C356:AZ356,\"0\"))","v":""},{"$f":"IF(ISBLANK('Data Input'!A356),\"\",SUM(B352,C352))","v":""},{"$f":"IF(ISBLANK('Data Input'!A356),\"\",SUM('Data Input'!C356:AZ356))","v":""},{"$f":"IF(E352=\"\",\"\",E352/(COUNTA('Data Input'!$C$8:$AZ$8)))","v":""},{"$f":"IF(ISBLANK('Data Input'!A356),\"\",SUM('Data Input'!R356,'Data Input'!AA356,'Data Input'!AB356,'Data Input'!AC356,'Data Input'!AE356,'Data Input'!AH356,'Data Input'!AQ356,'Data Input'!AR356))","v":""},{"$f":"IF(G352=\"\",\"\",G352/COUNTIF('Data Input'!$C$8:$AZ$8,$G$2))","v":""},{"$f":"IF(ISBLANK('Data Input'!A356),\"\",SUM('Data Input'!D356,'Data Input'!E356,'Data Input'!F356,'Data Input'!G356,'Data Input'!H356,'Data Input'!J356,'Data Input'!K356,'Data Input'!O356,'Data Input'!U356,'Data Input'!V356,'Data Input'!W356,'Data Input'!X356,'Data Input'!Z356,'Data Input'!AG356,'Data Input'!AI356,'Data Input'!AJ356,'Data Input'!AK356))","v":""},{"$f":"IF(I352=\"\",\"\",I352/COUNTIF('Data Input'!$C$8:$AZ$8,$I$2))","v":""},{"$f":"IF(ISBLANK('Data Input'!A356),\"\",SUM('Data Input'!AF356,'Data Input'!AV356))","v":""},{"$f":"IF(K352=\"\",\"\",K352/COUNTIF('Data Input'!$C$8:$AZ$8,$K$2))","v":""},{"$f":"IF(ISBLANK('Data Input'!A356),\"\",SUM('Data Input'!C356,'Data Input'!I356,'Data Input'!L356,'Data Input'!M356,'Data Input'!N356,'Data Input'!P356,'Data Input'!S356,'Data Input'!T356,'Data Input'!Y356,'Data Input'!AD356,'Data Input'!AL356,'Data Input'!AM356,'Data Input'!AN356,'Data Input'!AO356,'Data Input'!AP356,'Data Input'!AS356))","v":""},{"$f":"IF(M352=\"\",\"\",M352/COUNTIF('Data Input'!$C$8:$AZ$8,$M$2))","v":""},{"$f":"IF(ISBLANK('Data Input'!A356),\"\",SUM('Data Input'!AY356,'Data Input'!AZ356))","v":""},{"$f":"IF(O352=\"\",\"\",O352/COUNTIF('Data Input'!$C$8:$AZ$8,$O$2))","v":""},{"$f":"IF(ISBLANK('Data Input'!A356),\"\",SUM('Data Input'!AW356))","v":""},{"$f":"IF(Q352=\"\",\"\",Q352/COUNTIF('Data Input'!$C$8:$AZ$8,$Q$2))","v":""},{"$f":"IF(ISBLANK('Data Input'!$A356),\"\",SUM('Data Input'!Q356,'Data Input'!AT356,'Data Input'!AU356))","v":""},{"$f":"IF(S352=\"\",\"\",S352/COUNTIF('Data Input'!$C$8:$AZ$8,$S$2))","v":""},{"$f":"IF(ISBLANK('Data Input'!$A356),\"\",SUM('Data Input'!AX356))","v":""},{"$f":"IF(U352=\"\",\"\",U352/COUNTIF('Data Input'!$C$8:$AZ$8,$U$2))","v":""}]
[{"$f":"IF('Data Input'!A357=0,\"\",'Data Input'!A357)","v":""},{"$f":"IF(ISBLANK('Data Input'!A357),\"\",COUNTIF('Data Input'!C357:AZ357,\"\"))","v":""},{"$f":"IF(ISBLANK('Data Input'!A357),\"\",COUNTIF('Data Input'!C357:AZ357,\"0\"))","v":""},{"$f":"IF(ISBLANK('Data Input'!A357),\"\",SUM(B353,C353))","v":""},{"$f":"IF(ISBLANK('Data Input'!A357),\"\",SUM('Data Input'!C357:AZ357))","v":""},{"$f":"IF(E353=\"\",\"\",E353/(COUNTA('Data Input'!$C$8:$AZ$8)))","v":""},{"$f":"IF(ISBLANK('Data Input'!A357),\"\",SUM('Data Input'!R357,'Data Input'!AA357,'Data Input'!AB357,'Data Input'!AC357,'Data Input'!AE357,'Data Input'!AH357,'Data Input'!AQ357,'Data Input'!AR357))","v":""},{"$f":"IF(G353=\"\",\"\",G353/COUNTIF('Data Input'!$C$8:$AZ$8,$G$2))","v":""},{"$f":"IF(ISBLANK('Data Input'!A357),\"\",SUM('Data Input'!D357,'Data Input'!E357,'Data Input'!F357,'Data Input'!G357,'Data Input'!H357,'Data Input'!J357,'Data Input'!K357,'Data Input'!O357,'Data Input'!U357,'Data Input'!V357,'Data Input'!W357,'Data Input'!X357,'Data Input'!Z357,'Data Input'!AG357,'Data Input'!AI357,'Data Input'!AJ357,'Data Input'!AK357))","v":""},{"$f":"IF(I353=\"\",\"\",I353/COUNTIF('Data Input'!$C$8:$AZ$8,$I$2))","v":""},{"$f":"IF(ISBLANK('Data Input'!A357),\"\",SUM('Data Input'!AF357,'Data Input'!AV357))","v":""},{"$f":"IF(K353=\"\",\"\",K353/COUNTIF('Data Input'!$C$8:$AZ$8,$K$2))","v":""},{"$f":"IF(ISBLANK('Data Input'!A357),\"\",SUM('Data Input'!C357,'Data Input'!I357,'Data Input'!L357,'Data Input'!M357,'Data Input'!N357,'Data Input'!P357,'Data Input'!S357,'Data Input'!T357,'Data Input'!Y357,'Data Input'!AD357,'Data Input'!AL357,'Data Input'!AM357,'Data Input'!AN357,'Data Input'!AO357,'Data Input'!AP357,'Data Input'!AS357))","v":""},{"$f":"IF(M353=\"\",\"\",M353/COUNTIF('Data Input'!$C$8:$AZ$8,$M$2))","v":""},{"$f":"IF(ISBLANK('Data Input'!A357),\"\",SUM('Data Input'!AY357,'Data Input'!AZ357))","v":""},{"$f":"IF(O353=\"\",\"\",O353/COUNTIF('Data Input'!$C$8:$AZ$8,$O$2))","v":""},{"$f":"IF(ISBLANK('Data Input'!A357),\"\",SUM('Data Input'!AW357))","v":""},{"$f":"IF(Q353=\"\",\"\",Q353/COUNTIF('Data Input'!$C$8:$AZ$8,$Q$2))","v":""},{"$f":"IF(ISBLANK('Data Input'!$A357),\"\",SUM('Data Input'!Q357,'Data Input'!AT357,'Data Input'!AU357))","v":""},{"$f":"IF(S353=\"\",\"\",S353/COUNTIF('Data Input'!$C$8:$AZ$8,$S$2))","v":""},{"$f":"IF(ISBLANK('Data Input'!$A357),\"\",SUM('Data Input'!AX357))","v":""},{"$f":"IF(U353=\"\",\"\",U353/COUNTIF('Data Input'!$C$8:$AZ$8,$U$2))","v":""}]
[{"$f":"IF('Data Input'!A358=0,\"\",'Data Input'!A358)","v":""},{"$f":"IF(ISBLANK('Data Input'!A358),\"\",COUNTIF('Data Input'!C358:AZ358,\"\"))","v":""},{"$f":"IF(ISBLANK('Data Input'!A358),\"\",COUNTIF('Data Input'!C358:AZ358,\"0\"))","v":""},{"$f":"IF(ISBLANK('Data Input'!A358),\"\",SUM(B354,C354))","v":""},{"$f":"IF(ISBLANK('Data Input'!A358),\"\",SUM('Data Input'!C358:AZ358))","v":""},{"$f":"IF(E354=\"\",\"\",E354/(COUNTA('Data Input'!$C$8:$AZ$8)))","v":""},{"$f":"IF(ISBLANK('Data Input'!A358),\"\",SUM('Data Input'!R358,'Data Input'!AA358,'Data Input'!AB358,'Data Input'!AC358,'Data Input'!AE358,'Data Input'!AH358,'Data Input'!AQ358,'Data Input'!AR358))","v":""},{"$f":"IF(G354=\"\",\"\",G354/COUNTIF('Data Input'!$C$8:$AZ$8,$G$2))","v":""},{"$f":"IF(ISBLANK('Data Input'!A358),\"\",SUM('Data Input'!D358,'Data Input'!E358,'Data Input'!F358,'Data Input'!G358,'Data Input'!H358,'Data Input'!J358,'Data Input'!K358,'Data Input'!O358,'Data Input'!U358,'Data Input'!V358,'Data Input'!W358,'Data Input'!X358,'Data Input'!Z358,'Data Input'!AG358,'Data Input'!AI358,'Data Input'!AJ358,'Data Input'!AK358))","v":""},{"$f":"IF(I354=\"\",\"\",I354/COUNTIF('Data Input'!$C$8:$AZ$8,$I$2))","v":""},{"$f":"IF(ISBLANK('Data Input'!A358),\"\",SUM('Data Input'!AF358,'Data Input'!AV358))","v":""},{"$f":"IF(K354=\"\",\"\",K354/COUNTIF('Data Input'!$C$8:$AZ$8,$K$2))","v":""},{"$f":"IF(ISBLANK('Data Input'!A358),\"\",SUM('Data Input'!C358,'Data Input'!I358,'Data Input'!L358,'Data Input'!M358,'Data Input'!N358,'Data Input'!P358,'Data Input'!S358,'Data Input'!T358,'Data Input'!Y358,'Data Input'!AD358,'Data Input'!AL358,'Data Input'!AM358,'Data Input'!AN358,'Data Input'!AO358,'Data Input'!AP358,'Data Input'!AS358))","v":""},{"$f":"IF(M354=\"\",\"\",M354/COUNTIF('Data Input'!$C$8:$AZ$8,$M$2))","v":""},{"$f":"IF(ISBLANK('Data Input'!A358),\"\",SUM('Data Input'!AY358,'Data Input'!AZ358))","v":""},{"$f":"IF(O354=\"\",\"\",O354/COUNTIF('Data Input'!$C$8:$AZ$8,$O$2))","v":""},{"$f":"IF(ISBLANK('Data Input'!A358),\"\",SUM('Data Input'!AW358))","v":""},{"$f":"IF(Q354=\"\",\"\",Q354/COUNTIF('Data Input'!$C$8:$AZ$8,$Q$2))","v":""},{"$f":"IF(ISBLANK('Data Input'!$A358),\"\",SUM('Data Input'!Q358,'Data Input'!AT358,'Data Input'!AU358))","v":""},{"$f":"IF(S354=\"\",\"\",S354/COUNTIF('Data Input'!$C$8:$AZ$8,$S$2))","v":""},{"$f":"IF(ISBLANK('Data Input'!$A358),\"\",SUM('Data Input'!AX358))","v":""},{"$f":"IF(U354=\"\",\"\",U354/COUNTIF('Data Input'!$C$8:$AZ$8,$U$2))","v":""}]
[{"$f":"IF('Data Input'!A359=0,\"\",'Data Input'!A359)","v":""},{"$f":"IF(ISBLANK('Data Input'!A359),\"\",COUNTIF('Data Input'!C359:AZ359,\"\"))","v":""},{"$f":"IF(ISBLANK('Data Input'!A359),\"\",COUNTIF('Data Input'!C359:AZ359,\"0\"))","v":""},{"$f":"IF(ISBLANK('Data Input'!A359),\"\",SUM(B355,C355))","v":""},{"$f":"IF(ISBLANK('Data Input'!A359),\"\",SUM('Data Input'!C359:AZ359))","v":""},{"$f":"IF(E355=\"\",\"\",E355/(COUNTA('Data Input'!$C$8:$AZ$8)))","v":""},{"$f":"IF(ISBLANK('Data Input'!A359),\"\",SUM('Data Input'!R359,'Data Input'!AA359,'Data Input'!AB359,'Data Input'!AC359,'Data Input'!AE359,'Data Input'!AH359,'Data Input'!AQ359,'Data Input'!AR359))","v":""},{"$f":"IF(G355=\"\",\"\",G355/COUNTIF('Data Input'!$C$8:$AZ$8,$G$2))","v":""},{"$f":"IF(ISBLANK('Data Input'!A359),\"\",SUM('Data Input'!D359,'Data Input'!E359,'Data Input'!F359,'Data Input'!G359,'Data Input'!H359,'Data Input'!J359,'Data Input'!K359,'Data Input'!O359,'Data Input'!U359,'Data Input'!V359,'Data Input'!W359,'Data Input'!X359,'Data Input'!Z359,'Data Input'!AG359,'Data Input'!AI359,'Data Input'!AJ359,'Data Input'!AK359))","v":""},{"$f":"IF(I355=\"\",\"\",I355/COUNTIF('Data Input'!$C$8:$AZ$8,$I$2))","v":""},{"$f":"IF(ISBLANK('Data Input'!A359),\"\",SUM('Data Input'!AF359,'Data Input'!AV359))","v":""},{"$f":"IF(K355=\"\",\"\",K355/COUNTIF('Data Input'!$C$8:$AZ$8,$K$2))","v":""},{"$f":"IF(ISBLANK('Data Input'!A359),\"\",SUM('Data Input'!C359,'Data Input'!I359,'Data Input'!L359,'Data Input'!M359,'Data Input'!N359,'Data Input'!P359,'Data Input'!S359,'Data Input'!T359,'Data Input'!Y359,'Data Input'!AD359,'Data Input'!AL359,'Data Input'!AM359,'Data Input'!AN359,'Data Input'!AO359,'Data Input'!AP359,'Data Input'!AS359))","v":""},{"$f":"IF(M355=\"\",\"\",M355/COUNTIF('Data Input'!$C$8:$AZ$8,$M$2))","v":""},{"$f":"IF(ISBLANK('Data Input'!A359),\"\",SUM('Data Input'!AY359,'Data Input'!AZ359))","v":""},{"$f":"IF(O355=\"\",\"\",O355/COUNTIF('Data Input'!$C$8:$AZ$8,$O$2))","v":""},{"$f":"IF(ISBLANK('Data Input'!A359),\"\",SUM('Data Input'!AW359))","v":""},{"$f":"IF(Q355=\"\",\"\",Q355/COUNTIF('Data Input'!$C$8:$AZ$8,$Q$2))","v":""},{"$f":"IF(ISBLANK('Data Input'!$A359),\"\",SUM('Data Input'!Q359,'Data Input'!AT359,'Data Input'!AU359))","v":""},{"$f":"IF(S355=\"\",\"\",S355/COUNTIF('Data Input'!$C$8:$AZ$8,$S$2))","v":""},{"$f":"IF(ISBLANK('Data Input'!$A359),\"\",SUM('Data Input'!AX359))","v":""},{"$f":"IF(U355=\"\",\"\",U355/COUNTIF('Data Input'!$C$8:$AZ$8,$U$2))","v":""}]
[{"$f":"IF('Data Input'!A360=0,\"\",'Data Input'!A360)","v":""},{"$f":"IF(ISBLANK('Data Input'!A360),\"\",COUNTIF('Data Input'!C360:AZ360,\"\"))","v":""},{"$f":"IF(ISBLANK('Data Input'!A360),\"\",COUNTIF('Data Input'!C360:AZ360,\"0\"))","v":""},{"$f":"IF(ISBLANK('Data Input'!A360),\"\",SUM(B356,C356))","v":""},{"$f":"IF(ISBLANK('Data Input'!A360),\"\",SUM('Data Input'!C360:AZ360))","v":""},{"$f":"IF(E356=\"\",\"\",E356/(COUNTA('Data Input'!$C$8:$AZ$8)))","v":""},{"$f":"IF(ISBLANK('Data Input'!A360),\"\",SUM('Data Input'!R360,'Data Input'!AA360,'Data Input'!AB360,'Data Input'!AC360,'Data Input'!AE360,'Data Input'!AH360,'Data Input'!AQ360,'Data Input'!AR360))","v":""},{"$f":"IF(G356=\"\",\"\",G356/COUNTIF('Data Input'!$C$8:$AZ$8,$G$2))","v":""},{"$f":"IF(ISBLANK('Data Input'!A360),\"\",SUM('Data Input'!D360,'Data Input'!E360,'Data Input'!F360,'Data Input'!G360,'Data Input'!H360,'Data Input'!J360,'Data Input'!K360,'Data Input'!O360,'Data Input'!U360,'Data Input'!V360,'Data Input'!W360,'Data Input'!X360,'Data Input'!Z360,'Data Input'!AG360,'Data Input'!AI360,'Data Input'!AJ360,'Data Input'!AK360))","v":""},{"$f":"IF(I356=\"\",\"\",I356/COUNTIF('Data Input'!$C$8:$AZ$8,$I$2))","v":""},{"$f":"IF(ISBLANK('Data Input'!A360),\"\",SUM('Data Input'!AF360,'Data Input'!AV360))","v":""},{"$f":"IF(K356=\"\",\"\",K356/COUNTIF('Data Input'!$C$8:$AZ$8,$K$2))","v":""},{"$f":"IF(ISBLANK('Data Input'!A360),\"\",SUM('Data Input'!C360,'Data Input'!I360,'Data Input'!L360,'Data Input'!M360,'Data Input'!N360,'Data Input'!P360,'Data Input'!S360,'Data Input'!T360,'Data Input'!Y360,'Data Input'!AD360,'Data Input'!AL360,'Data Input'!AM360,'Data Input'!AN360,'Data Input'!AO360,'Data Input'!AP360,'Data Input'!AS360))","v":""},{"$f":"IF(M356=\"\",\"\",M356/COUNTIF('Data Input'!$C$8:$AZ$8,$M$2))","v":""},{"$f":"IF(ISBLANK('Data Input'!A360),\"\",SUM('Data Input'!AY360,'Data Input'!AZ360))","v":""},{"$f":"IF(O356=\"\",\"\",O356/COUNTIF('Data Input'!$C$8:$AZ$8,$O$2))","v":""},{"$f":"IF(ISBLANK('Data Input'!A360),\"\",SUM('Data Input'!AW360))","v":""},{"$f":"IF(Q356=\"\",\"\",Q356/COUNTIF('Data Input'!$C$8:$AZ$8,$Q$2))","v":""},{"$f":"IF(ISBLANK('Data Input'!$A360),\"\",SUM('Data Input'!Q360,'Data Input'!AT360,'Data Input'!AU360))","v":""},{"$f":"IF(S356=\"\",\"\",S356/COUNTIF('Data Input'!$C$8:$AZ$8,$S$2))","v":""},{"$f":"IF(ISBLANK('Data Input'!$A360),\"\",SUM('Data Input'!AX360))","v":""},{"$f":"IF(U356=\"\",\"\",U356/COUNTIF('Data Input'!$C$8:$AZ$8,$U$2))","v":""}]
[{"$f":"IF('Data Input'!A361=0,\"\",'Data Input'!A361)","v":""},{"$f":"IF(ISBLANK('Data Input'!A361),\"\",COUNTIF('Data Input'!C361:AZ361,\"\"))","v":""},{"$f":"IF(ISBLANK('Data Input'!A361),\"\",COUNTIF('Data Input'!C361:AZ361,\"0\"))","v":""},{"$f":"IF(ISBLANK('Data Input'!A361),\"\",SUM(B357,C357))","v":""},{"$f":"IF(ISBLANK('Data Input'!A361),\"\",SUM('Data Input'!C361:AZ361))","v":""},{"$f":"IF(E357=\"\",\"\",E357/(COUNTA('Data Input'!$C$8:$AZ$8)))","v":""},{"$f":"IF(ISBLANK('Data Input'!A361),\"\",SUM('Data Input'!R361,'Data Input'!AA361,'Data Input'!AB361,'Data Input'!AC361,'Data Input'!AE361,'Data Input'!AH361,'Data Input'!AQ361,'Data Input'!AR361))","v":""},{"$f":"IF(G357=\"\",\"\",G357/COUNTIF('Data Input'!$C$8:$AZ$8,$G$2))","v":""},{"$f":"IF(ISBLANK('Data Input'!A361),\"\",SUM('Data Input'!D361,'Data Input'!E361,'Data Input'!F361,'Data Input'!G361,'Data Input'!H361,'Data Input'!J361,'Data Input'!K361,'Data Input'!O361,'Data Input'!U361,'Data Input'!V361,'Data Input'!W361,'Data Input'!X361,'Data Input'!Z361,'Data Input'!AG361,'Data Input'!AI361,'Data Input'!AJ361,'Data Input'!AK361))","v":""},{"$f":"IF(I357=\"\",\"\",I357/COUNTIF('Data Input'!$C$8:$AZ$8,$I$2))","v":""},{"$f":"IF(ISBLANK('Data Input'!A361),\"\",SUM('Data Input'!AF361,'Data Input'!AV361))","v":""},{"$f":"IF(K357=\"\",\"\",K357/COUNTIF('Data Input'!$C$8:$AZ$8,$K$2))","v":""},{"$f":"IF(ISBLANK('Data Input'!A361),\"\",SUM('Data Input'!C361,'Data Input'!I361,'Data Input'!L361,'Data Input'!M361,'Data Input'!N361,'Data Input'!P361,'Data Input'!S361,'Data Input'!T361,'Data Input'!Y361,'Data Input'!AD361,'Data Input'!AL361,'Data Input'!AM361,'Data Input'!AN361,'Data Input'!AO361,'Data Input'!AP361,'Data Input'!AS361))","v":""},{"$f":"IF(M357=\"\",\"\",M357/COUNTIF('Data Input'!$C$8:$AZ$8,$M$2))","v":""},{"$f":"IF(ISBLANK('Data Input'!A361),\"\",SUM('Data Input'!AY361,'Data Input'!AZ361))","v":""},{"$f":"IF(O357=\"\",\"\",O357/COUNTIF('Data Input'!$C$8:$AZ$8,$O$2))","v":""},{"$f":"IF(ISBLANK('Data Input'!A361),\"\",SUM('Data Input'!AW361))","v":""},{"$f":"IF(Q357=\"\",\"\",Q357/COUNTIF('Data Input'!$C$8:$AZ$8,$Q$2))","v":""},{"$f":"IF(ISBLANK('Data Input'!$A361),\"\",SUM('Data Input'!Q361,'Data Input'!AT361,'Data Input'!AU361))","v":""},{"$f":"IF(S357=\"\",\"\",S357/COUNTIF('Data Input'!$C$8:$AZ$8,$S$2))","v":""},{"$f":"IF(ISBLANK('Data Input'!$A361),\"\",SUM('Data Input'!AX361))","v":""},{"$f":"IF(U357=\"\",\"\",U357/COUNTIF('Data Input'!$C$8:$AZ$8,$U$2))","v":""}]
[{"$f":"IF('Data Input'!A362=0,\"\",'Data Input'!A362)","v":""},{"$f":"IF(ISBLANK('Data Input'!A362),\"\",COUNTIF('Data Input'!C362:AZ362,\"\"))","v":""},{"$f":"IF(ISBLANK('Data Input'!A362),\"\",COUNTIF('Data Input'!C362:AZ362,\"0\"))","v":""},{"$f":"IF(ISBLANK('Data Input'!A362),\"\",SUM(B358,C358))","v":""},{"$f":"IF(ISBLANK('Data Input'!A362),\"\",SUM('Data Input'!C362:AZ362))","v":""},{"$f":"IF(E358=\"\",\"\",E358/(COUNTA('Data Input'!$C$8:$AZ$8)))","v":""},{"$f":"IF(ISBLANK('Data Input'!A362),\"\",SUM('Data Input'!R362,'Data Input'!AA362,'Data Input'!AB362,'Data Input'!AC362,'Data Input'!AE362,'Data Input'!AH362,'Data Input'!AQ362,'Data Input'!AR362))","v":""},{"$f":"IF(G358=\"\",\"\",G358/COUNTIF('Data Input'!$C$8:$AZ$8,$G$2))","v":""},{"$f":"IF(ISBLANK('Data Input'!A362),\"\",SUM('Data Input'!D362,'Data Input'!E362,'Data Input'!F362,'Data Input'!G362,'Data Input'!H362,'Data Input'!J362,'Data Input'!K362,'Data Input'!O362,'Data Input'!U362,'Data Input'!V362,'Data Input'!W362,'Data Input'!X362,'Data Input'!Z362,'Data Input'!AG362,'Data Input'!AI362,'Data Input'!AJ362,'Data Input'!AK362))","v":""},{"$f":"IF(I358=\"\",\"\",I358/COUNTIF('Data Input'!$C$8:$AZ$8,$I$2))","v":""},{"$f":"IF(ISBLANK('Data Input'!A362),\"\",SUM('Data Input'!AF362,'Data Input'!AV362))","v":""},{"$f":"IF(K358=\"\",\"\",K358/COUNTIF('Data Input'!$C$8:$AZ$8,$K$2))","v":""},{"$f":"IF(ISBLANK('Data Input'!A362),\"\",SUM('Data Input'!C362,'Data Input'!I362,'Data Input'!L362,'Data Input'!M362,'Data Input'!N362,'Data Input'!P362,'Data Input'!S362,'Data Input'!T362,'Data Input'!Y362,'Data Input'!AD362,'Data Input'!AL362,'Data Input'!AM362,'Data Input'!AN362,'Data Input'!AO362,'Data Input'!AP362,'Data Input'!AS362))","v":""},{"$f":"IF(M358=\"\",\"\",M358/COUNTIF('Data Input'!$C$8:$AZ$8,$M$2))","v":""},{"$f":"IF(ISBLANK('Data Input'!A362),\"\",SUM('Data Input'!AY362,'Data Input'!AZ362))","v":""},{"$f":"IF(O358=\"\",\"\",O358/COUNTIF('Data Input'!$C$8:$AZ$8,$O$2))","v":""},{"$f":"IF(ISBLANK('Data Input'!A362),\"\",SUM('Data Input'!AW362))","v":""},{"$f":"IF(Q358=\"\",\"\",Q358/COUNTIF('Data Input'!$C$8:$AZ$8,$Q$2))","v":""},{"$f":"IF(ISBLANK('Data Input'!$A362),\"\",SUM('Data Input'!Q362,'Data Input'!AT362,'Data Input'!AU362))","v":""},{"$f":"IF(S358=\"\",\"\",S358/COUNTIF('Data Input'!$C$8:$AZ$8,$S$2))","v":""},{"$f":"IF(ISBLANK('Data Input'!$A362),\"\",SUM('Data Input'!AX362))","v":""},{"$f":"IF(U358=\"\",\"\",U358/COUNTIF('Data Input'!$C$8:$AZ$8,$U$2))","v":""}]
[{"$f":"IF('Data Input'!A363=0,\"\",'Data Input'!A363)","v":""},{"$f":"IF(ISBLANK('Data Input'!A363),\"\",COUNTIF('Data Input'!C363:AZ363,\"\"))","v":""},{"$f":"IF(ISBLANK('Data Input'!A363),\"\",COUNTIF('Data Input'!C363:AZ363,\"0\"))","v":""},{"$f":"IF(ISBLANK('Data Input'!A363),\"\",SUM(B359,C359))","v":""},{"$f":"IF(ISBLANK('Data Input'!A363),\"\",SUM('Data Input'!C363:AZ363))","v":""},{"$f":"IF(E359=\"\",\"\",E359/(COUNTA('Data Input'!$C$8:$AZ$8)))","v":""},{"$f":"IF(ISBLANK('Data Input'!A363),\"\",SUM('Data Input'!R363,'Data Input'!AA363,'Data Input'!AB363,'Data Input'!AC363,'Data Input'!AE363,'Data Input'!AH363,'Data Input'!AQ363,'Data Input'!AR363))","v":""},{"$f":"IF(G359=\"\",\"\",G359/COUNTIF('Data Input'!$C$8:$AZ$8,$G$2))","v":""},{"$f":"IF(ISBLANK('Data Input'!A363),\"\",SUM('Data Input'!D363,'Data Input'!E363,'Data Input'!F363,'Data Input'!G363,'Data Input'!H363,'Data Input'!J363,'Data Input'!K363,'Data Input'!O363,'Data Input'!U363,'Data Input'!V363,'Data Input'!W363,'Data Input'!X363,'Data Input'!Z363,'Data Input'!AG363,'Data Input'!AI363,'Data Input'!AJ363,'Data Input'!AK363))","v":""},{"$f":"IF(I359=\"\",\"\",I359/COUNTIF('Data Input'!$C$8:$AZ$8,$I$2))","v":""},{"$f":"IF(ISBLANK('Data Input'!A363),\"\",SUM('Data Input'!AF363,'Data Input'!AV363))","v":""},{"$f":"IF(K359=\"\",\"\",K359/COUNTIF('Data Input'!$C$8:$AZ$8,$K$2))","v":""},{"$f":"IF(ISBLANK('Data Input'!A363),\"\",SUM('Data Input'!C363,'Data Input'!I363,'Data Input'!L363,'Data Input'!M363,'Data Input'!N363,'Data Input'!P363,'Data Input'!S363,'Data Input'!T363,'Data Input'!Y363,'Data Input'!AD363,'Data Input'!AL363,'Data Input'!AM363,'Data Input'!AN363,'Data Input'!AO363,'Data Input'!AP363,'Data Input'!AS363))","v":""},{"$f":"IF(M359=\"\",\"\",M359/COUNTIF('Data Input'!$C$8:$AZ$8,$M$2))","v":""},{"$f":"IF(ISBLANK('Data Input'!A363),\"\",SUM('Data Input'!AY363,'Data Input'!AZ363))","v":""},{"$f":"IF(O359=\"\",\"\",O359/COUNTIF('Data Input'!$C$8:$AZ$8,$O$2))","v":""},{"$f":"IF(ISBLANK('Data Input'!A363),\"\",SUM('Data Input'!AW363))","v":""},{"$f":"IF(Q359=\"\",\"\",Q359/COUNTIF('Data Input'!$C$8:$AZ$8,$Q$2))","v":""},{"$f":"IF(ISBLANK('Data Input'!$A363),\"\",SUM('Data Input'!Q363,'Data Input'!AT363,'Data Input'!AU363))","v":""},{"$f":"IF(S359=\"\",\"\",S359/COUNTIF('Data Input'!$C$8:$AZ$8,$S$2))","v":""},{"$f":"IF(ISBLANK('Data Input'!$A363),\"\",SUM('Data Input'!AX363))","v":""},{"$f":"IF(U359=\"\",\"\",U359/COUNTIF('Data Input'!$C$8:$AZ$8,$U$2))","v":""}]
[{"$f":"IF('Data Input'!A364=0,\"\",'Data Input'!A364)","v":""},{"$f":"IF(ISBLANK('Data Input'!A364),\"\",COUNTIF('Data Input'!C364:AZ364,\"\"))","v":""},{"$f":"IF(ISBLANK('Data Input'!A364),\"\",COUNTIF('Data Input'!C364:AZ364,\"0\"))","v":""},{"$f":"IF(ISBLANK('Data Input'!A364),\"\",SUM(B360,C360))","v":""},{"$f":"IF(ISBLANK('Data Input'!A364),\"\",SUM('Data Input'!C364:AZ364))","v":""},{"$f":"IF(E360=\"\",\"\",E360/(COUNTA('Data Input'!$C$8:$AZ$8)))","v":""},{"$f":"IF(ISBLANK('Data Input'!A364),\"\",SUM('Data Input'!R364,'Data Input'!AA364,'Data Input'!AB364,'Data Input'!AC364,'Data Input'!AE364,'Data Input'!AH364,'Data Input'!AQ364,'Data Input'!AR364))","v":""},{"$f":"IF(G360=\"\",\"\",G360/COUNTIF('Data Input'!$C$8:$AZ$8,$G$2))","v":""},{"$f":"IF(ISBLANK('Data Input'!A364),\"\",SUM('Data Input'!D364,'Data Input'!E364,'Data Input'!F364,'Data Input'!G364,'Data Input'!H364,'Data Input'!J364,'Data Input'!K364,'Data Input'!O364,'Data Input'!U364,'Data Input'!V364,'Data Input'!W364,'Data Input'!X364,'Data Input'!Z364,'Data Input'!AG364,'Data Input'!AI364,'Data Input'!AJ364,'Data Input'!AK364))","v":""},{"$f":"IF(I360=\"\",\"\",I360/COUNTIF('Data Input'!$C$8:$AZ$8,$I$2))","v":""},{"$f":"IF(ISBLANK('Data Input'!A364),\"\",SUM('Data Input'!AF364,'Data Input'!AV364))","v":""},{"$f":"IF(K360=\"\",\"\",K360/COUNTIF('Data Input'!$C$8:$AZ$8,$K$2))","v":""},{"$f":"IF(ISBLANK('Data Input'!A364),\"\",SUM('Data Input'!C364,'Data Input'!I364,'Data Input'!L364,'Data Input'!M364,'Data Input'!N364,'Data Input'!P364,'Data Input'!S364,'Data Input'!T364,'Data Input'!Y364,'Data Input'!AD364,'Data Input'!AL364,'Data Input'!AM364,'Data Input'!AN364,'Data Input'!AO364,'Data Input'!AP364,'Data Input'!AS364))","v":""},{"$f":"IF(M360=\"\",\"\",M360/COUNTIF('Data Input'!$C$8:$AZ$8,$M$2))","v":""},{"$f":"IF(ISBLANK('Data Input'!A364),\"\",SUM('Data Input'!AY364,'Data Input'!AZ364))","v":""},{"$f":"IF(O360=\"\",\"\",O360/COUNTIF('Data Input'!$C$8:$AZ$8,$O$2))","v":""},{"$f":"IF(ISBLANK('Data Input'!A364),\"\",SUM('Data Input'!AW364))","v":""},{"$f":"IF(Q360=\"\",\"\",Q360/COUNTIF('Data Input'!$C$8:$AZ$8,$Q$2))","v":""},{"$f":"IF(ISBLANK('Data Input'!$A364),\"\",SUM('Data Input'!Q364,'Data Input'!AT364,'Data Input'!AU364))","v":""},{"$f":"IF(S360=\"\",\"\",S360/COUNTIF('Data Input'!$C$8:$AZ$8,$S$2))","v":""},{"$f":"IF(ISBLANK('Data Input'!$A364),\"\",SUM('Data Input'!AX364))","v":""},{"$f":"IF(U360=\"\",\"\",U360/COUNTIF('Data Input'!$C$8:$AZ$8,$U$2))","v":""}]
[{"$f":"IF('Data Input'!A365=0,\"\",'Data Input'!A365)","v":""},{"$f":"IF(ISBLANK('Data Input'!A365),\"\",COUNTIF('Data Input'!C365:AZ365,\"\"))","v":""},{"$f":"IF(ISBLANK('Data Input'!A365),\"\",COUNTIF('Data Input'!C365:AZ365,\"0\"))","v":""},{"$f":"IF(ISBLANK('Data Input'!A365),\"\",SUM(B361,C361))","v":""},{"$f":"IF(ISBLANK('Data Input'!A365),\"\",SUM('Data Input'!C365:AZ365))","v":""},{"$f":"IF(E361=\"\",\"\",E361/(COUNTA('Data Input'!$C$8:$AZ$8)))","v":""},{"$f":"IF(ISBLANK('Data Input'!A365),\"\",SUM('Data Input'!R365,'Data Input'!AA365,'Data Input'!AB365,'Data Input'!AC365,'Data Input'!AE365,'Data Input'!AH365,'Data Input'!AQ365,'Data Input'!AR365))","v":""},{"$f":"IF(G361=\"\",\"\",G361/COUNTIF('Data Input'!$C$8:$AZ$8,$G$2))","v":""},{"$f":"IF(ISBLANK('Data Input'!A365),\"\",SUM('Data Input'!D365,'Data Input'!E365,'Data Input'!F365,'Data Input'!G365,'Data Input'!H365,'Data Input'!J365,'Data Input'!K365,'Data Input'!O365,'Data Input'!U365,'Data Input'!V365,'Data Input'!W365,'Data Input'!X365,'Data Input'!Z365,'Data Input'!AG365,'Data Input'!AI365,'Data Input'!AJ365,'Data Input'!AK365))","v":""},{"$f":"IF(I361=\"\",\"\",I361/COUNTIF('Data Input'!$C$8:$AZ$8,$I$2))","v":""},{"$f":"IF(ISBLANK('Data Input'!A365),\"\",SUM('Data Input'!AF365,'Data Input'!AV365))","v":""},{"$f":"IF(K361=\"\",\"\",K361/COUNTIF('Data Input'!$C$8:$AZ$8,$K$2))","v":""},{"$f":"IF(ISBLANK('Data Input'!A365),\"\",SUM('Data Input'!C365,'Data Input'!I365,'Data Input'!L365,'Data Input'!M365,'Data Input'!N365,'Data Input'!P365,'Data Input'!S365,'Data Input'!T365,'Data Input'!Y365,'Data Input'!AD365,'Data Input'!AL365,'Data Input'!AM365,'Data Input'!AN365,'Data Input'!AO365,'Data Input'!AP365,'Data Input'!AS365))","v":""},{"$f":"IF(M361=\"\",\"\",M361/COUNTIF('Data Input'!$C$8:$AZ$8,$M$2))","v":""},{"$f":"IF(ISBLANK('Data Input'!A365),\"\",SUM('Data Input'!AY365,'Data Input'!AZ365))","v":""},{"$f":"IF(O361=\"\",\"\",O361/COUNTIF('Data Input'!$C$8:$AZ$8,$O$2))","v":""},{"$f":"IF(ISBLANK('Data Input'!A365),\"\",SUM('Data Input'!AW365))","v":""},{"$f":"IF(Q361=\"\",\"\",Q361/COUNTIF('Data Input'!$C$8:$AZ$8,$Q$2))","v":""},{"$f":"IF(ISBLANK('Data Input'!$A365),\"\",SUM('Data Input'!Q365,'Data Input'!AT365,'Data Input'!AU365))","v":""},{"$f":"IF(S361=\"\",\"\",S361/COUNTIF('Data Input'!$C$8:$AZ$8,$S$2))","v":""},{"$f":"IF(ISBLANK('Data Input'!$A365),\"\",SUM('Data Input'!AX365))","v":""},{"$f":"IF(U361=\"\",\"\",U361/COUNTIF('Data Input'!$C$8:$AZ$8,$U$2))","v":""}]
[{"$f":"IF('Data Input'!A366=0,\"\",'Data Input'!A366)","v":""},{"$f":"IF(ISBLANK('Data Input'!A366),\"\",COUNTIF('Data Input'!C366:AZ366,\"\"))","v":""},{"$f":"IF(ISBLANK('Data Input'!A366),\"\",COUNTIF('Data Input'!C366:AZ366,\"0\"))","v":""},{"$f":"IF(ISBLANK('Data Input'!A366),\"\",SUM(B362,C362))","v":""},{"$f":"IF(ISBLANK('Data Input'!A366),\"\",SUM('Data Input'!C366:AZ366))","v":""},{"$f":"IF(E362=\"\",\"\",E362/(COUNTA('Data Input'!$C$8:$AZ$8)))","v":""},{"$f":"IF(ISBLANK('Data Input'!A366),\"\",SUM('Data Input'!R366,'Data Input'!AA366,'Data Input'!AB366,'Data Input'!AC366,'Data Input'!AE366,'Data Input'!AH366,'Data Input'!AQ366,'Data Input'!AR366))","v":""},{"$f":"IF(G362=\"\",\"\",G362/COUNTIF('Data Input'!$C$8:$AZ$8,$G$2))","v":""},{"$f":"IF(ISBLANK('Data Input'!A366),\"\",SUM('Data Input'!D366,'Data Input'!E366,'Data Input'!F366,'Data Input'!G366,'Data Input'!H366,'Data Input'!J366,'Data Input'!K366,'Data Input'!O366,'Data Input'!U366,'Data Input'!V366,'Data Input'!W366,'Data Input'!X366,'Data Input'!Z366,'Data Input'!AG366,'Data Input'!AI366,'Data Input'!AJ366,'Data Input'!AK366))","v":""},{"$f":"IF(I362=\"\",\"\",I362/COUNTIF('Data Input'!$C$8:$AZ$8,$I$2))","v":""},{"$f":"IF(ISBLANK('Data Input'!A366),\"\",SUM('Data Input'!AF366,'Data Input'!AV366))","v":""},{"$f":"IF(K362=\"\",\"\",K362/COUNTIF('Data Input'!$C$8:$AZ$8,$K$2))","v":""},{"$f":"IF(ISBLANK('Data Input'!A366),\"\",SUM('Data Input'!C366,'Data Input'!I366,'Data Input'!L366,'Data Input'!M366,'Data Input'!N366,'Data Input'!P366,'Data Input'!S366,'Data Input'!T366,'Data Input'!Y366,'Data Input'!AD366,'Data Input'!AL366,'Data Input'!AM366,'Data Input'!AN366,'Data Input'!AO366,'Data Input'!AP366,'Data Input'!AS366))","v":""},{"$f":"IF(M362=\"\",\"\",M362/COUNTIF('Data Input'!$C$8:$AZ$8,$M$2))","v":""},{"$f":"IF(ISBLANK('Data Input'!A366),\"\",SUM('Data Input'!AY366,'Data Input'!AZ366))","v":""},{"$f":"IF(O362=\"\",\"\",O362/COUNTIF('Data Input'!$C$8:$AZ$8,$O$2))","v":""},{"$f":"IF(ISBLANK('Data Input'!A366),\"\",SUM('Data Input'!AW366))","v":""},{"$f":"IF(Q362=\"\",\"\",Q362/COUNTIF('Data Input'!$C$8:$AZ$8,$Q$2))","v":""},{"$f":"IF(ISBLANK('Data Input'!$A366),\"\",SUM('Data Input'!Q366,'Data Input'!AT366,'Data Input'!AU366))","v":""},{"$f":"IF(S362=\"\",\"\",S362/COUNTIF('Data Input'!$C$8:$AZ$8,$S$2))","v":""},{"$f":"IF(ISBLANK('Data Input'!$A366),\"\",SUM('Data Input'!AX366))","v":""},{"$f":"IF(U362=\"\",\"\",U362/COUNTIF('Data Input'!$C$8:$AZ$8,$U$2))","v":""}]
[{"$f":"IF('Data Input'!A367=0,\"\",'Data Input'!A367)","v":""},{"$f":"IF(ISBLANK('Data Input'!A367),\"\",COUNTIF('Data Input'!C367:AZ367,\"\"))","v":""},{"$f":"IF(ISBLANK('Data Input'!A367),\"\",COUNTIF('Data Input'!C367:AZ367,\"0\"))","v":""},{"$f":"IF(ISBLANK('Data Input'!A367),\"\",SUM(B363,C363))","v":""},{"$f":"IF(ISBLANK('Data Input'!A367),\"\",SUM('Data Input'!C367:AZ367))","v":""},{"$f":"IF(E363=\"\",\"\",E363/(COUNTA('Data Input'!$C$8:$AZ$8)))","v":""},{"$f":"IF(ISBLANK('Data Input'!A367),\"\",SUM('Data Input'!R367,'Data Input'!AA367,'Data Input'!AB367,'Data Input'!AC367,'Data Input'!AE367,'Data Input'!AH367,'Data Input'!AQ367,'Data Input'!AR367))","v":""},{"$f":"IF(G363=\"\",\"\",G363/COUNTIF('Data Input'!$C$8:$AZ$8,$G$2))","v":""},{"$f":"IF(ISBLANK('Data Input'!A367),\"\",SUM('Data Input'!D367,'Data Input'!E367,'Data Input'!F367,'Data Input'!G367,'Data Input'!H367,'Data Input'!J367,'Data Input'!K367,'Data Input'!O367,'Data Input'!U367,'Data Input'!V367,'Data Input'!W367,'Data Input'!X367,'Data Input'!Z367,'Data Input'!AG367,'Data Input'!AI367,'Data Input'!AJ367,'Data Input'!AK367))","v":""},{"$f":"IF(I363=\"\",\"\",I363/COUNTIF('Data Input'!$C$8:$AZ$8,$I$2))","v":""},{"$f":"IF(ISBLANK('Data Input'!A367),\"\",SUM('Data Input'!AF367,'Data Input'!AV367))","v":""},{"$f":"IF(K363=\"\",\"\",K363/COUNTIF('Data Input'!$C$8:$AZ$8,$K$2))","v":""},{"$f":"IF(ISBLANK('Data Input'!A367),\"\",SUM('Data Input'!C367,'Data Input'!I367,'Data Input'!L367,'Data Input'!M367,'Data Input'!N367,'Data Input'!P367,'Data Input'!S367,'Data Input'!T367,'Data Input'!Y367,'Data Input'!AD367,'Data Input'!AL367,'Data Input'!AM367,'Data Input'!AN367,'Data Input'!AO367,'Data Input'!AP367,'Data Input'!AS367))","v":""},{"$f":"IF(M363=\"\",\"\",M363/COUNTIF('Data Input'!$C$8:$AZ$8,$M$2))","v":""},{"$f":"IF(ISBLANK('Data Input'!A367),\"\",SUM('Data Input'!AY367,'Data Input'!AZ367))","v":""},{"$f":"IF(O363=\"\",\"\",O363/COUNTIF('Data Input'!$C$8:$AZ$8,$O$2))","v":""},{"$f":"IF(ISBLANK('Data Input'!A367),\"\",SUM('Data Input'!AW367))","v":""},{"$f":"IF(Q363=\"\",\"\",Q363/COUNTIF('Data Input'!$C$8:$AZ$8,$Q$2))","v":""},{"$f":"IF(ISBLANK('Data Input'!$A367),\"\",SUM('Data Input'!Q367,'Data Input'!AT367,'Data Input'!AU367))","v":""},{"$f":"IF(S363=\"\",\"\",S363/COUNTIF('Data Input'!$C$8:$AZ$8,$S$2))","v":""},{"$f":"IF(ISBLANK('Data Input'!$A367),\"\",SUM('Data Input'!AX367))","v":""},{"$f":"IF(U363=\"\",\"\",U363/COUNTIF('Data Input'!$C$8:$AZ$8,$U$2))","v":""}]
[{"$f":"IF('Data Input'!A368=0,\"\",'Data Input'!A368)","v":""},{"$f":"IF(ISBLANK('Data Input'!A368),\"\",COUNTIF('Data Input'!C368:AZ368,\"\"))","v":""},{"$f":"IF(ISBLANK('Data Input'!A368),\"\",COUNTIF('Data Input'!C368:AZ368,\"0\"))","v":""},{"$f":"IF(ISBLANK('Data Input'!A368),\"\",SUM(B364,C364))","v":""},{"$f":"IF(ISBLANK('Data Input'!A368),\"\",SUM('Data Input'!C368:AZ368))","v":""},{"$f":"IF(E364=\"\",\"\",E364/(COUNTA('Data Input'!$C$8:$AZ$8)))","v":""},{"$f":"IF(ISBLANK('Data Input'!A368),\"\",SUM('Data Input'!R368,'Data Input'!AA368,'Data Input'!AB368,'Data Input'!AC368,'Data Input'!AE368,'Data Input'!AH368,'Data Input'!AQ368,'Data Input'!AR368))","v":""},{"$f":"IF(G364=\"\",\"\",G364/COUNTIF('Data Input'!$C$8:$AZ$8,$G$2))","v":""},{"$f":"IF(ISBLANK('Data Input'!A368),\"\",SUM('Data Input'!D368,'Data Input'!E368,'Data Input'!F368,'Data Input'!G368,'Data Input'!H368,'Data Input'!J368,'Data Input'!K368,'Data Input'!O368,'Data Input'!U368,'Data Input'!V368,'Data Input'!W368,'Data Input'!X368,'Data Input'!Z368,'Data Input'!AG368,'Data Input'!AI368,'Data Input'!AJ368,'Data Input'!AK368))","v":""},{"$f":"IF(I364=\"\",\"\",I364/COUNTIF('Data Input'!$C$8:$AZ$8,$I$2))","v":""},{"$f":"IF(ISBLANK('Data Input'!A368),\"\",SUM('Data Input'!AF368,'Data Input'!AV368))","v":""},{"$f":"IF(K364=\"\",\"\",K364/COUNTIF('Data Input'!$C$8:$AZ$8,$K$2))","v":""},{"$f":"IF(ISBLANK('Data Input'!A368),\"\",SUM('Data Input'!C368,'Data Input'!I368,'Data Input'!L368,'Data Input'!M368,'Data Input'!N368,'Data Input'!P368,'Data Input'!S368,'Data Input'!T368,'Data Input'!Y368,'Data Input'!AD368,'Data Input'!AL368,'Data Input'!AM368,'Data Input'!AN368,'Data Input'!AO368,'Data Input'!AP368,'Data Input'!AS368))","v":""},{"$f":"IF(M364=\"\",\"\",M364/COUNTIF('Data Input'!$C$8:$AZ$8,$M$2))","v":""},{"$f":"IF(ISBLANK('Data Input'!A368),\"\",SUM('Data Input'!AY368,'Data Input'!AZ368))","v":""},{"$f":"IF(O364=\"\",\"\",O364/COUNTIF('Data Input'!$C$8:$AZ$8,$O$2))","v":""},{"$f":"IF(ISBLANK('Data Input'!A368),\"\",SUM('Data Input'!AW368))","v":""},{"$f":"IF(Q364=\"\",\"\",Q364/COUNTIF('Data Input'!$C$8:$AZ$8,$Q$2))","v":""},{"$f":"IF(ISBLANK('Data Input'!$A368),\"\",SUM('Data Input'!Q368,'Data Input'!AT368,'Data Input'!AU368))","v":""},{"$f":"IF(S364=\"\",\"\",S364/COUNTIF('Data Input'!$C$8:$AZ$8,$S$2))","v":""},{"$f":"IF(ISBLANK('Data Input'!$A368),\"\",SUM('Data Input'!AX368))","v":""},{"$f":"IF(U364=\"\",\"\",U364/COUNTIF('Data Input'!$C$8:$AZ$8,$U$2))","v":""}]
[{"$f":"IF('Data Input'!A369=0,\"\",'Data Input'!A369)","v":""},{"$f":"IF(ISBLANK('Data Input'!A369),\"\",COUNTIF('Data Input'!C369:AZ369,\"\"))","v":""},{"$f":"IF(ISBLANK('Data Input'!A369),\"\",COUNTIF('Data Input'!C369:AZ369,\"0\"))","v":""},{"$f":"IF(ISBLANK('Data Input'!A369),\"\",SUM(B365,C365))","v":""},{"$f":"IF(ISBLANK('Data Input'!A369),\"\",SUM('Data Input'!C369:AZ369))","v":""},{"$f":"IF(E365=\"\",\"\",E365/(COUNTA('Data Input'!$C$8:$AZ$8)))","v":""},{"$f":"IF(ISBLANK('Data Input'!A369),\"\",SUM('Data Input'!R369,'Data Input'!AA369,'Data Input'!AB369,'Data Input'!AC369,'Data Input'!AE369,'Data Input'!AH369,'Data Input'!AQ369,'Data Input'!AR369))","v":""},{"$f":"IF(G365=\"\",\"\",G365/COUNTIF('Data Input'!$C$8:$AZ$8,$G$2))","v":""},{"$f":"IF(ISBLANK('Data Input'!A369),\"\",SUM('Data Input'!D369,'Data Input'!E369,'Data Input'!F369,'Data Input'!G369,'Data Input'!H369,'Data Input'!J369,'Data Input'!K369,'Data Input'!O369,'Data Input'!U369,'Data Input'!V369,'Data Input'!W369,'Data Input'!X369,'Data Input'!Z369,'Data Input'!AG369,'Data Input'!AI369,'Data Input'!AJ369,'Data Input'!AK369))","v":""},{"$f":"IF(I365=\"\",\"\",I365/COUNTIF('Data Input'!$C$8:$AZ$8,$I$2))","v":""},{"$f":"IF(ISBLANK('Data Input'!A369),\"\",SUM('Data Input'!AF369,'Data Input'!AV369))","v":""},{"$f":"IF(K365=\"\",\"\",K365/COUNTIF('Data Input'!$C$8:$AZ$8,$K$2))","v":""},{"$f":"IF(ISBLANK('Data Input'!A369),\"\",SUM('Data Input'!C369,'Data Input'!I369,'Data Input'!L369,'Data Input'!M369,'Data Input'!N369,'Data Input'!P369,'Data Input'!S369,'Data Input'!T369,'Data Input'!Y369,'Data Input'!AD369,'Data Input'!AL369,'Data Input'!AM369,'Data Input'!AN369,'Data Input'!AO369,'Data Input'!AP369,'Data Input'!AS369))","v":""},{"$f":"IF(M365=\"\",\"\",M365/COUNTIF('Data Input'!$C$8:$AZ$8,$M$2))","v":""},{"$f":"IF(ISBLANK('Data Input'!A369),\"\",SUM('Data Input'!AY369,'Data Input'!AZ369))","v":""},{"$f":"IF(O365=\"\",\"\",O365/COUNTIF('Data Input'!$C$8:$AZ$8,$O$2))","v":""},{"$f":"IF(ISBLANK('Data Input'!A369),\"\",SUM('Data Input'!AW369))","v":""},{"$f":"IF(Q365=\"\",\"\",Q365/COUNTIF('Data Input'!$C$8:$AZ$8,$Q$2))","v":""},{"$f":"IF(ISBLANK('Data Input'!$A369),\"\",SUM('Data Input'!Q369,'Data Input'!AT369,'Data Input'!AU369))","v":""},{"$f":"IF(S365=\"\",\"\",S365/COUNTIF('Data Input'!$C$8:$AZ$8,$S$2))","v":""},{"$f":"IF(ISBLANK('Data Input'!$A369),\"\",SUM('Data Input'!AX369))","v":""},{"$f":"IF(U365=\"\",\"\",U365/COUNTIF('Data Input'!$C$8:$AZ$8,$U$2))","v":""}]
[{"$f":"IF('Data Input'!A370=0,\"\",'Data Input'!A370)","v":""},{"$f":"IF(ISBLANK('Data Input'!A370),\"\",COUNTIF('Data Input'!C370:AZ370,\"\"))","v":""},{"$f":"IF(ISBLANK('Data Input'!A370),\"\",COUNTIF('Data Input'!C370:AZ370,\"0\"))","v":""},{"$f":"IF(ISBLANK('Data Input'!A370),\"\",SUM(B366,C366))","v":""},{"$f":"IF(ISBLANK('Data Input'!A370),\"\",SUM('Data Input'!C370:AZ370))","v":""},{"$f":"IF(E366=\"\",\"\",E366/(COUNTA('Data Input'!$C$8:$AZ$8)))","v":""},{"$f":"IF(ISBLANK('Data Input'!A370),\"\",SUM('Data Input'!R370,'Data Input'!AA370,'Data Input'!AB370,'Data Input'!AC370,'Data Input'!AE370,'Data Input'!AH370,'Data Input'!AQ370,'Data Input'!AR370))","v":""},{"$f":"IF(G366=\"\",\"\",G366/COUNTIF('Data Input'!$C$8:$AZ$8,$G$2))","v":""},{"$f":"IF(ISBLANK('Data Input'!A370),\"\",SUM('Data Input'!D370,'Data Input'!E370,'Data Input'!F370,'Data Input'!G370,'Data Input'!H370,'Data Input'!J370,'Data Input'!K370,'Data Input'!O370,'Data Input'!U370,'Data Input'!V370,'Data Input'!W370,'Data Input'!X370,'Data Input'!Z370,'Data Input'!AG370,'Data Input'!AI370,'Data Input'!AJ370,'Data Input'!AK370))","v":""},{"$f":"IF(I366=\"\",\"\",I366/COUNTIF('Data Input'!$C$8:$AZ$8,$I$2))","v":""},{"$f":"IF(ISBLANK('Data Input'!A370),\"\",SUM('Data Input'!AF370,'Data Input'!AV370))","v":""},{"$f":"IF(K366=\"\",\"\",K366/COUNTIF('Data Input'!$C$8:$AZ$8,$K$2))","v":""},{"$f":"IF(ISBLANK('Data Input'!A370),\"\",SUM('Data Input'!C370,'Data Input'!I370,'Data Input'!L370,'Data Input'!M370,'Data Input'!N370,'Data Input'!P370,'Data Input'!S370,'Data Input'!T370,'Data Input'!Y370,'Data Input'!AD370,'Data Input'!AL370,'Data Input'!AM370,'Data Input'!AN370,'Data Input'!AO370,'Data Input'!AP370,'Data Input'!AS370))","v":""},{"$f":"IF(M366=\"\",\"\",M366/COUNTIF('Data Input'!$C$8:$AZ$8,$M$2))","v":""},{"$f":"IF(ISBLANK('Data Input'!A370),\"\",SUM('Data Input'!AY370,'Data Input'!AZ370))","v":""},{"$f":"IF(O366=\"\",\"\",O366/COUNTIF('Data Input'!$C$8:$AZ$8,$O$2))","v":""},{"$f":"IF(ISBLANK('Data Input'!A370),\"\",SUM('Data Input'!AW370))","v":""},{"$f":"IF(Q366=\"\",\"\",Q366/COUNTIF('Data Input'!$C$8:$AZ$8,$Q$2))","v":""},{"$f":"IF(ISBLANK('Data Input'!$A370),\"\",SUM('Data Input'!Q370,'Data Input'!AT370,'Data Input'!AU370))","v":""},{"$f":"IF(S366=\"\",\"\",S366/COUNTIF('Data Input'!$C$8:$AZ$8,$S$2))","v":""},{"$f":"IF(ISBLANK('Data Input'!$A370),\"\",SUM('Data Input'!AX370))","v":""},{"$f":"IF(U366=\"\",\"\",U366/COUNTIF('Data Input'!$C$8:$AZ$8,$U$2))","v":""}]
[{"$f":"IF('Data Input'!A371=0,\"\",'Data Input'!A371)","v":""},{"$f":"IF(ISBLANK('Data Input'!A371),\"\",COUNTIF('Data Input'!C371:AZ371,\"\"))","v":""},{"$f":"IF(ISBLANK('Data Input'!A371),\"\",COUNTIF('Data Input'!C371:AZ371,\"0\"))","v":""},{"$f":"IF(ISBLANK('Data Input'!A371),\"\",SUM(B367,C367))","v":""},{"$f":"IF(ISBLANK('Data Input'!A371),\"\",SUM('Data Input'!C371:AZ371))","v":""},{"$f":"IF(E367=\"\",\"\",E367/(COUNTA('Data Input'!$C$8:$AZ$8)))","v":""},{"$f":"IF(ISBLANK('Data Input'!A371),\"\",SUM('Data Input'!R371,'Data Input'!AA371,'Data Input'!AB371,'Data Input'!AC371,'Data Input'!AE371,'Data Input'!AH371,'Data Input'!AQ371,'Data Input'!AR371))","v":""},{"$f":"IF(G367=\"\",\"\",G367/COUNTIF('Data Input'!$C$8:$AZ$8,$G$2))","v":""},{"$f":"IF(ISBLANK('Data Input'!A371),\"\",SUM('Data Input'!D371,'Data Input'!E371,'Data Input'!F371,'Data Input'!G371,'Data Input'!H371,'Data Input'!J371,'Data Input'!K371,'Data Input'!O371,'Data Input'!U371,'Data Input'!V371,'Data Input'!W371,'Data Input'!X371,'Data Input'!Z371,'Data Input'!AG371,'Data Input'!AI371,'Data Input'!AJ371,'Data Input'!AK371))","v":""},{"$f":"IF(I367=\"\",\"\",I367/COUNTIF('Data Input'!$C$8:$AZ$8,$I$2))","v":""},{"$f":"IF(ISBLANK('Data Input'!A371),\"\",SUM('Data Input'!AF371,'Data Input'!AV371))","v":""},{"$f":"IF(K367=\"\",\"\",K367/COUNTIF('Data Input'!$C$8:$AZ$8,$K$2))","v":""},{"$f":"IF(ISBLANK('Data Input'!A371),\"\",SUM('Data Input'!C371,'Data Input'!I371,'Data Input'!L371,'Data Input'!M371,'Data Input'!N371,'Data Input'!P371,'Data Input'!S371,'Data Input'!T371,'Data Input'!Y371,'Data Input'!AD371,'Data Input'!AL371,'Data Input'!AM371,'Data Input'!AN371,'Data Input'!AO371,'Data Input'!AP371,'Data Input'!AS371))","v":""},{"$f":"IF(M367=\"\",\"\",M367/COUNTIF('Data Input'!$C$8:$AZ$8,$M$2))","v":""},{"$f":"IF(ISBLANK('Data Input'!A371),\"\",SUM('Data Input'!AY371,'Data Input'!AZ371))","v":""},{"$f":"IF(O367=\"\",\"\",O367/COUNTIF('Data Input'!$C$8:$AZ$8,$O$2))","v":""},{"$f":"IF(ISBLANK('Data Input'!A371),\"\",SUM('Data Input'!AW371))","v":""},{"$f":"IF(Q367=\"\",\"\",Q367/COUNTIF('Data Input'!$C$8:$AZ$8,$Q$2))","v":""},{"$f":"IF(ISBLANK('Data Input'!$A371),\"\",SUM('Data Input'!Q371,'Data Input'!AT371,'Data Input'!AU371))","v":""},{"$f":"IF(S367=\"\",\"\",S367/COUNTIF('Data Input'!$C$8:$AZ$8,$S$2))","v":""},{"$f":"IF(ISBLANK('Data Input'!$A371),\"\",SUM('Data Input'!AX371))","v":""},{"$f":"IF(U367=\"\",\"\",U367/COUNTIF('Data Input'!$C$8:$AZ$8,$U$2))","v":""}]
[{"$f":"IF('Data Input'!A372=0,\"\",'Data Input'!A372)","v":""},{"$f":"IF(ISBLANK('Data Input'!A372),\"\",COUNTIF('Data Input'!C372:AZ372,\"\"))","v":""},{"$f":"IF(ISBLANK('Data Input'!A372),\"\",COUNTIF('Data Input'!C372:AZ372,\"0\"))","v":""},{"$f":"IF(ISBLANK('Data Input'!A372),\"\",SUM(B368,C368))","v":""},{"$f":"IF(ISBLANK('Data Input'!A372),\"\",SUM('Data Input'!C372:AZ372))","v":""},{"$f":"IF(E368=\"\",\"\",E368/(COUNTA('Data Input'!$C$8:$AZ$8)))","v":""},{"$f":"IF(ISBLANK('Data Input'!A372),\"\",SUM('Data Input'!R372,'Data Input'!AA372,'Data Input'!AB372,'Data Input'!AC372,'Data Input'!AE372,'Data Input'!AH372,'Data Input'!AQ372,'Data Input'!AR372))","v":""},{"$f":"IF(G368=\"\",\"\",G368/COUNTIF('Data Input'!$C$8:$AZ$8,$G$2))","v":""},{"$f":"IF(ISBLANK('Data Input'!A372),\"\",SUM('Data Input'!D372,'Data Input'!E372,'Data Input'!F372,'Data Input'!G372,'Data Input'!H372,'Data Input'!J372,'Data Input'!K372,'Data Input'!O372,'Data Input'!U372,'Data Input'!V372,'Data Input'!W372,'Data Input'!X372,'Data Input'!Z372,'Data Input'!AG372,'Data Input'!AI372,'Data Input'!AJ372,'Data Input'!AK372))","v":""},{"$f":"IF(I368=\"\",\"\",I368/COUNTIF('Data Input'!$C$8:$AZ$8,$I$2))","v":""},{"$f":"IF(ISBLANK('Data Input'!A372),\"\",SUM('Data Input'!AF372,'Data Input'!AV372))","v":""},{"$f":"IF(K368=\"\",\"\",K368/COUNTIF('Data Input'!$C$8:$AZ$8,$K$2))","v":""},{"$f":"IF(ISBLANK('Data Input'!A372),\"\",SUM('Data Input'!C372,'Data Input'!I372,'Data Input'!L372,'Data Input'!M372,'Data Input'!N372,'Data Input'!P372,'Data Input'!S372,'Data Input'!T372,'Data Input'!Y372,'Data Input'!AD372,'Data Input'!AL372,'Data Input'!AM372,'Data Input'!AN372,'Data Input'!AO372,'Data Input'!AP372,'Data Input'!AS372))","v":""},{"$f":"IF(M368=\"\",\"\",M368/COUNTIF('Data Input'!$C$8:$AZ$8,$M$2))","v":""},{"$f":"IF(ISBLANK('Data Input'!A372),\"\",SUM('Data Input'!AY372,'Data Input'!AZ372))","v":""},{"$f":"IF(O368=\"\",\"\",O368/COUNTIF('Data Input'!$C$8:$AZ$8,$O$2))","v":""},{"$f":"IF(ISBLANK('Data Input'!A372),\"\",SUM('Data Input'!AW372))","v":""},{"$f":"IF(Q368=\"\",\"\",Q368/COUNTIF('Data Input'!$C$8:$AZ$8,$Q$2))","v":""},{"$f":"IF(ISBLANK('Data Input'!$A372),\"\",SUM('Data Input'!Q372,'Data Input'!AT372,'Data Input'!AU372))","v":""},{"$f":"IF(S368=\"\",\"\",S368/COUNTIF('Data Input'!$C$8:$AZ$8,$S$2))","v":""},{"$f":"IF(ISBLANK('Data Input'!$A372),\"\",SUM('Data Input'!AX372))","v":""},{"$f":"IF(U368=\"\",\"\",U368/COUNTIF('Data Input'!$C$8:$AZ$8,$U$2))","v":""}]
[{"$f":"IF('Data Input'!A373=0,\"\",'Data Input'!A373)","v":""},{"$f":"IF(ISBLANK('Data Input'!A373),\"\",COUNTIF('Data Input'!C373:AZ373,\"\"))","v":""},{"$f":"IF(ISBLANK('Data Input'!A373),\"\",COUNTIF('Data Input'!C373:AZ373,\"0\"))","v":""},{"$f":"IF(ISBLANK('Data Input'!A373),\"\",SUM(B369,C369))","v":""},{"$f":"IF(ISBLANK('Data Input'!A373),\"\",SUM('Data Input'!C373:AZ373))","v":""},{"$f":"IF(E369=\"\",\"\",E369/(COUNTA('Data Input'!$C$8:$AZ$8)))","v":""},{"$f":"IF(ISBLANK('Data Input'!A373),\"\",SUM('Data Input'!R373,'Data Input'!AA373,'Data Input'!AB373,'Data Input'!AC373,'Data Input'!AE373,'Data Input'!AH373,'Data Input'!AQ373,'Data Input'!AR373))","v":""},{"$f":"IF(G369=\"\",\"\",G369/COUNTIF('Data Input'!$C$8:$AZ$8,$G$2))","v":""},{"$f":"IF(ISBLANK('Data Input'!A373),\"\",SUM('Data Input'!D373,'Data Input'!E373,'Data Input'!F373,'Data Input'!G373,'Data Input'!H373,'Data Input'!J373,'Data Input'!K373,'Data Input'!O373,'Data Input'!U373,'Data Input'!V373,'Data Input'!W373,'Data Input'!X373,'Data Input'!Z373,'Data Input'!AG373,'Data Input'!AI373,'Data Input'!AJ373,'Data Input'!AK373))","v":""},{"$f":"IF(I369=\"\",\"\",I369/COUNTIF('Data Input'!$C$8:$AZ$8,$I$2))","v":""},{"$f":"IF(ISBLANK('Data Input'!A373),\"\",SUM('Data Input'!AF373,'Data Input'!AV373))","v":""},{"$f":"IF(K369=\"\",\"\",K369/COUNTIF('Data Input'!$C$8:$AZ$8,$K$2))","v":""},{"$f":"IF(ISBLANK('Data Input'!A373),\"\",SUM('Data Input'!C373,'Data Input'!I373,'Data Input'!L373,'Data Input'!M373,'Data Input'!N373,'Data Input'!P373,'Data Input'!S373,'Data Input'!T373,'Data Input'!Y373,'Data Input'!AD373,'Data Input'!AL373,'Data Input'!AM373,'Data Input'!AN373,'Data Input'!AO373,'Data Input'!AP373,'Data Input'!AS373))","v":""},{"$f":"IF(M369=\"\",\"\",M369/COUNTIF('Data Input'!$C$8:$AZ$8,$M$2))","v":""},{"$f":"IF(ISBLANK('Data Input'!A373),\"\",SUM('Data Input'!AY373,'Data Input'!AZ373))","v":""},{"$f":"IF(O369=\"\",\"\",O369/COUNTIF('Data Input'!$C$8:$AZ$8,$O$2))","v":""},{"$f":"IF(ISBLANK('Data Input'!A373),\"\",SUM('Data Input'!AW373))","v":""},{"$f":"IF(Q369=\"\",\"\",Q369/COUNTIF('Data Input'!$C$8:$AZ$8,$Q$2))","v":""},{"$f":"IF(ISBLANK('Data Input'!$A373),\"\",SUM('Data Input'!Q373,'Data Input'!AT373,'Data Input'!AU373))","v":""},{"$f":"IF(S369=\"\",\"\",S369/COUNTIF('Data Input'!$C$8:$AZ$8,$S$2))","v":""},{"$f":"IF(ISBLANK('Data Input'!$A373),\"\",SUM('Data Input'!AX373))","v":""},{"$f":"IF(U369=\"\",\"\",U369/COUNTIF('Data Input'!$C$8:$AZ$8,$U$2))","v":""}]
[{"$f":"IF('Data Input'!A374=0,\"\",'Data Input'!A374)","v":""},{"$f":"IF(ISBLANK('Data Input'!A374),\"\",COUNTIF('Data Input'!C374:AZ374,\"\"))","v":""},{"$f":"IF(ISBLANK('Data Input'!A374),\"\",COUNTIF('Data Input'!C374:AZ374,\"0\"))","v":""},{"$f":"IF(ISBLANK('Data Input'!A374),\"\",SUM(B370,C370))","v":""},{"$f":"IF(ISBLANK('Data Input'!A374),\"\",SUM('Data Input'!C374:AZ374))","v":""},{"$f":"IF(E370=\"\",\"\",E370/(COUNTA('Data Input'!$C$8:$AZ$8)))","v":""},{"$f":"IF(ISBLANK('Data Input'!A374),\"\",SUM('Data Input'!R374,'Data Input'!AA374,'Data Input'!AB374,'Data Input'!AC374,'Data Input'!AE374,'Data Input'!AH374,'Data Input'!AQ374,'Data Input'!AR374))","v":""},{"$f":"IF(G370=\"\",\"\",G370/COUNTIF('Data Input'!$C$8:$AZ$8,$G$2))","v":""},{"$f":"IF(ISBLANK('Data Input'!A374),\"\",SUM('Data Input'!D374,'Data Input'!E374,'Data Input'!F374,'Data Input'!G374,'Data Input'!H374,'Data Input'!J374,'Data Input'!K374,'Data Input'!O374,'Data Input'!U374,'Data Input'!V374,'Data Input'!W374,'Data Input'!X374,'Data Input'!Z374,'Data Input'!AG374,'Data Input'!AI374,'Data Input'!AJ374,'Data Input'!AK374))","v":""},{"$f":"IF(I370=\"\",\"\",I370/COUNTIF('Data Input'!$C$8:$AZ$8,$I$2))","v":""},{"$f":"IF(ISBLANK('Data Input'!A374),\"\",SUM('Data Input'!AF374,'Data Input'!AV374))","v":""},{"$f":"IF(K370=\"\",\"\",K370/COUNTIF('Data Input'!$C$8:$AZ$8,$K$2))","v":""},{"$f":"IF(ISBLANK('Data Input'!A374),\"\",SUM('Data Input'!C374,'Data Input'!I374,'Data Input'!L374,'Data Input'!M374,'Data Input'!N374,'Data Input'!P374,'Data Input'!S374,'Data Input'!T374,'Data Input'!Y374,'Data Input'!AD374,'Data Input'!AL374,'Data Input'!AM374,'Data Input'!AN374,'Data Input'!AO374,'Data Input'!AP374,'Data Input'!AS374))","v":""},{"$f":"IF(M370=\"\",\"\",M370/COUNTIF('Data Input'!$C$8:$AZ$8,$M$2))","v":""},{"$f":"IF(ISBLANK('Data Input'!A374),\"\",SUM('Data Input'!AY374,'Data Input'!AZ374))","v":""},{"$f":"IF(O370=\"\",\"\",O370/COUNTIF('Data Input'!$C$8:$AZ$8,$O$2))","v":""},{"$f":"IF(ISBLANK('Data Input'!A374),\"\",SUM('Data Input'!AW374))","v":""},{"$f":"IF(Q370=\"\",\"\",Q370/COUNTIF('Data Input'!$C$8:$AZ$8,$Q$2))","v":""},{"$f":"IF(ISBLANK('Data Input'!$A374),\"\",SUM('Data Input'!Q374,'Data Input'!AT374,'Data Input'!AU374))","v":""},{"$f":"IF(S370=\"\",\"\",S370/COUNTIF('Data Input'!$C$8:$AZ$8,$S$2))","v":""},{"$f":"IF(ISBLANK('Data Input'!$A374),\"\",SUM('Data Input'!AX374))","v":""},{"$f":"IF(U370=\"\",\"\",U370/COUNTIF('Data Input'!$C$8:$AZ$8,$U$2))","v":""}]
[{"$f":"IF('Data Input'!A375=0,\"\",'Data Input'!A375)","v":""},{"$f":"IF(ISBLANK('Data Input'!A375),\"\",COUNTIF('Data Input'!C375:AZ375,\"\"))","v":""},{"$f":"IF(ISBLANK('Data Input'!A375),\"\",COUNTIF('Data Input'!C375:AZ375,\"0\"))","v":""},{"$f":"IF(ISBLANK('Data Input'!A375),\"\",SUM(B371,C371))","v":""},{"$f":"IF(ISBLANK('Data Input'!A375),\"\",SUM('Data Input'!C375:AZ375))","v":""},{"$f":"IF(E371=\"\",\"\",E371/(COUNTA('Data Input'!$C$8:$AZ$8)))","v":""},{"$f":"IF(ISBLANK('Data Input'!A375),\"\",SUM('Data Input'!R375,'Data Input'!AA375,'Data Input'!AB375,'Data Input'!AC375,'Data Input'!AE375,'Data Input'!AH375,'Data Input'!AQ375,'Data Input'!AR375))","v":""},{"$f":"IF(G371=\"\",\"\",G371/COUNTIF('Data Input'!$C$8:$AZ$8,$G$2))","v":""},{"$f":"IF(ISBLANK('Data Input'!A375),\"\",SUM('Data Input'!D375,'Data Input'!E375,'Data Input'!F375,'Data Input'!G375,'Data Input'!H375,'Data Input'!J375,'Data Input'!K375,'Data Input'!O375,'Data Input'!U375,'Data Input'!V375,'Data Input'!W375,'Data Input'!X375,'Data Input'!Z375,'Data Input'!AG375,'Data Input'!AI375,'Data Input'!AJ375,'Data Input'!AK375))","v":""},{"$f":"IF(I371=\"\",\"\",I371/COUNTIF('Data Input'!$C$8:$AZ$8,$I$2))","v":""},{"$f":"IF(ISBLANK('Data Input'!A375),\"\",SUM('Data Input'!AF375,'Data Input'!AV375))","v":""},{"$f":"IF(K371=\"\",\"\",K371/COUNTIF('Data Input'!$C$8:$AZ$8,$K$2))","v":""},{"$f":"IF(ISBLANK('Data Input'!A375),\"\",SUM('Data Input'!C375,'Data Input'!I375,'Data Input'!L375,'Data Input'!M375,'Data Input'!N375,'Data Input'!P375,'Data Input'!S375,'Data Input'!T375,'Data Input'!Y375,'Data Input'!AD375,'Data Input'!AL375,'Data Input'!AM375,'Data Input'!AN375,'Data Input'!AO375,'Data Input'!AP375,'Data Input'!AS375))","v":""},{"$f":"IF(M371=\"\",\"\",M371/COUNTIF('Data Input'!$C$8:$AZ$8,$M$2))","v":""},{"$f":"IF(ISBLANK('Data Input'!A375),\"\",SUM('Data Input'!AY375,'Data Input'!AZ375))","v":""},{"$f":"IF(O371=\"\",\"\",O371/COUNTIF('Data Input'!$C$8:$AZ$8,$O$2))","v":""},{"$f":"IF(ISBLANK('Data Input'!A375),\"\",SUM('Data Input'!AW375))","v":""},{"$f":"IF(Q371=\"\",\"\",Q371/COUNTIF('Data Input'!$C$8:$AZ$8,$Q$2))","v":""},{"$f":"IF(ISBLANK('Data Input'!$A375),\"\",SUM('Data Input'!Q375,'Data Input'!AT375,'Data Input'!AU375))","v":""},{"$f":"IF(S371=\"\",\"\",S371/COUNTIF('Data Input'!$C$8:$AZ$8,$S$2))","v":""},{"$f":"IF(ISBLANK('Data Input'!$A375),\"\",SUM('Data Input'!AX375))","v":""},{"$f":"IF(U371=\"\",\"\",U371/COUNTIF('Data Input'!$C$8:$AZ$8,$U$2))","v":""}]
[{"$f":"IF('Data Input'!A376=0,\"\",'Data Input'!A376)","v":""},{"$f":"IF(ISBLANK('Data Input'!A376),\"\",COUNTIF('Data Input'!C376:AZ376,\"\"))","v":""},{"$f":"IF(ISBLANK('Data Input'!A376),\"\",COUNTIF('Data Input'!C376:AZ376,\"0\"))","v":""},{"$f":"IF(ISBLANK('Data Input'!A376),\"\",SUM(B372,C372))","v":""},{"$f":"IF(ISBLANK('Data Input'!A376),\"\",SUM('Data Input'!C376:AZ376))","v":""},{"$f":"IF(E372=\"\",\"\",E372/(COUNTA('Data Input'!$C$8:$AZ$8)))","v":""},{"$f":"IF(ISBLANK('Data Input'!A376),\"\",SUM('Data Input'!R376,'Data Input'!AA376,'Data Input'!AB376,'Data Input'!AC376,'Data Input'!AE376,'Data Input'!AH376,'Data Input'!AQ376,'Data Input'!AR376))","v":""},{"$f":"IF(G372=\"\",\"\",G372/COUNTIF('Data Input'!$C$8:$AZ$8,$G$2))","v":""},{"$f":"IF(ISBLANK('Data Input'!A376),\"\",SUM('Data Input'!D376,'Data Input'!E376,'Data Input'!F376,'Data Input'!G376,'Data Input'!H376,'Data Input'!J376,'Data Input'!K376,'Data Input'!O376,'Data Input'!U376,'Data Input'!V376,'Data Input'!W376,'Data Input'!X376,'Data Input'!Z376,'Data Input'!AG376,'Data Input'!AI376,'Data Input'!AJ376,'Data Input'!AK376))","v":""},{"$f":"IF(I372=\"\",\"\",I372/COUNTIF('Data Input'!$C$8:$AZ$8,$I$2))","v":""},{"$f":"IF(ISBLANK('Data Input'!A376),\"\",SUM('Data Input'!AF376,'Data Input'!AV376))","v":""},{"$f":"IF(K372=\"\",\"\",K372/COUNTIF('Data Input'!$C$8:$AZ$8,$K$2))","v":""},{"$f":"IF(ISBLANK('Data Input'!A376),\"\",SUM('Data Input'!C376,'Data Input'!I376,'Data Input'!L376,'Data Input'!M376,'Data Input'!N376,'Data Input'!P376,'Data Input'!S376,'Data Input'!T376,'Data Input'!Y376,'Data Input'!AD376,'Data Input'!AL376,'Data Input'!AM376,'Data Input'!AN376,'Data Input'!AO376,'Data Input'!AP376,'Data Input'!AS376))","v":""},{"$f":"IF(M372=\"\",\"\",M372/COUNTIF('Data Input'!$C$8:$AZ$8,$M$2))","v":""},{"$f":"IF(ISBLANK('Data Input'!A376),\"\",SUM('Data Input'!AY376,'Data Input'!AZ376))","v":""},{"$f":"IF(O372=\"\",\"\",O372/COUNTIF('Data Input'!$C$8:$AZ$8,$O$2))","v":""},{"$f":"IF(ISBLANK('Data Input'!A376),\"\",SUM('Data Input'!AW376))","v":""},{"$f":"IF(Q372=\"\",\"\",Q372/COUNTIF('Data Input'!$C$8:$AZ$8,$Q$2))","v":""},{"$f":"IF(ISBLANK('Data Input'!$A376),\"\",SUM('Data Input'!Q376,'Data Input'!AT376,'Data Input'!AU376))","v":""},{"$f":"IF(S372=\"\",\"\",S372/COUNTIF('Data Input'!$C$8:$AZ$8,$S$2))","v":""},{"$f":"IF(ISBLANK('Data Input'!$A376),\"\",SUM('Data Input'!AX376))","v":""},{"$f":"IF(U372=\"\",\"\",U372/COUNTIF('Data Input'!$C$8:$AZ$8,$U$2))","v":""}]
[{"$f":"IF('Data Input'!A377=0,\"\",'Data Input'!A377)","v":""},{"$f":"IF(ISBLANK('Data Input'!A377),\"\",COUNTIF('Data Input'!C377:AZ377,\"\"))","v":""},{"$f":"IF(ISBLANK('Data Input'!A377),\"\",COUNTIF('Data Input'!C377:AZ377,\"0\"))","v":""},{"$f":"IF(ISBLANK('Data Input'!A377),\"\",SUM(B373,C373))","v":""},{"$f":"IF(ISBLANK('Data Input'!A377),\"\",SUM('Data Input'!C377:AZ377))","v":""},{"$f":"IF(E373=\"\",\"\",E373/(COUNTA('Data Input'!$C$8:$AZ$8)))","v":""},{"$f":"IF(ISBLANK('Data Input'!A377),\"\",SUM('Data Input'!R377,'Data Input'!AA377,'Data Input'!AB377,'Data Input'!AC377,'Data Input'!AE377,'Data Input'!AH377,'Data Input'!AQ377,'Data Input'!AR377))","v":""},{"$f":"IF(G373=\"\",\"\",G373/COUNTIF('Data Input'!$C$8:$AZ$8,$G$2))","v":""},{"$f":"IF(ISBLANK('Data Input'!A377),\"\",SUM('Data Input'!D377,'Data Input'!E377,'Data Input'!F377,'Data Input'!G377,'Data Input'!H377,'Data Input'!J377,'Data Input'!K377,'Data Input'!O377,'Data Input'!U377,'Data Input'!V377,'Data Input'!W377,'Data Input'!X377,'Data Input'!Z377,'Data Input'!AG377,'Data Input'!AI377,'Data Input'!AJ377,'Data Input'!AK377))","v":""},{"$f":"IF(I373=\"\",\"\",I373/COUNTIF('Data Input'!$C$8:$AZ$8,$I$2))","v":""},{"$f":"IF(ISBLANK('Data Input'!A377),\"\",SUM('Data Input'!AF377,'Data Input'!AV377))","v":""},{"$f":"IF(K373=\"\",\"\",K373/COUNTIF('Data Input'!$C$8:$AZ$8,$K$2))","v":""},{"$f":"IF(ISBLANK('Data Input'!A377),\"\",SUM('Data Input'!C377,'Data Input'!I377,'Data Input'!L377,'Data Input'!M377,'Data Input'!N377,'Data Input'!P377,'Data Input'!S377,'Data Input'!T377,'Data Input'!Y377,'Data Input'!AD377,'Data Input'!AL377,'Data Input'!AM377,'Data Input'!AN377,'Data Input'!AO377,'Data Input'!AP377,'Data Input'!AS377))","v":""},{"$f":"IF(M373=\"\",\"\",M373/COUNTIF('Data Input'!$C$8:$AZ$8,$M$2))","v":""},{"$f":"IF(ISBLANK('Data Input'!A377),\"\",SUM('Data Input'!AY377,'Data Input'!AZ377))","v":""},{"$f":"IF(O373=\"\",\"\",O373/COUNTIF('Data Input'!$C$8:$AZ$8,$O$2))","v":""},{"$f":"IF(ISBLANK('Data Input'!A377),\"\",SUM('Data Input'!AW377))","v":""},{"$f":"IF(Q373=\"\",\"\",Q373/COUNTIF('Data Input'!$C$8:$AZ$8,$Q$2))","v":""},{"$f":"IF(ISBLANK('Data Input'!$A377),\"\",SUM('Data Input'!Q377,'Data Input'!AT377,'Data Input'!AU377))","v":""},{"$f":"IF(S373=\"\",\"\",S373/COUNTIF('Data Input'!$C$8:$AZ$8,$S$2))","v":""},{"$f":"IF(ISBLANK('Data Input'!$A377),\"\",SUM('Data Input'!AX377))","v":""},{"$f":"IF(U373=\"\",\"\",U373/COUNTIF('Data Input'!$C$8:$AZ$8,$U$2))","v":""}]
[{"$f":"IF('Data Input'!A378=0,\"\",'Data Input'!A378)","v":""},{"$f":"IF(ISBLANK('Data Input'!A378),\"\",COUNTIF('Data Input'!C378:AZ378,\"\"))","v":""},{"$f":"IF(ISBLANK('Data Input'!A378),\"\",COUNTIF('Data Input'!C378:AZ378,\"0\"))","v":""},{"$f":"IF(ISBLANK('Data Input'!A378),\"\",SUM(B374,C374))","v":""},{"$f":"IF(ISBLANK('Data Input'!A378),\"\",SUM('Data Input'!C378:AZ378))","v":""},{"$f":"IF(E374=\"\",\"\",E374/(COUNTA('Data Input'!$C$8:$AZ$8)))","v":""},{"$f":"IF(ISBLANK('Data Input'!A378),\"\",SUM('Data Input'!R378,'Data Input'!AA378,'Data Input'!AB378,'Data Input'!AC378,'Data Input'!AE378,'Data Input'!AH378,'Data Input'!AQ378,'Data Input'!AR378))","v":""},{"$f":"IF(G374=\"\",\"\",G374/COUNTIF('Data Input'!$C$8:$AZ$8,$G$2))","v":""},{"$f":"IF(ISBLANK('Data Input'!A378),\"\",SUM('Data Input'!D378,'Data Input'!E378,'Data Input'!F378,'Data Input'!G378,'Data Input'!H378,'Data Input'!J378,'Data Input'!K378,'Data Input'!O378,'Data Input'!U378,'Data Input'!V378,'Data Input'!W378,'Data Input'!X378,'Data Input'!Z378,'Data Input'!AG378,'Data Input'!AI378,'Data Input'!AJ378,'Data Input'!AK378))","v":""},{"$f":"IF(I374=\"\",\"\",I374/COUNTIF('Data Input'!$C$8:$AZ$8,$I$2))","v":""},{"$f":"IF(ISBLANK('Data Input'!A378),\"\",SUM('Data Input'!AF378,'Data Input'!AV378))","v":""},{"$f":"IF(K374=\"\",\"\",K374/COUNTIF('Data Input'!$C$8:$AZ$8,$K$2))","v":""},{"$f":"IF(ISBLANK('Data Input'!A378),\"\",SUM('Data Input'!C378,'Data Input'!I378,'Data Input'!L378,'Data Input'!M378,'Data Input'!N378,'Data Input'!P378,'Data Input'!S378,'Data Input'!T378,'Data Input'!Y378,'Data Input'!AD378,'Data Input'!AL378,'Data Input'!AM378,'Data Input'!AN378,'Data Input'!AO378,'Data Input'!AP378,'Data Input'!AS378))","v":""},{"$f":"IF(M374=\"\",\"\",M374/COUNTIF('Data Input'!$C$8:$AZ$8,$M$2))","v":""},{"$f":"IF(ISBLANK('Data Input'!A378),\"\",SUM('Data Input'!AY378,'Data Input'!AZ378))","v":""},{"$f":"IF(O374=\"\",\"\",O374/COUNTIF('Data Input'!$C$8:$AZ$8,$O$2))","v":""},{"$f":"IF(ISBLANK('Data Input'!A378),\"\",SUM('Data Input'!AW378))","v":""},{"$f":"IF(Q374=\"\",\"\",Q374/COUNTIF('Data Input'!$C$8:$AZ$8,$Q$2))","v":""},{"$f":"IF(ISBLANK('Data Input'!$A378),\"\",SUM('Data Input'!Q378,'Data Input'!AT378,'Data Input'!AU378))","v":""},{"$f":"IF(S374=\"\",\"\",S374/COUNTIF('Data Input'!$C$8:$AZ$8,$S$2))","v":""},{"$f":"IF(ISBLANK('Data Input'!$A378),\"\",SUM('Data Input'!AX378))","v":""},{"$f":"IF(U374=\"\",\"\",U374/COUNTIF('Data Input'!$C$8:$AZ$8,$U$2))","v":""}]
[{"$f":"IF('Data Input'!A379=0,\"\",'Data Input'!A379)","v":""},{"$f":"IF(ISBLANK('Data Input'!A379),\"\",COUNTIF('Data Input'!C379:AZ379,\"\"))","v":""},{"$f":"IF(ISBLANK('Data Input'!A379),\"\",COUNTIF('Data Input'!C379:AZ379,\"0\"))","v":""},{"$f":"IF(ISBLANK('Data Input'!A379),\"\",SUM(B375,C375))","v":""},{"$f":"IF(ISBLANK('Data Input'!A379),\"\",SUM('Data Input'!C379:AZ379))","v":""},{"$f":"IF(E375=\"\",\"\",E375/(COUNTA('Data Input'!$C$8:$AZ$8)))","v":""},{"$f":"IF(ISBLANK('Data Input'!A379),\"\",SUM('Data Input'!R379,'Data Input'!AA379,'Data Input'!AB379,'Data Input'!AC379,'Data Input'!AE379,'Data Input'!AH379,'Data Input'!AQ379,'Data Input'!AR379))","v":""},{"$f":"IF(G375=\"\",\"\",G375/COUNTIF('Data Input'!$C$8:$AZ$8,$G$2))","v":""},{"$f":"IF(ISBLANK('Data Input'!A379),\"\",SUM('Data Input'!D379,'Data Input'!E379,'Data Input'!F379,'Data Input'!G379,'Data Input'!H379,'Data Input'!J379,'Data Input'!K379,'Data Input'!O379,'Data Input'!U379,'Data Input'!V379,'Data Input'!W379,'Data Input'!X379,'Data Input'!Z379,'Data Input'!AG379,'Data Input'!AI379,'Data Input'!AJ379,'Data Input'!AK379))","v":""},{"$f":"IF(I375=\"\",\"\",I375/COUNTIF('Data Input'!$C$8:$AZ$8,$I$2))","v":""},{"$f":"IF(ISBLANK('Data Input'!A379),\"\",SUM('Data Input'!AF379,'Data Input'!AV379))","v":""},{"$f":"IF(K375=\"\",\"\",K375/COUNTIF('Data Input'!$C$8:$AZ$8,$K$2))","v":""},{"$f":"IF(ISBLANK('Data Input'!A379),\"\",SUM('Data Input'!C379,'Data Input'!I379,'Data Input'!L379,'Data Input'!M379,'Data Input'!N379,'Data Input'!P379,'Data Input'!S379,'Data Input'!T379,'Data Input'!Y379,'Data Input'!AD379,'Data Input'!AL379,'Data Input'!AM379,'Data Input'!AN379,'Data Input'!AO379,'Data Input'!AP379,'Data Input'!AS379))","v":""},{"$f":"IF(M375=\"\",\"\",M375/COUNTIF('Data Input'!$C$8:$AZ$8,$M$2))","v":""},{"$f":"IF(ISBLANK('Data Input'!A379),\"\",SUM('Data Input'!AY379,'Data Input'!AZ379))","v":""},{"$f":"IF(O375=\"\",\"\",O375/COUNTIF('Data Input'!$C$8:$AZ$8,$O$2))","v":""},{"$f":"IF(ISBLANK('Data Input'!A379),\"\",SUM('Data Input'!AW379))","v":""},{"$f":"IF(Q375=\"\",\"\",Q375/COUNTIF('Data Input'!$C$8:$AZ$8,$Q$2))","v":""},{"$f":"IF(ISBLANK('Data Input'!$A379),\"\",SUM('Data Input'!Q379,'Data Input'!AT379,'Data Input'!AU379))","v":""},{"$f":"IF(S375=\"\",\"\",S375/COUNTIF('Data Input'!$C$8:$AZ$8,$S$2))","v":""},{"$f":"IF(ISBLANK('Data Input'!$A379),\"\",SUM('Data Input'!AX379))","v":""},{"$f":"IF(U375=\"\",\"\",U375/COUNTIF('Data Input'!$C$8:$AZ$8,$U$2))","v":""}]
[{"$f":"IF('Data Input'!A380=0,\"\",'Data Input'!A380)","v":""},{"$f":"IF(ISBLANK('Data Input'!A380),\"\",COUNTIF('Data Input'!C380:AZ380,\"\"))","v":""},{"$f":"IF(ISBLANK('Data Input'!A380),\"\",COUNTIF('Data Input'!C380:AZ380,\"0\"))","v":""},{"$f":"IF(ISBLANK('Data Input'!A380),\"\",SUM(B376,C376))","v":""},{"$f":"IF(ISBLANK('Data Input'!A380),\"\",SUM('Data Input'!C380:AZ380))","v":""},{"$f":"IF(E376=\"\",\"\",E376/(COUNTA('Data Input'!$C$8:$AZ$8)))","v":""},{"$f":"IF(ISBLANK('Data Input'!A380),\"\",SUM('Data Input'!R380,'Data Input'!AA380,'Data Input'!AB380,'Data Input'!AC380,'Data Input'!AE380,'Data Input'!AH380,'Data Input'!AQ380,'Data Input'!AR380))","v":""},{"$f":"IF(G376=\"\",\"\",G376/COUNTIF('Data Input'!$C$8:$AZ$8,$G$2))","v":""},{"$f":"IF(ISBLANK('Data Input'!A380),\"\",SUM('Data Input'!D380,'Data Input'!E380,'Data Input'!F380,'Data Input'!G380,'Data Input'!H380,'Data Input'!J380,'Data Input'!K380,'Data Input'!O380,'Data Input'!U380,'Data Input'!V380,'Data Input'!W380,'Data Input'!X380,'Data Input'!Z380,'Data Input'!AG380,'Data Input'!AI380,'Data Input'!AJ380,'Data Input'!AK380))","v":""},{"$f":"IF(I376=\"\",\"\",I376/COUNTIF('Data Input'!$C$8:$AZ$8,$I$2))","v":""},{"$f":"IF(ISBLANK('Data Input'!A380),\"\",SUM('Data Input'!AF380,'Data Input'!AV380))","v":""},{"$f":"IF(K376=\"\",\"\",K376/COUNTIF('Data Input'!$C$8:$AZ$8,$K$2))","v":""},{"$f":"IF(ISBLANK('Data Input'!A380),\"\",SUM('Data Input'!C380,'Data Input'!I380,'Data Input'!L380,'Data Input'!M380,'Data Input'!N380,'Data Input'!P380,'Data Input'!S380,'Data Input'!T380,'Data Input'!Y380,'Data Input'!AD380,'Data Input'!AL380,'Data Input'!AM380,'Data Input'!AN380,'Data Input'!AO380,'Data Input'!AP380,'Data Input'!AS380))","v":""},{"$f":"IF(M376=\"\",\"\",M376/COUNTIF('Data Input'!$C$8:$AZ$8,$M$2))","v":""},{"$f":"IF(ISBLANK('Data Input'!A380),\"\",SUM('Data Input'!AY380,'Data Input'!AZ380))","v":""},{"$f":"IF(O376=\"\",\"\",O376/COUNTIF('Data Input'!$C$8:$AZ$8,$O$2))","v":""},{"$f":"IF(ISBLANK('Data Input'!A380),\"\",SUM('Data Input'!AW380))","v":""},{"$f":"IF(Q376=\"\",\"\",Q376/COUNTIF('Data Input'!$C$8:$AZ$8,$Q$2))","v":""},{"$f":"IF(ISBLANK('Data Input'!$A380),\"\",SUM('Data Input'!Q380,'Data Input'!AT380,'Data Input'!AU380))","v":""},{"$f":"IF(S376=\"\",\"\",S376/COUNTIF('Data Input'!$C$8:$AZ$8,$S$2))","v":""},{"$f":"IF(ISBLANK('Data Input'!$A380),\"\",SUM('Data Input'!AX380))","v":""},{"$f":"IF(U376=\"\",\"\",U376/COUNTIF('Data Input'!$C$8:$AZ$8,$U$2))","v":""}]
[{"$f":"IF('Data Input'!A381=0,\"\",'Data Input'!A381)","v":""},{"$f":"IF(ISBLANK('Data Input'!A381),\"\",COUNTIF('Data Input'!C381:AZ381,\"\"))","v":""},{"$f":"IF(ISBLANK('Data Input'!A381),\"\",COUNTIF('Data Input'!C381:AZ381,\"0\"))","v":""},{"$f":"IF(ISBLANK('Data Input'!A381),\"\",SUM(B377,C377))","v":""},{"$f":"IF(ISBLANK('Data Input'!A381),\"\",SUM('Data Input'!C381:AZ381))","v":""},{"$f":"IF(E377=\"\",\"\",E377/(COUNTA('Data Input'!$C$8:$AZ$8)))","v":""},{"$f":"IF(ISBLANK('Data Input'!A381),\"\",SUM('Data Input'!R381,'Data Input'!AA381,'Data Input'!AB381,'Data Input'!AC381,'Data Input'!AE381,'Data Input'!AH381,'Data Input'!AQ381,'Data Input'!AR381))","v":""},{"$f":"IF(G377=\"\",\"\",G377/COUNTIF('Data Input'!$C$8:$AZ$8,$G$2))","v":""},{"$f":"IF(ISBLANK('Data Input'!A381),\"\",SUM('Data Input'!D381,'Data Input'!E381,'Data Input'!F381,'Data Input'!G381,'Data Input'!H381,'Data Input'!J381,'Data Input'!K381,'Data Input'!O381,'Data Input'!U381,'Data Input'!V381,'Data Input'!W381,'Data Input'!X381,'Data Input'!Z381,'Data Input'!AG381,'Data Input'!AI381,'Data Input'!AJ381,'Data Input'!AK381))","v":""},{"$f":"IF(I377=\"\",\"\",I377/COUNTIF('Data Input'!$C$8:$AZ$8,$I$2))","v":""},{"$f":"IF(ISBLANK('Data Input'!A381),\"\",SUM('Data Input'!AF381,'Data Input'!AV381))","v":""},{"$f":"IF(K377=\"\",\"\",K377/COUNTIF('Data Input'!$C$8:$AZ$8,$K$2))","v":""},{"$f":"IF(ISBLANK('Data Input'!A381),\"\",SUM('Data Input'!C381,'Data Input'!I381,'Data Input'!L381,'Data Input'!M381,'Data Input'!N381,'Data Input'!P381,'Data Input'!S381,'Data Input'!T381,'Data Input'!Y381,'Data Input'!AD381,'Data Input'!AL381,'Data Input'!AM381,'Data Input'!AN381,'Data Input'!AO381,'Data Input'!AP381,'Data Input'!AS381))","v":""},{"$f":"IF(M377=\"\",\"\",M377/COUNTIF('Data Input'!$C$8:$AZ$8,$M$2))","v":""},{"$f":"IF(ISBLANK('Data Input'!A381),\"\",SUM('Data Input'!AY381,'Data Input'!AZ381))","v":""},{"$f":"IF(O377=\"\",\"\",O377/COUNTIF('Data Input'!$C$8:$AZ$8,$O$2))","v":""},{"$f":"IF(ISBLANK('Data Input'!A381),\"\",SUM('Data Input'!AW381))","v":""},{"$f":"IF(Q377=\"\",\"\",Q377/COUNTIF('Data Input'!$C$8:$AZ$8,$Q$2))","v":""},{"$f":"IF(ISBLANK('Data Input'!$A381),\"\",SUM('Data Input'!Q381,'Data Input'!AT381,'Data Input'!AU381))","v":""},{"$f":"IF(S377=\"\",\"\",S377/COUNTIF('Data Input'!$C$8:$AZ$8,$S$2))","v":""},{"$f":"IF(ISBLANK('Data Input'!$A381),\"\",SUM('Data Input'!AX381))","v":""},{"$f":"IF(U377=\"\",\"\",U377/COUNTIF('Data Input'!$C$8:$AZ$8,$U$2))","v":""}]
[{"$f":"IF('Data Input'!A382=0,\"\",'Data Input'!A382)","v":""},{"$f":"IF(ISBLANK('Data Input'!A382),\"\",COUNTIF('Data Input'!C382:AZ382,\"\"))","v":""},{"$f":"IF(ISBLANK('Data Input'!A382),\"\",COUNTIF('Data Input'!C382:AZ382,\"0\"))","v":""},{"$f":"IF(ISBLANK('Data Input'!A382),\"\",SUM(B378,C378))","v":""},{"$f":"IF(ISBLANK('Data Input'!A382),\"\",SUM('Data Input'!C382:AZ382))","v":""},{"$f":"IF(E378=\"\",\"\",E378/(COUNTA('Data Input'!$C$8:$AZ$8)))","v":""},{"$f":"IF(ISBLANK('Data Input'!A382),\"\",SUM('Data Input'!R382,'Data Input'!AA382,'Data Input'!AB382,'Data Input'!AC382,'Data Input'!AE382,'Data Input'!AH382,'Data Input'!AQ382,'Data Input'!AR382))","v":""},{"$f":"IF(G378=\"\",\"\",G378/COUNTIF('Data Input'!$C$8:$AZ$8,$G$2))","v":""},{"$f":"IF(ISBLANK('Data Input'!A382),\"\",SUM('Data Input'!D382,'Data Input'!E382,'Data Input'!F382,'Data Input'!G382,'Data Input'!H382,'Data Input'!J382,'Data Input'!K382,'Data Input'!O382,'Data Input'!U382,'Data Input'!V382,'Data Input'!W382,'Data Input'!X382,'Data Input'!Z382,'Data Input'!AG382,'Data Input'!AI382,'Data Input'!AJ382,'Data Input'!AK382))","v":""},{"$f":"IF(I378=\"\",\"\",I378/COUNTIF('Data Input'!$C$8:$AZ$8,$I$2))","v":""},{"$f":"IF(ISBLANK('Data Input'!A382),\"\",SUM('Data Input'!AF382,'Data Input'!AV382))","v":""},{"$f":"IF(K378=\"\",\"\",K378/COUNTIF('Data Input'!$C$8:$AZ$8,$K$2))","v":""},{"$f":"IF(ISBLANK('Data Input'!A382),\"\",SUM('Data Input'!C382,'Data Input'!I382,'Data Input'!L382,'Data Input'!M382,'Data Input'!N382,'Data Input'!P382,'Data Input'!S382,'Data Input'!T382,'Data Input'!Y382,'Data Input'!AD382,'Data Input'!AL382,'Data Input'!AM382,'Data Input'!AN382,'Data Input'!AO382,'Data Input'!AP382,'Data Input'!AS382))","v":""},{"$f":"IF(M378=\"\",\"\",M378/COUNTIF('Data Input'!$C$8:$AZ$8,$M$2))","v":""},{"$f":"IF(ISBLANK('Data Input'!A382),\"\",SUM('Data Input'!AY382,'Data Input'!AZ382))","v":""},{"$f":"IF(O378=\"\",\"\",O378/COUNTIF('Data Input'!$C$8:$AZ$8,$O$2))","v":""},{"$f":"IF(ISBLANK('Data Input'!A382),\"\",SUM('Data Input'!AW382))","v":""},{"$f":"IF(Q378=\"\",\"\",Q378/COUNTIF('Data Input'!$C$8:$AZ$8,$Q$2))","v":""},{"$f":"IF(ISBLANK('Data Input'!$A382),\"\",SUM('Data Input'!Q382,'Data Input'!AT382,'Data Input'!AU382))","v":""},{"$f":"IF(S378=\"\",\"\",S378/COUNTIF('Data Input'!$C$8:$AZ$8,$S$2))","v":""},{"$f":"IF(ISBLANK('Data Input'!$A382),\"\",SUM('Data Input'!AX382))","v":""},{"$f":"IF(U378=\"\",\"\",U378/COUNTIF('Data Input'!$C$8:$AZ$8,$U$2))","v":""}]
[{"$f":"IF('Data Input'!A383=0,\"\",'Data Input'!A383)","v":""},{"$f":"IF(ISBLANK('Data Input'!A383),\"\",COUNTIF('Data Input'!C383:AZ383,\"\"))","v":""},{"$f":"IF(ISBLANK('Data Input'!A383),\"\",COUNTIF('Data Input'!C383:AZ383,\"0\"))","v":""},{"$f":"IF(ISBLANK('Data Input'!A383),\"\",SUM(B379,C379))","v":""},{"$f":"IF(ISBLANK('Data Input'!A383),\"\",SUM('Data Input'!C383:AZ383))","v":""},{"$f":"IF(E379=\"\",\"\",E379/(COUNTA('Data Input'!$C$8:$AZ$8)))","v":""},{"$f":"IF(ISBLANK('Data Input'!A383),\"\",SUM('Data Input'!R383,'Data Input'!AA383,'Data Input'!AB383,'Data Input'!AC383,'Data Input'!AE383,'Data Input'!AH383,'Data Input'!AQ383,'Data Input'!AR383))","v":""},{"$f":"IF(G379=\"\",\"\",G379/COUNTIF('Data Input'!$C$8:$AZ$8,$G$2))","v":""},{"$f":"IF(ISBLANK('Data Input'!A383),\"\",SUM('Data Input'!D383,'Data Input'!E383,'Data Input'!F383,'Data Input'!G383,'Data Input'!H383,'Data Input'!J383,'Data Input'!K383,'Data Input'!O383,'Data Input'!U383,'Data Input'!V383,'Data Input'!W383,'Data Input'!X383,'Data Input'!Z383,'Data Input'!AG383,'Data Input'!AI383,'Data Input'!AJ383,'Data Input'!AK383))","v":""},{"$f":"IF(I379=\"\",\"\",I379/COUNTIF('Data Input'!$C$8:$AZ$8,$I$2))","v":""},{"$f":"IF(ISBLANK('Data Input'!A383),\"\",SUM('Data Input'!AF383,'Data Input'!AV383))","v":""},{"$f":"IF(K379=\"\",\"\",K379/COUNTIF('Data Input'!$C$8:$AZ$8,$K$2))","v":""},{"$f":"IF(ISBLANK('Data Input'!A383),\"\",SUM('Data Input'!C383,'Data Input'!I383,'Data Input'!L383,'Data Input'!M383,'Data Input'!N383,'Data Input'!P383,'Data Input'!S383,'Data Input'!T383,'Data Input'!Y383,'Data Input'!AD383,'Data Input'!AL383,'Data Input'!AM383,'Data Input'!AN383,'Data Input'!AO383,'Data Input'!AP383,'Data Input'!AS383))","v":""},{"$f":"IF(M379=\"\",\"\",M379/COUNTIF('Data Input'!$C$8:$AZ$8,$M$2))","v":""},{"$f":"IF(ISBLANK('Data Input'!A383),\"\",SUM('Data Input'!AY383,'Data Input'!AZ383))","v":""},{"$f":"IF(O379=\"\",\"\",O379/COUNTIF('Data Input'!$C$8:$AZ$8,$O$2))","v":""},{"$f":"IF(ISBLANK('Data Input'!A383),\"\",SUM('Data Input'!AW383))","v":""},{"$f":"IF(Q379=\"\",\"\",Q379/COUNTIF('Data Input'!$C$8:$AZ$8,$Q$2))","v":""},{"$f":"IF(ISBLANK('Data Input'!$A383),\"\",SUM('Data Input'!Q383,'Data Input'!AT383,'Data Input'!AU383))","v":""},{"$f":"IF(S379=\"\",\"\",S379/COUNTIF('Data Input'!$C$8:$AZ$8,$S$2))","v":""},{"$f":"IF(ISBLANK('Data Input'!$A383),\"\",SUM('Data Input'!AX383))","v":""},{"$f":"IF(U379=\"\",\"\",U379/COUNTIF('Data Input'!$C$8:$AZ$8,$U$2))","v":""}]
[{"$f":"IF('Data Input'!A384=0,\"\",'Data Input'!A384)","v":""},{"$f":"IF(ISBLANK('Data Input'!A384),\"\",COUNTIF('Data Input'!C384:AZ384,\"\"))","v":""},{"$f":"IF(ISBLANK('Data Input'!A384),\"\",COUNTIF('Data Input'!C384:AZ384,\"0\"))","v":""},{"$f":"IF(ISBLANK('Data Input'!A384),\"\",SUM(B380,C380))","v":""},{"$f":"IF(ISBLANK('Data Input'!A384),\"\",SUM('Data Input'!C384:AZ384))","v":""},{"$f":"IF(E380=\"\",\"\",E380/(COUNTA('Data Input'!$C$8:$AZ$8)))","v":""},{"$f":"IF(ISBLANK('Data Input'!A384),\"\",SUM('Data Input'!R384,'Data Input'!AA384,'Data Input'!AB384,'Data Input'!AC384,'Data Input'!AE384,'Data Input'!AH384,'Data Input'!AQ384,'Data Input'!AR384))","v":""},{"$f":"IF(G380=\"\",\"\",G380/COUNTIF('Data Input'!$C$8:$AZ$8,$G$2))","v":""},{"$f":"IF(ISBLANK('Data Input'!A384),\"\",SUM('Data Input'!D384,'Data Input'!E384,'Data Input'!F384,'Data Input'!G384,'Data Input'!H384,'Data Input'!J384,'Data Input'!K384,'Data Input'!O384,'Data Input'!U384,'Data Input'!V384,'Data Input'!W384,'Data Input'!X384,'Data Input'!Z384,'Data Input'!AG384,'Data Input'!AI384,'Data Input'!AJ384,'Data Input'!AK384))","v":""},{"$f":"IF(I380=\"\",\"\",I380/COUNTIF('Data Input'!$C$8:$AZ$8,$I$2))","v":""},{"$f":"IF(ISBLANK('Data Input'!A384),\"\",SUM('Data Input'!AF384,'Data Input'!AV384))","v":""},{"$f":"IF(K380=\"\",\"\",K380/COUNTIF('Data Input'!$C$8:$AZ$8,$K$2))","v":""},{"$f":"IF(ISBLANK('Data Input'!A384),\"\",SUM('Data Input'!C384,'Data Input'!I384,'Data Input'!L384,'Data Input'!M384,'Data Input'!N384,'Data Input'!P384,'Data Input'!S384,'Data Input'!T384,'Data Input'!Y384,'Data Input'!AD384,'Data Input'!AL384,'Data Input'!AM384,'Data Input'!AN384,'Data Input'!AO384,'Data Input'!AP384,'Data Input'!AS384))","v":""},{"$f":"IF(M380=\"\",\"\",M380/COUNTIF('Data Input'!$C$8:$AZ$8,$M$2))","v":""},{"$f":"IF(ISBLANK('Data Input'!A384),\"\",SUM('Data Input'!AY384,'Data Input'!AZ384))","v":""},{"$f":"IF(O380=\"\",\"\",O380/COUNTIF('Data Input'!$C$8:$AZ$8,$O$2))","v":""},{"$f":"IF(ISBLANK('Data Input'!A384),\"\",SUM('Data Input'!AW384))","v":""},{"$f":"IF(Q380=\"\",\"\",Q380/COUNTIF('Data Input'!$C$8:$AZ$8,$Q$2))","v":""},{"$f":"IF(ISBLANK('Data Input'!$A384),\"\",SUM('Data Input'!Q384,'Data Input'!AT384,'Data Input'!AU384))","v":""},{"$f":"IF(S380=\"\",\"\",S380/COUNTIF('Data Input'!$C$8:$AZ$8,$S$2))","v":""},{"$f":"IF(ISBLANK('Data Input'!$A384),\"\",SUM('Data Input'!AX384))","v":""},{"$f":"IF(U380=\"\",\"\",U380/COUNTIF('Data Input'!$C$8:$AZ$8,$U$2))","v":""}]
[{"$f":"IF('Data Input'!A385=0,\"\",'Data Input'!A385)","v":""},{"$f":"IF(ISBLANK('Data Input'!A385),\"\",COUNTIF('Data Input'!C385:AZ385,\"\"))","v":""},{"$f":"IF(ISBLANK('Data Input'!A385),\"\",COUNTIF('Data Input'!C385:AZ385,\"0\"))","v":""},{"$f":"IF(ISBLANK('Data Input'!A385),\"\",SUM(B381,C381))","v":""},{"$f":"IF(ISBLANK('Data Input'!A385),\"\",SUM('Data Input'!C385:AZ385))","v":""},{"$f":"IF(E381=\"\",\"\",E381/(COUNTA('Data Input'!$C$8:$AZ$8)))","v":""},{"$f":"IF(ISBLANK('Data Input'!A385),\"\",SUM('Data Input'!R385,'Data Input'!AA385,'Data Input'!AB385,'Data Input'!AC385,'Data Input'!AE385,'Data Input'!AH385,'Data Input'!AQ385,'Data Input'!AR385))","v":""},{"$f":"IF(G381=\"\",\"\",G381/COUNTIF('Data Input'!$C$8:$AZ$8,$G$2))","v":""},{"$f":"IF(ISBLANK('Data Input'!A385),\"\",SUM('Data Input'!D385,'Data Input'!E385,'Data Input'!F385,'Data Input'!G385,'Data Input'!H385,'Data Input'!J385,'Data Input'!K385,'Data Input'!O385,'Data Input'!U385,'Data Input'!V385,'Data Input'!W385,'Data Input'!X385,'Data Input'!Z385,'Data Input'!AG385,'Data Input'!AI385,'Data Input'!AJ385,'Data Input'!AK385))","v":""},{"$f":"IF(I381=\"\",\"\",I381/COUNTIF('Data Input'!$C$8:$AZ$8,$I$2))","v":""},{"$f":"IF(ISBLANK('Data Input'!A385),\"\",SUM('Data Input'!AF385,'Data Input'!AV385))","v":""},{"$f":"IF(K381=\"\",\"\",K381/COUNTIF('Data Input'!$C$8:$AZ$8,$K$2))","v":""},{"$f":"IF(ISBLANK('Data Input'!A385),\"\",SUM('Data Input'!C385,'Data Input'!I385,'Data Input'!L385,'Data Input'!M385,'Data Input'!N385,'Data Input'!P385,'Data Input'!S385,'Data Input'!T385,'Data Input'!Y385,'Data Input'!AD385,'Data Input'!AL385,'Data Input'!AM385,'Data Input'!AN385,'Data Input'!AO385,'Data Input'!AP385,'Data Input'!AS385))","v":""},{"$f":"IF(M381=\"\",\"\",M381/COUNTIF('Data Input'!$C$8:$AZ$8,$M$2))","v":""},{"$f":"IF(ISBLANK('Data Input'!A385),\"\",SUM('Data Input'!AY385,'Data Input'!AZ385))","v":""},{"$f":"IF(O381=\"\",\"\",O381/COUNTIF('Data Input'!$C$8:$AZ$8,$O$2))","v":""},{"$f":"IF(ISBLANK('Data Input'!A385),\"\",SUM('Data Input'!AW385))","v":""},{"$f":"IF(Q381=\"\",\"\",Q381/COUNTIF('Data Input'!$C$8:$AZ$8,$Q$2))","v":""},{"$f":"IF(ISBLANK('Data Input'!$A385),\"\",SUM('Data Input'!Q385,'Data Input'!AT385,'Data Input'!AU385))","v":""},{"$f":"IF(S381=\"\",\"\",S381/COUNTIF('Data Input'!$C$8:$AZ$8,$S$2))","v":""},{"$f":"IF(ISBLANK('Data Input'!$A385),\"\",SUM('Data Input'!AX385))","v":""},{"$f":"IF(U381=\"\",\"\",U381/COUNTIF('Data Input'!$C$8:$AZ$8,$U$2))","v":""}]
[{"$f":"IF('Data Input'!A386=0,\"\",'Data Input'!A386)","v":""},{"$f":"IF(ISBLANK('Data Input'!A386),\"\",COUNTIF('Data Input'!C386:AZ386,\"\"))","v":""},{"$f":"IF(ISBLANK('Data Input'!A386),\"\",COUNTIF('Data Input'!C386:AZ386,\"0\"))","v":""},{"$f":"IF(ISBLANK('Data Input'!A386),\"\",SUM(B382,C382))","v":""},{"$f":"IF(ISBLANK('Data Input'!A386),\"\",SUM('Data Input'!C386:AZ386))","v":""},{"$f":"IF(E382=\"\",\"\",E382/(COUNTA('Data Input'!$C$8:$AZ$8)))","v":""},{"$f":"IF(ISBLANK('Data Input'!A386),\"\",SUM('Data Input'!R386,'Data Input'!AA386,'Data Input'!AB386,'Data Input'!AC386,'Data Input'!AE386,'Data Input'!AH386,'Data Input'!AQ386,'Data Input'!AR386))","v":""},{"$f":"IF(G382=\"\",\"\",G382/COUNTIF('Data Input'!$C$8:$AZ$8,$G$2))","v":""},{"$f":"IF(ISBLANK('Data Input'!A386),\"\",SUM('Data Input'!D386,'Data Input'!E386,'Data Input'!F386,'Data Input'!G386,'Data Input'!H386,'Data Input'!J386,'Data Input'!K386,'Data Input'!O386,'Data Input'!U386,'Data Input'!V386,'Data Input'!W386,'Data Input'!X386,'Data Input'!Z386,'Data Input'!AG386,'Data Input'!AI386,'Data Input'!AJ386,'Data Input'!AK386))","v":""},{"$f":"IF(I382=\"\",\"\",I382/COUNTIF('Data Input'!$C$8:$AZ$8,$I$2))","v":""},{"$f":"IF(ISBLANK('Data Input'!A386),\"\",SUM('Data Input'!AF386,'Data Input'!AV386))","v":""},{"$f":"IF(K382=\"\",\"\",K382/COUNTIF('Data Input'!$C$8:$AZ$8,$K$2))","v":""},{"$f":"IF(ISBLANK('Data Input'!A386),\"\",SUM('Data Input'!C386,'Data Input'!I386,'Data Input'!L386,'Data Input'!M386,'Data Input'!N386,'Data Input'!P386,'Data Input'!S386,'Data Input'!T386,'Data Input'!Y386,'Data Input'!AD386,'Data Input'!AL386,'Data Input'!AM386,'Data Input'!AN386,'Data Input'!AO386,'Data Input'!AP386,'Data Input'!AS386))","v":""},{"$f":"IF(M382=\"\",\"\",M382/COUNTIF('Data Input'!$C$8:$AZ$8,$M$2))","v":""},{"$f":"IF(ISBLANK('Data Input'!A386),\"\",SUM('Data Input'!AY386,'Data Input'!AZ386))","v":""},{"$f":"IF(O382=\"\",\"\",O382/COUNTIF('Data Input'!$C$8:$AZ$8,$O$2))","v":""},{"$f":"IF(ISBLANK('Data Input'!A386),\"\",SUM('Data Input'!AW386))","v":""},{"$f":"IF(Q382=\"\",\"\",Q382/COUNTIF('Data Input'!$C$8:$AZ$8,$Q$2))","v":""},{"$f":"IF(ISBLANK('Data Input'!$A386),\"\",SUM('Data Input'!Q386,'Data Input'!AT386,'Data Input'!AU386))","v":""},{"$f":"IF(S382=\"\",\"\",S382/COUNTIF('Data Input'!$C$8:$AZ$8,$S$2))","v":""},{"$f":"IF(ISBLANK('Data Input'!$A386),\"\",SUM('Data Input'!AX386))","v":""},{"$f":"IF(U382=\"\",\"\",U382/COUNTIF('Data Input'!$C$8:$AZ$8,$U$2))","v":""}]
[{"$f":"IF('Data Input'!A387=0,\"\",'Data Input'!A387)","v":""},{"$f":"IF(ISBLANK('Data Input'!A387),\"\",COUNTIF('Data Input'!C387:AZ387,\"\"))","v":""},{"$f":"IF(ISBLANK('Data Input'!A387),\"\",COUNTIF('Data Input'!C387:AZ387,\"0\"))","v":""},{"$f":"IF(ISBLANK('Data Input'!A387),\"\",SUM(B383,C383))","v":""},{"$f":"IF(ISBLANK('Data Input'!A387),\"\",SUM('Data Input'!C387:AZ387))","v":""},{"$f":"IF(E383=\"\",\"\",E383/(COUNTA('Data Input'!$C$8:$AZ$8)))","v":""},{"$f":"IF(ISBLANK('Data Input'!A387),\"\",SUM('Data Input'!R387,'Data Input'!AA387,'Data Input'!AB387,'Data Input'!AC387,'Data Input'!AE387,'Data Input'!AH387,'Data Input'!AQ387,'Data Input'!AR387))","v":""},{"$f":"IF(G383=\"\",\"\",G383/COUNTIF('Data Input'!$C$8:$AZ$8,$G$2))","v":""},{"$f":"IF(ISBLANK('Data Input'!A387),\"\",SUM('Data Input'!D387,'Data Input'!E387,'Data Input'!F387,'Data Input'!G387,'Data Input'!H387,'Data Input'!J387,'Data Input'!K387,'Data Input'!O387,'Data Input'!U387,'Data Input'!V387,'Data Input'!W387,'Data Input'!X387,'Data Input'!Z387,'Data Input'!AG387,'Data Input'!AI387,'Data Input'!AJ387,'Data Input'!AK387))","v":""},{"$f":"IF(I383=\"\",\"\",I383/COUNTIF('Data Input'!$C$8:$AZ$8,$I$2))","v":""},{"$f":"IF(ISBLANK('Data Input'!A387),\"\",SUM('Data Input'!AF387,'Data Input'!AV387))","v":""},{"$f":"IF(K383=\"\",\"\",K383/COUNTIF('Data Input'!$C$8:$AZ$8,$K$2))","v":""},{"$f":"IF(ISBLANK('Data Input'!A387),\"\",SUM('Data Input'!C387,'Data Input'!I387,'Data Input'!L387,'Data Input'!M387,'Data Input'!N387,'Data Input'!P387,'Data Input'!S387,'Data Input'!T387,'Data Input'!Y387,'Data Input'!AD387,'Data Input'!AL387,'Data Input'!AM387,'Data Input'!AN387,'Data Input'!AO387,'Data Input'!AP387,'Data Input'!AS387))","v":""},{"$f":"IF(M383=\"\",\"\",M383/COUNTIF('Data Input'!$C$8:$AZ$8,$M$2))","v":""},{"$f":"IF(ISBLANK('Data Input'!A387),\"\",SUM('Data Input'!AY387,'Data Input'!AZ387))","v":""},{"$f":"IF(O383=\"\",\"\",O383/COUNTIF('Data Input'!$C$8:$AZ$8,$O$2))","v":""},{"$f":"IF(ISBLANK('Data Input'!A387),\"\",SUM('Data Input'!AW387))","v":""},{"$f":"IF(Q383=\"\",\"\",Q383/COUNTIF('Data Input'!$C$8:$AZ$8,$Q$2))","v":""},{"$f":"IF(ISBLANK('Data Input'!$A387),\"\",SUM('Data Input'!Q387,'Data Input'!AT387,'Data Input'!AU387))","v":""},{"$f":"IF(S383=\"\",\"\",S383/COUNTIF('Data Input'!$C$8:$AZ$8,$S$2))","v":""},{"$f":"IF(ISBLANK('Data Input'!$A387),\"\",SUM('Data Input'!AX387))","v":""},{"$f":"IF(U383=\"\",\"\",U383/COUNTIF('Data Input'!$C$8:$AZ$8,$U$2))","v":""}]
[{"$f":"IF('Data Input'!A388=0,\"\",'Data Input'!A388)","v":""},{"$f":"IF(ISBLANK('Data Input'!A388),\"\",COUNTIF('Data Input'!C388:AZ388,\"\"))","v":""},{"$f":"IF(ISBLANK('Data Input'!A388),\"\",COUNTIF('Data Input'!C388:AZ388,\"0\"))","v":""},{"$f":"IF(ISBLANK('Data Input'!A388),\"\",SUM(B384,C384))","v":""},{"$f":"IF(ISBLANK('Data Input'!A388),\"\",SUM('Data Input'!C388:AZ388))","v":""},{"$f":"IF(E384=\"\",\"\",E384/(COUNTA('Data Input'!$C$8:$AZ$8)))","v":""},{"$f":"IF(ISBLANK('Data Input'!A388),\"\",SUM('Data Input'!R388,'Data Input'!AA388,'Data Input'!AB388,'Data Input'!AC388,'Data Input'!AE388,'Data Input'!AH388,'Data Input'!AQ388,'Data Input'!AR388))","v":""},{"$f":"IF(G384=\"\",\"\",G384/COUNTIF('Data Input'!$C$8:$AZ$8,$G$2))","v":""},{"$f":"IF(ISBLANK('Data Input'!A388),\"\",SUM('Data Input'!D388,'Data Input'!E388,'Data Input'!F388,'Data Input'!G388,'Data Input'!H388,'Data Input'!J388,'Data Input'!K388,'Data Input'!O388,'Data Input'!U388,'Data Input'!V388,'Data Input'!W388,'Data Input'!X388,'Data Input'!Z388,'Data Input'!AG388,'Data Input'!AI388,'Data Input'!AJ388,'Data Input'!AK388))","v":""},{"$f":"IF(I384=\"\",\"\",I384/COUNTIF('Data Input'!$C$8:$AZ$8,$I$2))","v":""},{"$f":"IF(ISBLANK('Data Input'!A388),\"\",SUM('Data Input'!AF388,'Data Input'!AV388))","v":""},{"$f":"IF(K384=\"\",\"\",K384/COUNTIF('Data Input'!$C$8:$AZ$8,$K$2))","v":""},{"$f":"IF(ISBLANK('Data Input'!A388),\"\",SUM('Data Input'!C388,'Data Input'!I388,'Data Input'!L388,'Data Input'!M388,'Data Input'!N388,'Data Input'!P388,'Data Input'!S388,'Data Input'!T388,'Data Input'!Y388,'Data Input'!AD388,'Data Input'!AL388,'Data Input'!AM388,'Data Input'!AN388,'Data Input'!AO388,'Data Input'!AP388,'Data Input'!AS388))","v":""},{"$f":"IF(M384=\"\",\"\",M384/COUNTIF('Data Input'!$C$8:$AZ$8,$M$2))","v":""},{"$f":"IF(ISBLANK('Data Input'!A388),\"\",SUM('Data Input'!AY388,'Data Input'!AZ388))","v":""},{"$f":"IF(O384=\"\",\"\",O384/COUNTIF('Data Input'!$C$8:$AZ$8,$O$2))","v":""},{"$f":"IF(ISBLANK('Data Input'!A388),\"\",SUM('Data Input'!AW388))","v":""},{"$f":"IF(Q384=\"\",\"\",Q384/COUNTIF('Data Input'!$C$8:$AZ$8,$Q$2))","v":""},{"$f":"IF(ISBLANK('Data Input'!$A388),\"\",SUM('Data Input'!Q388,'Data Input'!AT388,'Data Input'!AU388))","v":""},{"$f":"IF(S384=\"\",\"\",S384/COUNTIF('Data Input'!$C$8:$AZ$8,$S$2))","v":""},{"$f":"IF(ISBLANK('Data Input'!$A388),\"\",SUM('Data Input'!AX388))","v":""},{"$f":"IF(U384=\"\",\"\",U384/COUNTIF('Data Input'!$C$8:$AZ$8,$U$2))","v":""}]
[{"$f":"IF('Data Input'!A389=0,\"\",'Data Input'!A389)","v":""},{"$f":"IF(ISBLANK('Data Input'!A389),\"\",COUNTIF('Data Input'!C389:AZ389,\"\"))","v":""},{"$f":"IF(ISBLANK('Data Input'!A389),\"\",COUNTIF('Data Input'!C389:AZ389,\"0\"))","v":""},{"$f":"IF(ISBLANK('Data Input'!A389),\"\",SUM(B385,C385))","v":""},{"$f":"IF(ISBLANK('Data Input'!A389),\"\",SUM('Data Input'!C389:AZ389))","v":""},{"$f":"IF(E385=\"\",\"\",E385/(COUNTA('Data Input'!$C$8:$AZ$8)))","v":""},{"$f":"IF(ISBLANK('Data Input'!A389),\"\",SUM('Data Input'!R389,'Data Input'!AA389,'Data Input'!AB389,'Data Input'!AC389,'Data Input'!AE389,'Data Input'!AH389,'Data Input'!AQ389,'Data Input'!AR389))","v":""},{"$f":"IF(G385=\"\",\"\",G385/COUNTIF('Data Input'!$C$8:$AZ$8,$G$2))","v":""},{"$f":"IF(ISBLANK('Data Input'!A389),\"\",SUM('Data Input'!D389,'Data Input'!E389,'Data Input'!F389,'Data Input'!G389,'Data Input'!H389,'Data Input'!J389,'Data Input'!K389,'Data Input'!O389,'Data Input'!U389,'Data Input'!V389,'Data Input'!W389,'Data Input'!X389,'Data Input'!Z389,'Data Input'!AG389,'Data Input'!AI389,'Data Input'!AJ389,'Data Input'!AK389))","v":""},{"$f":"IF(I385=\"\",\"\",I385/COUNTIF('Data Input'!$C$8:$AZ$8,$I$2))","v":""},{"$f":"IF(ISBLANK('Data Input'!A389),\"\",SUM('Data Input'!AF389,'Data Input'!AV389))","v":""},{"$f":"IF(K385=\"\",\"\",K385/COUNTIF('Data Input'!$C$8:$AZ$8,$K$2))","v":""},{"$f":"IF(ISBLANK('Data Input'!A389),\"\",SUM('Data Input'!C389,'Data Input'!I389,'Data Input'!L389,'Data Input'!M389,'Data Input'!N389,'Data Input'!P389,'Data Input'!S389,'Data Input'!T389,'Data Input'!Y389,'Data Input'!AD389,'Data Input'!AL389,'Data Input'!AM389,'Data Input'!AN389,'Data Input'!AO389,'Data Input'!AP389,'Data Input'!AS389))","v":""},{"$f":"IF(M385=\"\",\"\",M385/COUNTIF('Data Input'!$C$8:$AZ$8,$M$2))","v":""},{"$f":"IF(ISBLANK('Data Input'!A389),\"\",SUM('Data Input'!AY389,'Data Input'!AZ389))","v":""},{"$f":"IF(O385=\"\",\"\",O385/COUNTIF('Data Input'!$C$8:$AZ$8,$O$2))","v":""},{"$f":"IF(ISBLANK('Data Input'!A389),\"\",SUM('Data Input'!AW389))","v":""},{"$f":"IF(Q385=\"\",\"\",Q385/COUNTIF('Data Input'!$C$8:$AZ$8,$Q$2))","v":""},{"$f":"IF(ISBLANK('Data Input'!$A389),\"\",SUM('Data Input'!Q389,'Data Input'!AT389,'Data Input'!AU389))","v":""},{"$f":"IF(S385=\"\",\"\",S385/COUNTIF('Data Input'!$C$8:$AZ$8,$S$2))","v":""},{"$f":"IF(ISBLANK('Data Input'!$A389),\"\",SUM('Data Input'!AX389))","v":""},{"$f":"IF(U385=\"\",\"\",U385/COUNTIF('Data Input'!$C$8:$AZ$8,$U$2))","v":""}]
[{"$f":"IF('Data Input'!A390=0,\"\",'Data Input'!A390)","v":""},{"$f":"IF(ISBLANK('Data Input'!A390),\"\",COUNTIF('Data Input'!C390:AZ390,\"\"))","v":""},{"$f":"IF(ISBLANK('Data Input'!A390),\"\",COUNTIF('Data Input'!C390:AZ390,\"0\"))","v":""},{"$f":"IF(ISBLANK('Data Input'!A390),\"\",SUM(B386,C386))","v":""},{"$f":"IF(ISBLANK('Data Input'!A390),\"\",SUM('Data Input'!C390:AZ390))","v":""},{"$f":"IF(E386=\"\",\"\",E386/(COUNTA('Data Input'!$C$8:$AZ$8)))","v":""},{"$f":"IF(ISBLANK('Data Input'!A390),\"\",SUM('Data Input'!R390,'Data Input'!AA390,'Data Input'!AB390,'Data Input'!AC390,'Data Input'!AE390,'Data Input'!AH390,'Data Input'!AQ390,'Data Input'!AR390))","v":""},{"$f":"IF(G386=\"\",\"\",G386/COUNTIF('Data Input'!$C$8:$AZ$8,$G$2))","v":""},{"$f":"IF(ISBLANK('Data Input'!A390),\"\",SUM('Data Input'!D390,'Data Input'!E390,'Data Input'!F390,'Data Input'!G390,'Data Input'!H390,'Data Input'!J390,'Data Input'!K390,'Data Input'!O390,'Data Input'!U390,'Data Input'!V390,'Data Input'!W390,'Data Input'!X390,'Data Input'!Z390,'Data Input'!AG390,'Data Input'!AI390,'Data Input'!AJ390,'Data Input'!AK390))","v":""},{"$f":"IF(I386=\"\",\"\",I386/COUNTIF('Data Input'!$C$8:$AZ$8,$I$2))","v":""},{"$f":"IF(ISBLANK('Data Input'!A390),\"\",SUM('Data Input'!AF390,'Data Input'!AV390))","v":""},{"$f":"IF(K386=\"\",\"\",K386/COUNTIF('Data Input'!$C$8:$AZ$8,$K$2))","v":""},{"$f":"IF(ISBLANK('Data Input'!A390),\"\",SUM('Data Input'!C390,'Data Input'!I390,'Data Input'!L390,'Data Input'!M390,'Data Input'!N390,'Data Input'!P390,'Data Input'!S390,'Data Input'!T390,'Data Input'!Y390,'Data Input'!AD390,'Data Input'!AL390,'Data Input'!AM390,'Data Input'!AN390,'Data Input'!AO390,'Data Input'!AP390,'Data Input'!AS390))","v":""},{"$f":"IF(M386=\"\",\"\",M386/COUNTIF('Data Input'!$C$8:$AZ$8,$M$2))","v":""},{"$f":"IF(ISBLANK('Data Input'!A390),\"\",SUM('Data Input'!AY390,'Data Input'!AZ390))","v":""},{"$f":"IF(O386=\"\",\"\",O386/COUNTIF('Data Input'!$C$8:$AZ$8,$O$2))","v":""},{"$f":"IF(ISBLANK('Data Input'!A390),\"\",SUM('Data Input'!AW390))","v":""},{"$f":"IF(Q386=\"\",\"\",Q386/COUNTIF('Data Input'!$C$8:$AZ$8,$Q$2))","v":""},{"$f":"IF(ISBLANK('Data Input'!$A390),\"\",SUM('Data Input'!Q390,'Data Input'!AT390,'Data Input'!AU390))","v":""},{"$f":"IF(S386=\"\",\"\",S386/COUNTIF('Data Input'!$C$8:$AZ$8,$S$2))","v":""},{"$f":"IF(ISBLANK('Data Input'!$A390),\"\",SUM('Data Input'!AX390))","v":""},{"$f":"IF(U386=\"\",\"\",U386/COUNTIF('Data Input'!$C$8:$AZ$8,$U$2))","v":""}]
[{"$f":"IF('Data Input'!A391=0,\"\",'Data Input'!A391)","v":""},{"$f":"IF(ISBLANK('Data Input'!A391),\"\",COUNTIF('Data Input'!C391:AZ391,\"\"))","v":""},{"$f":"IF(ISBLANK('Data Input'!A391),\"\",COUNTIF('Data Input'!C391:AZ391,\"0\"))","v":""},{"$f":"IF(ISBLANK('Data Input'!A391),\"\",SUM(B387,C387))","v":""},{"$f":"IF(ISBLANK('Data Input'!A391),\"\",SUM('Data Input'!C391:AZ391))","v":""},{"$f":"IF(E387=\"\",\"\",E387/(COUNTA('Data Input'!$C$8:$AZ$8)))","v":""},{"$f":"IF(ISBLANK('Data Input'!A391),\"\",SUM('Data Input'!R391,'Data Input'!AA391,'Data Input'!AB391,'Data Input'!AC391,'Data Input'!AE391,'Data Input'!AH391,'Data Input'!AQ391,'Data Input'!AR391))","v":""},{"$f":"IF(G387=\"\",\"\",G387/COUNTIF('Data Input'!$C$8:$AZ$8,$G$2))","v":""},{"$f":"IF(ISBLANK('Data Input'!A391),\"\",SUM('Data Input'!D391,'Data Input'!E391,'Data Input'!F391,'Data Input'!G391,'Data Input'!H391,'Data Input'!J391,'Data Input'!K391,'Data Input'!O391,'Data Input'!U391,'Data Input'!V391,'Data Input'!W391,'Data Input'!X391,'Data Input'!Z391,'Data Input'!AG391,'Data Input'!AI391,'Data Input'!AJ391,'Data Input'!AK391))","v":""},{"$f":"IF(I387=\"\",\"\",I387/COUNTIF('Data Input'!$C$8:$AZ$8,$I$2))","v":""},{"$f":"IF(ISBLANK('Data Input'!A391),\"\",SUM('Data Input'!AF391,'Data Input'!AV391))","v":""},{"$f":"IF(K387=\"\",\"\",K387/COUNTIF('Data Input'!$C$8:$AZ$8,$K$2))","v":""},{"$f":"IF(ISBLANK('Data Input'!A391),\"\",SUM('Data Input'!C391,'Data Input'!I391,'Data Input'!L391,'Data Input'!M391,'Data Input'!N391,'Data Input'!P391,'Data Input'!S391,'Data Input'!T391,'Data Input'!Y391,'Data Input'!AD391,'Data Input'!AL391,'Data Input'!AM391,'Data Input'!AN391,'Data Input'!AO391,'Data Input'!AP391,'Data Input'!AS391))","v":""},{"$f":"IF(M387=\"\",\"\",M387/COUNTIF('Data Input'!$C$8:$AZ$8,$M$2))","v":""},{"$f":"IF(ISBLANK('Data Input'!A391),\"\",SUM('Data Input'!AY391,'Data Input'!AZ391))","v":""},{"$f":"IF(O387=\"\",\"\",O387/COUNTIF('Data Input'!$C$8:$AZ$8,$O$2))","v":""},{"$f":"IF(ISBLANK('Data Input'!A391),\"\",SUM('Data Input'!AW391))","v":""},{"$f":"IF(Q387=\"\",\"\",Q387/COUNTIF('Data Input'!$C$8:$AZ$8,$Q$2))","v":""},{"$f":"IF(ISBLANK('Data Input'!$A391),\"\",SUM('Data Input'!Q391,'Data Input'!AT391,'Data Input'!AU391))","v":""},{"$f":"IF(S387=\"\",\"\",S387/COUNTIF('Data Input'!$C$8:$AZ$8,$S$2))","v":""},{"$f":"IF(ISBLANK('Data Input'!$A391),\"\",SUM('Data Input'!AX391))","v":""},{"$f":"IF(U387=\"\",\"\",U387/COUNTIF('Data Input'!$C$8:$AZ$8,$U$2))","v":""}]
[{"$f":"IF('Data Input'!A392=0,\"\",'Data Input'!A392)","v":""},{"$f":"IF(ISBLANK('Data Input'!A392),\"\",COUNTIF('Data Input'!C392:AZ392,\"\"))","v":""},{"$f":"IF(ISBLANK('Data Input'!A392),\"\",COUNTIF('Data Input'!C392:AZ392,\"0\"))","v":""},{"$f":"IF(ISBLANK('Data Input'!A392),\"\",SUM(B388,C388))","v":""},{"$f":"IF(ISBLANK('Data Input'!A392),\"\",SUM('Data Input'!C392:AZ392))","v":""},{"$f":"IF(E388=\"\",\"\",E388/(COUNTA('Data Input'!$C$8:$AZ$8)))","v":""},{"$f":"IF(ISBLANK('Data Input'!A392),\"\",SUM('Data Input'!R392,'Data Input'!AA392,'Data Input'!AB392,'Data Input'!AC392,'Data Input'!AE392,'Data Input'!AH392,'Data Input'!AQ392,'Data Input'!AR392))","v":""},{"$f":"IF(G388=\"\",\"\",G388/COUNTIF('Data Input'!$C$8:$AZ$8,$G$2))","v":""},{"$f":"IF(ISBLANK('Data Input'!A392),\"\",SUM('Data Input'!D392,'Data Input'!E392,'Data Input'!F392,'Data Input'!G392,'Data Input'!H392,'Data Input'!J392,'Data Input'!K392,'Data Input'!O392,'Data Input'!U392,'Data Input'!V392,'Data Input'!W392,'Data Input'!X392,'Data Input'!Z392,'Data Input'!AG392,'Data Input'!AI392,'Data Input'!AJ392,'Data Input'!AK392))","v":""},{"$f":"IF(I388=\"\",\"\",I388/COUNTIF('Data Input'!$C$8:$AZ$8,$I$2))","v":""},{"$f":"IF(ISBLANK('Data Input'!A392),\"\",SUM('Data Input'!AF392,'Data Input'!AV392))","v":""},{"$f":"IF(K388=\"\",\"\",K388/COUNTIF('Data Input'!$C$8:$AZ$8,$K$2))","v":""},{"$f":"IF(ISBLANK('Data Input'!A392),\"\",SUM('Data Input'!C392,'Data Input'!I392,'Data Input'!L392,'Data Input'!M392,'Data Input'!N392,'Data Input'!P392,'Data Input'!S392,'Data Input'!T392,'Data Input'!Y392,'Data Input'!AD392,'Data Input'!AL392,'Data Input'!AM392,'Data Input'!AN392,'Data Input'!AO392,'Data Input'!AP392,'Data Input'!AS392))","v":""},{"$f":"IF(M388=\"\",\"\",M388/COUNTIF('Data Input'!$C$8:$AZ$8,$M$2))","v":""},{"$f":"IF(ISBLANK('Data Input'!A392),\"\",SUM('Data Input'!AY392,'Data Input'!AZ392))","v":""},{"$f":"IF(O388=\"\",\"\",O388/COUNTIF('Data Input'!$C$8:$AZ$8,$O$2))","v":""},{"$f":"IF(ISBLANK('Data Input'!A392),\"\",SUM('Data Input'!AW392))","v":""},{"$f":"IF(Q388=\"\",\"\",Q388/COUNTIF('Data Input'!$C$8:$AZ$8,$Q$2))","v":""},{"$f":"IF(ISBLANK('Data Input'!$A392),\"\",SUM('Data Input'!Q392,'Data Input'!AT392,'Data Input'!AU392))","v":""},{"$f":"IF(S388=\"\",\"\",S388/COUNTIF('Data Input'!$C$8:$AZ$8,$S$2))","v":""},{"$f":"IF(ISBLANK('Data Input'!$A392),\"\",SUM('Data Input'!AX392))","v":""},{"$f":"IF(U388=\"\",\"\",U388/COUNTIF('Data Input'!$C$8:$AZ$8,$U$2))","v":""}]
[{"$f":"IF('Data Input'!A393=0,\"\",'Data Input'!A393)","v":""},{"$f":"IF(ISBLANK('Data Input'!A393),\"\",COUNTIF('Data Input'!C393:AZ393,\"\"))","v":""},{"$f":"IF(ISBLANK('Data Input'!A393),\"\",COUNTIF('Data Input'!C393:AZ393,\"0\"))","v":""},{"$f":"IF(ISBLANK('Data Input'!A393),\"\",SUM(B389,C389))","v":""},{"$f":"IF(ISBLANK('Data Input'!A393),\"\",SUM('Data Input'!C393:AZ393))","v":""},{"$f":"IF(E389=\"\",\"\",E389/(COUNTA('Data Input'!$C$8:$AZ$8)))","v":""},{"$f":"IF(ISBLANK('Data Input'!A393),\"\",SUM('Data Input'!R393,'Data Input'!AA393,'Data Input'!AB393,'Data Input'!AC393,'Data Input'!AE393,'Data Input'!AH393,'Data Input'!AQ393,'Data Input'!AR393))","v":""},{"$f":"IF(G389=\"\",\"\",G389/COUNTIF('Data Input'!$C$8:$AZ$8,$G$2))","v":""},{"$f":"IF(ISBLANK('Data Input'!A393),\"\",SUM('Data Input'!D393,'Data Input'!E393,'Data Input'!F393,'Data Input'!G393,'Data Input'!H393,'Data Input'!J393,'Data Input'!K393,'Data Input'!O393,'Data Input'!U393,'Data Input'!V393,'Data Input'!W393,'Data Input'!X393,'Data Input'!Z393,'Data Input'!AG393,'Data Input'!AI393,'Data Input'!AJ393,'Data Input'!AK393))","v":""},{"$f":"IF(I389=\"\",\"\",I389/COUNTIF('Data Input'!$C$8:$AZ$8,$I$2))","v":""},{"$f":"IF(ISBLANK('Data Input'!A393),\"\",SUM('Data Input'!AF393,'Data Input'!AV393))","v":""},{"$f":"IF(K389=\"\",\"\",K389/COUNTIF('Data Input'!$C$8:$AZ$8,$K$2))","v":""},{"$f":"IF(ISBLANK('Data Input'!A393),\"\",SUM('Data Input'!C393,'Data Input'!I393,'Data Input'!L393,'Data Input'!M393,'Data Input'!N393,'Data Input'!P393,'Data Input'!S393,'Data Input'!T393,'Data Input'!Y393,'Data Input'!AD393,'Data Input'!AL393,'Data Input'!AM393,'Data Input'!AN393,'Data Input'!AO393,'Data Input'!AP393,'Data Input'!AS393))","v":""},{"$f":"IF(M389=\"\",\"\",M389/COUNTIF('Data Input'!$C$8:$AZ$8,$M$2))","v":""},{"$f":"IF(ISBLANK('Data Input'!A393),\"\",SUM('Data Input'!AY393,'Data Input'!AZ393))","v":""},{"$f":"IF(O389=\"\",\"\",O389/COUNTIF('Data Input'!$C$8:$AZ$8,$O$2))","v":""},{"$f":"IF(ISBLANK('Data Input'!A393),\"\",SUM('Data Input'!AW393))","v":""},{"$f":"IF(Q389=\"\",\"\",Q389/COUNTIF('Data Input'!$C$8:$AZ$8,$Q$2))","v":""},{"$f":"IF(ISBLANK('Data Input'!$A393),\"\",SUM('Data Input'!Q393,'Data Input'!AT393,'Data Input'!AU393))","v":""},{"$f":"IF(S389=\"\",\"\",S389/COUNTIF('Data Input'!$C$8:$AZ$8,$S$2))","v":""},{"$f":"IF(ISBLANK('Data Input'!$A393),\"\",SUM('Data Input'!AX393))","v":""},{"$f":"IF(U389=\"\",\"\",U389/COUNTIF('Data Input'!$C$8:$AZ$8,$U$2))","v":""}]
[{"$f":"IF('Data Input'!A394=0,\"\",'Data Input'!A394)","v":""},{"$f":"IF(ISBLANK('Data Input'!A394),\"\",COUNTIF('Data Input'!C394:AZ394,\"\"))","v":""},{"$f":"IF(ISBLANK('Data Input'!A394),\"\",COUNTIF('Data Input'!C394:AZ394,\"0\"))","v":""},{"$f":"IF(ISBLANK('Data Input'!A394),\"\",SUM(B390,C390))","v":""},{"$f":"IF(ISBLANK('Data Input'!A394),\"\",SUM('Data Input'!C394:AZ394))","v":""},{"$f":"IF(E390=\"\",\"\",E390/(COUNTA('Data Input'!$C$8:$AZ$8)))","v":""},{"$f":"IF(ISBLANK('Data Input'!A394),\"\",SUM('Data Input'!R394,'Data Input'!AA394,'Data Input'!AB394,'Data Input'!AC394,'Data Input'!AE394,'Data Input'!AH394,'Data Input'!AQ394,'Data Input'!AR394))","v":""},{"$f":"IF(G390=\"\",\"\",G390/COUNTIF('Data Input'!$C$8:$AZ$8,$G$2))","v":""},{"$f":"IF(ISBLANK('Data Input'!A394),\"\",SUM('Data Input'!D394,'Data Input'!E394,'Data Input'!F394,'Data Input'!G394,'Data Input'!H394,'Data Input'!J394,'Data Input'!K394,'Data Input'!O394,'Data Input'!U394,'Data Input'!V394,'Data Input'!W394,'Data Input'!X394,'Data Input'!Z394,'Data Input'!AG394,'Data Input'!AI394,'Data Input'!AJ394,'Data Input'!AK394))","v":""},{"$f":"IF(I390=\"\",\"\",I390/COUNTIF('Data Input'!$C$8:$AZ$8,$I$2))","v":""},{"$f":"IF(ISBLANK('Data Input'!A394),\"\",SUM('Data Input'!AF394,'Data Input'!AV394))","v":""},{"$f":"IF(K390=\"\",\"\",K390/COUNTIF('Data Input'!$C$8:$AZ$8,$K$2))","v":""},{"$f":"IF(ISBLANK('Data Input'!A394),\"\",SUM('Data Input'!C394,'Data Input'!I394,'Data Input'!L394,'Data Input'!M394,'Data Input'!N394,'Data Input'!P394,'Data Input'!S394,'Data Input'!T394,'Data Input'!Y394,'Data Input'!AD394,'Data Input'!AL394,'Data Input'!AM394,'Data Input'!AN394,'Data Input'!AO394,'Data Input'!AP394,'Data Input'!AS394))","v":""},{"$f":"IF(M390=\"\",\"\",M390/COUNTIF('Data Input'!$C$8:$AZ$8,$M$2))","v":""},{"$f":"IF(ISBLANK('Data Input'!A394),\"\",SUM('Data Input'!AY394,'Data Input'!AZ394))","v":""},{"$f":"IF(O390=\"\",\"\",O390/COUNTIF('Data Input'!$C$8:$AZ$8,$O$2))","v":""},{"$f":"IF(ISBLANK('Data Input'!A394),\"\",SUM('Data Input'!AW394))","v":""},{"$f":"IF(Q390=\"\",\"\",Q390/COUNTIF('Data Input'!$C$8:$AZ$8,$Q$2))","v":""},{"$f":"IF(ISBLANK('Data Input'!$A394),\"\",SUM('Data Input'!Q394,'Data Input'!AT394,'Data Input'!AU394))","v":""},{"$f":"IF(S390=\"\",\"\",S390/COUNTIF('Data Input'!$C$8:$AZ$8,$S$2))","v":""},{"$f":"IF(ISBLANK('Data Input'!$A394),\"\",SUM('Data Input'!AX394))","v":""},{"$f":"IF(U390=\"\",\"\",U390/COUNTIF('Data Input'!$C$8:$AZ$8,$U$2))","v":""}]
[{"$f":"IF('Data Input'!A395=0,\"\",'Data Input'!A395)","v":""},{"$f":"IF(ISBLANK('Data Input'!A395),\"\",COUNTIF('Data Input'!C395:AZ395,\"\"))","v":""},{"$f":"IF(ISBLANK('Data Input'!A395),\"\",COUNTIF('Data Input'!C395:AZ395,\"0\"))","v":""},{"$f":"IF(ISBLANK('Data Input'!A395),\"\",SUM(B391,C391))","v":""},{"$f":"IF(ISBLANK('Data Input'!A395),\"\",SUM('Data Input'!C395:AZ395))","v":""},{"$f":"IF(E391=\"\",\"\",E391/(COUNTA('Data Input'!$C$8:$AZ$8)))","v":""},{"$f":"IF(ISBLANK('Data Input'!A395),\"\",SUM('Data Input'!R395,'Data Input'!AA395,'Data Input'!AB395,'Data Input'!AC395,'Data Input'!AE395,'Data Input'!AH395,'Data Input'!AQ395,'Data Input'!AR395))","v":""},{"$f":"IF(G391=\"\",\"\",G391/COUNTIF('Data Input'!$C$8:$AZ$8,$G$2))","v":""},{"$f":"IF(ISBLANK('Data Input'!A395),\"\",SUM('Data Input'!D395,'Data Input'!E395,'Data Input'!F395,'Data Input'!G395,'Data Input'!H395,'Data Input'!J395,'Data Input'!K395,'Data Input'!O395,'Data Input'!U395,'Data Input'!V395,'Data Input'!W395,'Data Input'!X395,'Data Input'!Z395,'Data Input'!AG395,'Data Input'!AI395,'Data Input'!AJ395,'Data Input'!AK395))","v":""},{"$f":"IF(I391=\"\",\"\",I391/COUNTIF('Data Input'!$C$8:$AZ$8,$I$2))","v":""},{"$f":"IF(ISBLANK('Data Input'!A395),\"\",SUM('Data Input'!AF395,'Data Input'!AV395))","v":""},{"$f":"IF(K391=\"\",\"\",K391/COUNTIF('Data Input'!$C$8:$AZ$8,$K$2))","v":""},{"$f":"IF(ISBLANK('Data Input'!A395),\"\",SUM('Data Input'!C395,'Data Input'!I395,'Data Input'!L395,'Data Input'!M395,'Data Input'!N395,'Data Input'!P395,'Data Input'!S395,'Data Input'!T395,'Data Input'!Y395,'Data Input'!AD395,'Data Input'!AL395,'Data Input'!AM395,'Data Input'!AN395,'Data Input'!AO395,'Data Input'!AP395,'Data Input'!AS395))","v":""},{"$f":"IF(M391=\"\",\"\",M391/COUNTIF('Data Input'!$C$8:$AZ$8,$M$2))","v":""},{"$f":"IF(ISBLANK('Data Input'!A395),\"\",SUM('Data Input'!AY395,'Data Input'!AZ395))","v":""},{"$f":"IF(O391=\"\",\"\",O391/COUNTIF('Data Input'!$C$8:$AZ$8,$O$2))","v":""},{"$f":"IF(ISBLANK('Data Input'!A395),\"\",SUM('Data Input'!AW395))","v":""},{"$f":"IF(Q391=\"\",\"\",Q391/COUNTIF('Data Input'!$C$8:$AZ$8,$Q$2))","v":""},{"$f":"IF(ISBLANK('Data Input'!$A395),\"\",SUM('Data Input'!Q395,'Data Input'!AT395,'Data Input'!AU395))","v":""},{"$f":"IF(S391=\"\",\"\",S391/COUNTIF('Data Input'!$C$8:$AZ$8,$S$2))","v":""},{"$f":"IF(ISBLANK('Data Input'!$A395),\"\",SUM('Data Input'!AX395))","v":""},{"$f":"IF(U391=\"\",\"\",U391/COUNTIF('Data Input'!$C$8:$AZ$8,$U$2))","v":""}]
[{"$f":"IF('Data Input'!A396=0,\"\",'Data Input'!A396)","v":""},{"$f":"IF(ISBLANK('Data Input'!A396),\"\",COUNTIF('Data Input'!C396:AZ396,\"\"))","v":""},{"$f":"IF(ISBLANK('Data Input'!A396),\"\",COUNTIF('Data Input'!C396:AZ396,\"0\"))","v":""},{"$f":"IF(ISBLANK('Data Input'!A396),\"\",SUM(B392,C392))","v":""},{"$f":"IF(ISBLANK('Data Input'!A396),\"\",SUM('Data Input'!C396:AZ396))","v":""},{"$f":"IF(E392=\"\",\"\",E392/(COUNTA('Data Input'!$C$8:$AZ$8)))","v":""},{"$f":"IF(ISBLANK('Data Input'!A396),\"\",SUM('Data Input'!R396,'Data Input'!AA396,'Data Input'!AB396,'Data Input'!AC396,'Data Input'!AE396,'Data Input'!AH396,'Data Input'!AQ396,'Data Input'!AR396))","v":""},{"$f":"IF(G392=\"\",\"\",G392/COUNTIF('Data Input'!$C$8:$AZ$8,$G$2))","v":""},{"$f":"IF(ISBLANK('Data Input'!A396),\"\",SUM('Data Input'!D396,'Data Input'!E396,'Data Input'!F396,'Data Input'!G396,'Data Input'!H396,'Data Input'!J396,'Data Input'!K396,'Data Input'!O396,'Data Input'!U396,'Data Input'!V396,'Data Input'!W396,'Data Input'!X396,'Data Input'!Z396,'Data Input'!AG396,'Data Input'!AI396,'Data Input'!AJ396,'Data Input'!AK396))","v":""},{"$f":"IF(I392=\"\",\"\",I392/COUNTIF('Data Input'!$C$8:$AZ$8,$I$2))","v":""},{"$f":"IF(ISBLANK('Data Input'!A396),\"\",SUM('Data Input'!AF396,'Data Input'!AV396))","v":""},{"$f":"IF(K392=\"\",\"\",K392/COUNTIF('Data Input'!$C$8:$AZ$8,$K$2))","v":""},{"$f":"IF(ISBLANK('Data Input'!A396),\"\",SUM('Data Input'!C396,'Data Input'!I396,'Data Input'!L396,'Data Input'!M396,'Data Input'!N396,'Data Input'!P396,'Data Input'!S396,'Data Input'!T396,'Data Input'!Y396,'Data Input'!AD396,'Data Input'!AL396,'Data Input'!AM396,'Data Input'!AN396,'Data Input'!AO396,'Data Input'!AP396,'Data Input'!AS396))","v":""},{"$f":"IF(M392=\"\",\"\",M392/COUNTIF('Data Input'!$C$8:$AZ$8,$M$2))","v":""},{"$f":"IF(ISBLANK('Data Input'!A396),\"\",SUM('Data Input'!AY396,'Data Input'!AZ396))","v":""},{"$f":"IF(O392=\"\",\"\",O392/COUNTIF('Data Input'!$C$8:$AZ$8,$O$2))","v":""},{"$f":"IF(ISBLANK('Data Input'!A396),\"\",SUM('Data Input'!AW396))","v":""},{"$f":"IF(Q392=\"\",\"\",Q392/COUNTIF('Data Input'!$C$8:$AZ$8,$Q$2))","v":""},{"$f":"IF(ISBLANK('Data Input'!$A396),\"\",SUM('Data Input'!Q396,'Data Input'!AT396,'Data Input'!AU396))","v":""},{"$f":"IF(S392=\"\",\"\",S392/COUNTIF('Data Input'!$C$8:$AZ$8,$S$2))","v":""},{"$f":"IF(ISBLANK('Data Input'!$A396),\"\",SUM('Data Input'!AX396))","v":""},{"$f":"IF(U392=\"\",\"\",U392/COUNTIF('Data Input'!$C$8:$AZ$8,$U$2))","v":""}]
[{"$f":"IF('Data Input'!A397=0,\"\",'Data Input'!A397)","v":""},{"$f":"IF(ISBLANK('Data Input'!A397),\"\",COUNTIF('Data Input'!C397:AZ397,\"\"))","v":""},{"$f":"IF(ISBLANK('Data Input'!A397),\"\",COUNTIF('Data Input'!C397:AZ397,\"0\"))","v":""},{"$f":"IF(ISBLANK('Data Input'!A397),\"\",SUM(B393,C393))","v":""},{"$f":"IF(ISBLANK('Data Input'!A397),\"\",SUM('Data Input'!C397:AZ397))","v":""},{"$f":"IF(E393=\"\",\"\",E393/(COUNTA('Data Input'!$C$8:$AZ$8)))","v":""},{"$f":"IF(ISBLANK('Data Input'!A397),\"\",SUM('Data Input'!R397,'Data Input'!AA397,'Data Input'!AB397,'Data Input'!AC397,'Data Input'!AE397,'Data Input'!AH397,'Data Input'!AQ397,'Data Input'!AR397))","v":""},{"$f":"IF(G393=\"\",\"\",G393/COUNTIF('Data Input'!$C$8:$AZ$8,$G$2))","v":""},{"$f":"IF(ISBLANK('Data Input'!A397),\"\",SUM('Data Input'!D397,'Data Input'!E397,'Data Input'!F397,'Data Input'!G397,'Data Input'!H397,'Data Input'!J397,'Data Input'!K397,'Data Input'!O397,'Data Input'!U397,'Data Input'!V397,'Data Input'!W397,'Data Input'!X397,'Data Input'!Z397,'Data Input'!AG397,'Data Input'!AI397,'Data Input'!AJ397,'Data Input'!AK397))","v":""},{"$f":"IF(I393=\"\",\"\",I393/COUNTIF('Data Input'!$C$8:$AZ$8,$I$2))","v":""},{"$f":"IF(ISBLANK('Data Input'!A397),\"\",SUM('Data Input'!AF397,'Data Input'!AV397))","v":""},{"$f":"IF(K393=\"\",\"\",K393/COUNTIF('Data Input'!$C$8:$AZ$8,$K$2))","v":""},{"$f":"IF(ISBLANK('Data Input'!A397),\"\",SUM('Data Input'!C397,'Data Input'!I397,'Data Input'!L397,'Data Input'!M397,'Data Input'!N397,'Data Input'!P397,'Data Input'!S397,'Data Input'!T397,'Data Input'!Y397,'Data Input'!AD397,'Data Input'!AL397,'Data Input'!AM397,'Data Input'!AN397,'Data Input'!AO397,'Data Input'!AP397,'Data Input'!AS397))","v":""},{"$f":"IF(M393=\"\",\"\",M393/COUNTIF('Data Input'!$C$8:$AZ$8,$M$2))","v":""},{"$f":"IF(ISBLANK('Data Input'!A397),\"\",SUM('Data Input'!AY397,'Data Input'!AZ397))","v":""},{"$f":"IF(O393=\"\",\"\",O393/COUNTIF('Data Input'!$C$8:$AZ$8,$O$2))","v":""},{"$f":"IF(ISBLANK('Data Input'!A397),\"\",SUM('Data Input'!AW397))","v":""},{"$f":"IF(Q393=\"\",\"\",Q393/COUNTIF('Data Input'!$C$8:$AZ$8,$Q$2))","v":""},{"$f":"IF(ISBLANK('Data Input'!$A397),\"\",SUM('Data Input'!Q397,'Data Input'!AT397,'Data Input'!AU397))","v":""},{"$f":"IF(S393=\"\",\"\",S393/COUNTIF('Data Input'!$C$8:$AZ$8,$S$2))","v":""},{"$f":"IF(ISBLANK('Data Input'!$A397),\"\",SUM('Data Input'!AX397))","v":""},{"$f":"IF(U393=\"\",\"\",U393/COUNTIF('Data Input'!$C$8:$AZ$8,$U$2))","v":""}]
[{"$f":"IF('Data Input'!A398=0,\"\",'Data Input'!A398)","v":""},{"$f":"IF(ISBLANK('Data Input'!A398),\"\",COUNTIF('Data Input'!C398:AZ398,\"\"))","v":""},{"$f":"IF(ISBLANK('Data Input'!A398),\"\",COUNTIF('Data Input'!C398:AZ398,\"0\"))","v":""},{"$f":"IF(ISBLANK('Data Input'!A398),\"\",SUM(B394,C394))","v":""},{"$f":"IF(ISBLANK('Data Input'!A398),\"\",SUM('Data Input'!C398:AZ398))","v":""},{"$f":"IF(E394=\"\",\"\",E394/(COUNTA('Data Input'!$C$8:$AZ$8)))","v":""},{"$f":"IF(ISBLANK('Data Input'!A398),\"\",SUM('Data Input'!R398,'Data Input'!AA398,'Data Input'!AB398,'Data Input'!AC398,'Data Input'!AE398,'Data Input'!AH398,'Data Input'!AQ398,'Data Input'!AR398))","v":""},{"$f":"IF(G394=\"\",\"\",G394/COUNTIF('Data Input'!$C$8:$AZ$8,$G$2))","v":""},{"$f":"IF(ISBLANK('Data Input'!A398),\"\",SUM('Data Input'!D398,'Data Input'!E398,'Data Input'!F398,'Data Input'!G398,'Data Input'!H398,'Data Input'!J398,'Data Input'!K398,'Data Input'!O398,'Data Input'!U398,'Data Input'!V398,'Data Input'!W398,'Data Input'!X398,'Data Input'!Z398,'Data Input'!AG398,'Data Input'!AI398,'Data Input'!AJ398,'Data Input'!AK398))","v":""},{"$f":"IF(I394=\"\",\"\",I394/COUNTIF('Data Input'!$C$8:$AZ$8,$I$2))","v":""},{"$f":"IF(ISBLANK('Data Input'!A398),\"\",SUM('Data Input'!AF398,'Data Input'!AV398))","v":""},{"$f":"IF(K394=\"\",\"\",K394/COUNTIF('Data Input'!$C$8:$AZ$8,$K$2))","v":""},{"$f":"IF(ISBLANK('Data Input'!A398),\"\",SUM('Data Input'!C398,'Data Input'!I398,'Data Input'!L398,'Data Input'!M398,'Data Input'!N398,'Data Input'!P398,'Data Input'!S398,'Data Input'!T398,'Data Input'!Y398,'Data Input'!AD398,'Data Input'!AL398,'Data Input'!AM398,'Data Input'!AN398,'Data Input'!AO398,'Data Input'!AP398,'Data Input'!AS398))","v":""},{"$f":"IF(M394=\"\",\"\",M394/COUNTIF('Data Input'!$C$8:$AZ$8,$M$2))","v":""},{"$f":"IF(ISBLANK('Data Input'!A398),\"\",SUM('Data Input'!AY398,'Data Input'!AZ398))","v":""},{"$f":"IF(O394=\"\",\"\",O394/COUNTIF('Data Input'!$C$8:$AZ$8,$O$2))","v":""},{"$f":"IF(ISBLANK('Data Input'!A398),\"\",SUM('Data Input'!AW398))","v":""},{"$f":"IF(Q394=\"\",\"\",Q394/COUNTIF('Data Input'!$C$8:$AZ$8,$Q$2))","v":""},{"$f":"IF(ISBLANK('Data Input'!$A398),\"\",SUM('Data Input'!Q398,'Data Input'!AT398,'Data Input'!AU398))","v":""},{"$f":"IF(S394=\"\",\"\",S394/COUNTIF('Data Input'!$C$8:$AZ$8,$S$2))","v":""},{"$f":"IF(ISBLANK('Data Input'!$A398),\"\",SUM('Data Input'!AX398))","v":""},{"$f":"IF(U394=\"\",\"\",U394/COUNTIF('Data Input'!$C$8:$AZ$8,$U$2))","v":""}]
[{"$f":"IF('Data Input'!A399=0,\"\",'Data Input'!A399)","v":""},{"$f":"IF(ISBLANK('Data Input'!A399),\"\",COUNTIF('Data Input'!C399:AZ399,\"\"))","v":""},{"$f":"IF(ISBLANK('Data Input'!A399),\"\",COUNTIF('Data Input'!C399:AZ399,\"0\"))","v":""},{"$f":"IF(ISBLANK('Data Input'!A399),\"\",SUM(B395,C395))","v":""},{"$f":"IF(ISBLANK('Data Input'!A399),\"\",SUM('Data Input'!C399:AZ399))","v":""},{"$f":"IF(E395=\"\",\"\",E395/(COUNTA('Data Input'!$C$8:$AZ$8)))","v":""},{"$f":"IF(ISBLANK('Data Input'!A399),\"\",SUM('Data Input'!R399,'Data Input'!AA399,'Data Input'!AB399,'Data Input'!AC399,'Data Input'!AE399,'Data Input'!AH399,'Data Input'!AQ399,'Data Input'!AR399))","v":""},{"$f":"IF(G395=\"\",\"\",G395/COUNTIF('Data Input'!$C$8:$AZ$8,$G$2))","v":""},{"$f":"IF(ISBLANK('Data Input'!A399),\"\",SUM('Data Input'!D399,'Data Input'!E399,'Data Input'!F399,'Data Input'!G399,'Data Input'!H399,'Data Input'!J399,'Data Input'!K399,'Data Input'!O399,'Data Input'!U399,'Data Input'!V399,'Data Input'!W399,'Data Input'!X399,'Data Input'!Z399,'Data Input'!AG399,'Data Input'!AI399,'Data Input'!AJ399,'Data Input'!AK399))","v":""},{"$f":"IF(I395=\"\",\"\",I395/COUNTIF('Data Input'!$C$8:$AZ$8,$I$2))","v":""},{"$f":"IF(ISBLANK('Data Input'!A399),\"\",SUM('Data Input'!AF399,'Data Input'!AV399))","v":""},{"$f":"IF(K395=\"\",\"\",K395/COUNTIF('Data Input'!$C$8:$AZ$8,$K$2))","v":""},{"$f":"IF(ISBLANK('Data Input'!A399),\"\",SUM('Data Input'!C399,'Data Input'!I399,'Data Input'!L399,'Data Input'!M399,'Data Input'!N399,'Data Input'!P399,'Data Input'!S399,'Data Input'!T399,'Data Input'!Y399,'Data Input'!AD399,'Data Input'!AL399,'Data Input'!AM399,'Data Input'!AN399,'Data Input'!AO399,'Data Input'!AP399,'Data Input'!AS399))","v":""},{"$f":"IF(M395=\"\",\"\",M395/COUNTIF('Data Input'!$C$8:$AZ$8,$M$2))","v":""},{"$f":"IF(ISBLANK('Data Input'!A399),\"\",SUM('Data Input'!AY399,'Data Input'!AZ399))","v":""},{"$f":"IF(O395=\"\",\"\",O395/COUNTIF('Data Input'!$C$8:$AZ$8,$O$2))","v":""},{"$f":"IF(ISBLANK('Data Input'!A399),\"\",SUM('Data Input'!AW399))","v":""},{"$f":"IF(Q395=\"\",\"\",Q395/COUNTIF('Data Input'!$C$8:$AZ$8,$Q$2))","v":""},{"$f":"IF(ISBLANK('Data Input'!$A399),\"\",SUM('Data Input'!Q399,'Data Input'!AT399,'Data Input'!AU399))","v":""},{"$f":"IF(S395=\"\",\"\",S395/COUNTIF('Data Input'!$C$8:$AZ$8,$S$2))","v":""},{"$f":"IF(ISBLANK('Data Input'!$A399),\"\",SUM('Data Input'!AX399))","v":""},{"$f":"IF(U395=\"\",\"\",U395/COUNTIF('Data Input'!$C$8:$AZ$8,$U$2))","v":""}]
[{"$f":"IF('Data Input'!A400=0,\"\",'Data Input'!A400)","v":""},{"$f":"IF(ISBLANK('Data Input'!A400),\"\",COUNTIF('Data Input'!C400:AZ400,\"\"))","v":""},{"$f":"IF(ISBLANK('Data Input'!A400),\"\",COUNTIF('Data Input'!C400:AZ400,\"0\"))","v":""},{"$f":"IF(ISBLANK('Data Input'!A400),\"\",SUM(B396,C396))","v":""},{"$f":"IF(ISBLANK('Data Input'!A400),\"\",SUM('Data Input'!C400:AZ400))","v":""},{"$f":"IF(E396=\"\",\"\",E396/(COUNTA('Data Input'!$C$8:$AZ$8)))","v":""},{"$f":"IF(ISBLANK('Data Input'!A400),\"\",SUM('Data Input'!R400,'Data Input'!AA400,'Data Input'!AB400,'Data Input'!AC400,'Data Input'!AE400,'Data Input'!AH400,'Data Input'!AQ400,'Data Input'!AR400))","v":""},{"$f":"IF(G396=\"\",\"\",G396/COUNTIF('Data Input'!$C$8:$AZ$8,$G$2))","v":""},{"$f":"IF(ISBLANK('Data Input'!A400),\"\",SUM('Data Input'!D400,'Data Input'!E400,'Data Input'!F400,'Data Input'!G400,'Data Input'!H400,'Data Input'!J400,'Data Input'!K400,'Data Input'!O400,'Data Input'!U400,'Data Input'!V400,'Data Input'!W400,'Data Input'!X400,'Data Input'!Z400,'Data Input'!AG400,'Data Input'!AI400,'Data Input'!AJ400,'Data Input'!AK400))","v":""},{"$f":"IF(I396=\"\",\"\",I396/COUNTIF('Data Input'!$C$8:$AZ$8,$I$2))","v":""},{"$f":"IF(ISBLANK('Data Input'!A400),\"\",SUM('Data Input'!AF400,'Data Input'!AV400))","v":""},{"$f":"IF(K396=\"\",\"\",K396/COUNTIF('Data Input'!$C$8:$AZ$8,$K$2))","v":""},{"$f":"IF(ISBLANK('Data Input'!A400),\"\",SUM('Data Input'!C400,'Data Input'!I400,'Data Input'!L400,'Data Input'!M400,'Data Input'!N400,'Data Input'!P400,'Data Input'!S400,'Data Input'!T400,'Data Input'!Y400,'Data Input'!AD400,'Data Input'!AL400,'Data Input'!AM400,'Data Input'!AN400,'Data Input'!AO400,'Data Input'!AP400,'Data Input'!AS400))","v":""},{"$f":"IF(M396=\"\",\"\",M396/COUNTIF('Data Input'!$C$8:$AZ$8,$M$2))","v":""},{"$f":"IF(ISBLANK('Data Input'!A400),\"\",SUM('Data Input'!AY400,'Data Input'!AZ400))","v":""},{"$f":"IF(O396=\"\",\"\",O396/COUNTIF('Data Input'!$C$8:$AZ$8,$O$2))","v":""},{"$f":"IF(ISBLANK('Data Input'!A400),\"\",SUM('Data Input'!AW400))","v":""},{"$f":"IF(Q396=\"\",\"\",Q396/COUNTIF('Data Input'!$C$8:$AZ$8,$Q$2))","v":""},{"$f":"IF(ISBLANK('Data Input'!$A400),\"\",SUM('Data Input'!Q400,'Data Input'!AT400,'Data Input'!AU400))","v":""},{"$f":"IF(S396=\"\",\"\",S396/COUNTIF('Data Input'!$C$8:$AZ$8,$S$2))","v":""},{"$f":"IF(ISBLANK('Data Input'!$A400),\"\",SUM('Data Input'!AX400))","v":""},{"$f":"IF(U396=\"\",\"\",U396/COUNTIF('Data Input'!$C$8:$AZ$8,$U$2))","v":""}]
[{"$f":"IF('Data Input'!A401=0,\"\",'Data Input'!A401)","v":""},{"$f":"IF(ISBLANK('Data Input'!A401),\"\",COUNTIF('Data Input'!C401:AZ401,\"\"))","v":""},{"$f":"IF(ISBLANK('Data Input'!A401),\"\",COUNTIF('Data Input'!C401:AZ401,\"0\"))","v":""},{"$f":"IF(ISBLANK('Data Input'!A401),\"\",SUM(B397,C397))","v":""},{"$f":"IF(ISBLANK('Data Input'!A401),\"\",SUM('Data Input'!C401:AZ401))","v":""},{"$f":"IF(E397=\"\",\"\",E397/(COUNTA('Data Input'!$C$8:$AZ$8)))","v":""},{"$f":"IF(ISBLANK('Data Input'!A401),\"\",SUM('Data Input'!R401,'Data Input'!AA401,'Data Input'!AB401,'Data Input'!AC401,'Data Input'!AE401,'Data Input'!AH401,'Data Input'!AQ401,'Data Input'!AR401))","v":""},{"$f":"IF(G397=\"\",\"\",G397/COUNTIF('Data Input'!$C$8:$AZ$8,$G$2))","v":""},{"$f":"IF(ISBLANK('Data Input'!A401),\"\",SUM('Data Input'!D401,'Data Input'!E401,'Data Input'!F401,'Data Input'!G401,'Data Input'!H401,'Data Input'!J401,'Data Input'!K401,'Data Input'!O401,'Data Input'!U401,'Data Input'!V401,'Data Input'!W401,'Data Input'!X401,'Data Input'!Z401,'Data Input'!AG401,'Data Input'!AI401,'Data Input'!AJ401,'Data Input'!AK401))","v":""},{"$f":"IF(I397=\"\",\"\",I397/COUNTIF('Data Input'!$C$8:$AZ$8,$I$2))","v":""},{"$f":"IF(ISBLANK('Data Input'!A401),\"\",SUM('Data Input'!AF401,'Data Input'!AV401))","v":""},{"$f":"IF(K397=\"\",\"\",K397/COUNTIF('Data Input'!$C$8:$AZ$8,$K$2))","v":""},{"$f":"IF(ISBLANK('Data Input'!A401),\"\",SUM('Data Input'!C401,'Data Input'!I401,'Data Input'!L401,'Data Input'!M401,'Data Input'!N401,'Data Input'!P401,'Data Input'!S401,'Data Input'!T401,'Data Input'!Y401,'Data Input'!AD401,'Data Input'!AL401,'Data Input'!AM401,'Data Input'!AN401,'Data Input'!AO401,'Data Input'!AP401,'Data Input'!AS401))","v":""},{"$f":"IF(M397=\"\",\"\",M397/COUNTIF('Data Input'!$C$8:$AZ$8,$M$2))","v":""},{"$f":"IF(ISBLANK('Data Input'!A401),\"\",SUM('Data Input'!AY401,'Data Input'!AZ401))","v":""},{"$f":"IF(O397=\"\",\"\",O397/COUNTIF('Data Input'!$C$8:$AZ$8,$O$2))","v":""},{"$f":"IF(ISBLANK('Data Input'!A401),\"\",SUM('Data Input'!AW401))","v":""},{"$f":"IF(Q397=\"\",\"\",Q397/COUNTIF('Data Input'!$C$8:$AZ$8,$Q$2))","v":""},{"$f":"IF(ISBLANK('Data Input'!$A401),\"\",SUM('Data Input'!Q401,'Data Input'!AT401,'Data Input'!AU401))","v":""},{"$f":"IF(S397=\"\",\"\",S397/COUNTIF('Data Input'!$C$8:$AZ$8,$S$2))","v":""},{"$f":"IF(ISBLANK('Data Input'!$A401),\"\",SUM('Data Input'!AX401))","v":""},{"$f":"IF(U397=\"\",\"\",U397/COUNTIF('Data Input'!$C$8:$AZ$8,$U$2))","v":""}]
[{"$f":"IF('Data Input'!A402=0,\"\",'Data Input'!A402)","v":""},{"$f":"IF(ISBLANK('Data Input'!A402),\"\",COUNTIF('Data Input'!C402:AZ402,\"\"))","v":""},{"$f":"IF(ISBLANK('Data Input'!A402),\"\",COUNTIF('Data Input'!C402:AZ402,\"0\"))","v":""},{"$f":"IF(ISBLANK('Data Input'!A402),\"\",SUM(B398,C398))","v":""},{"$f":"IF(ISBLANK('Data Input'!A402),\"\",SUM('Data Input'!C402:AZ402))","v":""},{"$f":"IF(E398=\"\",\"\",E398/(COUNTA('Data Input'!$C$8:$AZ$8)))","v":""},{"$f":"IF(ISBLANK('Data Input'!A402),\"\",SUM('Data Input'!R402,'Data Input'!AA402,'Data Input'!AB402,'Data Input'!AC402,'Data Input'!AE402,'Data Input'!AH402,'Data Input'!AQ402,'Data Input'!AR402))","v":""},{"$f":"IF(G398=\"\",\"\",G398/COUNTIF('Data Input'!$C$8:$AZ$8,$G$2))","v":""},{"$f":"IF(ISBLANK('Data Input'!A402),\"\",SUM('Data Input'!D402,'Data Input'!E402,'Data Input'!F402,'Data Input'!G402,'Data Input'!H402,'Data Input'!J402,'Data Input'!K402,'Data Input'!O402,'Data Input'!U402,'Data Input'!V402,'Data Input'!W402,'Data Input'!X402,'Data Input'!Z402,'Data Input'!AG402,'Data Input'!AI402,'Data Input'!AJ402,'Data Input'!AK402))","v":""},{"$f":"IF(I398=\"\",\"\",I398/COUNTIF('Data Input'!$C$8:$AZ$8,$I$2))","v":""},{"$f":"IF(ISBLANK('Data Input'!A402),\"\",SUM('Data Input'!AF402,'Data Input'!AV402))","v":""},{"$f":"IF(K398=\"\",\"\",K398/COUNTIF('Data Input'!$C$8:$AZ$8,$K$2))","v":""},{"$f":"IF(ISBLANK('Data Input'!A402),\"\",SUM('Data Input'!C402,'Data Input'!I402,'Data Input'!L402,'Data Input'!M402,'Data Input'!N402,'Data Input'!P402,'Data Input'!S402,'Data Input'!T402,'Data Input'!Y402,'Data Input'!AD402,'Data Input'!AL402,'Data Input'!AM402,'Data Input'!AN402,'Data Input'!AO402,'Data Input'!AP402,'Data Input'!AS402))","v":""},{"$f":"IF(M398=\"\",\"\",M398/COUNTIF('Data Input'!$C$8:$AZ$8,$M$2))","v":""},{"$f":"IF(ISBLANK('Data Input'!A402),\"\",SUM('Data Input'!AY402,'Data Input'!AZ402))","v":""},{"$f":"IF(O398=\"\",\"\",O398/COUNTIF('Data Input'!$C$8:$AZ$8,$O$2))","v":""},{"$f":"IF(ISBLANK('Data Input'!A402),\"\",SUM('Data Input'!AW402))","v":""},{"$f":"IF(Q398=\"\",\"\",Q398/COUNTIF('Data Input'!$C$8:$AZ$8,$Q$2))","v":""},{"$f":"IF(ISBLANK('Data Input'!$A402),\"\",SUM('Data Input'!Q402,'Data Input'!AT402,'Data Input'!AU402))","v":""},{"$f":"IF(S398=\"\",\"\",S398/COUNTIF('Data Input'!$C$8:$AZ$8,$S$2))","v":""},{"$f":"IF(ISBLANK('Data Input'!$A402),\"\",SUM('Data Input'!AX402))","v":""},{"$f":"IF(U398=\"\",\"\",U398/COUNTIF('Data Input'!$C$8:$AZ$8,$U$2))","v":""}]
[{"$f":"IF('Data Input'!A403=0,\"\",'Data Input'!A403)","v":""},{"$f":"IF(ISBLANK('Data Input'!A403),\"\",COUNTIF('Data Input'!C403:AZ403,\"\"))","v":""},{"$f":"IF(ISBLANK('Data Input'!A403),\"\",COUNTIF('Data Input'!C403:AZ403,\"0\"))","v":""},{"$f":"IF(ISBLANK('Data Input'!A403),\"\",SUM(B399,C399))","v":""},{"$f":"IF(ISBLANK('Data Input'!A403),\"\",SUM('Data Input'!C403:AZ403))","v":""},{"$f":"IF(E399=\"\",\"\",E399/(COUNTA('Data Input'!$C$8:$AZ$8)))","v":""},{"$f":"IF(ISBLANK('Data Input'!A403),\"\",SUM('Data Input'!R403,'Data Input'!AA403,'Data Input'!AB403,'Data Input'!AC403,'Data Input'!AE403,'Data Input'!AH403,'Data Input'!AQ403,'Data Input'!AR403))","v":""},{"$f":"IF(G399=\"\",\"\",G399/COUNTIF('Data Input'!$C$8:$AZ$8,$G$2))","v":""},{"$f":"IF(ISBLANK('Data Input'!A403),\"\",SUM('Data Input'!D403,'Data Input'!E403,'Data Input'!F403,'Data Input'!G403,'Data Input'!H403,'Data Input'!J403,'Data Input'!K403,'Data Input'!O403,'Data Input'!U403,'Data Input'!V403,'Data Input'!W403,'Data Input'!X403,'Data Input'!Z403,'Data Input'!AG403,'Data Input'!AI403,'Data Input'!AJ403,'Data Input'!AK403))","v":""},{"$f":"IF(I399=\"\",\"\",I399/COUNTIF('Data Input'!$C$8:$AZ$8,$I$2))","v":""},{"$f":"IF(ISBLANK('Data Input'!A403),\"\",SUM('Data Input'!AF403,'Data Input'!AV403))","v":""},{"$f":"IF(K399=\"\",\"\",K399/COUNTIF('Data Input'!$C$8:$AZ$8,$K$2))","v":""},{"$f":"IF(ISBLANK('Data Input'!A403),\"\",SUM('Data Input'!C403,'Data Input'!I403,'Data Input'!L403,'Data Input'!M403,'Data Input'!N403,'Data Input'!P403,'Data Input'!S403,'Data Input'!T403,'Data Input'!Y403,'Data Input'!AD403,'Data Input'!AL403,'Data Input'!AM403,'Data Input'!AN403,'Data Input'!AO403,'Data Input'!AP403,'Data Input'!AS403))","v":""},{"$f":"IF(M399=\"\",\"\",M399/COUNTIF('Data Input'!$C$8:$AZ$8,$M$2))","v":""},{"$f":"IF(ISBLANK('Data Input'!A403),\"\",SUM('Data Input'!AY403,'Data Input'!AZ403))","v":""},{"$f":"IF(O399=\"\",\"\",O399/COUNTIF('Data Input'!$C$8:$AZ$8,$O$2))","v":""},{"$f":"IF(ISBLANK('Data Input'!A403),\"\",SUM('Data Input'!AW403))","v":""},{"$f":"IF(Q399=\"\",\"\",Q399/COUNTIF('Data Input'!$C$8:$AZ$8,$Q$2))","v":""},{"$f":"IF(ISBLANK('Data Input'!$A403),\"\",SUM('Data Input'!Q403,'Data Input'!AT403,'Data Input'!AU403))","v":""},{"$f":"IF(S399=\"\",\"\",S399/COUNTIF('Data Input'!$C$8:$AZ$8,$S$2))","v":""},{"$f":"IF(ISBLANK('Data Input'!$A403),\"\",SUM('Data Input'!AX403))","v":""},{"$f":"IF(U399=\"\",\"\",U399/COUNTIF('Data Input'!$C$8:$AZ$8,$U$2))","v":""}]
[{"$f":"IF('Data Input'!A404=0,\"\",'Data Input'!A404)","v":""},{"$f":"IF(ISBLANK('Data Input'!A404),\"\",COUNTIF('Data Input'!C404:AZ404,\"\"))","v":""},{"$f":"IF(ISBLANK('Data Input'!A404),\"\",COUNTIF('Data Input'!C404:AZ404,\"0\"))","v":""},{"$f":"IF(ISBLANK('Data Input'!A404),\"\",SUM(B400,C400))","v":""},{"$f":"IF(ISBLANK('Data Input'!A404),\"\",SUM('Data Input'!C404:AZ404))","v":""},{"$f":"IF(E400=\"\",\"\",E400/(COUNTA('Data Input'!$C$8:$AZ$8)))","v":""},{"$f":"IF(ISBLANK('Data Input'!A404),\"\",SUM('Data Input'!R404,'Data Input'!AA404,'Data Input'!AB404,'Data Input'!AC404,'Data Input'!AE404,'Data Input'!AH404,'Data Input'!AQ404,'Data Input'!AR404))","v":""},{"$f":"IF(G400=\"\",\"\",G400/COUNTIF('Data Input'!$C$8:$AZ$8,$G$2))","v":""},{"$f":"IF(ISBLANK('Data Input'!A404),\"\",SUM('Data Input'!D404,'Data Input'!E404,'Data Input'!F404,'Data Input'!G404,'Data Input'!H404,'Data Input'!J404,'Data Input'!K404,'Data Input'!O404,'Data Input'!U404,'Data Input'!V404,'Data Input'!W404,'Data Input'!X404,'Data Input'!Z404,'Data Input'!AG404,'Data Input'!AI404,'Data Input'!AJ404,'Data Input'!AK404))","v":""},{"$f":"IF(I400=\"\",\"\",I400/COUNTIF('Data Input'!$C$8:$AZ$8,$I$2))","v":""},{"$f":"IF(ISBLANK('Data Input'!A404),\"\",SUM('Data Input'!AF404,'Data Input'!AV404))","v":""},{"$f":"IF(K400=\"\",\"\",K400/COUNTIF('Data Input'!$C$8:$AZ$8,$K$2))","v":""},{"$f":"IF(ISBLANK('Data Input'!A404),\"\",SUM('Data Input'!C404,'Data Input'!I404,'Data Input'!L404,'Data Input'!M404,'Data Input'!N404,'Data Input'!P404,'Data Input'!S404,'Data Input'!T404,'Data Input'!Y404,'Data Input'!AD404,'Data Input'!AL404,'Data Input'!AM404,'Data Input'!AN404,'Data Input'!AO404,'Data Input'!AP404,'Data Input'!AS404))","v":""},{"$f":"IF(M400=\"\",\"\",M400/COUNTIF('Data Input'!$C$8:$AZ$8,$M$2))","v":""},{"$f":"IF(ISBLANK('Data Input'!A404),\"\",SUM('Data Input'!AY404,'Data Input'!AZ404))","v":""},{"$f":"IF(O400=\"\",\"\",O400/COUNTIF('Data Input'!$C$8:$AZ$8,$O$2))","v":""},{"$f":"IF(ISBLANK('Data Input'!A404),\"\",SUM('Data Input'!AW404))","v":""},{"$f":"IF(Q400=\"\",\"\",Q400/COUNTIF('Data Input'!$C$8:$AZ$8,$Q$2))","v":""},{"$f":"IF(ISBLANK('Data Input'!$A404),\"\",SUM('Data Input'!Q404,'Data Input'!AT404,'Data Input'!AU404))","v":""},{"$f":"IF(S400=\"\",\"\",S400/COUNTIF('Data Input'!$C$8:$AZ$8,$S$2))","v":""},{"$f":"IF(ISBLANK('Data Input'!$A404),\"\",SUM('Data Input'!AX404))","v":""},{"$f":"IF(U400=\"\",\"\",U400/COUNTIF('Data Input'!$C$8:$AZ$8,$U$2))","v":""}]
[{"$f":"IF('Data Input'!A405=0,\"\",'Data Input'!A405)","v":""},{"$f":"IF(ISBLANK('Data Input'!A405),\"\",COUNTIF('Data Input'!C405:AZ405,\"\"))","v":""},{"$f":"IF(ISBLANK('Data Input'!A405),\"\",COUNTIF('Data Input'!C405:AZ405,\"0\"))","v":""},{"$f":"IF(ISBLANK('Data Input'!A405),\"\",SUM(B401,C401))","v":""},{"$f":"IF(ISBLANK('Data Input'!A405),\"\",SUM('Data Input'!C405:AZ405))","v":""},{"$f":"IF(E401=\"\",\"\",E401/(COUNTA('Data Input'!$C$8:$AZ$8)))","v":""},{"$f":"IF(ISBLANK('Data Input'!A405),\"\",SUM('Data Input'!R405,'Data Input'!AA405,'Data Input'!AB405,'Data Input'!AC405,'Data Input'!AE405,'Data Input'!AH405,'Data Input'!AQ405,'Data Input'!AR405))","v":""},{"$f":"IF(G401=\"\",\"\",G401/COUNTIF('Data Input'!$C$8:$AZ$8,$G$2))","v":""},{"$f":"IF(ISBLANK('Data Input'!A405),\"\",SUM('Data Input'!D405,'Data Input'!E405,'Data Input'!F405,'Data Input'!G405,'Data Input'!H405,'Data Input'!J405,'Data Input'!K405,'Data Input'!O405,'Data Input'!U405,'Data Input'!V405,'Data Input'!W405,'Data Input'!X405,'Data Input'!Z405,'Data Input'!AG405,'Data Input'!AI405,'Data Input'!AJ405,'Data Input'!AK405))","v":""},{"$f":"IF(I401=\"\",\"\",I401/COUNTIF('Data Input'!$C$8:$AZ$8,$I$2))","v":""},{"$f":"IF(ISBLANK('Data Input'!A405),\"\",SUM('Data Input'!AF405,'Data Input'!AV405))","v":""},{"$f":"IF(K401=\"\",\"\",K401/COUNTIF('Data Input'!$C$8:$AZ$8,$K$2))","v":""},{"$f":"IF(ISBLANK('Data Input'!A405),\"\",SUM('Data Input'!C405,'Data Input'!I405,'Data Input'!L405,'Data Input'!M405,'Data Input'!N405,'Data Input'!P405,'Data Input'!S405,'Data Input'!T405,'Data Input'!Y405,'Data Input'!AD405,'Data Input'!AL405,'Data Input'!AM405,'Data Input'!AN405,'Data Input'!AO405,'Data Input'!AP405,'Data Input'!AS405))","v":""},{"$f":"IF(M401=\"\",\"\",M401/COUNTIF('Data Input'!$C$8:$AZ$8,$M$2))","v":""},{"$f":"IF(ISBLANK('Data Input'!A405),\"\",SUM('Data Input'!AY405,'Data Input'!AZ405))","v":""},{"$f":"IF(O401=\"\",\"\",O401/COUNTIF('Data Input'!$C$8:$AZ$8,$O$2))","v":""},{"$f":"IF(ISBLANK('Data Input'!A405),\"\",SUM('Data Input'!AW405))","v":""},{"$f":"IF(Q401=\"\",\"\",Q401/COUNTIF('Data Input'!$C$8:$AZ$8,$Q$2))","v":""},{"$f":"IF(ISBLANK('Data Input'!$A405),\"\",SUM('Data Input'!Q405,'Data Input'!AT405,'Data Input'!AU405))","v":""},{"$f":"IF(S401=\"\",\"\",S401/COUNTIF('Data Input'!$C$8:$AZ$8,$S$2))","v":""},{"$f":"IF(ISBLANK('Data Input'!$A405),\"\",SUM('Data Input'!AX405))","v":""},{"$f":"IF(U401=\"\",\"\",U401/COUNTIF('Data Input'!$C$8:$AZ$8,$U$2))","v":""}]
[{"$f":"IF('Data Input'!A406=0,\"\",'Data Input'!A406)","v":""},{"$f":"IF(ISBLANK('Data Input'!A406),\"\",COUNTIF('Data Input'!C406:AZ406,\"\"))","v":""},{"$f":"IF(ISBLANK('Data Input'!A406),\"\",COUNTIF('Data Input'!C406:AZ406,\"0\"))","v":""},{"$f":"IF(ISBLANK('Data Input'!A406),\"\",SUM(B402,C402))","v":""},{"$f":"IF(ISBLANK('Data Input'!A406),\"\",SUM('Data Input'!C406:AZ406))","v":""},{"$f":"IF(E402=\"\",\"\",E402/(COUNTA('Data Input'!$C$8:$AZ$8)))","v":""},{"$f":"IF(ISBLANK('Data Input'!A406),\"\",SUM('Data Input'!R406,'Data Input'!AA406,'Data Input'!AB406,'Data Input'!AC406,'Data Input'!AE406,'Data Input'!AH406,'Data Input'!AQ406,'Data Input'!AR406))","v":""},{"$f":"IF(G402=\"\",\"\",G402/COUNTIF('Data Input'!$C$8:$AZ$8,$G$2))","v":""},{"$f":"IF(ISBLANK('Data Input'!A406),\"\",SUM('Data Input'!D406,'Data Input'!E406,'Data Input'!F406,'Data Input'!G406,'Data Input'!H406,'Data Input'!J406,'Data Input'!K406,'Data Input'!O406,'Data Input'!U406,'Data Input'!V406,'Data Input'!W406,'Data Input'!X406,'Data Input'!Z406,'Data Input'!AG406,'Data Input'!AI406,'Data Input'!AJ406,'Data Input'!AK406))","v":""},{"$f":"IF(I402=\"\",\"\",I402/COUNTIF('Data Input'!$C$8:$AZ$8,$I$2))","v":""},{"$f":"IF(ISBLANK('Data Input'!A406),\"\",SUM('Data Input'!AF406,'Data Input'!AV406))","v":""},{"$f":"IF(K402=\"\",\"\",K402/COUNTIF('Data Input'!$C$8:$AZ$8,$K$2))","v":""},{"$f":"IF(ISBLANK('Data Input'!A406),\"\",SUM('Data Input'!C406,'Data Input'!I406,'Data Input'!L406,'Data Input'!M406,'Data Input'!N406,'Data Input'!P406,'Data Input'!S406,'Data Input'!T406,'Data Input'!Y406,'Data Input'!AD406,'Data Input'!AL406,'Data Input'!AM406,'Data Input'!AN406,'Data Input'!AO406,'Data Input'!AP406,'Data Input'!AS406))","v":""},{"$f":"IF(M402=\"\",\"\",M402/COUNTIF('Data Input'!$C$8:$AZ$8,$M$2))","v":""},{"$f":"IF(ISBLANK('Data Input'!A406),\"\",SUM('Data Input'!AY406,'Data Input'!AZ406))","v":""},{"$f":"IF(O402=\"\",\"\",O402/COUNTIF('Data Input'!$C$8:$AZ$8,$O$2))","v":""},{"$f":"IF(ISBLANK('Data Input'!A406),\"\",SUM('Data Input'!AW406))","v":""},{"$f":"IF(Q402=\"\",\"\",Q402/COUNTIF('Data Input'!$C$8:$AZ$8,$Q$2))","v":""},{"$f":"IF(ISBLANK('Data Input'!$A406),\"\",SUM('Data Input'!Q406,'Data Input'!AT406,'Data Input'!AU406))","v":""},{"$f":"IF(S402=\"\",\"\",S402/COUNTIF('Data Input'!$C$8:$AZ$8,$S$2))","v":""},{"$f":"IF(ISBLANK('Data Input'!$A406),\"\",SUM('Data Input'!AX406))","v":""},{"$f":"IF(U402=\"\",\"\",U402/COUNTIF('Data Input'!$C$8:$AZ$8,$U$2))","v":""}]
[{"$f":"IF('Data Input'!A407=0,\"\",'Data Input'!A407)","v":""},{"$f":"IF(ISBLANK('Data Input'!A407),\"\",COUNTIF('Data Input'!C407:AZ407,\"\"))","v":""},{"$f":"IF(ISBLANK('Data Input'!A407),\"\",COUNTIF('Data Input'!C407:AZ407,\"0\"))","v":""},{"$f":"IF(ISBLANK('Data Input'!A407),\"\",SUM(B403,C403))","v":""},{"$f":"IF(ISBLANK('Data Input'!A407),\"\",SUM('Data Input'!C407:AZ407))","v":""},{"$f":"IF(E403=\"\",\"\",E403/(COUNTA('Data Input'!$C$8:$AZ$8)))","v":""},{"$f":"IF(ISBLANK('Data Input'!A407),\"\",SUM('Data Input'!R407,'Data Input'!AA407,'Data Input'!AB407,'Data Input'!AC407,'Data Input'!AE407,'Data Input'!AH407,'Data Input'!AQ407,'Data Input'!AR407))","v":""},{"$f":"IF(G403=\"\",\"\",G403/COUNTIF('Data Input'!$C$8:$AZ$8,$G$2))","v":""},{"$f":"IF(ISBLANK('Data Input'!A407),\"\",SUM('Data Input'!D407,'Data Input'!E407,'Data Input'!F407,'Data Input'!G407,'Data Input'!H407,'Data Input'!J407,'Data Input'!K407,'Data Input'!O407,'Data Input'!U407,'Data Input'!V407,'Data Input'!W407,'Data Input'!X407,'Data Input'!Z407,'Data Input'!AG407,'Data Input'!AI407,'Data Input'!AJ407,'Data Input'!AK407))","v":""},{"$f":"IF(I403=\"\",\"\",I403/COUNTIF('Data Input'!$C$8:$AZ$8,$I$2))","v":""},{"$f":"IF(ISBLANK('Data Input'!A407),\"\",SUM('Data Input'!AF407,'Data Input'!AV407))","v":""},{"$f":"IF(K403=\"\",\"\",K403/COUNTIF('Data Input'!$C$8:$AZ$8,$K$2))","v":""},{"$f":"IF(ISBLANK('Data Input'!A407),\"\",SUM('Data Input'!C407,'Data Input'!I407,'Data Input'!L407,'Data Input'!M407,'Data Input'!N407,'Data Input'!P407,'Data Input'!S407,'Data Input'!T407,'Data Input'!Y407,'Data Input'!AD407,'Data Input'!AL407,'Data Input'!AM407,'Data Input'!AN407,'Data Input'!AO407,'Data Input'!AP407,'Data Input'!AS407))","v":""},{"$f":"IF(M403=\"\",\"\",M403/COUNTIF('Data Input'!$C$8:$AZ$8,$M$2))","v":""},{"$f":"IF(ISBLANK('Data Input'!A407),\"\",SUM('Data Input'!AY407,'Data Input'!AZ407))","v":""},{"$f":"IF(O403=\"\",\"\",O403/COUNTIF('Data Input'!$C$8:$AZ$8,$O$2))","v":""},{"$f":"IF(ISBLANK('Data Input'!A407),\"\",SUM('Data Input'!AW407))","v":""},{"$f":"IF(Q403=\"\",\"\",Q403/COUNTIF('Data Input'!$C$8:$AZ$8,$Q$2))","v":""},{"$f":"IF(ISBLANK('Data Input'!$A407),\"\",SUM('Data Input'!Q407,'Data Input'!AT407,'Data Input'!AU407))","v":""},{"$f":"IF(S403=\"\",\"\",S403/COUNTIF('Data Input'!$C$8:$AZ$8,$S$2))","v":""},{"$f":"IF(ISBLANK('Data Input'!$A407),\"\",SUM('Data Input'!AX407))","v":""},{"$f":"IF(U403=\"\",\"\",U403/COUNTIF('Data Input'!$C$8:$AZ$8,$U$2))","v":""}]
[{"$f":"IF('Data Input'!A408=0,\"\",'Data Input'!A408)","v":""},{"$f":"IF(ISBLANK('Data Input'!A408),\"\",COUNTIF('Data Input'!C408:AZ408,\"\"))","v":""},{"$f":"IF(ISBLANK('Data Input'!A408),\"\",COUNTIF('Data Input'!C408:AZ408,\"0\"))","v":""},{"$f":"IF(ISBLANK('Data Input'!A408),\"\",SUM(B404,C404))","v":""},{"$f":"IF(ISBLANK('Data Input'!A408),\"\",SUM('Data Input'!C408:AZ408))","v":""},{"$f":"IF(E404=\"\",\"\",E404/(COUNTA('Data Input'!$C$8:$AZ$8)))","v":""},{"$f":"IF(ISBLANK('Data Input'!A408),\"\",SUM('Data Input'!R408,'Data Input'!AA408,'Data Input'!AB408,'Data Input'!AC408,'Data Input'!AE408,'Data Input'!AH408,'Data Input'!AQ408,'Data Input'!AR408))","v":""},{"$f":"IF(G404=\"\",\"\",G404/COUNTIF('Data Input'!$C$8:$AZ$8,$G$2))","v":""},{"$f":"IF(ISBLANK('Data Input'!A408),\"\",SUM('Data Input'!D408,'Data Input'!E408,'Data Input'!F408,'Data Input'!G408,'Data Input'!H408,'Data Input'!J408,'Data Input'!K408,'Data Input'!O408,'Data Input'!U408,'Data Input'!V408,'Data Input'!W408,'Data Input'!X408,'Data Input'!Z408,'Data Input'!AG408,'Data Input'!AI408,'Data Input'!AJ408,'Data Input'!AK408))","v":""},{"$f":"IF(I404=\"\",\"\",I404/COUNTIF('Data Input'!$C$8:$AZ$8,$I$2))","v":""},{"$f":"IF(ISBLANK('Data Input'!A408),\"\",SUM('Data Input'!AF408,'Data Input'!AV408))","v":""},{"$f":"IF(K404=\"\",\"\",K404/COUNTIF('Data Input'!$C$8:$AZ$8,$K$2))","v":""},{"$f":"IF(ISBLANK('Data Input'!A408),\"\",SUM('Data Input'!C408,'Data Input'!I408,'Data Input'!L408,'Data Input'!M408,'Data Input'!N408,'Data Input'!P408,'Data Input'!S408,'Data Input'!T408,'Data Input'!Y408,'Data Input'!AD408,'Data Input'!AL408,'Data Input'!AM408,'Data Input'!AN408,'Data Input'!AO408,'Data Input'!AP408,'Data Input'!AS408))","v":""},{"$f":"IF(M404=\"\",\"\",M404/COUNTIF('Data Input'!$C$8:$AZ$8,$M$2))","v":""},{"$f":"IF(ISBLANK('Data Input'!A408),\"\",SUM('Data Input'!AY408,'Data Input'!AZ408))","v":""},{"$f":"IF(O404=\"\",\"\",O404/COUNTIF('Data Input'!$C$8:$AZ$8,$O$2))","v":""},{"$f":"IF(ISBLANK('Data Input'!A408),\"\",SUM('Data Input'!AW408))","v":""},{"$f":"IF(Q404=\"\",\"\",Q404/COUNTIF('Data Input'!$C$8:$AZ$8,$Q$2))","v":""},{"$f":"IF(ISBLANK('Data Input'!$A408),\"\",SUM('Data Input'!Q408,'Data Input'!AT408,'Data Input'!AU408))","v":""},{"$f":"IF(S404=\"\",\"\",S404/COUNTIF('Data Input'!$C$8:$AZ$8,$S$2))","v":""},{"$f":"IF(ISBLANK('Data Input'!$A408),\"\",SUM('Data Input'!AX408))","v":""},{"$f":"IF(U404=\"\",\"\",U404/COUNTIF('Data Input'!$C$8:$AZ$8,$U$2))","v":""}]
[{"$f":"IF('Data Input'!A409=0,\"\",'Data Input'!A409)","v":""},{"$f":"IF(ISBLANK('Data Input'!A409),\"\",COUNTIF('Data Input'!C409:AZ409,\"\"))","v":""},{"$f":"IF(ISBLANK('Data Input'!A409),\"\",COUNTIF('Data Input'!C409:AZ409,\"0\"))","v":""},{"$f":"IF(ISBLANK('Data Input'!A409),\"\",SUM(B405,C405))","v":""},{"$f":"IF(ISBLANK('Data Input'!A409),\"\",SUM('Data Input'!C409:AZ409))","v":""},{"$f":"IF(E405=\"\",\"\",E405/(COUNTA('Data Input'!$C$8:$AZ$8)))","v":""},{"$f":"IF(ISBLANK('Data Input'!A409),\"\",SUM('Data Input'!R409,'Data Input'!AA409,'Data Input'!AB409,'Data Input'!AC409,'Data Input'!AE409,'Data Input'!AH409,'Data Input'!AQ409,'Data Input'!AR409))","v":""},{"$f":"IF(G405=\"\",\"\",G405/COUNTIF('Data Input'!$C$8:$AZ$8,$G$2))","v":""},{"$f":"IF(ISBLANK('Data Input'!A409),\"\",SUM('Data Input'!D409,'Data Input'!E409,'Data Input'!F409,'Data Input'!G409,'Data Input'!H409,'Data Input'!J409,'Data Input'!K409,'Data Input'!O409,'Data Input'!U409,'Data Input'!V409,'Data Input'!W409,'Data Input'!X409,'Data Input'!Z409,'Data Input'!AG409,'Data Input'!AI409,'Data Input'!AJ409,'Data Input'!AK409))","v":""},{"$f":"IF(I405=\"\",\"\",I405/COUNTIF('Data Input'!$C$8:$AZ$8,$I$2))","v":""},{"$f":"IF(ISBLANK('Data Input'!A409),\"\",SUM('Data Input'!AF409,'Data Input'!AV409))","v":""},{"$f":"IF(K405=\"\",\"\",K405/COUNTIF('Data Input'!$C$8:$AZ$8,$K$2))","v":""},{"$f":"IF(ISBLANK('Data Input'!A409),\"\",SUM('Data Input'!C409,'Data Input'!I409,'Data Input'!L409,'Data Input'!M409,'Data Input'!N409,'Data Input'!P409,'Data Input'!S409,'Data Input'!T409,'Data Input'!Y409,'Data Input'!AD409,'Data Input'!AL409,'Data Input'!AM409,'Data Input'!AN409,'Data Input'!AO409,'Data Input'!AP409,'Data Input'!AS409))","v":""},{"$f":"IF(M405=\"\",\"\",M405/COUNTIF('Data Input'!$C$8:$AZ$8,$M$2))","v":""},{"$f":"IF(ISBLANK('Data Input'!A409),\"\",SUM('Data Input'!AY409,'Data Input'!AZ409))","v":""},{"$f":"IF(O405=\"\",\"\",O405/COUNTIF('Data Input'!$C$8:$AZ$8,$O$2))","v":""},{"$f":"IF(ISBLANK('Data Input'!A409),\"\",SUM('Data Input'!AW409))","v":""},{"$f":"IF(Q405=\"\",\"\",Q405/COUNTIF('Data Input'!$C$8:$AZ$8,$Q$2))","v":""},{"$f":"IF(ISBLANK('Data Input'!$A409),\"\",SUM('Data Input'!Q409,'Data Input'!AT409,'Data Input'!AU409))","v":""},{"$f":"IF(S405=\"\",\"\",S405/COUNTIF('Data Input'!$C$8:$AZ$8,$S$2))","v":""},{"$f":"IF(ISBLANK('Data Input'!$A409),\"\",SUM('Data Input'!AX409))","v":""},{"$f":"IF(U405=\"\",\"\",U405/COUNTIF('Data Input'!$C$8:$AZ$8,$U$2))","v":""}]
[{"$f":"IF('Data Input'!A410=0,\"\",'Data Input'!A410)","v":""},{"$f":"IF(ISBLANK('Data Input'!A410),\"\",COUNTIF('Data Input'!C410:AZ410,\"\"))","v":""},{"$f":"IF(ISBLANK('Data Input'!A410),\"\",COUNTIF('Data Input'!C410:AZ410,\"0\"))","v":""},{"$f":"IF(ISBLANK('Data Input'!A410),\"\",SUM(B406,C406))","v":""},{"$f":"IF(ISBLANK('Data Input'!A410),\"\",SUM('Data Input'!C410:AZ410))","v":""},{"$f":"IF(E406=\"\",\"\",E406/(COUNTA('Data Input'!$C$8:$AZ$8)))","v":""},{"$f":"IF(ISBLANK('Data Input'!A410),\"\",SUM('Data Input'!R410,'Data Input'!AA410,'Data Input'!AB410,'Data Input'!AC410,'Data Input'!AE410,'Data Input'!AH410,'Data Input'!AQ410,'Data Input'!AR410))","v":""},{"$f":"IF(G406=\"\",\"\",G406/COUNTIF('Data Input'!$C$8:$AZ$8,$G$2))","v":""},{"$f":"IF(ISBLANK('Data Input'!A410),\"\",SUM('Data Input'!D410,'Data Input'!E410,'Data Input'!F410,'Data Input'!G410,'Data Input'!H410,'Data Input'!J410,'Data Input'!K410,'Data Input'!O410,'Data Input'!U410,'Data Input'!V410,'Data Input'!W410,'Data Input'!X410,'Data Input'!Z410,'Data Input'!AG410,'Data Input'!AI410,'Data Input'!AJ410,'Data Input'!AK410))","v":""},{"$f":"IF(I406=\"\",\"\",I406/COUNTIF('Data Input'!$C$8:$AZ$8,$I$2))","v":""},{"$f":"IF(ISBLANK('Data Input'!A410),\"\",SUM('Data Input'!AF410,'Data Input'!AV410))","v":""},{"$f":"IF(K406=\"\",\"\",K406/COUNTIF('Data Input'!$C$8:$AZ$8,$K$2))","v":""},{"$f":"IF(ISBLANK('Data Input'!A410),\"\",SUM('Data Input'!C410,'Data Input'!I410,'Data Input'!L410,'Data Input'!M410,'Data Input'!N410,'Data Input'!P410,'Data Input'!S410,'Data Input'!T410,'Data Input'!Y410,'Data Input'!AD410,'Data Input'!AL410,'Data Input'!AM410,'Data Input'!AN410,'Data Input'!AO410,'Data Input'!AP410,'Data Input'!AS410))","v":""},{"$f":"IF(M406=\"\",\"\",M406/COUNTIF('Data Input'!$C$8:$AZ$8,$M$2))","v":""},{"$f":"IF(ISBLANK('Data Input'!A410),\"\",SUM('Data Input'!AY410,'Data Input'!AZ410))","v":""},{"$f":"IF(O406=\"\",\"\",O406/COUNTIF('Data Input'!$C$8:$AZ$8,$O$2))","v":""},{"$f":"IF(ISBLANK('Data Input'!A410),\"\",SUM('Data Input'!AW410))","v":""},{"$f":"IF(Q406=\"\",\"\",Q406/COUNTIF('Data Input'!$C$8:$AZ$8,$Q$2))","v":""},{"$f":"IF(ISBLANK('Data Input'!$A410),\"\",SUM('Data Input'!Q410,'Data Input'!AT410,'Data Input'!AU410))","v":""},{"$f":"IF(S406=\"\",\"\",S406/COUNTIF('Data Input'!$C$8:$AZ$8,$S$2))","v":""},{"$f":"IF(ISBLANK('Data Input'!$A410),\"\",SUM('Data Input'!AX410))","v":""},{"$f":"IF(U406=\"\",\"\",U406/COUNTIF('Data Input'!$C$8:$AZ$8,$U$2))","v":""}]
[{"$f":"IF('Data Input'!A411=0,\"\",'Data Input'!A411)","v":""},{"$f":"IF(ISBLANK('Data Input'!A411),\"\",COUNTIF('Data Input'!C411:AZ411,\"\"))","v":""},{"$f":"IF(ISBLANK('Data Input'!A411),\"\",COUNTIF('Data Input'!C411:AZ411,\"0\"))","v":""},{"$f":"IF(ISBLANK('Data Input'!A411),\"\",SUM(B407,C407))","v":""},{"$f":"IF(ISBLANK('Data Input'!A411),\"\",SUM('Data Input'!C411:AZ411))","v":""},{"$f":"IF(E407=\"\",\"\",E407/(COUNTA('Data Input'!$C$8:$AZ$8)))","v":""},{"$f":"IF(ISBLANK('Data Input'!A411),\"\",SUM('Data Input'!R411,'Data Input'!AA411,'Data Input'!AB411,'Data Input'!AC411,'Data Input'!AE411,'Data Input'!AH411,'Data Input'!AQ411,'Data Input'!AR411))","v":""},{"$f":"IF(G407=\"\",\"\",G407/COUNTIF('Data Input'!$C$8:$AZ$8,$G$2))","v":""},{"$f":"IF(ISBLANK('Data Input'!A411),\"\",SUM('Data Input'!D411,'Data Input'!E411,'Data Input'!F411,'Data Input'!G411,'Data Input'!H411,'Data Input'!J411,'Data Input'!K411,'Data Input'!O411,'Data Input'!U411,'Data Input'!V411,'Data Input'!W411,'Data Input'!X411,'Data Input'!Z411,'Data Input'!AG411,'Data Input'!AI411,'Data Input'!AJ411,'Data Input'!AK411))","v":""},{"$f":"IF(I407=\"\",\"\",I407/COUNTIF('Data Input'!$C$8:$AZ$8,$I$2))","v":""},{"$f":"IF(ISBLANK('Data Input'!A411),\"\",SUM('Data Input'!AF411,'Data Input'!AV411))","v":""},{"$f":"IF(K407=\"\",\"\",K407/COUNTIF('Data Input'!$C$8:$AZ$8,$K$2))","v":""},{"$f":"IF(ISBLANK('Data Input'!A411),\"\",SUM('Data Input'!C411,'Data Input'!I411,'Data Input'!L411,'Data Input'!M411,'Data Input'!N411,'Data Input'!P411,'Data Input'!S411,'Data Input'!T411,'Data Input'!Y411,'Data Input'!AD411,'Data Input'!AL411,'Data Input'!AM411,'Data Input'!AN411,'Data Input'!AO411,'Data Input'!AP411,'Data Input'!AS411))","v":""},{"$f":"IF(M407=\"\",\"\",M407/COUNTIF('Data Input'!$C$8:$AZ$8,$M$2))","v":""},{"$f":"IF(ISBLANK('Data Input'!A411),\"\",SUM('Data Input'!AY411,'Data Input'!AZ411))","v":""},{"$f":"IF(O407=\"\",\"\",O407/COUNTIF('Data Input'!$C$8:$AZ$8,$O$2))","v":""},{"$f":"IF(ISBLANK('Data Input'!A411),\"\",SUM('Data Input'!AW411))","v":""},{"$f":"IF(Q407=\"\",\"\",Q407/COUNTIF('Data Input'!$C$8:$AZ$8,$Q$2))","v":""},{"$f":"IF(ISBLANK('Data Input'!$A411),\"\",SUM('Data Input'!Q411,'Data Input'!AT411,'Data Input'!AU411))","v":""},{"$f":"IF(S407=\"\",\"\",S407/COUNTIF('Data Input'!$C$8:$AZ$8,$S$2))","v":""},{"$f":"IF(ISBLANK('Data Input'!$A411),\"\",SUM('Data Input'!AX411))","v":""},{"$f":"IF(U407=\"\",\"\",U407/COUNTIF('Data Input'!$C$8:$AZ$8,$U$2))","v":""}]
[{"$f":"IF('Data Input'!A412=0,\"\",'Data Input'!A412)","v":""},{"$f":"IF(ISBLANK('Data Input'!A412),\"\",COUNTIF('Data Input'!C412:AZ412,\"\"))","v":""},{"$f":"IF(ISBLANK('Data Input'!A412),\"\",COUNTIF('Data Input'!C412:AZ412,\"0\"))","v":""},{"$f":"IF(ISBLANK('Data Input'!A412),\"\",SUM(B408,C408))","v":""},{"$f":"IF(ISBLANK('Data Input'!A412),\"\",SUM('Data Input'!C412:AZ412))","v":""},{"$f":"IF(E408=\"\",\"\",E408/(COUNTA('Data Input'!$C$8:$AZ$8)))","v":""},{"$f":"IF(ISBLANK('Data Input'!A412),\"\",SUM('Data Input'!R412,'Data Input'!AA412,'Data Input'!AB412,'Data Input'!AC412,'Data Input'!AE412,'Data Input'!AH412,'Data Input'!AQ412,'Data Input'!AR412))","v":""},{"$f":"IF(G408=\"\",\"\",G408/COUNTIF('Data Input'!$C$8:$AZ$8,$G$2))","v":""},{"$f":"IF(ISBLANK('Data Input'!A412),\"\",SUM('Data Input'!D412,'Data Input'!E412,'Data Input'!F412,'Data Input'!G412,'Data Input'!H412,'Data Input'!J412,'Data Input'!K412,'Data Input'!O412,'Data Input'!U412,'Data Input'!V412,'Data Input'!W412,'Data Input'!X412,'Data Input'!Z412,'Data Input'!AG412,'Data Input'!AI412,'Data Input'!AJ412,'Data Input'!AK412))","v":""},{"$f":"IF(I408=\"\",\"\",I408/COUNTIF('Data Input'!$C$8:$AZ$8,$I$2))","v":""},{"$f":"IF(ISBLANK('Data Input'!A412),\"\",SUM('Data Input'!AF412,'Data Input'!AV412))","v":""},{"$f":"IF(K408=\"\",\"\",K408/COUNTIF('Data Input'!$C$8:$AZ$8,$K$2))","v":""},{"$f":"IF(ISBLANK('Data Input'!A412),\"\",SUM('Data Input'!C412,'Data Input'!I412,'Data Input'!L412,'Data Input'!M412,'Data Input'!N412,'Data Input'!P412,'Data Input'!S412,'Data Input'!T412,'Data Input'!Y412,'Data Input'!AD412,'Data Input'!AL412,'Data Input'!AM412,'Data Input'!AN412,'Data Input'!AO412,'Data Input'!AP412,'Data Input'!AS412))","v":""},{"$f":"IF(M408=\"\",\"\",M408/COUNTIF('Data Input'!$C$8:$AZ$8,$M$2))","v":""},{"$f":"IF(ISBLANK('Data Input'!A412),\"\",SUM('Data Input'!AY412,'Data Input'!AZ412))","v":""},{"$f":"IF(O408=\"\",\"\",O408/COUNTIF('Data Input'!$C$8:$AZ$8,$O$2))","v":""},{"$f":"IF(ISBLANK('Data Input'!A412),\"\",SUM('Data Input'!AW412))","v":""},{"$f":"IF(Q408=\"\",\"\",Q408/COUNTIF('Data Input'!$C$8:$AZ$8,$Q$2))","v":""},{"$f":"IF(ISBLANK('Data Input'!$A412),\"\",SUM('Data Input'!Q412,'Data Input'!AT412,'Data Input'!AU412))","v":""},{"$f":"IF(S408=\"\",\"\",S408/COUNTIF('Data Input'!$C$8:$AZ$8,$S$2))","v":""},{"$f":"IF(ISBLANK('Data Input'!$A412),\"\",SUM('Data Input'!AX412))","v":""},{"$f":"IF(U408=\"\",\"\",U408/COUNTIF('Data Input'!$C$8:$AZ$8,$U$2))","v":""}]
[{"$f":"IF('Data Input'!A413=0,\"\",'Data Input'!A413)","v":""},{"$f":"IF(ISBLANK('Data Input'!A413),\"\",COUNTIF('Data Input'!C413:AZ413,\"\"))","v":""},{"$f":"IF(ISBLANK('Data Input'!A413),\"\",COUNTIF('Data Input'!C413:AZ413,\"0\"))","v":""},{"$f":"IF(ISBLANK('Data Input'!A413),\"\",SUM(B409,C409))","v":""},{"$f":"IF(ISBLANK('Data Input'!A413),\"\",SUM('Data Input'!C413:AZ413))","v":""},{"$f":"IF(E409=\"\",\"\",E409/(COUNTA('Data Input'!$C$8:$AZ$8)))","v":""},{"$f":"IF(ISBLANK('Data Input'!A413),\"\",SUM('Data Input'!R413,'Data Input'!AA413,'Data Input'!AB413,'Data Input'!AC413,'Data Input'!AE413,'Data Input'!AH413,'Data Input'!AQ413,'Data Input'!AR413))","v":""},{"$f":"IF(G409=\"\",\"\",G409/COUNTIF('Data Input'!$C$8:$AZ$8,$G$2))","v":""},{"$f":"IF(ISBLANK('Data Input'!A413),\"\",SUM('Data Input'!D413,'Data Input'!E413,'Data Input'!F413,'Data Input'!G413,'Data Input'!H413,'Data Input'!J413,'Data Input'!K413,'Data Input'!O413,'Data Input'!U413,'Data Input'!V413,'Data Input'!W413,'Data Input'!X413,'Data Input'!Z413,'Data Input'!AG413,'Data Input'!AI413,'Data Input'!AJ413,'Data Input'!AK413))","v":""},{"$f":"IF(I409=\"\",\"\",I409/COUNTIF('Data Input'!$C$8:$AZ$8,$I$2))","v":""},{"$f":"IF(ISBLANK('Data Input'!A413),\"\",SUM('Data Input'!AF413,'Data Input'!AV413))","v":""},{"$f":"IF(K409=\"\",\"\",K409/COUNTIF('Data Input'!$C$8:$AZ$8,$K$2))","v":""},{"$f":"IF(ISBLANK('Data Input'!A413),\"\",SUM('Data Input'!C413,'Data Input'!I413,'Data Input'!L413,'Data Input'!M413,'Data Input'!N413,'Data Input'!P413,'Data Input'!S413,'Data Input'!T413,'Data Input'!Y413,'Data Input'!AD413,'Data Input'!AL413,'Data Input'!AM413,'Data Input'!AN413,'Data Input'!AO413,'Data Input'!AP413,'Data Input'!AS413))","v":""},{"$f":"IF(M409=\"\",\"\",M409/COUNTIF('Data Input'!$C$8:$AZ$8,$M$2))","v":""},{"$f":"IF(ISBLANK('Data Input'!A413),\"\",SUM('Data Input'!AY413,'Data Input'!AZ413))","v":""},{"$f":"IF(O409=\"\",\"\",O409/COUNTIF('Data Input'!$C$8:$AZ$8,$O$2))","v":""},{"$f":"IF(ISBLANK('Data Input'!A413),\"\",SUM('Data Input'!AW413))","v":""},{"$f":"IF(Q409=\"\",\"\",Q409/COUNTIF('Data Input'!$C$8:$AZ$8,$Q$2))","v":""},{"$f":"IF(ISBLANK('Data Input'!$A413),\"\",SUM('Data Input'!Q413,'Data Input'!AT413,'Data Input'!AU413))","v":""},{"$f":"IF(S409=\"\",\"\",S409/COUNTIF('Data Input'!$C$8:$AZ$8,$S$2))","v":""},{"$f":"IF(ISBLANK('Data Input'!$A413),\"\",SUM('Data Input'!AX413))","v":""},{"$f":"IF(U409=\"\",\"\",U409/COUNTIF('Data Input'!$C$8:$AZ$8,$U$2))","v":""}]
[{"$f":"IF('Data Input'!A414=0,\"\",'Data Input'!A414)","v":""},{"$f":"IF(ISBLANK('Data Input'!A414),\"\",COUNTIF('Data Input'!C414:AZ414,\"\"))","v":""},{"$f":"IF(ISBLANK('Data Input'!A414),\"\",COUNTIF('Data Input'!C414:AZ414,\"0\"))","v":""},{"$f":"IF(ISBLANK('Data Input'!A414),\"\",SUM(B410,C410))","v":""},{"$f":"IF(ISBLANK('Data Input'!A414),\"\",SUM('Data Input'!C414:AZ414))","v":""},{"$f":"IF(E410=\"\",\"\",E410/(COUNTA('Data Input'!$C$8:$AZ$8)))","v":""},{"$f":"IF(ISBLANK('Data Input'!A414),\"\",SUM('Data Input'!R414,'Data Input'!AA414,'Data Input'!AB414,'Data Input'!AC414,'Data Input'!AE414,'Data Input'!AH414,'Data Input'!AQ414,'Data Input'!AR414))","v":""},{"$f":"IF(G410=\"\",\"\",G410/COUNTIF('Data Input'!$C$8:$AZ$8,$G$2))","v":""},{"$f":"IF(ISBLANK('Data Input'!A414),\"\",SUM('Data Input'!D414,'Data Input'!E414,'Data Input'!F414,'Data Input'!G414,'Data Input'!H414,'Data Input'!J414,'Data Input'!K414,'Data Input'!O414,'Data Input'!U414,'Data Input'!V414,'Data Input'!W414,'Data Input'!X414,'Data Input'!Z414,'Data Input'!AG414,'Data Input'!AI414,'Data Input'!AJ414,'Data Input'!AK414))","v":""},{"$f":"IF(I410=\"\",\"\",I410/COUNTIF('Data Input'!$C$8:$AZ$8,$I$2))","v":""},{"$f":"IF(ISBLANK('Data Input'!A414),\"\",SUM('Data Input'!AF414,'Data Input'!AV414))","v":""},{"$f":"IF(K410=\"\",\"\",K410/COUNTIF('Data Input'!$C$8:$AZ$8,$K$2))","v":""},{"$f":"IF(ISBLANK('Data Input'!A414),\"\",SUM('Data Input'!C414,'Data Input'!I414,'Data Input'!L414,'Data Input'!M414,'Data Input'!N414,'Data Input'!P414,'Data Input'!S414,'Data Input'!T414,'Data Input'!Y414,'Data Input'!AD414,'Data Input'!AL414,'Data Input'!AM414,'Data Input'!AN414,'Data Input'!AO414,'Data Input'!AP414,'Data Input'!AS414))","v":""},{"$f":"IF(M410=\"\",\"\",M410/COUNTIF('Data Input'!$C$8:$AZ$8,$M$2))","v":""},{"$f":"IF(ISBLANK('Data Input'!A414),\"\",SUM('Data Input'!AY414,'Data Input'!AZ414))","v":""},{"$f":"IF(O410=\"\",\"\",O410/COUNTIF('Data Input'!$C$8:$AZ$8,$O$2))","v":""},{"$f":"IF(ISBLANK('Data Input'!A414),\"\",SUM('Data Input'!AW414))","v":""},{"$f":"IF(Q410=\"\",\"\",Q410/COUNTIF('Data Input'!$C$8:$AZ$8,$Q$2))","v":""},{"$f":"IF(ISBLANK('Data Input'!$A414),\"\",SUM('Data Input'!Q414,'Data Input'!AT414,'Data Input'!AU414))","v":""},{"$f":"IF(S410=\"\",\"\",S410/COUNTIF('Data Input'!$C$8:$AZ$8,$S$2))","v":""},{"$f":"IF(ISBLANK('Data Input'!$A414),\"\",SUM('Data Input'!AX414))","v":""},{"$f":"IF(U410=\"\",\"\",U410/COUNTIF('Data Input'!$C$8:$AZ$8,$U$2))","v":""}]
[{"$f":"IF('Data Input'!A415=0,\"\",'Data Input'!A415)","v":""},{"$f":"IF(ISBLANK('Data Input'!A415),\"\",COUNTIF('Data Input'!C415:AZ415,\"\"))","v":""},{"$f":"IF(ISBLANK('Data Input'!A415),\"\",COUNTIF('Data Input'!C415:AZ415,\"0\"))","v":""},{"$f":"IF(ISBLANK('Data Input'!A415),\"\",SUM(B411,C411))","v":""},{"$f":"IF(ISBLANK('Data Input'!A415),\"\",SUM('Data Input'!C415:AZ415))","v":""},{"$f":"IF(E411=\"\",\"\",E411/(COUNTA('Data Input'!$C$8:$AZ$8)))","v":""},{"$f":"IF(ISBLANK('Data Input'!A415),\"\",SUM('Data Input'!R415,'Data Input'!AA415,'Data Input'!AB415,'Data Input'!AC415,'Data Input'!AE415,'Data Input'!AH415,'Data Input'!AQ415,'Data Input'!AR415))","v":""},{"$f":"IF(G411=\"\",\"\",G411/COUNTIF('Data Input'!$C$8:$AZ$8,$G$2))","v":""},{"$f":"IF(ISBLANK('Data Input'!A415),\"\",SUM('Data Input'!D415,'Data Input'!E415,'Data Input'!F415,'Data Input'!G415,'Data Input'!H415,'Data Input'!J415,'Data Input'!K415,'Data Input'!O415,'Data Input'!U415,'Data Input'!V415,'Data Input'!W415,'Data Input'!X415,'Data Input'!Z415,'Data Input'!AG415,'Data Input'!AI415,'Data Input'!AJ415,'Data Input'!AK415))","v":""},{"$f":"IF(I411=\"\",\"\",I411/COUNTIF('Data Input'!$C$8:$AZ$8,$I$2))","v":""},{"$f":"IF(ISBLANK('Data Input'!A415),\"\",SUM('Data Input'!AF415,'Data Input'!AV415))","v":""},{"$f":"IF(K411=\"\",\"\",K411/COUNTIF('Data Input'!$C$8:$AZ$8,$K$2))","v":""},{"$f":"IF(ISBLANK('Data Input'!A415),\"\",SUM('Data Input'!C415,'Data Input'!I415,'Data Input'!L415,'Data Input'!M415,'Data Input'!N415,'Data Input'!P415,'Data Input'!S415,'Data Input'!T415,'Data Input'!Y415,'Data Input'!AD415,'Data Input'!AL415,'Data Input'!AM415,'Data Input'!AN415,'Data Input'!AO415,'Data Input'!AP415,'Data Input'!AS415))","v":""},{"$f":"IF(M411=\"\",\"\",M411/COUNTIF('Data Input'!$C$8:$AZ$8,$M$2))","v":""},{"$f":"IF(ISBLANK('Data Input'!A415),\"\",SUM('Data Input'!AY415,'Data Input'!AZ415))","v":""},{"$f":"IF(O411=\"\",\"\",O411/COUNTIF('Data Input'!$C$8:$AZ$8,$O$2))","v":""},{"$f":"IF(ISBLANK('Data Input'!A415),\"\",SUM('Data Input'!AW415))","v":""},{"$f":"IF(Q411=\"\",\"\",Q411/COUNTIF('Data Input'!$C$8:$AZ$8,$Q$2))","v":""},{"$f":"IF(ISBLANK('Data Input'!$A415),\"\",SUM('Data Input'!Q415,'Data Input'!AT415,'Data Input'!AU415))","v":""},{"$f":"IF(S411=\"\",\"\",S411/COUNTIF('Data Input'!$C$8:$AZ$8,$S$2))","v":""},{"$f":"IF(ISBLANK('Data Input'!$A415),\"\",SUM('Data Input'!AX415))","v":""},{"$f":"IF(U411=\"\",\"\",U411/COUNTIF('Data Input'!$C$8:$AZ$8,$U$2))","v":""}]
[{"$f":"IF('Data Input'!A416=0,\"\",'Data Input'!A416)","v":""},{"$f":"IF(ISBLANK('Data Input'!A416),\"\",COUNTIF('Data Input'!C416:AZ416,\"\"))","v":""},{"$f":"IF(ISBLANK('Data Input'!A416),\"\",COUNTIF('Data Input'!C416:AZ416,\"0\"))","v":""},{"$f":"IF(ISBLANK('Data Input'!A416),\"\",SUM(B412,C412))","v":""},{"$f":"IF(ISBLANK('Data Input'!A416),\"\",SUM('Data Input'!C416:AZ416))","v":""},{"$f":"IF(E412=\"\",\"\",E412/(COUNTA('Data Input'!$C$8:$AZ$8)))","v":""},{"$f":"IF(ISBLANK('Data Input'!A416),\"\",SUM('Data Input'!R416,'Data Input'!AA416,'Data Input'!AB416,'Data Input'!AC416,'Data Input'!AE416,'Data Input'!AH416,'Data Input'!AQ416,'Data Input'!AR416))","v":""},{"$f":"IF(G412=\"\",\"\",G412/COUNTIF('Data Input'!$C$8:$AZ$8,$G$2))","v":""},{"$f":"IF(ISBLANK('Data Input'!A416),\"\",SUM('Data Input'!D416,'Data Input'!E416,'Data Input'!F416,'Data Input'!G416,'Data Input'!H416,'Data Input'!J416,'Data Input'!K416,'Data Input'!O416,'Data Input'!U416,'Data Input'!V416,'Data Input'!W416,'Data Input'!X416,'Data Input'!Z416,'Data Input'!AG416,'Data Input'!AI416,'Data Input'!AJ416,'Data Input'!AK416))","v":""},{"$f":"IF(I412=\"\",\"\",I412/COUNTIF('Data Input'!$C$8:$AZ$8,$I$2))","v":""},{"$f":"IF(ISBLANK('Data Input'!A416),\"\",SUM('Data Input'!AF416,'Data Input'!AV416))","v":""},{"$f":"IF(K412=\"\",\"\",K412/COUNTIF('Data Input'!$C$8:$AZ$8,$K$2))","v":""},{"$f":"IF(ISBLANK('Data Input'!A416),\"\",SUM('Data Input'!C416,'Data Input'!I416,'Data Input'!L416,'Data Input'!M416,'Data Input'!N416,'Data Input'!P416,'Data Input'!S416,'Data Input'!T416,'Data Input'!Y416,'Data Input'!AD416,'Data Input'!AL416,'Data Input'!AM416,'Data Input'!AN416,'Data Input'!AO416,'Data Input'!AP416,'Data Input'!AS416))","v":""},{"$f":"IF(M412=\"\",\"\",M412/COUNTIF('Data Input'!$C$8:$AZ$8,$M$2))","v":""},{"$f":"IF(ISBLANK('Data Input'!A416),\"\",SUM('Data Input'!AY416,'Data Input'!AZ416))","v":""},{"$f":"IF(O412=\"\",\"\",O412/COUNTIF('Data Input'!$C$8:$AZ$8,$O$2))","v":""},{"$f":"IF(ISBLANK('Data Input'!A416),\"\",SUM('Data Input'!AW416))","v":""},{"$f":"IF(Q412=\"\",\"\",Q412/COUNTIF('Data Input'!$C$8:$AZ$8,$Q$2))","v":""},{"$f":"IF(ISBLANK('Data Input'!$A416),\"\",SUM('Data Input'!Q416,'Data Input'!AT416,'Data Input'!AU416))","v":""},{"$f":"IF(S412=\"\",\"\",S412/COUNTIF('Data Input'!$C$8:$AZ$8,$S$2))","v":""},{"$f":"IF(ISBLANK('Data Input'!$A416),\"\",SUM('Data Input'!AX416))","v":""},{"$f":"IF(U412=\"\",\"\",U412/COUNTIF('Data Input'!$C$8:$AZ$8,$U$2))","v":""}]
[{"$f":"IF('Data Input'!A417=0,\"\",'Data Input'!A417)","v":""},{"$f":"IF(ISBLANK('Data Input'!A417),\"\",COUNTIF('Data Input'!C417:AZ417,\"\"))","v":""},{"$f":"IF(ISBLANK('Data Input'!A417),\"\",COUNTIF('Data Input'!C417:AZ417,\"0\"))","v":""},{"$f":"IF(ISBLANK('Data Input'!A417),\"\",SUM(B413,C413))","v":""},{"$f":"IF(ISBLANK('Data Input'!A417),\"\",SUM('Data Input'!C417:AZ417))","v":""},{"$f":"IF(E413=\"\",\"\",E413/(COUNTA('Data Input'!$C$8:$AZ$8)))","v":""},{"$f":"IF(ISBLANK('Data Input'!A417),\"\",SUM('Data Input'!R417,'Data Input'!AA417,'Data Input'!AB417,'Data Input'!AC417,'Data Input'!AE417,'Data Input'!AH417,'Data Input'!AQ417,'Data Input'!AR417))","v":""},{"$f":"IF(G413=\"\",\"\",G413/COUNTIF('Data Input'!$C$8:$AZ$8,$G$2))","v":""},{"$f":"IF(ISBLANK('Data Input'!A417),\"\",SUM('Data Input'!D417,'Data Input'!E417,'Data Input'!F417,'Data Input'!G417,'Data Input'!H417,'Data Input'!J417,'Data Input'!K417,'Data Input'!O417,'Data Input'!U417,'Data Input'!V417,'Data Input'!W417,'Data Input'!X417,'Data Input'!Z417,'Data Input'!AG417,'Data Input'!AI417,'Data Input'!AJ417,'Data Input'!AK417))","v":""},{"$f":"IF(I413=\"\",\"\",I413/COUNTIF('Data Input'!$C$8:$AZ$8,$I$2))","v":""},{"$f":"IF(ISBLANK('Data Input'!A417),\"\",SUM('Data Input'!AF417,'Data Input'!AV417))","v":""},{"$f":"IF(K413=\"\",\"\",K413/COUNTIF('Data Input'!$C$8:$AZ$8,$K$2))","v":""},{"$f":"IF(ISBLANK('Data Input'!A417),\"\",SUM('Data Input'!C417,'Data Input'!I417,'Data Input'!L417,'Data Input'!M417,'Data Input'!N417,'Data Input'!P417,'Data Input'!S417,'Data Input'!T417,'Data Input'!Y417,'Data Input'!AD417,'Data Input'!AL417,'Data Input'!AM417,'Data Input'!AN417,'Data Input'!AO417,'Data Input'!AP417,'Data Input'!AS417))","v":""},{"$f":"IF(M413=\"\",\"\",M413/COUNTIF('Data Input'!$C$8:$AZ$8,$M$2))","v":""},{"$f":"IF(ISBLANK('Data Input'!A417),\"\",SUM('Data Input'!AY417,'Data Input'!AZ417))","v":""},{"$f":"IF(O413=\"\",\"\",O413/COUNTIF('Data Input'!$C$8:$AZ$8,$O$2))","v":""},{"$f":"IF(ISBLANK('Data Input'!A417),\"\",SUM('Data Input'!AW417))","v":""},{"$f":"IF(Q413=\"\",\"\",Q413/COUNTIF('Data Input'!$C$8:$AZ$8,$Q$2))","v":""},{"$f":"IF(ISBLANK('Data Input'!$A417),\"\",SUM('Data Input'!Q417,'Data Input'!AT417,'Data Input'!AU417))","v":""},{"$f":"IF(S413=\"\",\"\",S413/COUNTIF('Data Input'!$C$8:$AZ$8,$S$2))","v":""},{"$f":"IF(ISBLANK('Data Input'!$A417),\"\",SUM('Data Input'!AX417))","v":""},{"$f":"IF(U413=\"\",\"\",U413/COUNTIF('Data Input'!$C$8:$AZ$8,$U$2))","v":""}]
[{"$f":"IF('Data Input'!A418=0,\"\",'Data Input'!A418)","v":""},{"$f":"IF(ISBLANK('Data Input'!A418),\"\",COUNTIF('Data Input'!C418:AZ418,\"\"))","v":""},{"$f":"IF(ISBLANK('Data Input'!A418),\"\",COUNTIF('Data Input'!C418:AZ418,\"0\"))","v":""},{"$f":"IF(ISBLANK('Data Input'!A418),\"\",SUM(B414,C414))","v":""},{"$f":"IF(ISBLANK('Data Input'!A418),\"\",SUM('Data Input'!C418:AZ418))","v":""},{"$f":"IF(E414=\"\",\"\",E414/(COUNTA('Data Input'!$C$8:$AZ$8)))","v":""},{"$f":"IF(ISBLANK('Data Input'!A418),\"\",SUM('Data Input'!R418,'Data Input'!AA418,'Data Input'!AB418,'Data Input'!AC418,'Data Input'!AE418,'Data Input'!AH418,'Data Input'!AQ418,'Data Input'!AR418))","v":""},{"$f":"IF(G414=\"\",\"\",G414/COUNTIF('Data Input'!$C$8:$AZ$8,$G$2))","v":""},{"$f":"IF(ISBLANK('Data Input'!A418),\"\",SUM('Data Input'!D418,'Data Input'!E418,'Data Input'!F418,'Data Input'!G418,'Data Input'!H418,'Data Input'!J418,'Data Input'!K418,'Data Input'!O418,'Data Input'!U418,'Data Input'!V418,'Data Input'!W418,'Data Input'!X418,'Data Input'!Z418,'Data Input'!AG418,'Data Input'!AI418,'Data Input'!AJ418,'Data Input'!AK418))","v":""},{"$f":"IF(I414=\"\",\"\",I414/COUNTIF('Data Input'!$C$8:$AZ$8,$I$2))","v":""},{"$f":"IF(ISBLANK('Data Input'!A418),\"\",SUM('Data Input'!AF418,'Data Input'!AV418))","v":""},{"$f":"IF(K414=\"\",\"\",K414/COUNTIF('Data Input'!$C$8:$AZ$8,$K$2))","v":""},{"$f":"IF(ISBLANK('Data Input'!A418),\"\",SUM('Data Input'!C418,'Data Input'!I418,'Data Input'!L418,'Data Input'!M418,'Data Input'!N418,'Data Input'!P418,'Data Input'!S418,'Data Input'!T418,'Data Input'!Y418,'Data Input'!AD418,'Data Input'!AL418,'Data Input'!AM418,'Data Input'!AN418,'Data Input'!AO418,'Data Input'!AP418,'Data Input'!AS418))","v":""},{"$f":"IF(M414=\"\",\"\",M414/COUNTIF('Data Input'!$C$8:$AZ$8,$M$2))","v":""},{"$f":"IF(ISBLANK('Data Input'!A418),\"\",SUM('Data Input'!AY418,'Data Input'!AZ418))","v":""},{"$f":"IF(O414=\"\",\"\",O414/COUNTIF('Data Input'!$C$8:$AZ$8,$O$2))","v":""},{"$f":"IF(ISBLANK('Data Input'!A418),\"\",SUM('Data Input'!AW418))","v":""},{"$f":"IF(Q414=\"\",\"\",Q414/COUNTIF('Data Input'!$C$8:$AZ$8,$Q$2))","v":""},{"$f":"IF(ISBLANK('Data Input'!$A418),\"\",SUM('Data Input'!Q418,'Data Input'!AT418,'Data Input'!AU418))","v":""},{"$f":"IF(S414=\"\",\"\",S414/COUNTIF('Data Input'!$C$8:$AZ$8,$S$2))","v":""},{"$f":"IF(ISBLANK('Data Input'!$A418),\"\",SUM('Data Input'!AX418))","v":""},{"$f":"IF(U414=\"\",\"\",U414/COUNTIF('Data Input'!$C$8:$AZ$8,$U$2))","v":""}]
[{"$f":"IF('Data Input'!A419=0,\"\",'Data Input'!A419)","v":""},{"$f":"IF(ISBLANK('Data Input'!A419),\"\",COUNTIF('Data Input'!C419:AZ419,\"\"))","v":""},{"$f":"IF(ISBLANK('Data Input'!A419),\"\",COUNTIF('Data Input'!C419:AZ419,\"0\"))","v":""},{"$f":"IF(ISBLANK('Data Input'!A419),\"\",SUM(B415,C415))","v":""},{"$f":"IF(ISBLANK('Data Input'!A419),\"\",SUM('Data Input'!C419:AZ419))","v":""},{"$f":"IF(E415=\"\",\"\",E415/(COUNTA('Data Input'!$C$8:$AZ$8)))","v":""},{"$f":"IF(ISBLANK('Data Input'!A419),\"\",SUM('Data Input'!R419,'Data Input'!AA419,'Data Input'!AB419,'Data Input'!AC419,'Data Input'!AE419,'Data Input'!AH419,'Data Input'!AQ419,'Data Input'!AR419))","v":""},{"$f":"IF(G415=\"\",\"\",G415/COUNTIF('Data Input'!$C$8:$AZ$8,$G$2))","v":""},{"$f":"IF(ISBLANK('Data Input'!A419),\"\",SUM('Data Input'!D419,'Data Input'!E419,'Data Input'!F419,'Data Input'!G419,'Data Input'!H419,'Data Input'!J419,'Data Input'!K419,'Data Input'!O419,'Data Input'!U419,'Data Input'!V419,'Data Input'!W419,'Data Input'!X419,'Data Input'!Z419,'Data Input'!AG419,'Data Input'!AI419,'Data Input'!AJ419,'Data Input'!AK419))","v":""},{"$f":"IF(I415=\"\",\"\",I415/COUNTIF('Data Input'!$C$8:$AZ$8,$I$2))","v":""},{"$f":"IF(ISBLANK('Data Input'!A419),\"\",SUM('Data Input'!AF419,'Data Input'!AV419))","v":""},{"$f":"IF(K415=\"\",\"\",K415/COUNTIF('Data Input'!$C$8:$AZ$8,$K$2))","v":""},{"$f":"IF(ISBLANK('Data Input'!A419),\"\",SUM('Data Input'!C419,'Data Input'!I419,'Data Input'!L419,'Data Input'!M419,'Data Input'!N419,'Data Input'!P419,'Data Input'!S419,'Data Input'!T419,'Data Input'!Y419,'Data Input'!AD419,'Data Input'!AL419,'Data Input'!AM419,'Data Input'!AN419,'Data Input'!AO419,'Data Input'!AP419,'Data Input'!AS419))","v":""},{"$f":"IF(M415=\"\",\"\",M415/COUNTIF('Data Input'!$C$8:$AZ$8,$M$2))","v":""},{"$f":"IF(ISBLANK('Data Input'!A419),\"\",SUM('Data Input'!AY419,'Data Input'!AZ419))","v":""},{"$f":"IF(O415=\"\",\"\",O415/COUNTIF('Data Input'!$C$8:$AZ$8,$O$2))","v":""},{"$f":"IF(ISBLANK('Data Input'!A419),\"\",SUM('Data Input'!AW419))","v":""},{"$f":"IF(Q415=\"\",\"\",Q415/COUNTIF('Data Input'!$C$8:$AZ$8,$Q$2))","v":""},{"$f":"IF(ISBLANK('Data Input'!$A419),\"\",SUM('Data Input'!Q419,'Data Input'!AT419,'Data Input'!AU419))","v":""},{"$f":"IF(S415=\"\",\"\",S415/COUNTIF('Data Input'!$C$8:$AZ$8,$S$2))","v":""},{"$f":"IF(ISBLANK('Data Input'!$A419),\"\",SUM('Data Input'!AX419))","v":""},{"$f":"IF(U415=\"\",\"\",U415/COUNTIF('Data Input'!$C$8:$AZ$8,$U$2))","v":""}]
[{"$f":"IF('Data Input'!A420=0,\"\",'Data Input'!A420)","v":""},{"$f":"IF(ISBLANK('Data Input'!A420),\"\",COUNTIF('Data Input'!C420:AZ420,\"\"))","v":""},{"$f":"IF(ISBLANK('Data Input'!A420),\"\",COUNTIF('Data Input'!C420:AZ420,\"0\"))","v":""},{"$f":"IF(ISBLANK('Data Input'!A420),\"\",SUM(B416,C416))","v":""},{"$f":"IF(ISBLANK('Data Input'!A420),\"\",SUM('Data Input'!C420:AZ420))","v":""},{"$f":"IF(E416=\"\",\"\",E416/(COUNTA('Data Input'!$C$8:$AZ$8)))","v":""},{"$f":"IF(ISBLANK('Data Input'!A420),\"\",SUM('Data Input'!R420,'Data Input'!AA420,'Data Input'!AB420,'Data Input'!AC420,'Data Input'!AE420,'Data Input'!AH420,'Data Input'!AQ420,'Data Input'!AR420))","v":""},{"$f":"IF(G416=\"\",\"\",G416/COUNTIF('Data Input'!$C$8:$AZ$8,$G$2))","v":""},{"$f":"IF(ISBLANK('Data Input'!A420),\"\",SUM('Data Input'!D420,'Data Input'!E420,'Data Input'!F420,'Data Input'!G420,'Data Input'!H420,'Data Input'!J420,'Data Input'!K420,'Data Input'!O420,'Data Input'!U420,'Data Input'!V420,'Data Input'!W420,'Data Input'!X420,'Data Input'!Z420,'Data Input'!AG420,'Data Input'!AI420,'Data Input'!AJ420,'Data Input'!AK420))","v":""},{"$f":"IF(I416=\"\",\"\",I416/COUNTIF('Data Input'!$C$8:$AZ$8,$I$2))","v":""},{"$f":"IF(ISBLANK('Data Input'!A420),\"\",SUM('Data Input'!AF420,'Data Input'!AV420))","v":""},{"$f":"IF(K416=\"\",\"\",K416/COUNTIF('Data Input'!$C$8:$AZ$8,$K$2))","v":""},{"$f":"IF(ISBLANK('Data Input'!A420),\"\",SUM('Data Input'!C420,'Data Input'!I420,'Data Input'!L420,'Data Input'!M420,'Data Input'!N420,'Data Input'!P420,'Data Input'!S420,'Data Input'!T420,'Data Input'!Y420,'Data Input'!AD420,'Data Input'!AL420,'Data Input'!AM420,'Data Input'!AN420,'Data Input'!AO420,'Data Input'!AP420,'Data Input'!AS420))","v":""},{"$f":"IF(M416=\"\",\"\",M416/COUNTIF('Data Input'!$C$8:$AZ$8,$M$2))","v":""},{"$f":"IF(ISBLANK('Data Input'!A420),\"\",SUM('Data Input'!AY420,'Data Input'!AZ420))","v":""},{"$f":"IF(O416=\"\",\"\",O416/COUNTIF('Data Input'!$C$8:$AZ$8,$O$2))","v":""},{"$f":"IF(ISBLANK('Data Input'!A420),\"\",SUM('Data Input'!AW420))","v":""},{"$f":"IF(Q416=\"\",\"\",Q416/COUNTIF('Data Input'!$C$8:$AZ$8,$Q$2))","v":""},{"$f":"IF(ISBLANK('Data Input'!$A420),\"\",SUM('Data Input'!Q420,'Data Input'!AT420,'Data Input'!AU420))","v":""},{"$f":"IF(S416=\"\",\"\",S416/COUNTIF('Data Input'!$C$8:$AZ$8,$S$2))","v":""},{"$f":"IF(ISBLANK('Data Input'!$A420),\"\",SUM('Data Input'!AX420))","v":""},{"$f":"IF(U416=\"\",\"\",U416/COUNTIF('Data Input'!$C$8:$AZ$8,$U$2))","v":""}]

{"sheet":"Pupil Report","index":4,"n_rows":9,"n_cols":9,"rows_kept":9,"cut":false,"hidden":false,"merged":[[1,0,1,2],[4,0,4,8]]}
["Pupil:",null,null,null,null,null,null,null,{"$f":"Welcome!D2","v":"KS2 Reading (2016 SAMPLE) Analysis"}]
["a",null,null,"Incorrect:",{"$f":"VLOOKUP($A$2,'Pupil Summary'!$A$6:$R$416,3,FALSE)","v":7},"Unanswered:",{"$f":"VLOOKUP($A$2,'Pupil Summary'!$A$6:$R$416,2,FALSE)","v":3},"Total:",{"$f":"VLOOKUP($A$2,'Pupil Summary'!$A$6:$R$416,5,FALSE) & \" / \" &SUM(B7:I7)","v":"40 / 50"}]
[{"$f":"'Pupil Summary'!G2:H2","v":"A"},{"$f":"VLOOKUP($A$2,'Pupil Summary'!$A$6:$V$416,8,FALSE)","v":1},{"$f":"'Pupil Summary'!I2:J2","v":"B"},{"$f":"VLOOKUP($A$2,'Pupil Summary'!$A$6:$V$416,10,FALSE)","v":0.70588235294117652},{"$f":"'Pupil Summary'!K2:L2","v":"C"},{"$f":"VLOOKUP($A$2,'Pupil Summary'!$A$6:$V$416,12,FALSE)","v":0.5},{"$f":"'Pupil Summary'!M2:N2","v":"D"},{"$f":"VLOOKUP($A$2,'Pupil Summary'!$A$6:$V$416,14,FALSE)","v":0.8125}]
[{"$f":"'Pupil Summary'!O2:P2","v":"E"},{"$f":"VLOOKUP($A$2,'Pupil Summary'!$A$6:$V$416,16,FALSE)","v":1},{"$f":"'Pupil Summary'!Q2:R2","v":"F"},{"$f":"VLOOKUP($A$2,'Pupil Summary'!$A$6:$V$416,18,FALSE)","v":1},"G:",{"$f":"VLOOKUP($A$2,'Pupil Summary'!$A$6:$V$416,20,FALSE)","v":0.66666666666666663},"H:",{"$f":"VLOOKUP($A$2,'Pupil Summary'!$A$6:$V$416,22,FALSE)","v":1}]
["A: Word meaning  B: Retrieve key info  C: Summarise main ideas  \nD: Inference  E: Predict  F: Text meaning  G: Choice of language  H: Comparisons"]
[null,{"$f":"'Pupil Summary'!G2","v":"A"},{"$f":"'Pupil Summary'!I2","v":"B"},{"$f":"'Pupil Summary'!K2","v":"C"},{"$f":"'Pupil Summary'!M2","v":"D"},{"$f":"'Pupil Summary'!O2","v":"E"},{"$f":"'Pupil Summary'!Q2","v":"F"},{"$f":"'Pupil Summary'!S2","v":"G"},{"$f":"'Pupil Summary'!U2","v":"H"}]
["Total",{"$f":"COUNTIF('Data Input'!$C$8:$AZ$8,B6)","v":8},{"$f":"COUNTIF('Data Input'!$C$8:$AZ$8,C6)","v":17},{"$f":"COUNTIF('Data Input'!$C$8:$AZ$8,D6)","v":2},{"$f":"COUNTIF('Data Input'!$C$8:$AZ$8,E6)","v":16},{"$f":"COUNTIF('Data Input'!$C$8:$AZ$8,F6)","v":2},{"$f":"COUNTIF('Data Input'!$C$8:$AZ$8,G6)","v":1},{"$f":"COUNTIF('Data Input'!$C$8:$AZ$8,H6)","v":3},{"$f":"COUNTIF('Data Input'!$C$8:$AZ$8,I6)","v":1}]
["Correct",{"$f":"VLOOKUP($A$2,'Pupil Summary'!$A$6:$V$416,7,FALSE)","v":8},{"$f":"VLOOKUP($A$2,'Pupil Summary'!$A$6:$V$416,9,FALSE)","v":12},{"$f":"VLOOKUP($A$2,'Pupil Summary'!$A$6:$V$416,11,FALSE)","v":1},{"$f":"VLOOKUP($A$2,'Pupil Summary'!$A$6:$V$416,13,FALSE)","v":13},{"$f":"VLOOKUP($A$2,'Pupil Summary'!$A$6:$V$416,15,FALSE)","v":2},{"$f":"VLOOKUP($A$2,'Pupil Summary'!$A$6:$V$416,17,FALSE)","v":1},{"$f":"VLOOKUP($A$2,'Pupil Summary'!$A$6:$V$416,19,FALSE)","v":2},{"$f":"VLOOKUP($A$2,'Pupil Summary'!$A$6:$V$416,21,FALSE)","v":1}]
["Incorrect/Unanswered",{"$f":"B7-B8","v":0},5,1,3,0,0,{"$f":"H7-H8","v":1},0]

{"sheet":"Cohort Summary","index":5,"n_rows":12,"n_cols":9,"rows_kept":12,"cut":false,"hidden":false,"merged":[[11,0,13,6]]}
["Class Averages:",{"$f":"'Pupil Summary'!G3","v":"A: Word Meaning"},{"$f":"'Pupil Summary'!I3","v":"B: Retrieve Key Info"},{"$f":"'Pupil Summary'!K3","v":"C: Summarise Main Ideas"},{"$f":"'Pupil Summary'!M3","v":"D: Inference"},{"$f":"'Pupil Summary'!O3","v":"E: Predict"},{"$f":"'Pupil Summary'!Q3","v":"F: Text Meaning"},{"$f":"'Pupil Summary'!S3","v":"G: Choice of Language"},{"$f":"'Pupil Summary'!U3","v":"H: Predict"}]
["Class correct:",{"$f":"IF(ISERROR(B4/B3),\"\",(B4/B3))","v":0.64130434782608692},0.74168797953964194,0.71739130434782605,{"$f":"IF(ISERROR(E4/E3),\"\",(E4/E3))","v":0.70380434782608692},{"$f":"IF(ISERROR(F4/F3),\"\",(F4/F3))","v":0.52173913043478259},{"$f":"IF(ISERROR(G4/G3),\"\",(G4/G3))","v":0.47826086956521741},{"$f":"IF(ISERROR(H4/H3),\"\",(H4/H3))","v":0.44927536231884058},{"$f":"IF(ISERROR(I4/I3),\"\",(I4/I3))","v":0.65217391304347827}]
["Maximum",{"$f":"COUNTIF('Data Input'!$C$8:$AZ$8,B8)","v":8},{"$f":"COUNTIF('Data Input'!$C$8:$AZ$8,C8)","v":17},{"$f":"COUNTIF('Data Input'!$C$8:$AZ$8,D8)","v":2},{"$f":"COUNTIF('Data Input'!$C$8:$AZ$8,E8)","v":16},{"$f":"COUNTIF('Data Input'!$C$8:$AZ$8,F8)","v":2},{"$f":"COUNTIF('Data Input'!$C$8:$AZ$8,G8)","v":1},{"$f":"COUNTIF('Data Input'!$C$8:$AZ$8,H8)","v":3},{"$f":"COUNTIF('Data Input'!$C$8:$AZ$8,I8)","v":1}]
["Correct",{"$f":"IF(ISERROR(AVERAGE(IF(('Data Input'!$C$8:$AZ$8=B8),'Data Input'!$C$2:$AZ$2))*B3/COUNTA('Data Input'!$A$10:$A$420)),\"\",AVERAGE(IF(('Data Input'!$C$8:$AZ$8=B8),'Data Input'!$C$2:$AZ$2))*B3/COUNTA('Data Input'!$A$10:$A$420))","v":5.1304347826086953},{"$f":"IF(ISERROR(AVERAGE(IF(('Data Input'!$C$8:$AZ$8=C8),'Data Input'!$C$2:$AZ$2))*C3/COUNTA('Data Input'!$A$10:$A$420)),\"\",AVERAGE(IF(('Data Input'!$C$8:$AZ$8=C8),'Data Input'!$C$2:$AZ$2))*C3/COUNTA('Data Input'!$A$10:$A$420))","v":12.608695652173912},{"$f":"IF(ISERROR(AVERAGE(IF(('Data Input'!$C$8:$AZ$8=D8),'Data Input'!$C$2:$AZ$2))*D3/COUNTA('Data Input'!$A$10:$A$420)),\"\",AVERAGE(IF(('Data Input'!$C$8:$AZ$8=D8),'Data Input'!$C$2:$AZ$2))*D3/COUNTA('Data Input'!$A$10:$A$420))","v":1.4347826086956521},{"$f":"IF(ISERROR(AVERAGE(IF(('Data Input'!$C$8:$AZ$8=E8),'Data Input'!$C$2:$AZ$2))*E3/COUNTA('Data Input'!$A$10:$A$420)),\"\",AVERAGE(IF(('Data Input'!$C$8:$AZ$8=E8),'Data Input'!$C$2:$AZ$2))*E3/COUNTA('Data Input'!$A$10:$A$420))","v":11.260869565217391},{"$f":"IF(ISERROR(AVERAGE(IF(('Data Input'!$C$8:$AZ$8=F8),'Data Input'!$C$2:$AZ$2))*F3/COUNTA('Data Input'!$A$10:$A$420)),\"\",AVERAGE(IF(('Data Input'!$C$8:$AZ$8=F8),'Data Input'!$C$2:$AZ$2))*F3/COUNTA('Data Input'!$A$10:$A$420))","v":1.0434782608695652},{"$f":"IF(ISERROR(AVERAGE(IF(('Data Input'!$C$8:$AZ$8=G8),'Data Input'!$C$2:$AZ$2))*G3/COUNTA('Data Input'!$A$10:$A$420)),\"\",AVERAGE(IF(('Data Input'!$C$8:$AZ$8=G8),'Data Input'!$C$2:$AZ$2))*G3/COUNTA('Data Input'!$A$10:$A$420))","v":0.47826086956521741},{"$f":"IF(ISERROR(AVERAGE(IF(('Data Input'!$C$8:$AZ$8=H8),'Data Input'!$C$2:$AZ$2))*H3/COUNTA('Data Input'!$A$10:$A$420)),\"\",AVERAGE(IF(('Data Input'!$C$8:$AZ$8=H8),'Data Input'!$C$2:$AZ$2))*H3/COUNTA('Data Input'!$A$10:$A$420))","v":1.3478260869565217},{"$f":"IF(ISERROR(AVERAGE(IF(('Data Input'!$C$8:$AZ$8=I8),'Data Input'!$C$2:$AZ$2))*I3/COUNTA('Data Input'!$A$10:$A$420)),\"\",AVERAGE(IF(('Data Input'!$C$8:$AZ$8=I8),'Data Input'!$C$2:$AZ$2))*I3/COUNTA('Data Input'!$A$10:$A$420))","v":0.65217391304347827}]
["Incorrect",{"$f":"IF(ISERROR(AVERAGE(IF(('Data Input'!$C$8:$AZ$8=B8),'Data Input'!$C$3:$AZ$3))*B3/COUNTA('Data Input'!$A$10:$A$420)),\"\",AVERAGE(IF(('Data Input'!$C$8:$AZ$8=B8),'Data Input'!$C$3:$AZ$3))*B3/COUNTA('Data Input'!$A$10:$A$420))","v":0.65217391304347827},{"$f":"IF(ISERROR(AVERAGE(IF(('Data Input'!$C$8:$AZ$8=C8),'Data Input'!$C$3:$AZ$3))*C3/COUNTA('Data Input'!$A$10:$A$420)),\"\",AVERAGE(IF(('Data Input'!$C$8:$AZ$8=C8),'Data Input'!$C$3:$AZ$3))*C3/COUNTA('Data Input'!$A$10:$A$420))","v":2.6956521739130435},{"$f":"IF(ISERROR(AVERAGE(IF(('Data Input'!$C$8:$AZ$8=D8),'Data Input'!$C$3:$AZ$3))*D3/COUNTA('Data Input'!$A$10:$A$420)),\"\",AVERAGE(IF(('Data Input'!$C$8:$AZ$8=D8),'Data Input'!$C$3:$AZ$3))*D3/COUNTA('Data Input'!$A$10:$A$420))","v":0.34782608695652173},{"$f":"IF(ISERROR(AVERAGE(IF(('Data Input'!$C$8:$AZ$8=E8),'Data Input'!$C$3:$AZ$3))*E3/COUNTA('Data Input'!$A$10:$A$420)),\"\",AVERAGE(IF(('Data Input'!$C$8:$AZ$8=E8),'Data Input'!$C$3:$AZ$3))*E3/COUNTA('Data Input'!$A$10:$A$420))","v":1.5217391304347827},{"$f":"IF(ISERROR(AVERAGE(IF(('Data Input'!$C$8:$AZ$8=F8),'Data Input'!$C$3:$AZ$3))*F3/COUNTA('Data Input'!$A$10:$A$420)),\"\",AVERAGE(IF(('Data Input'!$C$8:$AZ$8=F8),'Data Input'!$C$3:$AZ$3))*F3/COUNTA('Data Input'!$A$10:$A$420))","v":0.30434782608695654},{"$f":"IF(ISERROR(AVERAGE(IF(('Data Input'!$C$8:$AZ$8=G8),'Data Input'!$C$3:$AZ$3))*G3/COUNTA('Data Input'!$A$10:$A$420)),\"\",AVERAGE(IF(('Data Input'!$C$8:$AZ$8=G8),'Data Input'!$C$3:$AZ$3))*G3/COUNTA('Data Input'!$A$10:$A$420))","v":0},{"$f":"IF(ISERROR(AVERAGE(IF(('Data Input'!$C$8:$AZ$8=H8),'Data Input'!$C$3:$AZ$3))*H3/COUNTA('Data Input'!$A$10:$A$420)),\"\",AVERAGE(IF(('Data Input'!$C$8:$AZ$8=H8),'Data Input'!$C$3:$AZ$3))*H3/COUNTA('Data Input'!$A$10:$A$420))","v":1},{"$f":"IF(ISERROR(AVERAGE(IF(('Data Input'!$C$8:$AZ$8=I8),'Data Input'!$C$3:$AZ$3))*I3/COUNTA('Data Input'!$A$10:$A$420)),\"\",AVERAGE(IF(('Data Input'!$C$8:$AZ$8=I8),'Data Input'!$C$3:$AZ$3))*I3/COUNTA('Data Input'!$A$10:$A$420))","v":0.13043478260869565}]
["Unanswered",{"$f":"IF(ISERROR(AVERAGE(IF(('Data Input'!$C$8:$AZ$8=B8),'Data Input'!$C$4:$AZ$4))*B3/COUNTA('Data Input'!$A$10:$A$420)),\"\",AVERAGE(IF(('Data Input'!$C$8:$AZ$8=B8),'Data Input'!$C$4:$AZ$4))*B3/COUNTA('Data Input'!$A$10:$A$420))","v":2.2173913043478262},{"$f":"IF(ISERROR(AVERAGE(IF(('Data Input'!$C$8:$AZ$8=C8),'Data Input'!$C$4:$AZ$4))*C3/COUNTA('Data Input'!$A$10:$A$420)),\"\",AVERAGE(IF(('Data Input'!$C$8:$AZ$8=C8),'Data Input'!$C$4:$AZ$4))*C3/COUNTA('Data Input'!$A$10:$A$420))","v":1.6956521739130435},{"$f":"IF(ISERROR(AVERAGE(IF(('Data Input'!$C$8:$AZ$8=D8),'Data Input'!$C$4:$AZ$4))*D3/COUNTA('Data Input'!$A$10:$A$420)),\"\",AVERAGE(IF(('Data Input'!$C$8:$AZ$8=D8),'Data Input'!$C$4:$AZ$4))*D3/COUNTA('Data Input'!$A$10:$A$420))","v":0.21739130434782608},{"$f":"IF(ISERROR(AVERAGE(IF(('Data Input'!$C$8:$AZ$8=E8),'Data Input'!$C$4:$AZ$4))*E3/COUNTA('Data Input'!$A$10:$A$420)),\"\",AVERAGE(IF(('Data Input'!$C$8:$AZ$8=E8),'Data Input'!$C$4:$AZ$4))*E3/COUNTA('Data Input'!$A$10:$A$420))","v":3.2173913043478262},{"$f":"IF(ISERROR(AVERAGE(IF(('Data Input'!$C$8:$AZ$8=F8),'Data Input'!$C$4:$AZ$4))*F3/COUNTA('Data Input'!$A$10:$A$420)),\"\",AVERAGE(IF(('Data Input'!$C$8:$AZ$8=F8),'Data Input'!$C$4:$AZ$4))*F3/COUNTA('Data Input'!$A$10:$A$420))","v":0.65217391304347827},{"$f":"IF(ISERROR(AVERAGE(IF(('Data Input'!$C$8:$AZ$8=G8),'Data Input'!$C$4:$AZ$4))*G3/COUNTA('Data Input'!$A$10:$A$420)),\"\",AVERAGE(IF(('Data Input'!$C$8:$AZ$8=G8),'Data Input'!$C$4:$AZ$4))*G3/COUNTA('Data Input'!$A$10:$A$420))","v":0.52173913043478259},{"$f":"IF(ISERROR(AVERAGE(IF(('Data Input'!$C$8:$AZ$8=H8),'Data Input'!$C$4:$AZ$4))*H3/COUNTA('Data Input'!$A$10:$A$420)),\"\",AVERAGE(IF(('Data Input'!$C$8:$AZ$8=H8),'Data Input'!$C$4:$AZ$4))*H3/COUNTA('Data Input'!$A$10:$A$420))","v":0.65217391304347827},{"$f":"IF(ISERROR(AVERAGE(IF(('Data Input'!$C$8:$AZ$8=I8),'Data Input'!$C$4:$AZ$4))*I3/COUNTA('Data Input'!$A$10:$A$420)),\"\",AVERAGE(IF(('Data Input'!$C$8:$AZ$8=I8),'Data Input'!$C$4:$AZ$4))*I3/COUNTA('Data Input'!$A$10:$A$420))","v":0.21739130434782608}]
["Incorrect or unanswered",{"$f":"IF(ISERROR(SUM(B5,B6)),\"\",SUM(B5,B6))","v":2.8695652173913047},4.3913043478260869,0.56521739130434778,{"$f":"IF(ISERROR(SUM(E5,E6)),\"\",SUM(E5,E6))","v":4.7391304347826093},0.95652173913043481,0.52173913043478259,{"$f":"IF(ISERROR(SUM(H5,H6)),\"\",SUM(H5,H6))","v":1.6521739130434783},0.34782608695652173]
[null,"A","B","C","D","E","F","G","H"]
[{"$f":"\"Average Total Score \"&COUNTA('Data Input'!C8:AZ8)","v":"Average Total Score 50"},"Total"]
[{"$f":"IF(ISERROR(AVERAGE('Pupil Summary'!E6:E416)),\"\",AVERAGE('Pupil Summary'!E6:E416))","v":33.956521739130437},{"$f":"IF(ISERROR(A10/COUNTA('Data Input'!C8:AZ8)),\"\",A10/(COUNTA('Data Input'!C8:AZ8)))","v":0.67913043478260871}]
[]
["The chart below graph shows the average percent for the cohort answering the questions in the particular area correctly. It should be noted that here each area does not hold equal weighting."]

{"sheet":"Strand Summary","index":6,"n_rows":28,"n_cols":2,"rows_kept":28,"cut":false,"hidden":false,"merged":[[26,1,26,11],[27,1,27,11]]}
[]
[]
[]
[]
[]
[]
[]
[]
[]
[]
[]
[]
[]
[]
[]
[]
[]
[]
[]
[]
[]
[]
[]
[]
[]
[]
[null,"This height of the bar shows the weighting of each area and the average number correct and incorrect answers. "]
[null,"A large area of red would indicate an area of priority. "]

{"sheet":"Questions by Strand","index":7,"n_rows":0,"n_cols":0,"rows_kept":0,"cut":false,"hidden":false,"merged":[[45,0,46,17]]}

{"sheet":"Questions by Correct","index":8,"n_rows":0,"n_cols":0,"rows_kept":0,"cut":false,"hidden":false,"merged":[[45,0,46,17]]}

{"sheet":"P1 Questions by Sub Type","index":9,"n_rows":0,"n_cols":0,"rows_kept":0,"cut":false,"hidden":true,"merged":[[45,0,46,17]]}

{"sheet":"P2 Questions by Sub Type","index":10,"n_rows":0,"n_cols":0,"rows_kept":0,"cut":false,"hidden":true,"merged":[[45,0,46,17]]}